{"text_format":"1","workbook":"xlsx","n_sheets":22,"sheets":["1 Indice - Sommario","2 Descrizione Progetto","2 Investimento","2a Spec.ricavi-costi","3B Retta Quota Sociale","Base Costi Ricavi","3 Costi-Ricavi","4 Sviluppo Domanda e Gestione","5 Foglio di elaborazione","6 Rendiconto Finanz","6a Conto Economico","7 Stato-Patr","8 Indici","9 Riep. Imposte Dir","10 Schema Sintesi","Matrice allocazione rischi","Matrice calcolo","PSC Calcolo!","PSC Calcolo (sg2)","ACB costi-benefici-ind.","ACB Calcolo ","SE_Magazzino"],"not_rendered":{"charts":0,"images":0,"macros":1,"external_links":2,"defined_names":81,"comments":0,"pivot_tables":0},"unopened":[],"bounds":{"document_bytes":16777216,"sheet_cells":100000,"rows_first":2000,"rows_last":500,"rows_between":2000,"halvings":0,"cell_chars":16384,"cell_head_chars":4096},"cells_cut":0,"cells_raw":0,"read":"whole","date_system":"1900"}

{"sheet":"1 Indice - Sommario","index":0,"n_rows":27,"n_cols":5,"rows_kept":27,"cut":false,"hidden":false,"merged":[[26,4,26,5],[5,1,5,9],[23,1,23,9],[24,1,24,9],[15,1,15,9],[16,1,16,9],[17,1,17,9],[18,1,18,9],[19,1,19,9],[20,1,20,9],[21,1,21,9],[11,1,11,9],[12,1,12,9],[13,1,13,9],[14,1,14,9],[22,1,22,9],[7,1,7,9],[10,1,10,9],[9,1,9,9],[1,0,1,9],[2,0,2,9],[3,0,3,9],[4,1,4,9],[6,1,6,9]]}
[]
["Comune di Guardiagrele"]
["Concessione per l'affidamento dei lavori di efficientamento energetico della piscina comunale e del successivo servizio di gestione dell'impianto natatorio "]
["PIANO ECONOMICO FINANZIARIO "]
[1,"Indice"]
[1,"Sommario"]
[2,"Descrizione del Progetto"]
[2,"Ipotesi investimento"]
["3A ","Retta "]
["3B","Ricavi da Retta"]
[3,"Costi e Ricavi Ante Adeguamento Istat "]
[4,"Costi e Ricavi Adeguati Istat (Sviluppo Domanda e Gestione)"]
[5,"Foglio di elaborazione "]
[6,"Flussi di cassa e indici di redditività economica e finanziaria (rendiconto finanziario)"]
["6a","Indici della sostenibilità finanziaria"]
["6a","Conto Economico"]
[7,"Stato Patrimoniale"]
[8,"Indici di Bilancio "]
[9,"Riepilogo Imposte "]
[10,"Scheda di Sintesi"]
[11," "]
[12," "]
[13,"  "]
[14," "]
[15," "]
[]
[null,null,null,null,"Luglio 2024"]

{"sheet":"2 Descrizione Progetto","index":1,"n_rows":70,"n_cols":6,"rows_kept":70,"cut":false,"hidden":false,"merged":[[2,2,2,3],[28,2,28,3],[1,2,1,3],[63,1,63,3],[3,2,3,3],[4,2,4,3],[68,1,68,3],[69,1,69,3],[55,1,55,3],[56,1,56,3],[57,1,57,3],[58,1,58,3],[59,1,59,3]]}
[]
[null,2,"Descrizione del Progetto"]
[null,null,{"$f":"'1 Indice - Sommario'!A2","v":"Comune di Guardiagrele"}]
[null,null,{"$f":"'1 Indice - Sommario'!A3","v":"Concessione per l'affidamento dei lavori di efficientamento energetico della piscina comunale e del successivo servizio di gestione dell'impianto natatorio "}]
[null,null,"Gestione in Assenza di Investimento Iniziale"]
[null,null,"Valore della Concessione"," "]
[null,null,{"$f":"C16","v":"Periodo previsto fino al rilascio della concessione (specificare se anni o mesi)"},"Se annualità intermedie usare 1,2,3 e cambiare anche anni in manutenzioni straord. In scheda inv.ti righi 49-52"]
[null,null,{"$f":"C17","v":"Anno di inizio costruzione"}]
[null,null,"Anni di costruzione (min=1, max=6)",{"$f":"D18","v":1}]
[null,null,"Anno di fine costruzione"]
[null,null,"Anno di inizio gestione"]
[null,null,"Anni di gestione",{"$f":"D21","v":10}]
[null,null,"Anno di fine gestione                                                                                                                    ",{"$f":"D12+D9","v":11}]
[null,null,{"$f":"C24","v":"Anni di durata del progetto (costruzione + gestione)"},11]
[]
[null,null,"Periodo previsto fino al rilascio della concessione (specificare se anni o mesi)","Se annualità intermedie usare 1,2,3 e cambiare anche anni in manutenzioni straord. In scheda inv.ti righi 49-52"]
[null,null,"Anno di inizio costruzione",1]
[null,null,"Anni di costruzione (min=1, max=6)",1,{"$f":"IF((AND(D18>=1,D18<=6)=TRUE),\"OK\",\"verificare!\")","v":"OK"}]
[null,null,"Anno di fine costruzione",{"$f":"D17+D18-1","v":1}," "]
[null,null,"Anno di inizio gestione",1," "]
[null,null,"Anni di gestione",10]
[null,null,"Anno di fine gestione                                                                                                                    ",{"$f":"D20+D21-1","v":10}]
[null,null,"Anno di fine ammortamento",5,{"$f":"IF(D23>D22,\"fine amm.to dopo fine esercizio\",\"OK\")","v":"OK"}]
[null,null,"Anni di durata del progetto (costruzione + gestione)",{"$f":"D18+D21","v":11}," "]
[null,null,"Anni di vita utile del progetto stimati oltre fine esercizio (min=0, max=10)",6,{"$f":"IF((AND(D25>=0,D25<=10)=TRUE),\"OK\",\"errore!\")","v":"OK"}]
[null,null,"Ultimo anno di vita utile del progetto (extra-esercizio)",{"$f":"+D22+D25","v":16}]
[null,null,"ADEGUAMENTO ISTAT ",0.02]
[]
[null,null,"Indicatori di Convenienza Economica e Sostenibilità Finanziaria"]
[null,null,"WACC (Weighted Average Cost of Capital - costo medio delle fonti di finanziamento)",{"$f":"'6 Rendiconto Finanz'!D40","v":3.8199999999999998E-2}]
[null,null," ",0]
[null,null,"Tasso di Sconto/Attualizzazione",{"$f":"'6 Rendiconto Finanz'!D41","v":5.8964000000000016E-2},null," (Tasso CDP + Istat del Pef aggiustato con equazione di Fisher)"]
[null,null,"Valore Aggiunto Netto - VAN della Gestione",{"$f":"'6 Rendiconto Finanz'!D42","v":178003.75038047857}]
[null,null,"Rendimento Globale dei Costi Gestione - ante imposte",{"$f":"SUM('6 Rendiconto Finanz'!D43)","v":8.9351430531000739E-2}]
[null,null,"Redditività Utile Netto sul Totale Ricavi - adeguati Istat ",{"$f":"'6 Rendiconto Finanz'!D21/'6 Rendiconto Finanz'!D5","v":5.7494104600839958E-2}]
[null,null,"Redditività del Capitale Netto - ROE",{"$f":"'10 Schema Sintesi'!D69","v":0.81101593649846127}]
[null,null,"TIR OPERATIVO DEL PROGETTO (Tasso Interno di Rendimento del Progetto)",{"$f":"'6 Rendiconto Finanz'!#REF!","v":{"$error":"#REF!"}}]
[null,null,"RENDIMENTO ATTESO DEL CAPITALE PRIVATO (Ke)",{"$f":"'6 Rendiconto Finanz'!D68","v":0}]
[null," ","VAN FINANZIARIO PER L'INVESTITORE (Valore Attuale Netto per l'investitore)",{"$f":"'6 Rendiconto Finanz'!D69","v":251613.01151779204}]
[null," ","TIR FINANZIARIO PER L'INVESTITORE (Tasso Interno di Rendimento per l'investitore)",{"$f":"'6 Rendiconto Finanz'!D70","v":0.67394289330540591}]
[null,null,"VAN SU UTILI DISTRIBUITI (Valore Attuale Netto degli utili distribuiti)",{"$f":"'6 Rendiconto Finanz'!D71","v":-10000.00000000103}]
[null,null,"TIR SU UTILI DISTRIBUITI (Tasso Interno di Rendimento dei mezzi propri su utili distribuiti)",{"$f":"'6 Rendiconto Finanz'!D72","v":{"$error":"#DIV/0!"}}]
[null,null,"PAYBACK PERIOD OPERATIVO  (N. di anni necessari per il ritorno dell'investimento)",{"$f":"'6 Rendiconto Finanz'!D35","v":3}]
[null,null,"DISCOUNTED PAYBACK PERIOD (Evidenza annualità in cui si verifica il recupero dell'investimento e delle Fonti)",{"$f":"'6 Rendiconto Finanz'!D38","v":3}]
[null,null,"Redditività dell'Attivo Netto - ROA  ",{"$f":"'10 Schema Sintesi'!D70","v":0.36499986171624033}]
[null,null,"MOL (EBITDA) - Valore Medio Annuo",{"$f":"'6a Conto Economico'!D11/D21","v":37136.731080709447}]
[null,null,"ROA (EBIT) - Valore Medio Annuo",{"$f":"'6a Conto Economico'!D18/D21","v":37136.731080709447},null,"Reddito Operativo Aziendale - EBIT  - Valore Medio Annuo"]
[null,null,"LLCR - Indice di sostenibilità dei debiti finanziari residui (valore minimo)",{"$f":"'6 Rendiconto Finanz'!E82","v":"n.c."}]
[null,null,"LEVERAGE - Valore Medio Annuo",{"$f":"'8 Indici'!BO5","v":0.88476819419920005}]
[null,null,"Oneri Finanziari sul MOL ","ND"]
[null,null,"Redditività delle Vendite - ROS",{"$f":"'8 Indici'!BO14","v":7.6228549636867871E-2},null,"da 8% in su "]
[null,null,"Utile Netto - Valore Medio Annuo",{"$f":"'6a Conto Economico'!D23/D21","v":26031.157844406647}]
[null,null,"Utile Netto su MOL ",{"$f":"'6a Conto Economico'!D23/'6a Conto Economico'!D11","v":0.70095447517534581}]
[]
[null,"NOTA PER DISINVESTIMENTI DURANTE LA GESTIONE:",null,"DA VALUTARE CASO PER CASO"]
[null,"1. Inserire in SDG la vendita dei beni (per i soli anni interessati) aumentata di una certa percentuale rispetto al costo iniziale (il costo iniziale deve essere quantificato come nota nella Scheda Investimenti)."]
[null,"2. In F. ELAB., riquadro 14 rigo 34, il valore di disinvestimento (costo iniziale) và diviso per il numero totale di anni di ammortamento e moltiplicato per gli anni residui (escluso quello corrente in cui avviene il disinvestimento) per la valorizzazione del valore di ammortamento residuo."]
[null,"3. Aggiungere il valore ricavato a rigo 125 di F.ELAB (già inserito nella formula). "]
[null," "]
[null,"INSERIMENTO MEZZI PROPRI (MP) DURANTE LA CONCESSIONE"]
[null,"Inserire (+) nuovi MP in Foglio 5 rigo 28"]
[null,"In Foglio 6 creare coefficienti di attualizzazione su Ke"]
[null,"In foglio 6 casella D62: incrementare (con segno meno) con i nuovi MP versati (di segno +) attualizzati al Ke"]
[null,"PRELEVAMENTO MEZZI PROPRI (MP) DURANTE LA CONCESSIONE"]
[null,"Prelevare (-) MP in Foglio 5 rigo 28"]
[null,"In Foglio 6 creare coefficienti di attualizzazione su Ke"]
[null,"In foglio 6 casella D62: ridurre (con segno meno) con i valori prelevati (di segno -) di MP attualizzati al Ke"]
[null," "]
[null,"NOTA: QUALUNQUE SIA IL SUCCESSIVO PRELIEVO O IMMISSIONE DI MEZZI PROPRI, SE SI ATTUALIZZA AL TIR.F IL VALORE FINALE DEL TIR.F NON CAMBIA MAI. MA, POICHE' SI PROCEDE A FARE UN'OPERAZIONE PRIMA DELLA FINE DELLA CONCESSIONE, PER L'ATTUALIZZAZIONE SI UTILIZZA IL TASSO DI SCONTO PER L'EQUITY (Ke)."]
[null,"UTILIZZO DI RISCONTI PASSIVI (se non si intende contabilizzare i contributi pubblici in conto impianti/capitale con il metodo della nettizzazione)\nESEMPIO DI COME AGIRE SU PEF\n- Metter in foglio 6 casella d30 l’intero valore dell’investimento con segno –\n- Azzerare in foglio 6 rigo 24 (riduzione contributi)\n- In foglio 5 si ammortizza il valore intero degli investimenti\n- Si comincia a mettere in avere il contributo dal 1° anno di gestione sino alla fine (foglio 6 rigo 9 altri costi o ricavi)\n- Si mettono i contributi in foglio 7 SP passivo (risconti passivi) e si riducono per il contributo dal primo anno di gestione in poi (alla fine si deve azzerare il valore)\n- In foglio 6 (dopo rigo \"Variazioni ccn\") inserire nuovo rigo (Variazione risconti passivi) con questi dati presi da foglio 7: =B25 poi =C25-B25 ....... etc."]

{"sheet":"2 Investimento","index":2,"n_rows":89,"n_cols":12,"rows_kept":89,"cut":false,"hidden":true,"merged":[[31,2,31,3],[64,5,64,10],[80,2,80,10],[81,2,81,10],[32,2,32,3],[33,2,33,5],[34,2,34,4],[35,2,35,4],[47,2,47,3],[56,5,57,5],[59,5,60,5],[24,2,24,3],[25,2,25,3],[28,1,28,6],[28,7,28,9],[30,2,30,3],[16,2,16,3],[17,2,17,3],[18,2,18,3],[19,2,19,3],[20,2,20,3],[11,2,11,3],[12,2,12,3],[13,2,13,3],[14,2,14,3],[15,2,15,3],[6,2,6,3],[7,2,7,3],[8,2,8,3],[9,2,9,3],[10,2,10,3]]}
[null,{"$f":"'2 Descrizione Progetto'!C3","v":"Comune di Guardiagrele"}]
[null,{"$f":"'2 Descrizione Progetto'!C4","v":"Concessione per l'affidamento dei lavori di efficientamento energetico della piscina comunale e del successivo servizio di gestione dell'impianto natatorio "}]
[]
[null,2,"IPOTESI INVESTIMENTO"]
[null,{"$f":"'2 Descrizione Progetto'!#REF!+1","v":{"$error":"#REF!"}},"Costi di Investimento - Valori alla data di valutazione al netto di Iva"]
[null,"IVA%",null,null,null,null,null,null,null,null,null," "]
[null,10,"Opere civili",null,1E-10]
[null,22,"Impianti e Macchinari",null,0]
[null,null,"Espropri (<10% spese ammissibili)",null,0,{"$f":"IF(E9/E28<=10%,\"OK\",\"verificare valore!\")","v":"OK"}]
[null,null,"Manodopera",null,0]
[null," ","Progettazione consulenze e spese tecniche",null,{"$f":"SUM(E14:E17)","v":0}," "]
[null," ","Altro (spese generali + imprevisti)",null,{"$f":"SUM(E19:E21)","v":0}," "]
[null,null,"*COMPRENSIVE DI:"]
[null,22,"Spese per la predisposizione del Progetto",null,0]
[null,22,"Spese per",null,0]
[null,22,"Consulenza Legale",null,0]
[null,22,"Spese tecniche ",null,0]
[null,null,"**COMPRENSIVE DI:"]
[null,22,"MMMMM",null,0]
[null,10,"Imprevisti su lavori",null,0]
[null,22,"BBBBBB"]
[null,null,"=","Sub-totale investimento iniziale",{"$f":"SUM(E7:E12)","v":1E-10}]
[null,null,null,"Altri costi su investimento iniziale (quota percentuale)",0,{"$f":"IF((AND(E23<=10%,E23>=5%)=TRUE),\"OK\",\"errore!\")","v":"errore!"},null,null,null,null,null," "]
[" ",0,"+","Altri costi in % su investimento iniziale",{"$f":"E22*E23","v":0}]
[null,0,"Investimento non ammissibile al contributo pubblico",null,0,"SE OCCORRE CALCOLARE GLI IMPREVISTI IN % APRIRE RIGHI 23 e 24, NONCHE' RIGO 22 DI F.ELAB. e 29 DI RIEPILOGO FINALE"]
[null," ","Manutenzioni straordinarie negli anni di esercizio (da capitalizzare) ATTENZIONE: Se utilizzo diverso da man. stra. Vedere bene rigo 31 di scheda 6",null,0,"Valore alla data di valutazione, per valore adeguato Istat negli anni di realizzo vedi Scheda Foglio di Elaborazione punto 14"]
[null,null,"=","Costo totale investimento",{"$f":"(E22+E24+E25+E26)*(1+'10 Schema Sintesi'!E200)","v":1E-10},null,{"$f":"E27+G34","v":1.1000000000000001E-10},"Costo totale Iva inclusa",null,null,null," "]
[null,null,null,"di cui Spese ammissibili a contributo",{"$f":"E22+E24","v":1E-10}," "]
[null," ",null,null,null,null,null," "]
[null,null,"TOTALE INVESTIMENTO NETTO MANUTENZIONI STRAORDINARIE CAPITALIZZATE",null,{"$f":"SUM(E31:E33)","v":1E-10},"% IVA","IMPORTO IVA"]
[null,null,"TOTALE INVESTIMENTI INIZIALI CON IVA AL 22%",null,{"$f":"E14+E19","v":0},0.22,{"$f":"E31*F31","v":0}]
[null,null,"TOTALE INVESTIMENTI INIZIALI CON IVA AL 10%",null,{"$f":"E7","v":1E-10},0.1,1.0000000000000001E-11]
[null,null,"TOTALE INVESTIMENTI INIZIALI CON IVA A 0%",null,{"$f":"E20+E25","v":0},0,0]
[null,null,"TOTALE IVA SU INVESTIMENTI INIZIALI (escluse manutenzioni straordinarie)",null,null,null,{"$f":"SUM(G31:G33)","v":1.0000000000000001E-11}]
[null,null,"IVA MEDIA SU INVESTIMENTI INIZIALI   (escluse manutenzioni straordinarie)",null,null,{"$f":"G34/E30","v":0.1}]
[null,null,"IVA SU MANUTENZIONI STRAORDINARIE",null,null,0.22]
[]
[null,6,"Ripartizione temporale dei costi di investimento"]
[null,null,"Anno",{"$f":"C7","v":"Opere civili"},{"$f":"C8","v":"Impianti e Macchinari"},"Espropri",{"$f":"C10","v":"Manodopera"},{"$f":"C11","v":"Progettazione consulenze e spese tecniche"},{"$f":"C12","v":"Altro (spese generali + imprevisti)"},{"$f":"C25","v":"Investimento non ammissibile al contributo pubblico"}]
[null,null,"cantiere chiuso",1,1,1,1,1,1,1]
[null,null,"cantiere chiuso",0,0,0,0,0,0,0]
[null,null,{"$f":"IF(C41=\"cantiere chiuso\",\"cantiere chiuso\",IF(C41+1<='2 Descrizione Progetto'!$D$19,C41+1,\"cantiere chiuso\"))","v":"cantiere chiuso"},0,0,0,0,0,0,0]
[null,null,{"$f":"IF(C42=\"cantiere chiuso\",\"cantiere chiuso\",IF(C42+1<='2 Descrizione Progetto'!$D$19,C42+1,\"cantiere chiuso\"))","v":"cantiere chiuso"},0,0,0,0,0,0,0]
[null,null,{"$f":"IF(C43=\"cantiere chiuso\",\"cantiere chiuso\",IF(C43+1<='2 Descrizione Progetto'!$D$19,C43+1,\"cantiere chiuso\"))","v":"cantiere chiuso"},0,0,0,0,0,0,0]
[null,null,{"$f":"IF(C44=\"cantiere chiuso\",\"cantiere chiuso\",IF(C44+1<='2 Descrizione Progetto'!$D$19,C44+1,\"cantiere chiuso\"))","v":"cantiere chiuso"},0,0,0,0,0,0,0]
[null,null,"check somma a 100",{"$f":"IF(COUNTIF(D40:D45,\">0\")=0,\"Null\",IF(SUM(D40:INDIRECT(ADDRESS(ROW(D40)+'2 Descrizione Progetto'!$D$18-1,COLUMN())))=1,\"OK\",\"Errore\"))","v":"OK"},{"$f":"IF(COUNTIF(E40:E45,\">0\")=0,\"Null\",IF(SUM(E40:INDIRECT(ADDRESS(ROW(E40)+'2 Descrizione Progetto'!$D$18-1,COLUMN())))=1,\"OK\",\"Errore\"))","v":"OK"},{"$f":"IF(COUNTIF(F40:F45,\">0\")=0,\"Null\",IF(SUM(F40:INDIRECT(ADDRESS(ROW(F40)+'2 Descrizione Progetto'!$D$18-1,COLUMN())))=1,\"OK\",\"Errore\"))","v":"OK"},{"$f":"IF(COUNTIF(G40:G45,\">0\")=0,\"Null\",IF(SUM(G40:INDIRECT(ADDRESS(ROW(G40)+'2 Descrizione Progetto'!$D$18-1,COLUMN())))=1,\"OK\",\"Errore\"))","v":"OK"},{"$f":"IF(COUNTIF(H40:H45,\">0\")=0,\"Null\",IF(SUM(H40:INDIRECT(ADDRESS(ROW(H40)+'2 Descrizione Progetto'!$D$18-1,COLUMN())))=1,\"OK\",\"Errore\"))","v":"OK"},{"$f":"IF(COUNTIF(I40:I45,\">0\")=0,\"Null\",IF(SUM(I40:INDIRECT(ADDRESS(ROW(I40)+'2 Descrizione Progetto'!$D$18-1,COLUMN())))=1,\"OK\",\"Errore\"))","v":"OK"},{"$f":"IF(COUNTIF(J40:J45,\">0\")=0,\"Null\",IF(SUM(J40:INDIRECT(ADDRESS(ROW(J40)+'2 Descrizione Progetto'!$D$18-1,COLUMN())))=1,\"OK\",\"Errore\"))","v":"OK"}]
[null,null," "]
[null,{"$f":"B38+1","v":7},"Esercizi in cui sono previste manutenzioni straordinarie (max 4)",null,{"$f":"IF(AND($E$26>0,COUNTIF(D49:D52,\">0\")=0),\"ATTENZIONE: Nessun esercizio specificato!\",\"OK\")","v":"OK"},null," "]
[null,{"$f":"COUNTIF(D49:D52,\">0\")","v":0},"I"," ",{"$f":"IF(AND(D49<'2 Descrizione Progetto'!$D$20,D49<>0),\"ATTENZIONE: Anno di manutenzione antecedente all'inizio della gestione!\",IF(D49=\"\",\"\",IF(D49=0,\"\",\"OK\")))","v":"OK"},null," "]
[null,null,"II"," ",{"$f":"IF(AND(D50<'2 Descrizione Progetto'!$D$20,D50<>0),\"ATTENZIONE: Anno di manutenzione antecedente all'inizio della gestione!\",IF(D50=\"\",\"\",IF(D50=0,\"\",\"OK\")))","v":"OK"}]
[null,null,"III"," ",{"$f":"IF(AND(D51<'2 Descrizione Progetto'!$D$20,D51<>0),\"ATTENZIONE: Anno di manutenzione antecedente all'inizio della gestione!\",IF(D51=\"\",\"\",IF(D51=0,\"\",\"OK\")))","v":"OK"}]
[null,null,"IV"," ",{"$f":"IF(AND(D52<'2 Descrizione Progetto'!$D$20,D52<>0),\"ATTENZIONE: Anno di manutenzione antecedente all'inizio della gestione!\",IF(D52=\"\",\"\",IF(D52=0,\"\",\"OK\")))","v":"OK"}]
[]
[null,{"$f":"B48+1","v":8},"Fonti di copertura dell'investimento - Valori alla data di valutazione",null,null,"L'importo dell'investimento specificato è pari a (euro)",null,null,{"$f":"E27","v":1E-10}]
[null,null,"+","Capitale Sociale",10000," ",null,null,null,null,null," "]
[null,null,null,"Capitale privato (quota % del costo totale dell'investimento)",{"$f":"E55/E27","v":100000000000000},{"$f":"IF((E55/E27)>=0.15,\"OK\",\"verificare, la quota del capitale privato eccede il 15% del totale delle fonti!\")","v":"OK"}]
[null,null,null,"Contributo Regionale",0,{"$f":"E59/E27","v":0},null,null,null,null,null," "]
[null,null,null,"Altri Contributi Pubblici",0,null," "," "]
[null,null,"+","Totale contributi pubblici",{"$f":"SUM(E57:E58)","v":0},{"$f":"E59/(E22-'6 Rendiconto Finanz'!D55-'7 Stato-Patr'!BK36)","v":0},"Quota di contributo pubblico su investimento ammissibile inclusi oneri finanziari (art. 165, comma 2, D.Lgs 50/16)"]
[null,null,"+","Finanziamento m/l termine (I banca)",0,{"$f":"(E60+E61)/E27","v":0}," "]
[null,null,"+","Finanziamento m/l termine (altre banche)",0]
[null,null,"=","Totale finanziamenti a copertura",{"$f":"+E55+E59+E60+E61","v":10000}," "," "," "," "]
[]
[null,{"$f":"B54+1","v":9},"Elementi per la gestione finanziaria"]
[null,null,null,"Remunerazione liquidità",0,"← A titolo prudenziale non si prevede la remunerazione dei saldi positivi di c/corrente al fine di tenere conto della verosimile distribuzione del flusso di cassa disponibile.",null,null,null,null,null," "]
[null,null,null,"Remunerazione riserva DSRA",0]
[null,null,null,"Remunerazione altre immobilizzazioni finanziarie",0]
[null,null,null,"Rendimento atteso del Capitale Privato (Ke)",1E-13]
[null,null,null,"Tasso d'interesse sul Fin. m/l term (I banca) ",1E-14," "]
[null,null,null,"Anni di rimborso del Finanziamento (I banca)",1.0000000000000001E-9]
[null,null,null,"Anno di fine rimborso del Finanziamento",1E-8,{"$f":"IF(E71>'2 Descrizione Progetto'!D22,\"data fine rimborso non ammessa\",\"OK\")","v":"OK"}]
[null,null,null,"Tasso d'interesse sul Fin. m/l term (altre banche) ",0]
[null,null,null,"Anni di rimborso del Finanziamento (altre banche)",0]
[null,null,null,"Anno di fine rimborso del Finanziamento",1E-10,{"$f":"IF(E74>'2 Descrizione Progetto'!D22,\"data fine rimborso non ammessa\",\"OK\")","v":"OK"}]
[null,null,null,"Tasso di interesse su finanziamenti a bt",1E-13]
[null,"Il valore residuo finale concorre a determinare la redditività globale del progetto ed include le seguenti componenti:"]
[null,10,"Scelta componenti del Valore Residuo",null,null,"     "]
[null,null,null,"Valore residuo contabile","no","1. Differenza fra il costo dell’investimento e la cumulata delle rate di ammortamento."]
[null,null,null,"Valore residuo finanziario (CCN ultimo anno esercizio)","no","2. Valore a fine esercizio del Capitale Circolante Netto."]
[null,null,null,"Valore residuo di avviamento","no","3. Valore medio attualizzato dei flussi annuali di cassa netti, ottenibili dopo la fine di esercizio. "]
[null,null,"Il punto 22 del foglio di lavoro (foglio di elaborazione) riporta il valore residuo del progetto alla data di fine concessione, qualora per esso vi siano componenti positive oggetto di valutazione. Si ricorda altresì, la centralità del valore residuo nella strutturazione dell’eventuale convenzione da stipularsi tra il concedente e il concessionario e le relative modalità di subentro di una terza parte, sia alla fine naturale della concessione stessa, sia qualora a causa di imprevisti, ciò avvenga durante la gestione del normale esercizio concessorio. In altre parole, occorre trovare un reciproco accordo tra le parti sull’inclusione o meno di una o più delle tre componenti del valore residuo, esse riguardano: 1) il valore residuo contabile; 2) il valore residuo finanziario; 3) il valore residuo di avviamento (cioè il valore medio attualizzato dei flussi annuali di cassa netti, ottenibili dopo la fine di esercizio, in un arco temporale di durata scelta dal compilatore tra 0 e 10 anni, in funzione del grado di innovatività del progetto e della sua stimata capacità di generare reddito anche dopo il termine dell’esercizio)."]
[null,null,"Per la stesura del presente Piano Economico Finanziario, per una corretta imputazione contabile, si è tenuto presente il valore residuo finanziario, cioè il valore a fine esercizio del Capitale Circolante Netto che, dunque, concorrerà al calcolo degli indicatori di redditività e di sostenibilità finanziaria del progetto."]
[null,null," ",null,null," "]
[null,null," ",null,null," "]
[null,null," ",null,null," "]
[null,null," ",null,null," "]
[null,null," ",null,null," "]
[null,null,null,null,null," "]
[null,null,null,null,null," "]

{"sheet":"2a Spec.ricavi-costi","index":3,"n_rows":227,"n_cols":17,"rows_kept":227,"cut":false,"hidden":true,"merged":[[39,4,39,6],[47,4,47,6],[48,4,48,6],[40,4,40,6],[41,4,41,6],[42,4,42,6],[43,4,43,6],[44,4,44,6],[45,4,45,6],[46,4,46,6],[32,2,32,13],[33,2,33,13],[34,2,34,13],[35,2,35,13],[38,4,38,6],[26,2,26,13],[27,2,27,13],[28,2,28,13],[29,2,29,13],[30,2,30,13],[21,2,21,13],[22,2,22,13],[23,2,23,13],[24,2,24,13],[25,2,25,13],[0,0,1,0],[0,1,1,4],[0,5,1,11],[0,12,1,13],[20,2,20,13]]}
[3,{"$f":"'2 Descrizione Progetto'!C3","v":"Comune di Guardiagrele"},null,null,null,{"$f":"'2 Descrizione Progetto'!C4","v":"Concessione per l'affidamento dei lavori di efficientamento energetico della piscina comunale e del successivo servizio di gestione dell'impianto natatorio "},null,null,null,null,null,null,"Importi non rivalutati"]
[]
[11,"Importi in Euro",{"$f":"'4 Sviluppo Domanda e Gestione'!D26","v":"PROGETTO: domanda stimata primo anno di gestione NON TOCCARE"},{"$f":"'4 Sviluppo Domanda e Gestione'!E26","v":"PROGETTO: livello domanda massima stimata NON TOCCARE"},{"$f":"'4 Sviluppo Domanda e Gestione'!F26","v":"Tariffa unitaria - livello iniziale (euro) NON TOCCARE"},"Ricavi del primo anno di gestione    Anno 200…..","IVA","Ricavi a regime     Anno 20….-","IVA","Costi per servizi (come da specifica)",{"$f":"'4 Sviluppo Domanda e Gestione'!E259","v":"Costi del personale (al lordo degli oneri sociali)"},"Oneri diversi di gestione (come da specifica)",{"$f":"'4 Sviluppo Domanda e Gestione'!G259","v":"Manutenzioni ordinarie (valore suggerito: min 0,5%, max 2%)"},{"$f":"'4 Sviluppo Domanda e Gestione'!H259","v":"Totale costi operativi / Ricavi tariffari"}]
["IVA%","RICAVI DI GESTIONE (descrizione)"]
[22,{"$f":"'4 Sviluppo Domanda e Gestione'!D9","v":"Ricavi Istituzionali"},{"$f":"'4 Sviluppo Domanda e Gestione'!D27","v":0},{"$f":"'4 Sviluppo Domanda e Gestione'!E27","v":0},{"$f":"'4 Sviluppo Domanda e Gestione'!F27","v":1},{"$f":"C5*E5","v":0},{"$f":"F5*A5/100","v":0},{"$f":"D5*E5","v":0},{"$f":"H5*A5/100","v":0},{"$f":"'4 Sviluppo Domanda e Gestione'!D260","v":0},{"$f":"'4 Sviluppo Domanda e Gestione'!E260","v":0},{"$f":"'4 Sviluppo Domanda e Gestione'!F260","v":0},{"$f":"'4 Sviluppo Domanda e Gestione'!G260","v":0},{"$f":"'4 Sviluppo Domanda e Gestione'!H260","v":0}]
[22,{"$f":"'4 Sviluppo Domanda e Gestione'!D10","v":"Ricavi Commerciali"},{"$f":"'4 Sviluppo Domanda e Gestione'!D28","v":0},{"$f":"'4 Sviluppo Domanda e Gestione'!E28","v":0},{"$f":"'4 Sviluppo Domanda e Gestione'!F28","v":1},0,0,0,0,{"$f":"'4 Sviluppo Domanda e Gestione'!D261","v":0},{"$f":"'4 Sviluppo Domanda e Gestione'!E261","v":0},{"$f":"'4 Sviluppo Domanda e Gestione'!F261","v":0},{"$f":"'4 Sviluppo Domanda e Gestione'!G261","v":0},{"$f":"'4 Sviluppo Domanda e Gestione'!H261","v":0}]
[22,{"$f":"'4 Sviluppo Domanda e Gestione'!D11","v":"Ricavi Bar"},{"$f":"'4 Sviluppo Domanda e Gestione'!D29","v":0},{"$f":"'4 Sviluppo Domanda e Gestione'!E29","v":0},{"$f":"'4 Sviluppo Domanda e Gestione'!F29","v":1},0,0,0,0,{"$f":"'4 Sviluppo Domanda e Gestione'!D262","v":0},{"$f":"'4 Sviluppo Domanda e Gestione'!E262","v":0},{"$f":"'4 Sviluppo Domanda e Gestione'!F262","v":0},{"$f":"'4 Sviluppo Domanda e Gestione'!G262","v":0},{"$f":"'4 Sviluppo Domanda e Gestione'!H262","v":0}]
[22,{"$f":"'4 Sviluppo Domanda e Gestione'!D12","v":"Proventi diversi/pubblicità"},{"$f":"'4 Sviluppo Domanda e Gestione'!D30","v":0},{"$f":"'4 Sviluppo Domanda e Gestione'!E30","v":0},{"$f":"'4 Sviluppo Domanda e Gestione'!F30","v":1},0,0,0,0,{"$f":"'4 Sviluppo Domanda e Gestione'!D263","v":0},{"$f":"'4 Sviluppo Domanda e Gestione'!E263","v":0},{"$f":"'4 Sviluppo Domanda e Gestione'!F263","v":0},{"$f":"'4 Sviluppo Domanda e Gestione'!G263","v":0},{"$f":"'4 Sviluppo Domanda e Gestione'!H263","v":0}]
[0,{"$f":"'4 Sviluppo Domanda e Gestione'!D13","v":"b"},{"$f":"'4 Sviluppo Domanda e Gestione'!D31","v":0},{"$f":"'4 Sviluppo Domanda e Gestione'!E31","v":0},{"$f":"'4 Sviluppo Domanda e Gestione'!F31","v":1},0,0,0,0,{"$f":"'4 Sviluppo Domanda e Gestione'!D264","v":0},{"$f":"'4 Sviluppo Domanda e Gestione'!E264","v":0},{"$f":"'4 Sviluppo Domanda e Gestione'!F264","v":0},{"$f":"'4 Sviluppo Domanda e Gestione'!G264","v":0},{"$f":"'4 Sviluppo Domanda e Gestione'!H264","v":0}]
[0,{"$f":"'4 Sviluppo Domanda e Gestione'!D14","v":"c"},{"$f":"'4 Sviluppo Domanda e Gestione'!D32","v":0},{"$f":"'4 Sviluppo Domanda e Gestione'!E32","v":0},0,0,0,0,0,{"$f":"'4 Sviluppo Domanda e Gestione'!D265","v":0},{"$f":"'4 Sviluppo Domanda e Gestione'!E265","v":0},{"$f":"'4 Sviluppo Domanda e Gestione'!F265","v":0},{"$f":"'4 Sviluppo Domanda e Gestione'!G265","v":0},{"$f":"'4 Sviluppo Domanda e Gestione'!H265","v":0}]
[0,{"$f":"'4 Sviluppo Domanda e Gestione'!D15","v":"d"},{"$f":"'4 Sviluppo Domanda e Gestione'!D33","v":0},{"$f":"'4 Sviluppo Domanda e Gestione'!E33","v":0},0,0,0,0,0,{"$f":"'4 Sviluppo Domanda e Gestione'!D266","v":0},{"$f":"'4 Sviluppo Domanda e Gestione'!E266","v":0},{"$f":"'4 Sviluppo Domanda e Gestione'!F266","v":0},{"$f":"'4 Sviluppo Domanda e Gestione'!G266","v":0},{"$f":"'4 Sviluppo Domanda e Gestione'!H266","v":0}]
[0,{"$f":"'4 Sviluppo Domanda e Gestione'!D16","v":"e"},{"$f":"'4 Sviluppo Domanda e Gestione'!D34","v":0},{"$f":"'4 Sviluppo Domanda e Gestione'!E34","v":0},0,0,0,0,0,{"$f":"'4 Sviluppo Domanda e Gestione'!D267","v":0},{"$f":"'4 Sviluppo Domanda e Gestione'!E267","v":0},{"$f":"'4 Sviluppo Domanda e Gestione'!F267","v":0},{"$f":"'4 Sviluppo Domanda e Gestione'!G267","v":0},{"$f":"'4 Sviluppo Domanda e Gestione'!H267","v":0}]
[0,{"$f":"'4 Sviluppo Domanda e Gestione'!D17","v":"f"},{"$f":"'4 Sviluppo Domanda e Gestione'!D35","v":0},{"$f":"'4 Sviluppo Domanda e Gestione'!E35","v":0},0,0,0,0,0,{"$f":"'4 Sviluppo Domanda e Gestione'!D268","v":0},{"$f":"'4 Sviluppo Domanda e Gestione'!E268","v":0},{"$f":"'4 Sviluppo Domanda e Gestione'!F268","v":0},{"$f":"'4 Sviluppo Domanda e Gestione'!G268","v":0},{"$f":"'4 Sviluppo Domanda e Gestione'!H268","v":0}]
[0,{"$f":"'4 Sviluppo Domanda e Gestione'!D18","v":"g"},{"$f":"'4 Sviluppo Domanda e Gestione'!D36","v":0},{"$f":"'4 Sviluppo Domanda e Gestione'!E36","v":0},0,0,0,0,0,{"$f":"'4 Sviluppo Domanda e Gestione'!D269","v":0},{"$f":"'4 Sviluppo Domanda e Gestione'!E269","v":0},{"$f":"'4 Sviluppo Domanda e Gestione'!F269","v":0},{"$f":"'4 Sviluppo Domanda e Gestione'!G269","v":0},{"$f":"'4 Sviluppo Domanda e Gestione'!H269","v":0}]
[22,"CANONE DI DISPONIBILITA' PER RECUPERO SPESE DI GESTIONE E/O INVESTIMENTO",1,1,{"$f":"SUM('4 Sviluppo Domanda e Gestione'!D275:D284)","v":0},0,0,0,0," "," "," "," "," "]
[null,"TOTALE RICAVI",null,null,null,{"$f":"SUM(F5:F15)","v":0},null,{"$f":"SUM(H5:H15)","v":0},null," "," "," "," "," "]
[null,"TOTALE IVA",null,null,null,{"$f":"SUM(G5:G15)","v":0},null,{"$f":"SUM(I5:I15)","v":0},null," "," "," "," "," "]
[null,"IVA MEDIA INIZIO GESTIONE E A REGIME",null,null,null,{"$f":"F17*100/F16/100","v":{"$error":"#DIV/0!"}}," ",{"$f":"H17*100/H16/100","v":{"$error":"#DIV/0!"}},"IVA MEDIA TOTALE SU RICAVI",null,null,{"$f":"(F18+H18)/2","v":{"$error":"#DIV/0!"}}," "," "]
[null,null,null,null,null,null,null,null,"PER IVA MEDIA TOTALE SU COSTI VEDI FOGLIO DI ELABORAZIONE "]
[12]
["IVA%","COSTI PER SERVIZI","Descrizione"]
[22,0]
[22,0]
[22,0]
[0,0]
[0,0]
[0,0]
[0,0]
[0,0]
[0,0]
[0,0]
[]
["IVA%","ONERI DIVERSI DI GESTIONE","Descrizione"]
[22,0]
[22,0]
[22,0]
[]
[null,"CANONE DI CONCESSIONE",null,null,"Dati per adeguamento ISTAT"]
[0," ",0,null,{"$f":"B5","v":"Ricavi Istituzionali"},null,null,{"$f":"'4 Sviluppo Domanda e Gestione'!$G$26","v":"Tasso di crescita percentuale annuo della tariffa (Istat)"},null,null,null,{"$f":"'4 Sviluppo Domanda e Gestione'!G27","v":0.02}]
[0," ",0,null,"Ricavi Commerciali",null,null,{"$f":"'4 Sviluppo Domanda e Gestione'!$G$26","v":"Tasso di crescita percentuale annuo della tariffa (Istat)"},null,null,null,{"$f":"'4 Sviluppo Domanda e Gestione'!G28","v":0.02}]
[0,null,null,null,"Ricavi Bar",null,null,{"$f":"'4 Sviluppo Domanda e Gestione'!$G$26","v":"Tasso di crescita percentuale annuo della tariffa (Istat)"},null,null,null,{"$f":"'4 Sviluppo Domanda e Gestione'!G29","v":0.02}]
[0,null,null,null,"Proventi diversi/pubblicità",null,null,{"$f":"'4 Sviluppo Domanda e Gestione'!$G$26","v":"Tasso di crescita percentuale annuo della tariffa (Istat)"},null,null,null,{"$f":"'4 Sviluppo Domanda e Gestione'!G30","v":0.02}]
[0,null,null,null,"b",null,null,{"$f":"'4 Sviluppo Domanda e Gestione'!$G$26","v":"Tasso di crescita percentuale annuo della tariffa (Istat)"},null,null,null,{"$f":"'4 Sviluppo Domanda e Gestione'!G31","v":0.02}]
[0,null,null,null,"c",null,null,{"$f":"'4 Sviluppo Domanda e Gestione'!$G$26","v":"Tasso di crescita percentuale annuo della tariffa (Istat)"},null,null,null,{"$f":"'4 Sviluppo Domanda e Gestione'!G32","v":0.02}]
[0," ",null,null,"d",null,null,{"$f":"'4 Sviluppo Domanda e Gestione'!$G$26","v":"Tasso di crescita percentuale annuo della tariffa (Istat)"},null,null,null,{"$f":"'4 Sviluppo Domanda e Gestione'!G33","v":0.02}]
[0,null,null,null,"e",null,null,{"$f":"'4 Sviluppo Domanda e Gestione'!$G$26","v":"Tasso di crescita percentuale annuo della tariffa (Istat)"},null,null,null,{"$f":"'4 Sviluppo Domanda e Gestione'!G34","v":0.02}]
[null,null,null,null,"f",null,null,{"$f":"'4 Sviluppo Domanda e Gestione'!$G$26","v":"Tasso di crescita percentuale annuo della tariffa (Istat)"},null,null,null,{"$f":"'4 Sviluppo Domanda e Gestione'!G35","v":0.02}]
[null," ",null,null,"g",null,null,{"$f":"'4 Sviluppo Domanda e Gestione'!$G$26","v":"Tasso di crescita percentuale annuo della tariffa (Istat)"},null,null,null,{"$f":"'4 Sviluppo Domanda e Gestione'!G36","v":0.02}]
[null,null,null,null,"CANONE DI DISPONIBILITA' PER RECUPERO SPESE DI GESTIONE E/O INVESTIMENTO",null,null,{"$f":"'4 Sviluppo Domanda e Gestione'!$G$26","v":"Tasso di crescita percentuale annuo della tariffa (Istat)"},null,null,null,{"$f":"'4 Sviluppo Domanda e Gestione'!G274","v":0.02}]
[]
[]
[]
[]
[]
[]
[]
[]
[]
[]
[]
[" ",null,null,null,null,null," ",null,null,null,null,null,null,null,null,null," "]
[]
[]
[]
[]
[]
[]
[]
[]
[]
[]
[]
[]
[]
[]
[]
[]
[]
[]
[]
[]
[]
[]
[]
[]
[]
[]
[]
[]
[]
[]
[]
[]
[]
[]
[]
[]
[]
[]
[]
[]
[]
[]
[]
[]
[]
[]
[]
[]
[]
[]
[]
[]
[]
[]
[]
[]
[]
[]
[]
[]
[]
[]
[]
[]
[]
[]
[]
[]
[]
[]
[]
[]
[]
[]
[]
[]
[]
[]
[]
[]
[]
[]
[]
[]
[]
[]
[]
[]
[]
[]
[]
[]
[]
[]
[]
[]
[]
[]
[]
[]
[]
[]
[]
[]
[]
[]
[]
[]
[]
[]
[]
[]
[]
[]
[]
[]
[]
[]
[]
[]
[]
[]
[]
[]
[]
[]
[]
[]
[]
[]
[]
[]
[]
[]
[]
[]
[]
[]
[]
[]
[]
[]
[]
[]
[]
[]
[]
[]
[]
[]
[]
[]
[]
[]
[]
[]
[]
[]
[]
[]
[]
[]
[]
[]
[]
[" ",null,null,null,null," "]

{"sheet":"3B Retta Quota Sociale","index":4,"n_rows":12,"n_cols":5,"rows_kept":12,"cut":false,"hidden":true,"merged":[[11,2,11,3]]}
[]
[]
[null,"GLI IMPORTI RETTA INDICATI SONO PER I GIORNI DI PRESENZA, IN CASO DI ASSENZA VENGONO RIDOTTI DI € 3,00 AL GIORNO"]
[null,"DIVISIONE PER CLASSE DI FRAGILITA'","Quota Sociale esclusa IVA","Utenti","Quota Sanitaria Giornaliera"]
[null,"1° Classe SIDI",null,{"$f":"SUM(#REF!)","v":{"$error":"#REF!"}},{"$f":"SUM(C5*D5)","v":{"$error":"#REF!"}}]
[null,"2° Classe SIDI",null,{"$f":"SUM(#REF!)","v":{"$error":"#REF!"}},{"$f":"SUM(C6*D6)","v":{"$error":"#REF!"}}]
[null,"3° Classe SIDI",null,{"$f":"SUM(#REF!)","v":{"$error":"#REF!"}},{"$error":"#REF!"}]
[null,"4° Classe SIDI",null,{"$f":"SUM(#REF!)","v":{"$error":"#REF!"}},{"$error":"#REF!"}]
[null,"5° Classe SIDI",null,null,0]
[null,null,{"$f":"SUM(C5:C9)","v":0},{"$f":"SUM(D5:D9)","v":{"$error":"#REF!"}},{"$f":"SUM(E5:E9)","v":{"$error":"#REF!"}}]
[]
[null,null,"Valore Medio Quota Sociale",null,{"$f":"SUM(C10/5)","v":0}]

{"sheet":"Base Costi Ricavi","index":5,"n_rows":31,"n_cols":63,"rows_kept":31,"cut":false,"hidden":true,"merged":[[0,0,1,0],[0,1,1,1],[2,1,3,1],[17,1,18,1]]}
[null,{"$f":"'[2]1 Descrizione Progetto'!B4","v":"Concessione per l'affidamento dei lavori di efficientamento energetico della piscina comunale e del successivo servizio di gestione dell'impianto natatorio "}]
[null,null,null,2025,{"$f":"SUM(D2+1)","v":2026},{"$f":"SUM(E2+1)","v":2027},2028,2029,2030,2031,2032,2033,2034,2035,2036,2037,2038,2039,2040,2041,2042,2043,2044,2045,2046,2047,2048,2049,2050,2051,2052,2053,2054,2055,2056,2057,2058,2059,2060]
[null,"Ricavi di Gestione NON Adeguati Istat",null,{"$f":"'[2]1 Descrizione Progetto'!C13","v":1},{"$f":"D3+1","v":2},3,4,5,6,7,8,9,10,11,12,13,14,15,16,17,18,19,20,21,22,23,24,25,26,27,28,29,30,31,32,33,34,35,36,37,38,39,40,41,42,43,44,45,46,47,48,49,50,51,52,53,54,55,56,57,58,59,60]
["IVA",null,null,{"$f":"IF(D3<='[2]1 Descrizione Progetto'!$C$15,\"Costruzione\",IF('[2]4 Costi e Ricavi'!D3>'[2]1 Descrizione Progetto'!$C$18,\"\",\"Gestione\"))","v":"Costruzione"},{"$f":"IF(E3<='[2]1 Descrizione Progetto'!$C$15,\"Costruzione\",IF('[2]4 Costi e Ricavi'!E3>'[2]1 Descrizione Progetto'!$C$18,\"\",\"Gestione\"))","v":"Gestione"},{"$f":"IF(F3<='[2]1 Descrizione Progetto'!$C$15,\"Costruzione\",IF('[2]4 Costi e Ricavi'!F3>'[2]1 Descrizione Progetto'!$C$18,\"\",\"Gestione\"))","v":"Gestione"},{"$f":"IF(G3<='[2]1 Descrizione Progetto'!$C$15,\"Costruzione\",IF('[2]4 Costi e Ricavi'!G3>'[2]1 Descrizione Progetto'!$C$18,\"\",\"Gestione\"))","v":"Gestione"},{"$f":"IF(H3<='[2]1 Descrizione Progetto'!$C$15,\"Costruzione\",IF('[2]4 Costi e Ricavi'!H3>'[2]1 Descrizione Progetto'!$C$18,\"\",\"Gestione\"))","v":"Gestione"},{"$f":"IF(I3<='[2]1 Descrizione Progetto'!$C$15,\"Costruzione\",IF('[2]4 Costi e Ricavi'!I3>'[2]1 Descrizione Progetto'!$C$18,\"\",\"Gestione\"))","v":"Gestione"},{"$f":"IF(J3<='[2]1 Descrizione Progetto'!$C$15,\"Costruzione\",IF('[2]4 Costi e Ricavi'!J3>'[2]1 Descrizione Progetto'!$C$18,\"\",\"Gestione\"))","v":"Gestione"},{"$f":"IF(K3<='[2]1 Descrizione Progetto'!$C$15,\"Costruzione\",IF('[2]4 Costi e Ricavi'!K3>'[2]1 Descrizione Progetto'!$C$18,\"\",\"Gestione\"))","v":"Gestione"},{"$f":"IF(L3<='[2]1 Descrizione Progetto'!$C$15,\"Costruzione\",IF('[2]4 Costi e Ricavi'!L3>'[2]1 Descrizione Progetto'!$C$18,\"\",\"Gestione\"))","v":"Gestione"},{"$f":"IF(M3<='[2]1 Descrizione Progetto'!$C$15,\"Costruzione\",IF('[2]4 Costi e Ricavi'!M3>'[2]1 Descrizione Progetto'!$C$18,\"\",\"Gestione\"))","v":"Gestione"},{"$f":"IF(N3<='[2]1 Descrizione Progetto'!$C$15,\"Costruzione\",IF('[2]4 Costi e Ricavi'!N3>'[2]1 Descrizione Progetto'!$C$18,\"\",\"Gestione\"))","v":"Gestione"},{"$f":"IF(O3<='[2]1 Descrizione Progetto'!$C$15,\"Costruzione\",IF('[2]4 Costi e Ricavi'!O3>'[2]1 Descrizione Progetto'!$C$18,\"\",\"Gestione\"))","v":"Gestione"},{"$f":"IF(P3<='[2]1 Descrizione Progetto'!$C$15,\"Costruzione\",IF('[2]4 Costi e Ricavi'!P3>'[2]1 Descrizione Progetto'!$C$18,\"\",\"Gestione\"))","v":"Gestione"},{"$f":"IF(Q3<='[2]1 Descrizione Progetto'!$C$15,\"Costruzione\",IF('[2]4 Costi e Ricavi'!Q3>'[2]1 Descrizione Progetto'!$C$18,\"\",\"Gestione\"))","v":"Gestione"},{"$f":"IF(R3<='[2]1 Descrizione Progetto'!$C$15,\"Costruzione\",IF('[2]4 Costi e Ricavi'!R3>'[2]1 Descrizione Progetto'!$C$18,\"\",\"Gestione\"))","v":"Gestione"},{"$f":"IF(S3<='[2]1 Descrizione Progetto'!$C$15,\"Costruzione\",IF('[2]4 Costi e Ricavi'!S3>'[2]1 Descrizione Progetto'!$C$18,\"\",\"Gestione\"))","v":""},{"$f":"IF(T3<='[2]1 Descrizione Progetto'!$C$15,\"Costruzione\",IF('[2]4 Costi e Ricavi'!T3>'[2]1 Descrizione Progetto'!$C$18,\"\",\"Gestione\"))","v":""},{"$f":"IF(U3<='[2]1 Descrizione Progetto'!$C$15,\"Costruzione\",IF('[2]4 Costi e Ricavi'!U3>'[2]1 Descrizione Progetto'!$C$18,\"\",\"Gestione\"))","v":""},{"$f":"IF(V3<='[2]1 Descrizione Progetto'!$C$15,\"Costruzione\",IF('[2]4 Costi e Ricavi'!V3>'[2]1 Descrizione Progetto'!$C$18,\"\",\"Gestione\"))","v":""},{"$f":"IF(W3<='[2]1 Descrizione Progetto'!$C$15,\"Costruzione\",IF('[2]4 Costi e Ricavi'!W3>'[2]1 Descrizione Progetto'!$C$18,\"\",\"Gestione\"))","v":""},{"$f":"IF(X3<='[2]1 Descrizione Progetto'!$C$15,\"Costruzione\",IF('[2]4 Costi e Ricavi'!X3>'[2]1 Descrizione Progetto'!$C$18,\"\",\"Gestione\"))","v":""},{"$f":"IF(Y3<='[2]1 Descrizione Progetto'!$C$15,\"Costruzione\",IF('[2]4 Costi e Ricavi'!Y3>'[2]1 Descrizione Progetto'!$C$18,\"\",\"Gestione\"))","v":""},{"$f":"IF(Z3<='[2]1 Descrizione Progetto'!$C$15,\"Costruzione\",IF('[2]4 Costi e Ricavi'!Z3>'[2]1 Descrizione Progetto'!$C$18,\"\",\"Gestione\"))","v":""},{"$f":"IF(AA3<='[2]1 Descrizione Progetto'!$C$15,\"Costruzione\",IF('[2]4 Costi e Ricavi'!AA3>'[2]1 Descrizione Progetto'!$C$18,\"\",\"Gestione\"))","v":""},{"$f":"IF(AB3<='[2]1 Descrizione Progetto'!$C$15,\"Costruzione\",IF('[2]4 Costi e Ricavi'!AB3>'[2]1 Descrizione Progetto'!$C$18,\"\",\"Gestione\"))","v":""},{"$f":"IF(AC3<='[2]1 Descrizione Progetto'!$C$15,\"Costruzione\",IF('[2]4 Costi e Ricavi'!AC3>'[2]1 Descrizione Progetto'!$C$18,\"\",\"Gestione\"))","v":""},{"$f":"IF(AD3<='[2]1 Descrizione Progetto'!$C$15,\"Costruzione\",IF('[2]4 Costi e Ricavi'!AD3>'[2]1 Descrizione Progetto'!$C$18,\"\",\"Gestione\"))","v":""},{"$f":"IF(AE3<='[2]1 Descrizione Progetto'!$C$15,\"Costruzione\",IF('[2]4 Costi e Ricavi'!AE3>'[2]1 Descrizione Progetto'!$C$18,\"\",\"Gestione\"))","v":""},{"$f":"IF(AF3<='[2]1 Descrizione Progetto'!$C$15,\"Costruzione\",IF('[2]4 Costi e Ricavi'!AF3>'[2]1 Descrizione Progetto'!$C$18,\"\",\"Gestione\"))","v":""},{"$f":"IF(AG3<='[2]1 Descrizione Progetto'!$C$15,\"Costruzione\",IF('[2]4 Costi e Ricavi'!AG3>'[2]1 Descrizione Progetto'!$C$18,\"\",\"Gestione\"))","v":""},{"$f":"IF(AH3<='[2]1 Descrizione Progetto'!$C$15,\"Costruzione\",IF('[2]4 Costi e Ricavi'!AH3>'[2]1 Descrizione Progetto'!$C$18,\"\",\"Gestione\"))","v":""},{"$f":"IF(AI3<='[2]1 Descrizione Progetto'!$C$15,\"Costruzione\",IF('[2]4 Costi e Ricavi'!AI3>'[2]1 Descrizione Progetto'!$C$18,\"\",\"Gestione\"))","v":""},{"$f":"IF(AJ3<='[2]1 Descrizione Progetto'!$C$15,\"Costruzione\",IF('[2]4 Costi e Ricavi'!AJ3>'[2]1 Descrizione Progetto'!$C$18,\"\",\"Gestione\"))","v":""},{"$f":"IF(AK3<='[2]1 Descrizione Progetto'!$C$15,\"Costruzione\",IF('[2]4 Costi e Ricavi'!AK3>'[2]1 Descrizione Progetto'!$C$18,\"\",\"Gestione\"))","v":""},{"$f":"IF(AL3<='[2]1 Descrizione Progetto'!$C$15,\"Costruzione\",IF('[2]4 Costi e Ricavi'!AL3>'[2]1 Descrizione Progetto'!$C$18,\"\",\"Gestione\"))","v":""},{"$f":"IF(AM3<='[2]1 Descrizione Progetto'!$C$15,\"Costruzione\",IF('[2]4 Costi e Ricavi'!AM3>'[2]1 Descrizione Progetto'!$C$18,\"\",\"Gestione\"))","v":""},{"$f":"IF(AN3<='[2]1 Descrizione Progetto'!$C$15,\"Costruzione\",IF('[2]4 Costi e Ricavi'!AN3>'[2]1 Descrizione Progetto'!$C$18,\"\",\"Gestione\"))","v":""},{"$f":"IF(AO3<='[2]1 Descrizione Progetto'!$C$15,\"Costruzione\",IF('[2]4 Costi e Ricavi'!AO3>'[2]1 Descrizione Progetto'!$C$18,\"\",\"Gestione\"))","v":""},{"$f":"IF(AP3<='[2]1 Descrizione Progetto'!$C$15,\"Costruzione\",IF('[2]4 Costi e Ricavi'!AP3>'[2]1 Descrizione Progetto'!$C$18,\"\",\"Gestione\"))","v":""},{"$f":"IF(AQ3<='[2]1 Descrizione Progetto'!$C$15,\"Costruzione\",IF('[2]4 Costi e Ricavi'!AQ3>'[2]1 Descrizione Progetto'!$C$18,\"\",\"Gestione\"))","v":""},{"$f":"IF(AR3<='[2]1 Descrizione Progetto'!$C$15,\"Costruzione\",IF('[2]4 Costi e Ricavi'!AR3>'[2]1 Descrizione Progetto'!$C$18,\"\",\"Gestione\"))","v":""},{"$f":"IF(AS3<='[2]1 Descrizione Progetto'!$C$15,\"Costruzione\",IF('[2]4 Costi e Ricavi'!AS3>'[2]1 Descrizione Progetto'!$C$18,\"\",\"Gestione\"))","v":""},{"$f":"IF(AT3<='[2]1 Descrizione Progetto'!$C$15,\"Costruzione\",IF('[2]4 Costi e Ricavi'!AT3>'[2]1 Descrizione Progetto'!$C$18,\"\",\"Gestione\"))","v":""},{"$f":"IF(AU3<='[2]1 Descrizione Progetto'!$C$15,\"Costruzione\",IF('[2]4 Costi e Ricavi'!AU3>'[2]1 Descrizione Progetto'!$C$18,\"\",\"Gestione\"))","v":""},{"$f":"IF(AV3<='[2]1 Descrizione Progetto'!$C$15,\"Costruzione\",IF('[2]4 Costi e Ricavi'!AV3>'[2]1 Descrizione Progetto'!$C$18,\"\",\"Gestione\"))","v":""},{"$f":"IF(AW3<='[2]1 Descrizione Progetto'!$C$15,\"Costruzione\",IF('[2]4 Costi e Ricavi'!AW3>'[2]1 Descrizione Progetto'!$C$18,\"\",\"Gestione\"))","v":""},{"$f":"IF(AX3<='[2]1 Descrizione Progetto'!$C$15,\"Costruzione\",IF('[2]4 Costi e Ricavi'!AX3>'[2]1 Descrizione Progetto'!$C$18,\"\",\"Gestione\"))","v":""},{"$f":"IF(AY3<='[2]1 Descrizione Progetto'!$C$15,\"Costruzione\",IF('[2]4 Costi e Ricavi'!AY3>'[2]1 Descrizione Progetto'!$C$18,\"\",\"Gestione\"))","v":""},{"$f":"IF(AZ3<='[2]1 Descrizione Progetto'!$C$15,\"Costruzione\",IF('[2]4 Costi e Ricavi'!AZ3>'[2]1 Descrizione Progetto'!$C$18,\"\",\"Gestione\"))","v":""},{"$f":"IF(BA3<='[2]1 Descrizione Progetto'!$C$15,\"Costruzione\",IF('[2]4 Costi e Ricavi'!BA3>'[2]1 Descrizione Progetto'!$C$18,\"\",\"Gestione\"))","v":""},{"$f":"IF(BB3<='[2]1 Descrizione Progetto'!$C$15,\"Costruzione\",IF('[2]4 Costi e Ricavi'!BB3>'[2]1 Descrizione Progetto'!$C$18,\"\",\"Gestione\"))","v":""},{"$f":"IF(BC3<='[2]1 Descrizione Progetto'!$C$15,\"Costruzione\",IF('[2]4 Costi e Ricavi'!BC3>'[2]1 Descrizione Progetto'!$C$18,\"\",\"Gestione\"))","v":""},{"$f":"IF(BD3<='[2]1 Descrizione Progetto'!$C$15,\"Costruzione\",IF('[2]4 Costi e Ricavi'!BD3>'[2]1 Descrizione Progetto'!$C$18,\"\",\"Gestione\"))","v":""},{"$f":"IF(BE3<='[2]1 Descrizione Progetto'!$C$15,\"Costruzione\",IF('[2]4 Costi e Ricavi'!BE3>'[2]1 Descrizione Progetto'!$C$18,\"\",\"Gestione\"))","v":""},{"$f":"IF(BF3<='[2]1 Descrizione Progetto'!$C$15,\"Costruzione\",IF('[2]4 Costi e Ricavi'!BF3>'[2]1 Descrizione Progetto'!$C$18,\"\",\"Gestione\"))","v":""},{"$f":"IF(BG3<='[2]1 Descrizione Progetto'!$C$15,\"Costruzione\",IF('[2]4 Costi e Ricavi'!BG3>'[2]1 Descrizione Progetto'!$C$18,\"\",\"Gestione\"))","v":""},{"$f":"IF(BH3<='[2]1 Descrizione Progetto'!$C$15,\"Costruzione\",IF('[2]4 Costi e Ricavi'!BH3>'[2]1 Descrizione Progetto'!$C$18,\"\",\"Gestione\"))","v":""},{"$f":"IF(BI3<='[2]1 Descrizione Progetto'!$C$15,\"Costruzione\",IF('[2]4 Costi e Ricavi'!BI3>'[2]1 Descrizione Progetto'!$C$18,\"\",\"Gestione\"))","v":""},{"$f":"IF(BJ3<='[2]1 Descrizione Progetto'!$C$15,\"Costruzione\",IF('[2]4 Costi e Ricavi'!BJ3>'[2]1 Descrizione Progetto'!$C$18,\"\",\"Gestione\"))","v":""},{"$f":"IF(BK3<='[2]1 Descrizione Progetto'!$C$15,\"Costruzione\",IF('[2]4 Costi e Ricavi'!BK3>'[2]1 Descrizione Progetto'!$C$18,\"\",\"Gestione\"))","v":""}]
[0,"Ricavi Istituzionali",null,265400,285300,308481,{"$f":"SUM(F5)","v":308481},{"$f":"SUM(G5)","v":308481},308481,308481,null,0,0,0,0,0,0,0,{"$f":"SUM('[2]Dettaglio Costi Ricavi'!T4)","v":0},{"$f":"SUM('[2]Dettaglio Costi Ricavi'!U4)","v":0},{"$f":"SUM('[2]Dettaglio Costi Ricavi'!V4)","v":0},{"$f":"SUM('[2]Dettaglio Costi Ricavi'!W4)","v":0},{"$f":"SUM('[2]Dettaglio Costi Ricavi'!X4)","v":0},{"$f":"SUM('[2]Dettaglio Costi Ricavi'!Y4)","v":0},{"$f":"SUM('[2]Dettaglio Costi Ricavi'!Z4)","v":0},{"$f":"SUM('[2]Dettaglio Costi Ricavi'!AA4)","v":0},{"$f":"SUM('[2]Dettaglio Costi Ricavi'!AB4)","v":0},{"$f":"SUM('[2]Dettaglio Costi Ricavi'!AC4)","v":0},{"$f":"SUM('[2]Dettaglio Costi Ricavi'!AD4)","v":0},{"$f":"SUM('[2]Dettaglio Costi Ricavi'!AE4)","v":0},{"$f":"SUM('[2]Dettaglio Costi Ricavi'!AF4)","v":0},{"$f":"SUM('[2]Dettaglio Costi Ricavi'!AG4)","v":0},{"$f":"SUM('[2]Dettaglio Costi Ricavi'!AH4)","v":0},{"$f":"SUM('[2]Dettaglio Costi Ricavi'!AI4)","v":0},{"$f":"SUM('[2]Dettaglio Costi Ricavi'!AJ4)","v":0},{"$f":"SUM('[2]Dettaglio Costi Ricavi'!AK4)","v":0},{"$f":"SUM('[2]Dettaglio Costi Ricavi'!AL4)","v":0},{"$f":"SUM('[2]Dettaglio Costi Ricavi'!AM4)","v":0},0,{"$f":"AM5","v":0},0,0,0,0,0,0,0,0,0,0,0,0,0,0,0,{"$f":"BC5","v":0},0,0,0,0,0,0,0]
[0.22,"Ricavi Commerciali",null,55250,64300,77096,{"$f":"SUM(F6)","v":77096},77096,77096,77096,null,0,0,0,0,0,0,0,{"$f":"SUM('[2]Dettaglio Costi Ricavi'!T5)","v":0},{"$f":"SUM('[2]Dettaglio Costi Ricavi'!U5)","v":0},{"$f":"SUM('[2]Dettaglio Costi Ricavi'!V5)","v":0},{"$f":"SUM('[2]Dettaglio Costi Ricavi'!W5)","v":0},{"$f":"SUM('[2]Dettaglio Costi Ricavi'!X5)","v":0},{"$f":"SUM('[2]Dettaglio Costi Ricavi'!Y5)","v":0},{"$f":"SUM('[2]Dettaglio Costi Ricavi'!Z5)","v":0},{"$f":"SUM('[2]Dettaglio Costi Ricavi'!AA5)","v":0},{"$f":"SUM('[2]Dettaglio Costi Ricavi'!AB5)","v":0},{"$f":"SUM('[2]Dettaglio Costi Ricavi'!AC5)","v":0},{"$f":"SUM('[2]Dettaglio Costi Ricavi'!AD5)","v":0},{"$f":"SUM('[2]Dettaglio Costi Ricavi'!AE5)","v":0},{"$f":"SUM('[2]Dettaglio Costi Ricavi'!AF5)","v":0},{"$f":"SUM('[2]Dettaglio Costi Ricavi'!AG5)","v":0},{"$f":"SUM('[2]Dettaglio Costi Ricavi'!AH5)","v":0},{"$f":"SUM('[2]Dettaglio Costi Ricavi'!AI5)","v":0},{"$f":"SUM('[2]Dettaglio Costi Ricavi'!AJ5)","v":0},{"$f":"SUM('[2]Dettaglio Costi Ricavi'!AK5)","v":0},{"$f":"SUM('[2]Dettaglio Costi Ricavi'!AL5)","v":0},{"$f":"SUM('[2]Dettaglio Costi Ricavi'!AM5)","v":0},0,0,0,0,0,0,0,0,0,0,0,0,0,0,0,0,0,0,0,0,0,0,0,0,0]
[0.22,"Ricavi Bar",null,24600,29500,36700,{"$f":"SUM(F7)","v":36700},{"$f":"SUM(G7)","v":36700},36700,36700,null,0,0,0,0,0,0,0,0,0,0,0,0,0,0,0,0,0,0,0,0,0,0,0,0,0,0,0,0,0,0,0,0,0,0,0,0,0,0,0,0,0,0,0,0,0,0,0,0,0,0,0,0]
[0.22,"Proventi diversi/pubblicità",null,0,2500,{"$f":"SUM(E8)","v":2500},{"$f":"SUM(F8)","v":2500},2500,2500,{"$f":"SUM(I8)","v":2500},null,0,0,0,0,0,0,0,0,0,0,0,0,0,0,0,0,0,0,0,0,0,0,0,0,0,0,0,0,0,0,0,0,0,0,0,0,0,0,0,0,0,0,0,0,0,0,0,0,0,0,0,0]
[0.22,"Affitto fisioterapia",null,0,0,0,0,0,0,0,null,0,0,0,0,0,0,0,0,0,0,0,0,0,0,0,0,0,0,0,0,0,0,0,0,0,0,0,0,0,0,0,0,0,0,0,0,0,0,0,0,0,0,0,0,0,0,0,0,0,0,0,0]
[0.22,"Corrispettivi da corsi",null,0,0,0,0,0,0,0,null,0,0,0,0,0,0,0,0,0,0,0,0,0,0,0,0,0,0,0,0,0,0,0,0,0,0,0,0,0,0,0,0,0,0,0,0,0,0,0,0,0,0,0,0,0,0,0,0,0,0,0,0]
[0.22,"Corrispettivi da campus sportivo",null,0,0,0,0,0,0,0,null,0,0,0,0,0,0,0,0,0,0,0,0,0,0,0,0,0,0,0,0,0,0,0,0,0,0,0,0,0,0,0,0,0,0,0,0,0,0,0,0,0,0,0,0,0,0,0,0,0,0,0,0]
[0.22,"Altri ricavi",null,0,0,0,0,0,0,0,null,0,0,0,0,0,0,0,0,0,0,0,0,0,0,0,0,0,0,0,0,0,0,0,0,0,0,0,0,0,0,0,0,0,0,0,0,0,0,0,0,0,0,0,0,0,0,0,0,0,0,0,0]
[0.22,"Proventi diversi/pubblicità",null,0,0,{"$f":"SUM(E13)","v":0},{"$f":"SUM(F13)","v":0},0,0,0,null,0,0,0,0,0,0,0,0,0,0,0,0,0,0,0,0,0,0,0,0,0,0,0,0,0,0,0,0,0,0,0,0,0,0,0,0,0,0,0,0,0,0,0,0,0,0,0,0,0,0,0,0]
[0.22,"Altro",null,0,0,0,0,0,0,0,null,0,0,0,0,0,0,0,0,0,0,0,0,0,0,0,0,0,0,0,0,0,0,0,0,0,0,0,0,0,0,0,0,0,0,0,0,0,0,0,0,0,0,0,0,0,0,0,0,0,0,0,0]
[null,"Totale Ricavi di Gestione",null,{"$f":"SUM(D5:D14)","v":345250},381600,424777,424777,424777,424777,424777,0,0,0,0,0,0,0,0,0,0,0,0,0,0,0,0,0,0,0,0,0,0,0,0,0,0,0,0,0,0,0,0,0,0,0,0,0,0,0,0,0,0,0,0,0,0,0,0,0,0,0,0,0]
[" ","IVA Media sui Ricavi",null,{"$f":"IF(SUM(D5:D14)=0,0,D5*$A$5/D15+D6*$A$6/D15+D7*$A$7/D15+D8*$A$8/D15+D9*$A$9/D15+D10*$A$10/D15+D11*$A$11/D15+D12*$A$12/D15+D13*$A$13/D15+D14*$A$14/D15)","v":5.0881969587255611E-2},5.5518867924528301E-2,6.023188637802894E-2,6.023188637802894E-2,6.023188637802894E-2,6.023188637802894E-2,6.023188637802894E-2,0,0,0,0,0,0,0,0,0,0,0,0,0,0,0,0,0,0,0,0,0,0,0,0,0,{"$f":"IF(SUM(AJ5:AJ14)=0,0,AJ5*$A$5/AJ15+AJ6*$A$6/AJ15+AJ7*$A$7/AJ15+AJ8*$A$8/AJ15+AJ9*$A$9/AJ15+AJ10*$A$10/AJ15+AJ11*$A$11/AJ15+AJ12*$A$12/AJ15+AJ13*$A$13/AJ15+AJ14*$A$14/AJ15)","v":0},0,0,0,0,0,0,0,0,0,0,0,0,0,0,0,0,0,0,0,0,0,0,0,0,0,0,0]
[]
[{"$f":"A3+1","v":1},"Costi di Gestione NON Adeguati Istat",null,{"$f":"D3","v":1},2,3,4,5,6,7,8,9,10,11,12,13,14,15,16,17,18,19,20,21,22,23,24,25,26,27,28,29,30,31,32,33,34,35,36,37,38,39,40,41,42,43,44,45,46,47,48,49,50,51,52,53,54,55,56,57,58,59,60]
["IVA",null,null,{"$f":"IF(D18<='[2]1 Descrizione Progetto'!$C$15,\"Costruzione\",IF('[2]4 Costi e Ricavi'!D18>'[2]1 Descrizione Progetto'!$C$18,\"\",\"Gestione\"))","v":"Costruzione"},{"$f":"IF(E18<='[2]1 Descrizione Progetto'!$C$15,\"Costruzione\",IF('[2]4 Costi e Ricavi'!E18>'[2]1 Descrizione Progetto'!$C$18,\"\",\"Gestione\"))","v":"Gestione"},{"$f":"IF(F18<='[2]1 Descrizione Progetto'!$C$15,\"Costruzione\",IF('[2]4 Costi e Ricavi'!F18>'[2]1 Descrizione Progetto'!$C$18,\"\",\"Gestione\"))","v":"Gestione"},{"$f":"IF(G18<='[2]1 Descrizione Progetto'!$C$15,\"Costruzione\",IF('[2]4 Costi e Ricavi'!G18>'[2]1 Descrizione Progetto'!$C$18,\"\",\"Gestione\"))","v":"Gestione"},{"$f":"IF(H18<='[2]1 Descrizione Progetto'!$C$15,\"Costruzione\",IF('[2]4 Costi e Ricavi'!H18>'[2]1 Descrizione Progetto'!$C$18,\"\",\"Gestione\"))","v":"Gestione"},{"$f":"IF(I18<='[2]1 Descrizione Progetto'!$C$15,\"Costruzione\",IF('[2]4 Costi e Ricavi'!I18>'[2]1 Descrizione Progetto'!$C$18,\"\",\"Gestione\"))","v":"Gestione"},{"$f":"IF(J18<='[2]1 Descrizione Progetto'!$C$15,\"Costruzione\",IF('[2]4 Costi e Ricavi'!J18>'[2]1 Descrizione Progetto'!$C$18,\"\",\"Gestione\"))","v":"Gestione"},{"$f":"IF(K18<='[2]1 Descrizione Progetto'!$C$15,\"Costruzione\",IF('[2]4 Costi e Ricavi'!K18>'[2]1 Descrizione Progetto'!$C$18,\"\",\"Gestione\"))","v":"Gestione"},{"$f":"IF(L18<='[2]1 Descrizione Progetto'!$C$15,\"Costruzione\",IF('[2]4 Costi e Ricavi'!L18>'[2]1 Descrizione Progetto'!$C$18,\"\",\"Gestione\"))","v":"Gestione"},{"$f":"IF(M18<='[2]1 Descrizione Progetto'!$C$15,\"Costruzione\",IF('[2]4 Costi e Ricavi'!M18>'[2]1 Descrizione Progetto'!$C$18,\"\",\"Gestione\"))","v":"Gestione"},{"$f":"IF(N18<='[2]1 Descrizione Progetto'!$C$15,\"Costruzione\",IF('[2]4 Costi e Ricavi'!N18>'[2]1 Descrizione Progetto'!$C$18,\"\",\"Gestione\"))","v":"Gestione"},{"$f":"IF(O18<='[2]1 Descrizione Progetto'!$C$15,\"Costruzione\",IF('[2]4 Costi e Ricavi'!O18>'[2]1 Descrizione Progetto'!$C$18,\"\",\"Gestione\"))","v":"Gestione"},{"$f":"IF(P18<='[2]1 Descrizione Progetto'!$C$15,\"Costruzione\",IF('[2]4 Costi e Ricavi'!P18>'[2]1 Descrizione Progetto'!$C$18,\"\",\"Gestione\"))","v":"Gestione"},{"$f":"IF(Q18<='[2]1 Descrizione Progetto'!$C$15,\"Costruzione\",IF('[2]4 Costi e Ricavi'!Q18>'[2]1 Descrizione Progetto'!$C$18,\"\",\"Gestione\"))","v":"Gestione"},{"$f":"IF(R18<='[2]1 Descrizione Progetto'!$C$15,\"Costruzione\",IF('[2]4 Costi e Ricavi'!R18>'[2]1 Descrizione Progetto'!$C$18,\"\",\"Gestione\"))","v":"Gestione"},{"$f":"IF(S18<='[2]1 Descrizione Progetto'!$C$15,\"Costruzione\",IF('[2]4 Costi e Ricavi'!S18>'[2]1 Descrizione Progetto'!$C$18,\"\",\"Gestione\"))","v":""},{"$f":"IF(T18<='[2]1 Descrizione Progetto'!$C$15,\"Costruzione\",IF('[2]4 Costi e Ricavi'!T18>'[2]1 Descrizione Progetto'!$C$18,\"\",\"Gestione\"))","v":""},{"$f":"IF(U18<='[2]1 Descrizione Progetto'!$C$15,\"Costruzione\",IF('[2]4 Costi e Ricavi'!U18>'[2]1 Descrizione Progetto'!$C$18,\"\",\"Gestione\"))","v":""},{"$f":"IF(V18<='[2]1 Descrizione Progetto'!$C$15,\"Costruzione\",IF('[2]4 Costi e Ricavi'!V18>'[2]1 Descrizione Progetto'!$C$18,\"\",\"Gestione\"))","v":""},{"$f":"IF(W18<='[2]1 Descrizione Progetto'!$C$15,\"Costruzione\",IF('[2]4 Costi e Ricavi'!W18>'[2]1 Descrizione Progetto'!$C$18,\"\",\"Gestione\"))","v":""},{"$f":"IF(X18<='[2]1 Descrizione Progetto'!$C$15,\"Costruzione\",IF('[2]4 Costi e Ricavi'!X18>'[2]1 Descrizione Progetto'!$C$18,\"\",\"Gestione\"))","v":""},{"$f":"IF(Y18<='[2]1 Descrizione Progetto'!$C$15,\"Costruzione\",IF('[2]4 Costi e Ricavi'!Y18>'[2]1 Descrizione Progetto'!$C$18,\"\",\"Gestione\"))","v":""},{"$f":"IF(Z18<='[2]1 Descrizione Progetto'!$C$15,\"Costruzione\",IF('[2]4 Costi e Ricavi'!Z18>'[2]1 Descrizione Progetto'!$C$18,\"\",\"Gestione\"))","v":""},{"$f":"IF(AA18<='[2]1 Descrizione Progetto'!$C$15,\"Costruzione\",IF('[2]4 Costi e Ricavi'!AA18>'[2]1 Descrizione Progetto'!$C$18,\"\",\"Gestione\"))","v":""},{"$f":"IF(AB18<='[2]1 Descrizione Progetto'!$C$15,\"Costruzione\",IF('[2]4 Costi e Ricavi'!AB18>'[2]1 Descrizione Progetto'!$C$18,\"\",\"Gestione\"))","v":""},{"$f":"IF(AC18<='[2]1 Descrizione Progetto'!$C$15,\"Costruzione\",IF('[2]4 Costi e Ricavi'!AC18>'[2]1 Descrizione Progetto'!$C$18,\"\",\"Gestione\"))","v":""},{"$f":"IF(AD18<='[2]1 Descrizione Progetto'!$C$15,\"Costruzione\",IF('[2]4 Costi e Ricavi'!AD18>'[2]1 Descrizione Progetto'!$C$18,\"\",\"Gestione\"))","v":""},{"$f":"IF(AE18<='[2]1 Descrizione Progetto'!$C$15,\"Costruzione\",IF('[2]4 Costi e Ricavi'!AE18>'[2]1 Descrizione Progetto'!$C$18,\"\",\"Gestione\"))","v":""},{"$f":"IF(AF18<='[2]1 Descrizione Progetto'!$C$15,\"Costruzione\",IF('[2]4 Costi e Ricavi'!AF18>'[2]1 Descrizione Progetto'!$C$18,\"\",\"Gestione\"))","v":""},{"$f":"IF(AG18<='[2]1 Descrizione Progetto'!$C$15,\"Costruzione\",IF('[2]4 Costi e Ricavi'!AG18>'[2]1 Descrizione Progetto'!$C$18,\"\",\"Gestione\"))","v":""},{"$f":"IF(AH18<='[2]1 Descrizione Progetto'!$C$15,\"Costruzione\",IF('[2]4 Costi e Ricavi'!AH18>'[2]1 Descrizione Progetto'!$C$18,\"\",\"Gestione\"))","v":""},{"$f":"IF(AI18<='[2]1 Descrizione Progetto'!$C$15,\"Costruzione\",IF('[2]4 Costi e Ricavi'!AI18>'[2]1 Descrizione Progetto'!$C$18,\"\",\"Gestione\"))","v":""},{"$f":"IF(AJ18<='[2]1 Descrizione Progetto'!$C$15,\"Costruzione\",IF('[2]4 Costi e Ricavi'!AJ18>'[2]1 Descrizione Progetto'!$C$18,\"\",\"Gestione\"))","v":""},{"$f":"IF(AK18<='[2]1 Descrizione Progetto'!$C$15,\"Costruzione\",IF('[2]4 Costi e Ricavi'!AK18>'[2]1 Descrizione Progetto'!$C$18,\"\",\"Gestione\"))","v":""},{"$f":"IF(AL18<='[2]1 Descrizione Progetto'!$C$15,\"Costruzione\",IF('[2]4 Costi e Ricavi'!AL18>'[2]1 Descrizione Progetto'!$C$18,\"\",\"Gestione\"))","v":""},{"$f":"IF(AM18<='[2]1 Descrizione Progetto'!$C$15,\"Costruzione\",IF('[2]4 Costi e Ricavi'!AM18>'[2]1 Descrizione Progetto'!$C$18,\"\",\"Gestione\"))","v":""},{"$f":"IF(AN18<='[2]1 Descrizione Progetto'!$C$15,\"Costruzione\",IF('[2]4 Costi e Ricavi'!AN18>'[2]1 Descrizione Progetto'!$C$18,\"\",\"Gestione\"))","v":""},{"$f":"IF(AO18<='[2]1 Descrizione Progetto'!$C$15,\"Costruzione\",IF('[2]4 Costi e Ricavi'!AO18>'[2]1 Descrizione Progetto'!$C$18,\"\",\"Gestione\"))","v":""},{"$f":"IF(AP18<='[2]1 Descrizione Progetto'!$C$15,\"Costruzione\",IF('[2]4 Costi e Ricavi'!AP18>'[2]1 Descrizione Progetto'!$C$18,\"\",\"Gestione\"))","v":""},{"$f":"IF(AQ18<='[2]1 Descrizione Progetto'!$C$15,\"Costruzione\",IF('[2]4 Costi e Ricavi'!AQ18>'[2]1 Descrizione Progetto'!$C$18,\"\",\"Gestione\"))","v":""},{"$f":"IF(AR18<='[2]1 Descrizione Progetto'!$C$15,\"Costruzione\",IF('[2]4 Costi e Ricavi'!AR18>'[2]1 Descrizione Progetto'!$C$18,\"\",\"Gestione\"))","v":""},{"$f":"IF(AS18<='[2]1 Descrizione Progetto'!$C$15,\"Costruzione\",IF('[2]4 Costi e Ricavi'!AS18>'[2]1 Descrizione Progetto'!$C$18,\"\",\"Gestione\"))","v":""},{"$f":"IF(AT18<='[2]1 Descrizione Progetto'!$C$15,\"Costruzione\",IF('[2]4 Costi e Ricavi'!AT18>'[2]1 Descrizione Progetto'!$C$18,\"\",\"Gestione\"))","v":""},{"$f":"IF(AU18<='[2]1 Descrizione Progetto'!$C$15,\"Costruzione\",IF('[2]4 Costi e Ricavi'!AU18>'[2]1 Descrizione Progetto'!$C$18,\"\",\"Gestione\"))","v":""},{"$f":"IF(AV18<='[2]1 Descrizione Progetto'!$C$15,\"Costruzione\",IF('[2]4 Costi e Ricavi'!AV18>'[2]1 Descrizione Progetto'!$C$18,\"\",\"Gestione\"))","v":""},{"$f":"IF(AW18<='[2]1 Descrizione Progetto'!$C$15,\"Costruzione\",IF('[2]4 Costi e Ricavi'!AW18>'[2]1 Descrizione Progetto'!$C$18,\"\",\"Gestione\"))","v":""},{"$f":"IF(AX18<='[2]1 Descrizione Progetto'!$C$15,\"Costruzione\",IF('[2]4 Costi e Ricavi'!AX18>'[2]1 Descrizione Progetto'!$C$18,\"\",\"Gestione\"))","v":""},{"$f":"IF(AY18<='[2]1 Descrizione Progetto'!$C$15,\"Costruzione\",IF('[2]4 Costi e Ricavi'!AY18>'[2]1 Descrizione Progetto'!$C$18,\"\",\"Gestione\"))","v":""},{"$f":"IF(AZ18<='[2]1 Descrizione Progetto'!$C$15,\"Costruzione\",IF('[2]4 Costi e Ricavi'!AZ18>'[2]1 Descrizione Progetto'!$C$18,\"\",\"Gestione\"))","v":""},{"$f":"IF(BA18<='[2]1 Descrizione Progetto'!$C$15,\"Costruzione\",IF('[2]4 Costi e Ricavi'!BA18>'[2]1 Descrizione Progetto'!$C$18,\"\",\"Gestione\"))","v":""},{"$f":"IF(BB18<='[2]1 Descrizione Progetto'!$C$15,\"Costruzione\",IF('[2]4 Costi e Ricavi'!BB18>'[2]1 Descrizione Progetto'!$C$18,\"\",\"Gestione\"))","v":""},{"$f":"IF(BC18<='[2]1 Descrizione Progetto'!$C$15,\"Costruzione\",IF('[2]4 Costi e Ricavi'!BC18>'[2]1 Descrizione Progetto'!$C$18,\"\",\"Gestione\"))","v":""},{"$f":"IF(BD18<='[2]1 Descrizione Progetto'!$C$15,\"Costruzione\",IF('[2]4 Costi e Ricavi'!BD18>'[2]1 Descrizione Progetto'!$C$18,\"\",\"Gestione\"))","v":""},{"$f":"IF(BE18<='[2]1 Descrizione Progetto'!$C$15,\"Costruzione\",IF('[2]4 Costi e Ricavi'!BE18>'[2]1 Descrizione Progetto'!$C$18,\"\",\"Gestione\"))","v":""},{"$f":"IF(BF18<='[2]1 Descrizione Progetto'!$C$15,\"Costruzione\",IF('[2]4 Costi e Ricavi'!BF18>'[2]1 Descrizione Progetto'!$C$18,\"\",\"Gestione\"))","v":""},{"$f":"IF(BG18<='[2]1 Descrizione Progetto'!$C$15,\"Costruzione\",IF('[2]4 Costi e Ricavi'!BG18>'[2]1 Descrizione Progetto'!$C$18,\"\",\"Gestione\"))","v":""},{"$f":"IF(BH18<='[2]1 Descrizione Progetto'!$C$15,\"Costruzione\",IF('[2]4 Costi e Ricavi'!BH18>'[2]1 Descrizione Progetto'!$C$18,\"\",\"Gestione\"))","v":""},{"$f":"IF(BI18<='[2]1 Descrizione Progetto'!$C$15,\"Costruzione\",IF('[2]4 Costi e Ricavi'!BI18>'[2]1 Descrizione Progetto'!$C$18,\"\",\"Gestione\"))","v":""},{"$f":"IF(BJ18<='[2]1 Descrizione Progetto'!$C$15,\"Costruzione\",IF('[2]4 Costi e Ricavi'!BJ18>'[2]1 Descrizione Progetto'!$C$18,\"\",\"Gestione\"))","v":""},{"$f":"IF(BK18<='[2]1 Descrizione Progetto'!$C$15,\"Costruzione\",IF('[2]4 Costi e Ricavi'!BK18>'[2]1 Descrizione Progetto'!$C$18,\"\",\"Gestione\"))","v":""}]
[0,"Costi del personale ",0.35,{"$f":"SUM($F$15*$C20)","v":148671.94999999998},{"$f":"SUM(D20)","v":148671.94999999998},{"$f":"SUM(E20)","v":148671.94999999998},148671.94999999998,148671.94999999998,148671.94999999998,148671.94999999998,148671.94999999998,148671.94999999998,148671.94999999998,148671.94999999998,148671.94999999998,148671.94999999998,148671.94999999998,148671.94999999998,{"$f":"SUM('[2]Dettaglio Costi Ricavi'!T12)","v":0},{"$f":"SUM('[2]Dettaglio Costi Ricavi'!U12)","v":0},{"$f":"SUM('[2]Dettaglio Costi Ricavi'!V12)","v":0},{"$f":"SUM('[2]Dettaglio Costi Ricavi'!W12)","v":0},{"$f":"SUM('[2]Dettaglio Costi Ricavi'!X12)","v":0},{"$f":"SUM('[2]Dettaglio Costi Ricavi'!Y12)","v":0},{"$f":"SUM('[2]Dettaglio Costi Ricavi'!Z12)","v":0},{"$f":"SUM('[2]Dettaglio Costi Ricavi'!AA12)","v":0},{"$f":"SUM('[2]Dettaglio Costi Ricavi'!AB12)","v":0},{"$f":"SUM('[2]Dettaglio Costi Ricavi'!AC12)","v":0},{"$f":"SUM('[2]Dettaglio Costi Ricavi'!AD12)","v":0},{"$f":"SUM('[2]Dettaglio Costi Ricavi'!AE12)","v":0},{"$f":"SUM('[2]Dettaglio Costi Ricavi'!AF12)","v":0},{"$f":"SUM('[2]Dettaglio Costi Ricavi'!AG12)","v":0},{"$f":"SUM('[2]Dettaglio Costi Ricavi'!AH12)","v":0},{"$f":"SUM('[2]Dettaglio Costi Ricavi'!AI12)","v":0},{"$f":"SUM('[2]Dettaglio Costi Ricavi'!AJ12)","v":0},{"$f":"SUM('[2]Dettaglio Costi Ricavi'!AK12)","v":0},{"$f":"SUM('[2]Dettaglio Costi Ricavi'!AL12)","v":0},{"$f":"SUM('[2]Dettaglio Costi Ricavi'!AM12)","v":0}]
[0.22,"Manutenzioni",3.7999999999999999E-2,{"$f":"SUM($F$15*C21)","v":16141.526},{"$f":"SUM(D21)","v":16141.526},{"$f":"SUM(E21)","v":16141.526},16141.526,16141.526,16141.526,16141.526,16141.526,16141.526,16141.526,16141.526,16141.526,16141.526,16141.526,16141.526,{"$f":"SUM('[2]Dettaglio Costi Ricavi'!T8)","v":0},{"$f":"SUM('[2]Dettaglio Costi Ricavi'!U8)","v":0},{"$f":"SUM('[2]Dettaglio Costi Ricavi'!V8)","v":0},{"$f":"SUM('[2]Dettaglio Costi Ricavi'!W8)","v":0},{"$f":"SUM('[2]Dettaglio Costi Ricavi'!X8)","v":0},{"$f":"SUM('[2]Dettaglio Costi Ricavi'!Y8)","v":0},{"$f":"SUM('[2]Dettaglio Costi Ricavi'!Z8)","v":0},{"$f":"SUM('[2]Dettaglio Costi Ricavi'!AA8)","v":0},{"$f":"SUM('[2]Dettaglio Costi Ricavi'!AB8)","v":0},{"$f":"SUM('[2]Dettaglio Costi Ricavi'!AC8)","v":0},{"$f":"SUM('[2]Dettaglio Costi Ricavi'!AD8)","v":0},{"$f":"SUM('[2]Dettaglio Costi Ricavi'!AE8)","v":0},{"$f":"SUM('[2]Dettaglio Costi Ricavi'!AF8)","v":0},{"$f":"SUM('[2]Dettaglio Costi Ricavi'!AG8)","v":0},{"$f":"SUM('[2]Dettaglio Costi Ricavi'!AH8)","v":0},{"$f":"SUM('[2]Dettaglio Costi Ricavi'!AI8)","v":0},{"$f":"SUM('[2]Dettaglio Costi Ricavi'!AJ8)","v":0},{"$f":"SUM('[2]Dettaglio Costi Ricavi'!AK8)","v":0},{"$f":"SUM('[2]Dettaglio Costi Ricavi'!AL8)","v":0},{"$f":"SUM('[2]Dettaglio Costi Ricavi'!AM8)","v":0}]
[0.22,"Acquisti Bar",0.48,{"$f":"SUM(D7*$C$22)","v":11808},14160,17616,17616,17616,17616,17616,0,0,0,0,0,0,0,0]
[0.22,"Utenze",0.25,{"$f":"SUM($F$15*C23)","v":106194.25},{"$f":"SUM(D23)","v":106194.25},{"$f":"SUM(E23)","v":106194.25},106194.25,106194.25,106194.25,106194.25,106194.25,106194.25,106194.25,106194.25,106194.25,106194.25,106194.25,106194.25,{"$f":"SUM('[2]Dettaglio Costi Ricavi'!T9)","v":0},{"$f":"SUM('[2]Dettaglio Costi Ricavi'!U9)","v":0},{"$f":"SUM('[2]Dettaglio Costi Ricavi'!V9)","v":0},{"$f":"SUM('[2]Dettaglio Costi Ricavi'!W9)","v":0},{"$f":"SUM('[2]Dettaglio Costi Ricavi'!X9)","v":0},{"$f":"SUM('[2]Dettaglio Costi Ricavi'!Y9)","v":0},{"$f":"SUM('[2]Dettaglio Costi Ricavi'!Z9)","v":0},{"$f":"SUM('[2]Dettaglio Costi Ricavi'!AA9)","v":0},{"$f":"SUM('[2]Dettaglio Costi Ricavi'!AB9)","v":0},{"$f":"SUM('[2]Dettaglio Costi Ricavi'!AC9)","v":0},{"$f":"SUM('[2]Dettaglio Costi Ricavi'!AD9)","v":0},{"$f":"SUM('[2]Dettaglio Costi Ricavi'!AE9)","v":0},{"$f":"SUM('[2]Dettaglio Costi Ricavi'!AF9)","v":0},{"$f":"SUM('[2]Dettaglio Costi Ricavi'!AG9)","v":0},{"$f":"SUM('[2]Dettaglio Costi Ricavi'!AH9)","v":0},{"$f":"SUM('[2]Dettaglio Costi Ricavi'!AI9)","v":0},{"$f":"SUM('[2]Dettaglio Costi Ricavi'!AJ9)","v":0},{"$f":"SUM('[2]Dettaglio Costi Ricavi'!AK9)","v":0},{"$f":"SUM('[2]Dettaglio Costi Ricavi'!AL9)","v":0},{"$f":"SUM('[2]Dettaglio Costi Ricavi'!AM9)","v":0}]
[0.22,"Acquisizione Servizi",0.12,50973.24,50973.24,{"$f":"SUM(E24)","v":50973.24},50973.24,50973.24,50973.24,50973.24,50973.24,50973.24,50973.24,50973.24,50973.24,50973.24,50973.24,50973.24,{"$f":"SUM('[2]Dettaglio Costi Ricavi'!T10)","v":0},{"$f":"SUM('[2]Dettaglio Costi Ricavi'!U10)","v":0},{"$f":"SUM('[2]Dettaglio Costi Ricavi'!V10)","v":0},{"$f":"SUM('[2]Dettaglio Costi Ricavi'!W10)","v":0},{"$f":"SUM('[2]Dettaglio Costi Ricavi'!X10)","v":0},{"$f":"SUM('[2]Dettaglio Costi Ricavi'!Y10)","v":0},{"$f":"SUM('[2]Dettaglio Costi Ricavi'!Z10)","v":0},{"$f":"SUM('[2]Dettaglio Costi Ricavi'!AA10)","v":0},{"$f":"SUM('[2]Dettaglio Costi Ricavi'!AB10)","v":0},{"$f":"SUM('[2]Dettaglio Costi Ricavi'!AC10)","v":0},{"$f":"SUM('[2]Dettaglio Costi Ricavi'!AD10)","v":0},{"$f":"SUM('[2]Dettaglio Costi Ricavi'!AE10)","v":0},{"$f":"SUM('[2]Dettaglio Costi Ricavi'!AF10)","v":0},{"$f":"SUM('[2]Dettaglio Costi Ricavi'!AG10)","v":0},{"$f":"SUM('[2]Dettaglio Costi Ricavi'!AH10)","v":0},{"$f":"SUM('[2]Dettaglio Costi Ricavi'!AI10)","v":0},{"$f":"SUM('[2]Dettaglio Costi Ricavi'!AJ10)","v":0},{"$f":"SUM('[2]Dettaglio Costi Ricavi'!AK10)","v":0},{"$f":"SUM('[2]Dettaglio Costi Ricavi'!AL10)","v":0},{"$f":"SUM('[2]Dettaglio Costi Ricavi'!AM10)","v":0}]
[0.22,"Costi Amministrativi",2.5000000000000001E-2,10619.425000000001,10619.425000000001,10619.425000000001,10619.425000000001,10619.425000000001,10619.425000000001,10619.425000000001,10619.425000000001,10619.425000000001,10619.425000000001,10619.425000000001,10619.425000000001,10619.425000000001,10619.425000000001,10619.425000000001,{"$f":"SUM('[2]Dettaglio Costi Ricavi'!T14)","v":0},{"$f":"SUM('[2]Dettaglio Costi Ricavi'!U14)","v":0},{"$f":"SUM('[2]Dettaglio Costi Ricavi'!V14)","v":0},{"$f":"SUM('[2]Dettaglio Costi Ricavi'!W14)","v":0},{"$f":"SUM('[2]Dettaglio Costi Ricavi'!X14)","v":0},{"$f":"SUM('[2]Dettaglio Costi Ricavi'!Y14)","v":0},{"$f":"SUM('[2]Dettaglio Costi Ricavi'!Z14)","v":0},{"$f":"SUM('[2]Dettaglio Costi Ricavi'!AA14)","v":0},{"$f":"SUM('[2]Dettaglio Costi Ricavi'!AB14)","v":0},{"$f":"SUM('[2]Dettaglio Costi Ricavi'!AC14)","v":0},{"$f":"SUM('[2]Dettaglio Costi Ricavi'!AD14)","v":0},{"$f":"SUM('[2]Dettaglio Costi Ricavi'!AE14)","v":0},{"$f":"SUM('[2]Dettaglio Costi Ricavi'!AF14)","v":0},{"$f":"SUM('[2]Dettaglio Costi Ricavi'!AG14)","v":0},{"$f":"SUM('[2]Dettaglio Costi Ricavi'!AH14)","v":0},{"$f":"SUM('[2]Dettaglio Costi Ricavi'!AI14)","v":0},{"$f":"SUM('[2]Dettaglio Costi Ricavi'!AJ14)","v":0},{"$f":"SUM('[2]Dettaglio Costi Ricavi'!AK14)","v":0},{"$f":"SUM('[2]Dettaglio Costi Ricavi'!AL14)","v":0},{"$f":"SUM('[2]Dettaglio Costi Ricavi'!AM14)","v":0},0]
[0.22,"Oneri Diversi",0.05,21238.850000000002,21238.850000000002,{"$f":"SUM(E26)","v":21238.850000000002},21238.850000000002,21238.850000000002,21238.850000000002,21238.850000000002,21238.850000000002,21238.850000000002,21238.850000000002,21238.850000000002,21238.850000000002,21238.850000000002,21238.850000000002,21238.850000000002,0,{"$f":"S26","v":0},0,0,0,0,0,0,0,0,0,0,0,0,0,0,0,{"$f":"AI26","v":0},0,0,0]
[0.22,"Oneri Sicurezza",7.0000000000000001E-3,2973.4389999999999,2973.4389999999999,{"$f":"SUM(E27)","v":2973.4389999999999},2973.4389999999999,2973.4389999999999,2973.4389999999999,2973.4389999999999,2973.4389999999999,2973.4389999999999,2973.4389999999999,2973.4389999999999,2973.4389999999999,2973.4389999999999,2973.4389999999999,2973.4389999999999,0,0,0,0,0,0,0,0,0,0,0,0,0,0,0,0,0,0,0,0,0]
[0.22,"Canone Concessione",null,6000,6000,6000,{"$f":"F28","v":6000},6000,6000,6000,6000,6000,6000,6000,6000,6000,6000,6000,0,0,0,0,0,0,0,0,0,0,0,0,0,0,0,0,0,0,0,0,0]
[0.22,"cc",null,0,null,null,0,0,0,0,0,0,0,0,0,0,0,0,0,0,0,0,0,0,0,0,0,0,0,0,0,0,0,0,0,0,0,0,0]
[0.22,"dd",null,0]
[null,"Totale Costi di Gestione",null,{"$f":"SUM(D20:D29)","v":374620.68},376972.68,380428.68,380428.68,380428.68,380428.68,380428.68,362812.68,362812.68,362812.68,362812.68,362812.68,362812.68,362812.68,362812.68,0,0,0,0,0,0,0,0,0,0,0,0,0,0,0,0,0,{"$f":"SUM(AJ20:AJ29)","v":0},0,0,0,0,0,0,0,0,0,0,0,0,0,0,0,0,0,0,0,0,0,0,0,0,0,0,0]

{"sheet":"3 Costi-Ricavi","index":6,"n_rows":38,"n_cols":66,"rows_kept":38,"cut":false,"hidden":false,"merged":[[2,1,3,1],[18,13,19,17],[18,18,19,22],[18,23,19,27],[20,1,21,1],[2,2,3,2],[20,2,21,2],[18,1,19,1],[18,53,19,57],[18,58,19,62],[18,28,19,32],[18,33,19,37],[0,3,1,12],[18,3,19,12],[0,58,1,62],[0,33,1,37],[0,38,1,42],[0,43,1,47],[0,48,1,52],[0,53,1,57],[18,38,19,42],[18,43,19,47],[18,48,19,52],[0,1,1,1],[0,13,1,17],[0,18,1,22],[0,23,1,27],[0,28,1,32]]}
[null,3,{"$f":"'2 Descrizione Progetto'!C3","v":"Comune di Guardiagrele"},"Specifica dei Ricavi - importi non rivalutati ",null,null,null,null,null,null,null,null,null,{"$f":"D1","v":"Specifica dei Ricavi - importi non rivalutati "},null,null,null,null,{"$f":"N1","v":"Specifica dei Ricavi - importi non rivalutati "},null,null,null,null,{"$f":"S1","v":"Specifica dei Ricavi - importi non rivalutati "},null,null,null,null,{"$f":"X1","v":"Specifica dei Ricavi - importi non rivalutati "},null,null,null,null,{"$f":"AC1","v":"Specifica dei Ricavi - importi non rivalutati "},null,null,null,null,{"$f":"AH1","v":"Specifica dei Ricavi - importi non rivalutati "},null,null,null,null,{"$f":"AM1","v":"Specifica dei Ricavi - importi non rivalutati "},null,null,null,null,{"$f":"AR1","v":"Specifica dei Ricavi - importi non rivalutati "},null,null,null,null,{"$f":"AW1","v":"Specifica dei Ricavi - importi non rivalutati "},null,null,null,null,{"$f":"BB1","v":"Specifica dei Ricavi - importi non rivalutati "}]
[null,null,{"$f":"'2 Descrizione Progetto'!C4","v":"Concessione per l'affidamento dei lavori di efficientamento energetico della piscina comunale e del successivo servizio di gestione dell'impianto natatorio "}]
[null,"IVA%","RICAVI ",{"$f":"'2 Descrizione Progetto'!D20","v":1},{"$f":"D3+1","v":2},3,4,5,6,7,8,9,10,11,12,13,14,15,16,17,18,19,20,21,22,23,24,25,26,27,28,29,30,31,32,33,34,35,36,37,38,39,40,41,42,43,44,45,46,47,48,49,50,51,52,53,54,55,56,57,58,59,60]
[null,null,null,null,null,null," "]
[null,0,"Ricavi Istituzionali",{"$f":"SUM('Base Costi Ricavi'!D5)","v":265400},{"$f":"SUM('Base Costi Ricavi'!E5)","v":285300},{"$f":"SUM('Base Costi Ricavi'!F5)","v":308481},{"$f":"SUM(F5)","v":308481},{"$f":"SUM(G5)","v":308481},{"$f":"SUM(H5)","v":308481},{"$f":"SUM(I5)","v":308481},{"$f":"J5","v":308481},308481,308481,0,0,0,0,0,0,0,0,0,0,0,0,0,0,0,0,0,0,0,0,0,0,0,0,0,0,0,0,0,0,0,0,0,0,0,0,0,0,0,0,0,0,0,0,0,0,0,0,0,0,{"$f":"SUM(D5:BK5)","v":3018548}]
[null,0.22,"Ricavi Commerciali",{"$f":"SUM('Base Costi Ricavi'!D6)","v":55250},{"$f":"SUM('Base Costi Ricavi'!E6)","v":64300},{"$f":"SUM('Base Costi Ricavi'!F6)","v":77096},{"$f":"SUM(F6)","v":77096},77096,{"$f":"SUM(H6)","v":77096},77096,{"$f":"J6","v":77096},77096,77096,0,0,0,0,0,0,0,0,0,0,0,0,0,0,0,0,0,0,0,0,0,0,0,0,0,0,0,0,0,0,0,0,0,0,0,0,0,0,0,0,0,0,0,0,0,0,0,0,0,0,736318]
[null,0.22,"Ricavi Bar",{"$f":"SUM('Base Costi Ricavi'!D7)","v":24600},{"$f":"SUM('Base Costi Ricavi'!E7)","v":29500},{"$f":"SUM('Base Costi Ricavi'!F7)","v":36700},36700,36700,36700,36700,{"$f":"J7","v":36700},36700,36700,0,0,0,0,0,0,0,0,0,0,0,0,0,0,0,0,0,0,0,0,0,0,0,0,0,0,0,0,0,0,0,0,0,0,0,0,0,0,0,0,0,0,0,0,0,0,0,0,0,0,347700]
[null,0.22,"Proventi diversi/pubblicità",{"$f":"SUM('Base Costi Ricavi'!D8)","v":0},{"$f":"SUM('Base Costi Ricavi'!E8)","v":2500},{"$f":"SUM('Base Costi Ricavi'!F8)","v":2500},2500,2500,2500,2500,{"$f":"J8","v":2500},2500,2500,0,0,0,0,0,0,0,0,0,0,0,0,0,0,0,0,0,0,0,0,0,0,0,0,0,0,0,0,0,0,0,0,0,0,0,0,0,0,0,0,0,0,0,0,0,0,0,0,0,0,22500]
[null,0.22,"b",0,0,0,0,0,0,0,{"$f":"J9","v":0},0,0,0,0,0,0,0,0,0,0,0,0,0,0,0,0,0,0,0,0,0,0,0,0,0,0,0,0,0,0,0,0,0,0,0,0,0,0,0,0,0,0,0,0,0,0,0,0,0,0,0,0,0]
[null,0.22,"c",0,0,0,0,0,0,0,{"$f":"J10","v":0},0,0,0,0,0,0,0,0,0,0,0,0,0,0,0,0,0,0,0,0,0,0,0,0,0,0,0,0,0,0,0,0,0,0,0,0,0,0,0,0,0,0,0,0,0,0,0,0,0,0,0,0,0]
[null,0.22,"d",0,0,0,0,0,0,0,{"$f":"J11","v":0},0,0,0,0,0,0,0,0,0,0,0,0,0,0,0,0,0,0,0,0,0,0,0,0,0,0,0,0,0,0,0,0,0,0,0,0,0,0,0,0,0,0,0,0,0,0,0,0,0,0,0,0,0]
[null,0.22,"e",0,{"$f":"D12","v":0},0,0,0,0,0,0,0,0,0,0,0,0,0,0,0,0,0,0,0,0,0,0,0,0,0,0,0,0,0,0,0,0,0,0,0,0,0,0,0,0,0,0,0,0,0,0,0,0,0,0,0,0,0,0,0,0,0,0,0]
[null,0.22,"f",0,{"$f":"D13","v":0},0,0,0,0,0,0,0,0,0,0,0,0,0,0,0,0,0,0,0,0,0,0,0,0,0,0,0,0,0,0,0,0,0,0,0,0,0,0,0,0,0,0,0,0,0,0,0,0,0,0,0,0,0,0,0,0,0,0,0]
[null,0.22,"g",0,{"$f":"D14","v":0},0,0,0,0,0,0,0,0,0,0,0,0,0,0,0,0,0,0,0,0,0,0,0,0,0,0,0,0,0,0,0,0,0,0,0,0,0,0,0,0,0,0,0,0,0,0,0,0,0,0,0,0,0,0,0,0,0,0,0]
[null,null,"Totale Ricavi di Gestione",{"$f":"SUM(D5:D14)","v":345250},381600,424777,424777,424777,424777,424777,424777,424777,424777,0,0,0,0,0,0,0,0,0,0,0,0,0,0,0,0,0,0,0,0,0,0,{"$f":"SUM(AJ5:AJ14)","v":0},0,0,0,0,0,0,0,0,0,0,0,0,0,0,0,0,0,0,0,0,0,0,0,0,0,0,0,4125066]
[null," ","IVA Media sui Ricavi",{"$f":"D5*$B$5/D15+D6*$B$6/D15+D7*$B$7/D15+D8*$B$8/D15+D9*$B$9/D15+D10*$B$10/D15+D11*$B$11/D15+D12*$B$12/D15+D13*$B$13/D15+D14*$B$14/D15","v":5.0881969587255611E-2},{"$f":"E5*$B$5/E15+E6*$B$6/E15+E7*$B$7/E15+E8*$B$8/E15+E9*$B$9/E15+E10*$B$10/E15+E11*$B$11/E15+E12*$B$12/E15+E13*$B$13/E15+E14*$B$14/E15","v":5.5518867924528301E-2},{"$f":"F5*$B$5/F15+F6*$B$6/F15+F7*$B$7/F15+F8*$B$8/F15+F9*$B$9/F15+F10*$B$10/F15+F11*$B$11/F15+F12*$B$12/F15+F13*$B$13/F15+F14*$B$14/F15","v":6.023188637802894E-2},{"$f":"G5*$B$5/G15+G6*$B$6/G15+G7*$B$7/G15+G8*$B$8/G15+G9*$B$9/G15+G10*$B$10/G15+G11*$B$11/G15+G12*$B$12/G15+G13*$B$13/G15+G14*$B$14/G15","v":6.023188637802894E-2},{"$f":"H5*$B$5/H15+H6*$B$6/H15+H7*$B$7/H15+H8*$B$8/H15+H9*$B$9/H15+H10*$B$10/H15+H11*$B$11/H15+H12*$B$12/H15+H13*$B$13/H15+H14*$B$14/H15","v":6.023188637802894E-2},{"$f":"I5*$B$5/I15+I6*$B$6/I15+I7*$B$7/I15+I8*$B$8/I15+I9*$B$9/I15+I10*$B$10/I15+I11*$B$11/I15+I12*$B$12/I15+I13*$B$13/I15+I14*$B$14/I15","v":6.023188637802894E-2},6.023188637802894E-2,6.023188637802894E-2,6.023188637802894E-2,6.023188637802894E-2,{"$error":"#DIV/0!"},{"$error":"#DIV/0!"},{"$error":"#DIV/0!"},{"$error":"#DIV/0!"},{"$error":"#DIV/0!"},{"$error":"#DIV/0!"},{"$error":"#DIV/0!"},{"$error":"#DIV/0!"},{"$error":"#DIV/0!"},{"$error":"#DIV/0!"},{"$error":"#DIV/0!"},{"$error":"#DIV/0!"},{"$error":"#DIV/0!"},{"$error":"#DIV/0!"},{"$error":"#DIV/0!"},{"$error":"#DIV/0!"},{"$error":"#DIV/0!"},{"$error":"#DIV/0!"},{"$error":"#DIV/0!"},{"$error":"#DIV/0!"},{"$error":"#DIV/0!"},{"$error":"#DIV/0!"},{"$error":"#DIV/0!"},{"$error":"#DIV/0!"},{"$error":"#DIV/0!"},{"$error":"#DIV/0!"},{"$error":"#DIV/0!"},{"$error":"#DIV/0!"},{"$error":"#DIV/0!"},{"$error":"#DIV/0!"},{"$error":"#DIV/0!"},{"$error":"#DIV/0!"},{"$error":"#DIV/0!"},{"$error":"#DIV/0!"},{"$error":"#DIV/0!"},{"$error":"#DIV/0!"},{"$error":"#DIV/0!"},{"$error":"#DIV/0!"},{"$error":"#DIV/0!"},{"$error":"#DIV/0!"},{"$error":"#DIV/0!"},{"$error":"#DIV/0!"},{"$error":"#DIV/0!"},{"$error":"#DIV/0!"},{"$error":"#DIV/0!"},{"$error":"#DIV/0!"},{"$error":"#DIV/0!"},{"$error":"#DIV/0!"},{"$error":"#DIV/0!"},{"$error":"#DIV/0!"}]
[null,0,"DISINVESTIMENTI O ALTRI RICAVI NON CARATTERISTICI",0,0,0,0,0,0,0,0,0,0,0,0,0,0,0,0,0,0,0,0,0,0,0,0,0,0,0,0,0,0,0,0,0,0,0,0,0,0,0,0,0,0,0,0,0,0,0,0,0,0,0,0,0,0,0,0,0,0,0,0,{"$f":"SUM(D17:BK17)","v":0}]
[]
[null,3,{"$f":"C1","v":"Comune di Guardiagrele"},"Specifica dei Costi - importi non rivalutati - ",null,null,null,null,null,null,null,null,null,{"$f":"D19","v":"Specifica dei Costi - importi non rivalutati - "},null,null,null,null,{"$f":"N19","v":"Specifica dei Costi - importi non rivalutati - "},null,null,null,null,{"$f":"S19","v":"Specifica dei Costi - importi non rivalutati - "},null,null,null,null,{"$f":"X19","v":"Specifica dei Costi - importi non rivalutati - "},null,null,null,null,{"$f":"AC19","v":"Specifica dei Costi - importi non rivalutati - "},null,null,null,null,{"$f":"AH19","v":"Specifica dei Costi - importi non rivalutati - "},null,null,null,null,{"$f":"AM19","v":"Specifica dei Costi - importi non rivalutati - "},null,null,null,null,{"$f":"AR19","v":"Specifica dei Costi - importi non rivalutati - "},null,null,null,null,{"$f":"AW19","v":"Specifica dei Costi - importi non rivalutati - "},null,null,null,null,{"$f":"BB19","v":"Specifica dei Costi - importi non rivalutati - "}]
[null,null,{"$f":"C2","v":"Concessione per l'affidamento dei lavori di efficientamento energetico della piscina comunale e del successivo servizio di gestione dell'impianto natatorio "}]
[null,"IVA%","COSTI ",{"$f":"D3","v":1},2,3,4,5,6,7,8,9,10,11,12,13,14,15,16,17,18,19,20,21,22,23,24,25,26,27,28,29,30,31,32,{"$f":"AJ3","v":33},34,35,36,37,38,39,40,41,42,43,44,45,46,47,48,49,50,51,52,53,54,55,56,57,58,59,60]
[null,null,null,null,null,null," ",null,null,null,null," ",null,null,null,null," ",null,null,null,null," ",null,null,null,null," ",null,null,null,null," ",null,null,null,null," ",null,null,null,null," ",null,null,null,null," ",null,null,null,null," ",null,null,null,null," ",null,null,null,null," "]
[null,0,"Costi del personale ",{"$f":"SUM('Base Costi Ricavi'!D20)","v":148671.94999999998},{"$f":"SUM('Base Costi Ricavi'!E20)","v":148671.94999999998},{"$f":"SUM('Base Costi Ricavi'!F20)","v":148671.94999999998},{"$f":"F23","v":148671.94999999998},148671.94999999998,{"$f":"SUM(H23)","v":148671.94999999998},{"$f":"SUM(I23)","v":148671.94999999998},{"$f":"J23","v":148671.94999999998},148671.94999999998,148671.94999999998,0,0,0,0,0,0,0,0,0,0,0,0,0,0,0,0,0,0,0,0,0,0,0,0,0,0,0,0,0,0,0,0,0,0,0,0,0,0,0,0,0,0,0,0,0,0,0,0,0,0,{"$f":"SUM(D23:BK23)","v":1486719.4999999998},{"$f":"SUM(D23/$D$34)","v":0.39685996512525679},{"$f":"SUM(BL23/$BL$34)","v":0.3917550903778495}]
[null,0.22,"Manutenzioni",{"$f":"SUM('Base Costi Ricavi'!D21)","v":16141.526},{"$f":"SUM('Base Costi Ricavi'!E21)","v":16141.526},{"$f":"SUM('Base Costi Ricavi'!F21)","v":16141.526},{"$f":"F24","v":16141.526},16141.526,{"$f":"SUM(H24)","v":16141.526},16141.526,{"$f":"J24","v":16141.526},16141.526,16141.526,0,0,0,0,0,0,0,0,0,0,0,0,0,0,0,0,0,0,0,0,0,0,0,0,0,0,0,0,0,0,0,0,0,0,0,0,0,0,0,0,0,0,0,0,0,0,0,0,0,0,161415.26,{"$f":"SUM(D24/$D$34)","v":4.3087653356456458E-2},{"$f":"SUM(BL24/$BL$34)","v":4.2533409812452239E-2}]
[null,0.22,"Acquisti Bar",{"$f":"SUM('Base Costi Ricavi'!D22)","v":11808},{"$f":"SUM('Base Costi Ricavi'!E22)","v":14160},{"$f":"SUM('Base Costi Ricavi'!F22)","v":17616},{"$f":"F25","v":17616},17616,17616,17616,{"$f":"J25","v":17616},17616,17616,0,0,0,0,0,0,0,0,0,0,0,0,0,0,0,0,0,0,0,0,0,0,0,0,0,0,0,0,0,0,0,0,0,0,0,0,0,0,0,0,0,0,0,0,0,0,0,0,0,0,166896,3.1519882992044113E-2,4.3977601399390796E-2]
[null,0.22,"Utenze",{"$f":"SUM('Base Costi Ricavi'!D23)","v":106194.25},{"$f":"SUM('Base Costi Ricavi'!E23)","v":106194.25},{"$f":"SUM('Base Costi Ricavi'!F23)","v":106194.25},{"$f":"F26","v":106194.25},106194.25,106194.25,106194.25,{"$f":"J26","v":106194.25},106194.25,106194.25,0,0,0,0,0,0,0,0,0,0,0,0,0,0,0,0,0,0,0,0,0,0,0,0,0,0,0,0,0,0,0,0,0,0,0,0,0,0,0,0,0,0,0,0,0,0,0,0,0,0,1061942.5,0.28347140366089774,0.27982506455560685]
[null,0.22,"Acquisizione Servizi",{"$f":"SUM('Base Costi Ricavi'!D24)","v":50973.24},{"$f":"SUM('Base Costi Ricavi'!E24)","v":50973.24},{"$f":"SUM('Base Costi Ricavi'!F24)","v":50973.24},{"$f":"F27","v":50973.24},50973.24,50973.24,50973.24,{"$f":"J27","v":50973.24},50973.24,50973.24,0,0,0,0,0,0,0,0,0,0,0,0,0,0,0,0,0,0,0,0,0,0,0,0,0,0,0,0,0,0,0,0,0,0,0,0,0,0,0,0,0,0,0,0,0,0,0,0,0,0,509732.39999999997,0.1360662737572309,0.13431603098669126]
[null,0.22,"Costi Amministrativi",{"$f":"SUM('Base Costi Ricavi'!D25)","v":10619.425000000001},{"$f":"SUM('Base Costi Ricavi'!E25)","v":10619.425000000001},{"$f":"SUM('Base Costi Ricavi'!F25)","v":10619.425000000001},{"$f":"F28","v":10619.425000000001},10619.425000000001,10619.425000000001,10619.425000000001,{"$f":"J28","v":10619.425000000001},10619.425000000001,10619.425000000001,0,0,0,0,0,0,0,0,0,0,0,0,0,0,0,0,0,0,0,0,0,0,0,0,0,0,0,0,0,0,0,0,0,0,0,0,0,0,0,0,0,0,0,0,0,0,0,0,0,0,106194.25000000001,2.8347140366089776E-2,2.7982506455560687E-2]
[null,0.22,"Oneri Diversi",{"$f":"SUM('Base Costi Ricavi'!D26)","v":21238.850000000002},{"$f":"SUM('Base Costi Ricavi'!E26)","v":21238.850000000002},{"$f":"SUM('Base Costi Ricavi'!F26)","v":21238.850000000002},{"$f":"F29","v":21238.850000000002},21238.850000000002,21238.850000000002,21238.850000000002,{"$f":"J29","v":21238.850000000002},21238.850000000002,21238.850000000002,0,0,0,0,0,0,0,0,0,0,0,0,0,0,0,0,0,0,0,0,0,0,0,0,0,0,0,0,0,0,0,0,0,0,0,0,0,0,0,0,0,0,0,0,0,0,0,0,0,0,212388.50000000003,5.6694280732179553E-2,5.5965012911121374E-2]
[null,0.22,"Oneri Sicurezza",{"$f":"SUM('Base Costi Ricavi'!D27)","v":2973.4389999999999},{"$f":"SUM('Base Costi Ricavi'!E27)","v":2973.4389999999999},{"$f":"SUM('Base Costi Ricavi'!F27)","v":2973.4389999999999},{"$f":"F30","v":2973.4389999999999},2973.4389999999999,2973.4389999999999,2973.4389999999999,{"$f":"J30","v":2973.4389999999999},2973.4389999999999,2973.4389999999999,0,0,0,0,0,0,0,0,0,0,0,0,0,0,0,0,0,0,0,0,0,0,0,0,0,0,0,0,0,0,0,0,0,0,0,0,0,0,0,0,0,0,0,0,0,0,0,0,0,0,29734.389999999992,7.9371993025051362E-3,7.8351018075569889E-3]
[null,0.22,"Canone di Concessione ",{"$f":"SUM('Base Costi Ricavi'!D28)","v":6000},{"$f":"SUM('Base Costi Ricavi'!E28)","v":6000},{"$f":"SUM('Base Costi Ricavi'!F28)","v":6000},6000,6000,6000,6000,{"$f":"J31","v":6000},6000,6000,0,0,0,0,0,0,0,0,0,0,0,0,0,0,0,0,0,0,0,0,0,0,0,0,0,0,0,0,0,0,0,0,0,0,0,0,0,0,0,0,0,0,0,0,0,0,0,0,0,0,60000,1.6016200707339487E-2,1.5810181693770058E-2]
[null,0.22,"ee",{"$f":"SUM('Base Costi Ricavi'!D29)","v":0},{"$f":"SUM('Base Costi Ricavi'!E29)","v":0},{"$f":"SUM('Base Costi Ricavi'!F29)","v":0},0,0,0,0,{"$f":"J32","v":0},0,0,0,0,0,0,0,0,0,0,0,0,0,0,0,0,0,0,0,0,0,0,0,0,0,0,0,0,0,0,0,0,0,0,0,0,0,0,0,0,0,0,0,0,0,0,0,0,0,0,0,0,0,0,0]
[null,0.22,"ff",{"$f":"SUM('Base Costi Ricavi'!D30)","v":0},{"$f":"SUM('Base Costi Ricavi'!E30)","v":0},{"$f":"SUM('Base Costi Ricavi'!F30)","v":0},0,0,0,0,{"$f":"J33","v":0},0,0,0,0,0,0,0,0,0,0,0,0,0,0,0,0,0,0,0,0,0,0,0,0,0,0,0,0,0,0,0,0,0,0,0,0,0,0,0,0,0,0,0,0,0,0,0,0,0,0,0,0,0,0,0]
[null,null,"Totale Costi di Gestione",{"$f":"SUM(D23:D33)","v":374620.68},376972.68,380428.68,380428.68,380428.68,380428.68,380428.68,380428.68,380428.68,380428.68,0,0,0,0,0,0,0,0,0,0,0,0,0,0,0,0,0,0,0,0,0,0,0,0,0,0,0,0,0,0,0,0,0,0,0,0,0,0,0,0,0,0,0,0,0,0,0,0,0,0,3795022.8000000007,null,1]
[null," ","IVA Media sui Costi - al netto del Costo Personale",{"$f":"D24*$B$24/(D34-D23)+D25*$B$25/(D34-D23)+D26*$B$26/(D34-D23)+D27*$B$27/(D34-D23)+D28*$B$28/(D34-D23)+D29*$B$29/(D34-D23)+D30*$B$30/(D34-D23)+D31*$B$31/(D34-D23)+D32*$B$32/(D34-D23)+D33*$B$33/(D34-D23)","v":0.22},0.21999999999999997,0.22,0.22,0.22,0.22,0.22,0.22,0.22,0.22,{"$error":"#DIV/0!"},{"$error":"#DIV/0!"},{"$error":"#DIV/0!"},{"$error":"#DIV/0!"},{"$error":"#DIV/0!"},{"$error":"#DIV/0!"},{"$error":"#DIV/0!"},{"$error":"#DIV/0!"},{"$error":"#DIV/0!"},{"$error":"#DIV/0!"},{"$error":"#DIV/0!"},{"$error":"#DIV/0!"},{"$error":"#DIV/0!"},{"$error":"#DIV/0!"},{"$error":"#DIV/0!"},{"$error":"#DIV/0!"},{"$error":"#DIV/0!"},{"$error":"#DIV/0!"},{"$error":"#DIV/0!"},{"$error":"#DIV/0!"},{"$error":"#DIV/0!"},{"$error":"#DIV/0!"},{"$error":"#DIV/0!"},{"$error":"#DIV/0!"},{"$error":"#DIV/0!"},{"$error":"#DIV/0!"},{"$error":"#DIV/0!"},{"$error":"#DIV/0!"},{"$error":"#DIV/0!"},{"$error":"#DIV/0!"},{"$error":"#DIV/0!"},{"$error":"#DIV/0!"},{"$error":"#DIV/0!"},{"$error":"#DIV/0!"},{"$error":"#DIV/0!"},{"$error":"#DIV/0!"},{"$error":"#DIV/0!"},{"$error":"#DIV/0!"},{"$error":"#DIV/0!"},{"$error":"#DIV/0!"},{"$error":"#DIV/0!"},{"$error":"#DIV/0!"},{"$error":"#DIV/0!"},{"$error":"#DIV/0!"},{"$error":"#DIV/0!"},{"$error":"#DIV/0!"},{"$error":"#DIV/0!"},{"$error":"#DIV/0!"},{"$error":"#DIV/0!"},{"$error":"#DIV/0!"}]
[null,{"$f":"'2 Investimento'!F36*100","v":22},"Costi per nuove attrezzature e migliorie",0,{"$f":"D36","v":0},0,0,0,0,0,{"$f":"J36","v":0},0,0,0,0,0,0,0,0,0,0,0,0,0,0,0,0,0,0,0,0,0,0,0,0,0,0,0,0,0,0,0,0,0,0,0,0,0,0,0,0,0,0,0,0,0,0,0,0,0,0,0,0,{"$f":"SUM(D36:BK36)","v":0}]
[null,null,null,null,null,null,null,null,null,null,null,null,null,null,null,null,null,null,null,null,null,null,null,null,null,null,null,null,null,null,null,null,null,null,null,null,null,null,null,null,null,null,null,null,null,null,null,null,null,null,null,null,null,null,null,null,null,null,null,null,null,null,null,{"$f":"SUM(BL34/BL15)","v":0.91999080741980876}]
[null,null," "]

{"sheet":"4 Sviluppo Domanda e Gestione","index":7,"n_rows":367,"n_cols":66,"rows_kept":367,"cut":false,"hidden":false,"merged":[[191,2,191,4],[15,3,15,4],[16,3,16,4],[16,6,16,7],[17,6,17,7],[150,2,150,4],[7,3,7,4],[7,6,7,7],[8,3,8,4],[8,6,8,7],[9,3,9,4],[9,6,9,7],[10,6,10,7],[17,3,17,4],[11,6,11,7],[12,6,12,7],[10,3,10,4],[11,3,11,4],[12,3,12,4],[13,3,13,4],[14,3,14,4],[13,6,13,7],[14,6,14,7],[15,6,15,7],[365,2,365,3],[366,2,366,3],[364,2,364,3],[150,6,150,7],[22,2,22,3],[24,3,24,4],[24,5,24,6],[361,2,361,3],[149,6,149,8],[148,2,148,4],[362,2,362,3],[92,2,92,3],[224,2,224,5],[358,2,358,3],[359,2,359,3],[360,2,360,3]]}
[]
[null,4,"SVILUPPO DOMANDA E GESTIONE",null,null," "]
[]
[null,null," "," "]
[]
[null,null,"Descrizione dei servizi e caratteristiche territoriali della domanda",null,null,null," "]
[]
[null,null,"Servizio erogato","Descrizione",null,"Unità di misura"," ",null," "," ","TERRITORIO: \ndomanda soddisfatta senza il progetto (media 5 anni precedenti l'esercizio)","TERRITORIO: domanda potenziale","Livello capacità produttiva massima (offerta massima del progetto)","CHECK 1: Capcità produttiva max < Domanda da soddisfare"]
[null,1,{"$f":"'3 Costi-Ricavi'!C5","v":"Ricavi Istituzionali"},{"$f":"C9","v":"Ricavi Istituzionali"},null,"*"," ",null,"Unità suggerita"," ",600000,1800000,900000,{"$f":"IF(C9=\"\",\"\",IF(M9<L9-K9,\"OK\",\"VERIFICARE\"))","v":"OK"}]
[null,2,{"$f":"'3 Costi-Ricavi'!C6","v":"Ricavi Commerciali"},"Ricavi Commerciali",null,"*"," ",null,"Unità suggerita"," ",24000,49000,24000,"OK"]
[null,3,{"$f":"'3 Costi-Ricavi'!C7","v":"Ricavi Bar"},{"$f":"C11","v":"Ricavi Bar"},null,"*"," ",null,"Unità suggerita"," ",10000,21000,10000,{"$f":"IF(C11=\"\",\"\",IF(M11<L11-K11,\"OK\",\"ERRORE\"))","v":"OK"}]
[null,4,{"$f":"'3 Costi-Ricavi'!C8","v":"Proventi diversi/pubblicità"},{"$f":"C12","v":"Proventi diversi/pubblicità"},null,"*"," ",null,"Unità suggerita"," ",null,null,null," "]
[null,5,{"$f":"'3 Costi-Ricavi'!C9","v":"b"},{"$f":"C13","v":"b"},null,"*"," ",null,"Unità suggerita"," ",null,null,null,{"$f":"IF(C13=\"\",\"\",IF(M13<L13-K13,\"OK\",\"ERRORE\"))","v":"ERRORE"}]
[null,6,{"$f":"'3 Costi-Ricavi'!C10","v":"c"},"c",null,"*"," ",null,"Unità suggerita"," ",null,null,null,{"$f":"IF(C14=\"\",\"\",IF(M14<L14-K14,\"OK\",\"ERRORE\"))","v":"ERRORE"}]
[null,7,{"$f":"'3 Costi-Ricavi'!C11","v":"d"},"d",null,"*"," ",null,"Unità suggerita"," ",null,null,null,"ERRORE"]
[null,8,{"$f":"'3 Costi-Ricavi'!C12","v":"e"},"e",null,"*"," ",null,"Unità suggerita"," ",null,null,null,"ERRORE"]
[null,9,{"$f":"'3 Costi-Ricavi'!C13","v":"f"},"f",null,"*"," ",null,"Unità suggerita"," ",null,null,null,"ERRORE"]
[null,10,{"$f":"'3 Costi-Ricavi'!C14","v":"g"},"g",null,"*"," ",null,"Unità suggerita"," ",null,null,null,"ERRORE"]
[]
[]
[null,null,"Caratterizzazione della domanda del servizio del progetto"]
[null,null,null,null,null,null,null,null," "]
[null,null,"Profilo crescita standard"]
[null,null,null,null,null,"INSERIRE I DATI NELLA COLONNA ISTAT  ↓   (solo se i dati Istat variano di anno in anno)"]
[null,null,null,"QUANTITÁ",null,"PREZZO"]
[null,null,"Nome servizio erogato     NON TOCCARE","PROGETTO: domanda stimata primo anno di gestione NON TOCCARE","PROGETTO: livello domanda massima stimata NON TOCCARE","Tariffa unitaria - livello iniziale (euro) NON TOCCARE","Tasso di crescita percentuale annuo della tariffa (Istat)","Parametro crescita suggerito sino a regime (0<valore<1)   NON TOCCARE",null,"CHECK 2: Domanda massima stimata  < Domanda da soddisfare","CHECK 3: Domanda massima stimata < Capacità massima del progetto"]
[null,1,{"$f":"IF(C9=\"\",\"\",C9)","v":"Ricavi Istituzionali"},0,0,1,{"$f":"'2 Descrizione Progetto'!D27","v":0.02},1,null,{"$f":"IF(C9=\"\",\"\",IF(E27<=L9-K9,\"OK\",\"ERRORE\"))","v":"OK"},{"$f":"IF(C9=\"\",\"\",IF(E27<=M9,\"OK\",\"VERIFICARE\"))","v":"OK"}]
[null,2,"Ricavi Commerciali",0,0,1,{"$f":"G27","v":0.02},1,null,{"$f":"IF(C10=\"\",\"\",IF(E28<=L10-K10,\"OK\",\"VERIFICARE\"))","v":"OK"},"OK"]
[null,3,{"$f":"IF(C11=\"\",\"\",C11)","v":"Ricavi Bar"},0,0,1,0.02,1,null,{"$f":"IF(C11=\"\",\"\",IF(E29<=L11-K11,\"OK\",\"ERRORE\"))","v":"OK"},{"$f":"IF(C11=\"\",\"\",IF(E29<=M11,\"OK\",\"ERRORE\"))","v":"OK"}]
[null,4,{"$f":"IF(C12=\"\",\"\",C12)","v":"Proventi diversi/pubblicità"},0,0,1,0.02,1,null,"ok","ok"]
[null,5,{"$f":"IF(C13=\"\",\"\",C13)","v":"b"},{"$f":"'3 Costi-Ricavi'!D12","v":0},0,1,0.02,1,null,{"$f":"IF(C13=\"\",\"\",IF(E31<=L13-K13,\"OK\",\"ERRORE\"))","v":"OK"},{"$f":"IF(C13=\"\",\"\",IF(E31<=M13,\"OK\",\"ERRORE\"))","v":"OK"}]
[null,6,"c",{"$f":"'3 Costi-Ricavi'!D13","v":0},0,1,0.02,1,null,{"$f":"IF(C14=\"\",\"\",IF(E32<=L14-K14,\"OK\",\"ERRORE\"))","v":"OK"},{"$f":"IF(C14=\"\",\"\",IF(E32<=M14,\"OK\",\"ERRORE\"))","v":"OK"}]
[null,7,"d",{"$f":"'3 Costi-Ricavi'!D14","v":0},0,1,0.02,1,null,"OK","OK"]
[null,8,"e",0,0,1,0.02,1,null,"OK","OK"]
[null,9,"f",0,0,1,0.02,1,null,"OK","OK"]
[null,10,"g",0,0,1,0.02,1,null,"OK","OK"]
[]
[]
[]
[null,null,null,"tempo t logistica",0,1,{"$f":"F40+1","v":2},3,4,5,6,7,8,9,10,11,12,13,14,15,16,17,18,19,20,21,22,23,24,25,26,27,28,29,30,31,32,33,34,35,36,37,38,39,40,41,42,43,44,45,46,47,48,49,50,51,52,53,54,55,56,57,58,59]
[null,null,"Ricavo 1 ",null,{"$f":"'2 Descrizione Progetto'!$D$20","v":1},{"$f":"IF(E41=\"anno esterno\",\"anno esterno\",IF(E41+1<='2 Descrizione Progetto'!$D$22,E41+1,\"anno esterno\"))","v":2},{"$f":"IF(F41=\"anno esterno\",\"anno esterno\",IF(F41+1<='2 Descrizione Progetto'!$D$22,F41+1,\"anno esterno\"))","v":3},{"$f":"IF(G41=\"anno esterno\",\"anno esterno\",IF(G41+1<='2 Descrizione Progetto'!$D$22,G41+1,\"anno esterno\"))","v":4},{"$f":"IF(H41=\"anno esterno\",\"anno esterno\",IF(H41+1<='2 Descrizione Progetto'!$D$22,H41+1,\"anno esterno\"))","v":5},{"$f":"IF(I41=\"anno esterno\",\"anno esterno\",IF(I41+1<='2 Descrizione Progetto'!$D$22,I41+1,\"anno esterno\"))","v":6},{"$f":"IF(J41=\"anno esterno\",\"anno esterno\",IF(J41+1<='2 Descrizione Progetto'!$D$22,J41+1,\"anno esterno\"))","v":7},{"$f":"IF(K41=\"anno esterno\",\"anno esterno\",IF(K41+1<='2 Descrizione Progetto'!$D$22,K41+1,\"anno esterno\"))","v":8},{"$f":"IF(L41=\"anno esterno\",\"anno esterno\",IF(L41+1<='2 Descrizione Progetto'!$D$22,L41+1,\"anno esterno\"))","v":9},{"$f":"IF(M41=\"anno esterno\",\"anno esterno\",IF(M41+1<='2 Descrizione Progetto'!$D$22,M41+1,\"anno esterno\"))","v":10},{"$f":"IF(N41=\"anno esterno\",\"anno esterno\",IF(N41+1<='2 Descrizione Progetto'!$D$22,N41+1,\"anno esterno\"))","v":"anno esterno"},{"$f":"IF(O41=\"anno esterno\",\"anno esterno\",IF(O41+1<='2 Descrizione Progetto'!$D$22,O41+1,\"anno esterno\"))","v":"anno esterno"},{"$f":"IF(P41=\"anno esterno\",\"anno esterno\",IF(P41+1<='2 Descrizione Progetto'!$D$22,P41+1,\"anno esterno\"))","v":"anno esterno"},{"$f":"IF(Q41=\"anno esterno\",\"anno esterno\",IF(Q41+1<='2 Descrizione Progetto'!$D$22,Q41+1,\"anno esterno\"))","v":"anno esterno"},{"$f":"IF(R41=\"anno esterno\",\"anno esterno\",IF(R41+1<='2 Descrizione Progetto'!$D$22,R41+1,\"anno esterno\"))","v":"anno esterno"},{"$f":"IF(S41=\"anno esterno\",\"anno esterno\",IF(S41+1<='2 Descrizione Progetto'!$D$22,S41+1,\"anno esterno\"))","v":"anno esterno"},{"$f":"IF(T41=\"anno esterno\",\"anno esterno\",IF(T41+1<='2 Descrizione Progetto'!$D$22,T41+1,\"anno esterno\"))","v":"anno esterno"},{"$f":"IF(U41=\"anno esterno\",\"anno esterno\",IF(U41+1<='2 Descrizione Progetto'!$D$22,U41+1,\"anno esterno\"))","v":"anno esterno"},{"$f":"IF(V41=\"anno esterno\",\"anno esterno\",IF(V41+1<='2 Descrizione Progetto'!$D$22,V41+1,\"anno esterno\"))","v":"anno esterno"},{"$f":"IF(W41=\"anno esterno\",\"anno esterno\",IF(W41+1<='2 Descrizione Progetto'!$D$22,W41+1,\"anno esterno\"))","v":"anno esterno"},{"$f":"IF(X41=\"anno esterno\",\"anno esterno\",IF(X41+1<='2 Descrizione Progetto'!$D$22,X41+1,\"anno esterno\"))","v":"anno esterno"},{"$f":"IF(Y41=\"anno esterno\",\"anno esterno\",IF(Y41+1<='2 Descrizione Progetto'!$D$22,Y41+1,\"anno esterno\"))","v":"anno esterno"},{"$f":"IF(Z41=\"anno esterno\",\"anno esterno\",IF(Z41+1<='2 Descrizione Progetto'!$D$22,Z41+1,\"anno esterno\"))","v":"anno esterno"},{"$f":"IF(AA41=\"anno esterno\",\"anno esterno\",IF(AA41+1<='2 Descrizione Progetto'!$D$22,AA41+1,\"anno esterno\"))","v":"anno esterno"},{"$f":"IF(AB41=\"anno esterno\",\"anno esterno\",IF(AB41+1<='2 Descrizione Progetto'!$D$22,AB41+1,\"anno esterno\"))","v":"anno esterno"},{"$f":"IF(AC41=\"anno esterno\",\"anno esterno\",IF(AC41+1<='2 Descrizione Progetto'!$D$22,AC41+1,\"anno esterno\"))","v":"anno esterno"},{"$f":"IF(AD41=\"anno esterno\",\"anno esterno\",IF(AD41+1<='2 Descrizione Progetto'!$D$22,AD41+1,\"anno esterno\"))","v":"anno esterno"},{"$f":"IF(AE41=\"anno esterno\",\"anno esterno\",IF(AE41+1<='2 Descrizione Progetto'!$D$22,AE41+1,\"anno esterno\"))","v":"anno esterno"},{"$f":"IF(AF41=\"anno esterno\",\"anno esterno\",IF(AF41+1<='2 Descrizione Progetto'!$D$22,AF41+1,\"anno esterno\"))","v":"anno esterno"},{"$f":"IF(AG41=\"anno esterno\",\"anno esterno\",IF(AG41+1<='2 Descrizione Progetto'!$D$22,AG41+1,\"anno esterno\"))","v":"anno esterno"},{"$f":"IF(AH41=\"anno esterno\",\"anno esterno\",IF(AH41+1<='2 Descrizione Progetto'!$D$22,AH41+1,\"anno esterno\"))","v":"anno esterno"},{"$f":"IF(AI41=\"anno esterno\",\"anno esterno\",IF(AI41+1<='2 Descrizione Progetto'!$D$22,AI41+1,\"anno esterno\"))","v":"anno esterno"},{"$f":"IF(AJ41=\"anno esterno\",\"anno esterno\",IF(AJ41+1<='2 Descrizione Progetto'!$D$22,AJ41+1,\"anno esterno\"))","v":"anno esterno"},{"$f":"IF(AK41=\"anno esterno\",\"anno esterno\",IF(AK41+1<='2 Descrizione Progetto'!$D$22,AK41+1,\"anno esterno\"))","v":"anno esterno"},{"$f":"IF(AL41=\"anno esterno\",\"anno esterno\",IF(AL41+1<='2 Descrizione Progetto'!$D$22,AL41+1,\"anno esterno\"))","v":"anno esterno"},{"$f":"IF(AM41=\"anno esterno\",\"anno esterno\",IF(AM41+1<='2 Descrizione Progetto'!$D$22,AM41+1,\"anno esterno\"))","v":"anno esterno"},{"$f":"IF(AN41=\"anno esterno\",\"anno esterno\",IF(AN41+1<='2 Descrizione Progetto'!$D$22,AN41+1,\"anno esterno\"))","v":"anno esterno"},{"$f":"IF(AO41=\"anno esterno\",\"anno esterno\",IF(AO41+1<='2 Descrizione Progetto'!$D$22,AO41+1,\"anno esterno\"))","v":"anno esterno"},{"$f":"IF(AP41=\"anno esterno\",\"anno esterno\",IF(AP41+1<='2 Descrizione Progetto'!$D$22,AP41+1,\"anno esterno\"))","v":"anno esterno"},{"$f":"IF(AQ41=\"anno esterno\",\"anno esterno\",IF(AQ41+1<='2 Descrizione Progetto'!$D$22,AQ41+1,\"anno esterno\"))","v":"anno esterno"},{"$f":"IF(AR41=\"anno esterno\",\"anno esterno\",IF(AR41+1<='2 Descrizione Progetto'!$D$22,AR41+1,\"anno esterno\"))","v":"anno esterno"},{"$f":"IF(AS41=\"anno esterno\",\"anno esterno\",IF(AS41+1<='2 Descrizione Progetto'!$D$22,AS41+1,\"anno esterno\"))","v":"anno esterno"},{"$f":"IF(AT41=\"anno esterno\",\"anno esterno\",IF(AT41+1<='2 Descrizione Progetto'!$D$22,AT41+1,\"anno esterno\"))","v":"anno esterno"},{"$f":"IF(AU41=\"anno esterno\",\"anno esterno\",IF(AU41+1<='2 Descrizione Progetto'!$D$22,AU41+1,\"anno esterno\"))","v":"anno esterno"},{"$f":"IF(AV41=\"anno esterno\",\"anno esterno\",IF(AV41+1<='2 Descrizione Progetto'!$D$22,AV41+1,\"anno esterno\"))","v":"anno esterno"},{"$f":"IF(AW41=\"anno esterno\",\"anno esterno\",IF(AW41+1<='2 Descrizione Progetto'!$D$22,AW41+1,\"anno esterno\"))","v":"anno esterno"},{"$f":"IF(AX41=\"anno esterno\",\"anno esterno\",IF(AX41+1<='2 Descrizione Progetto'!$D$22,AX41+1,\"anno esterno\"))","v":"anno esterno"},{"$f":"IF(AY41=\"anno esterno\",\"anno esterno\",IF(AY41+1<='2 Descrizione Progetto'!$D$22,AY41+1,\"anno esterno\"))","v":"anno esterno"},{"$f":"IF(AZ41=\"anno esterno\",\"anno esterno\",IF(AZ41+1<='2 Descrizione Progetto'!$D$22,AZ41+1,\"anno esterno\"))","v":"anno esterno"},{"$f":"IF(BA41=\"anno esterno\",\"anno esterno\",IF(BA41+1<='2 Descrizione Progetto'!$D$22,BA41+1,\"anno esterno\"))","v":"anno esterno"},{"$f":"IF(BB41=\"anno esterno\",\"anno esterno\",IF(BB41+1<='2 Descrizione Progetto'!$D$22,BB41+1,\"anno esterno\"))","v":"anno esterno"},{"$f":"IF(BC41=\"anno esterno\",\"anno esterno\",IF(BC41+1<='2 Descrizione Progetto'!$D$22,BC41+1,\"anno esterno\"))","v":"anno esterno"},{"$f":"IF(BD41=\"anno esterno\",\"anno esterno\",IF(BD41+1<='2 Descrizione Progetto'!$D$22,BD41+1,\"anno esterno\"))","v":"anno esterno"},{"$f":"IF(BE41=\"anno esterno\",\"anno esterno\",IF(BE41+1<='2 Descrizione Progetto'!$D$22,BE41+1,\"anno esterno\"))","v":"anno esterno"},{"$f":"IF(BF41=\"anno esterno\",\"anno esterno\",IF(BF41+1<='2 Descrizione Progetto'!$D$22,BF41+1,\"anno esterno\"))","v":"anno esterno"},{"$f":"IF(BG41=\"anno esterno\",\"anno esterno\",IF(BG41+1<='2 Descrizione Progetto'!$D$22,BG41+1,\"anno esterno\"))","v":"anno esterno"},{"$f":"IF(BH41=\"anno esterno\",\"anno esterno\",IF(BH41+1<='2 Descrizione Progetto'!$D$22,BH41+1,\"anno esterno\"))","v":"anno esterno"},{"$f":"IF(BI41=\"anno esterno\",\"anno esterno\",IF(BI41+1<='2 Descrizione Progetto'!$D$22,BI41+1,\"anno esterno\"))","v":"anno esterno"},{"$f":"IF(BJ41=\"anno esterno\",\"anno esterno\",IF(BJ41+1<='2 Descrizione Progetto'!$D$22,BJ41+1,\"anno esterno\"))","v":"anno esterno"},{"$f":"IF(BK41=\"anno esterno\",\"anno esterno\",IF(BK41+1<='2 Descrizione Progetto'!$D$22,BK41+1,\"anno esterno\"))","v":"anno esterno"}]
[null,null,"Domanda ","k-unità fisiche",{"$f":"'3 Costi-Ricavi'!D5","v":265400},{"$f":"'3 Costi-Ricavi'!E5","v":285300},{"$f":"'3 Costi-Ricavi'!F5","v":308481},{"$f":"'3 Costi-Ricavi'!G5","v":308481},{"$f":"'3 Costi-Ricavi'!H5","v":308481},{"$f":"'3 Costi-Ricavi'!I5","v":308481},{"$f":"'3 Costi-Ricavi'!J5","v":308481},{"$f":"'3 Costi-Ricavi'!K5","v":308481},{"$f":"'3 Costi-Ricavi'!L5","v":308481},{"$f":"'3 Costi-Ricavi'!M5","v":308481},{"$f":"'3 Costi-Ricavi'!N5","v":0},{"$f":"'3 Costi-Ricavi'!O5","v":0},{"$f":"'3 Costi-Ricavi'!P5","v":0},{"$f":"'3 Costi-Ricavi'!Q5","v":0},{"$f":"'3 Costi-Ricavi'!R5","v":0},{"$f":"'3 Costi-Ricavi'!S5","v":0},{"$f":"'3 Costi-Ricavi'!T5","v":0},{"$f":"'3 Costi-Ricavi'!U5","v":0},{"$f":"'3 Costi-Ricavi'!V5","v":0},{"$f":"'3 Costi-Ricavi'!W5","v":0},{"$f":"'3 Costi-Ricavi'!X5","v":0},{"$f":"'3 Costi-Ricavi'!Y5","v":0},{"$f":"'3 Costi-Ricavi'!Z5","v":0},{"$f":"'3 Costi-Ricavi'!AA5","v":0},{"$f":"'3 Costi-Ricavi'!AB5","v":0},{"$f":"'3 Costi-Ricavi'!AC5","v":0},{"$f":"'3 Costi-Ricavi'!AD5","v":0},{"$f":"'3 Costi-Ricavi'!AE5","v":0},{"$f":"'3 Costi-Ricavi'!AF5","v":0},{"$f":"'3 Costi-Ricavi'!AG5","v":0},{"$f":"'3 Costi-Ricavi'!AH5","v":0},{"$f":"'3 Costi-Ricavi'!AI5","v":0},{"$f":"'3 Costi-Ricavi'!AJ5","v":0},{"$f":"'3 Costi-Ricavi'!AK5","v":0},{"$f":"'3 Costi-Ricavi'!AL5","v":0},{"$f":"'3 Costi-Ricavi'!AM5","v":0},{"$f":"'3 Costi-Ricavi'!AN5","v":0},{"$f":"'3 Costi-Ricavi'!AO5","v":0},{"$f":"'3 Costi-Ricavi'!AP5","v":0},{"$f":"'3 Costi-Ricavi'!AQ5","v":0},{"$f":"'3 Costi-Ricavi'!AR5","v":0},{"$f":"'3 Costi-Ricavi'!AS5","v":0},{"$f":"'3 Costi-Ricavi'!AT5","v":0},{"$f":"'3 Costi-Ricavi'!AU5","v":0},{"$f":"'3 Costi-Ricavi'!AV5","v":0},{"$f":"'3 Costi-Ricavi'!AW5","v":0},{"$f":"'3 Costi-Ricavi'!AX5","v":0},{"$f":"'3 Costi-Ricavi'!AY5","v":0},{"$f":"'3 Costi-Ricavi'!AZ5","v":0},{"$f":"'3 Costi-Ricavi'!BA5","v":0},{"$f":"'3 Costi-Ricavi'!BB5","v":0},{"$f":"'3 Costi-Ricavi'!BC5","v":0},{"$f":"'3 Costi-Ricavi'!BD5","v":0},{"$f":"'3 Costi-Ricavi'!BE5","v":0},{"$f":"'3 Costi-Ricavi'!BF5","v":0},{"$f":"'3 Costi-Ricavi'!BG5","v":0},{"$f":"'3 Costi-Ricavi'!BH5","v":0},{"$f":"'3 Costi-Ricavi'!BI5","v":0},{"$f":"'3 Costi-Ricavi'!BJ5","v":0},{"$f":"'3 Costi-Ricavi'!BK5","v":0}]
[null,null,"Tariffa unitaria ","euro/unità",{"$f":"F27","v":1},{"$f":"E43*(1+$G$27)","v":1.02},1.0404,1.0612079999999999,1.08243216,1.1040808032,1.1261624192640001,1.14868566764928,1.1716593810022657,1.1950925686223111,1.2189944199947573,1.2433743083946525,1.2682417945625455,1.2936066304537963,1.3194787630628724,1.3458683383241299,1.3727857050906125,1.4002414191924248,1.4282462475762734,1.4568111725277988,1.4859473959783549,1.5156663438979221,1.5459796707758806,1.5768992641913981,1.6084372494752261,1.6406059944647307,1.6734181143540252,1.7068864766411058,1.7410242061739281,1.7758446902974065,1.8113615841033548,1.8475888157854219,1.8845405921011305,1.9222314039431532,1.9606760320220162,1.9998895526624565,2.0398873437157055,2.0806850905900198,2.1222987924018204,2.1647447682498568,2.208039663614854,2.252200456887151,2.2972444660248938,2.343189355345392,2.3900531424522997,2.4378542053013459,2.4866112894073726,2.53634351519552,2.5870703854994304,2.6388117932094191,2.6915880290736074,2.7454197896550796,2.8003281854481812,2.8563347491571447,2.9134614441402875,2.9717306730230932,3.0311652864835552,3.0917885922132262,3.1536243640574906,3.2166968513386403]
[null,null,"Ricavi","euro",{"$f":"E42*E43","v":265400},291006,320943.6324,327362.50504799996,333909.75514895999,340587.95025193918,347399.70925697801,354347.70344211755,361434.65751095995,368663.35066117911,0,0,0,0,0,0,0,0,0,0,0,0,0,0,0,0,0,0,0,0,0,0,0,0,0,0,0,0,0,0,0,0,0,0,0,0,0,0,0,0,0,0,0,0,0,0,0,0,0,0]
[]
[null,null,"Ricavo 1 ",null,{"$f":"'2 Descrizione Progetto'!$D$20","v":1},{"$f":"IF(E46=\"anno esterno\",\"anno esterno\",IF(E46+1<='2 Descrizione Progetto'!$D$22,E46+1,\"anno esterno\"))","v":2},{"$f":"IF(F46=\"anno esterno\",\"anno esterno\",IF(F46+1<='2 Descrizione Progetto'!$D$22,F46+1,\"anno esterno\"))","v":3},{"$f":"IF(G46=\"anno esterno\",\"anno esterno\",IF(G46+1<='2 Descrizione Progetto'!$D$22,G46+1,\"anno esterno\"))","v":4},{"$f":"IF(H46=\"anno esterno\",\"anno esterno\",IF(H46+1<='2 Descrizione Progetto'!$D$22,H46+1,\"anno esterno\"))","v":5},{"$f":"IF(I46=\"anno esterno\",\"anno esterno\",IF(I46+1<='2 Descrizione Progetto'!$D$22,I46+1,\"anno esterno\"))","v":6},{"$f":"IF(J46=\"anno esterno\",\"anno esterno\",IF(J46+1<='2 Descrizione Progetto'!$D$22,J46+1,\"anno esterno\"))","v":7},{"$f":"IF(K46=\"anno esterno\",\"anno esterno\",IF(K46+1<='2 Descrizione Progetto'!$D$22,K46+1,\"anno esterno\"))","v":8},{"$f":"IF(L46=\"anno esterno\",\"anno esterno\",IF(L46+1<='2 Descrizione Progetto'!$D$22,L46+1,\"anno esterno\"))","v":9},{"$f":"IF(M46=\"anno esterno\",\"anno esterno\",IF(M46+1<='2 Descrizione Progetto'!$D$22,M46+1,\"anno esterno\"))","v":10},{"$f":"IF(N46=\"anno esterno\",\"anno esterno\",IF(N46+1<='2 Descrizione Progetto'!$D$22,N46+1,\"anno esterno\"))","v":"anno esterno"},{"$f":"IF(O46=\"anno esterno\",\"anno esterno\",IF(O46+1<='2 Descrizione Progetto'!$D$22,O46+1,\"anno esterno\"))","v":"anno esterno"},{"$f":"IF(P46=\"anno esterno\",\"anno esterno\",IF(P46+1<='2 Descrizione Progetto'!$D$22,P46+1,\"anno esterno\"))","v":"anno esterno"},{"$f":"IF(Q46=\"anno esterno\",\"anno esterno\",IF(Q46+1<='2 Descrizione Progetto'!$D$22,Q46+1,\"anno esterno\"))","v":"anno esterno"},{"$f":"IF(R46=\"anno esterno\",\"anno esterno\",IF(R46+1<='2 Descrizione Progetto'!$D$22,R46+1,\"anno esterno\"))","v":"anno esterno"},{"$f":"IF(S46=\"anno esterno\",\"anno esterno\",IF(S46+1<='2 Descrizione Progetto'!$D$22,S46+1,\"anno esterno\"))","v":"anno esterno"},{"$f":"IF(T46=\"anno esterno\",\"anno esterno\",IF(T46+1<='2 Descrizione Progetto'!$D$22,T46+1,\"anno esterno\"))","v":"anno esterno"},{"$f":"IF(U46=\"anno esterno\",\"anno esterno\",IF(U46+1<='2 Descrizione Progetto'!$D$22,U46+1,\"anno esterno\"))","v":"anno esterno"},{"$f":"IF(V46=\"anno esterno\",\"anno esterno\",IF(V46+1<='2 Descrizione Progetto'!$D$22,V46+1,\"anno esterno\"))","v":"anno esterno"},{"$f":"IF(W46=\"anno esterno\",\"anno esterno\",IF(W46+1<='2 Descrizione Progetto'!$D$22,W46+1,\"anno esterno\"))","v":"anno esterno"},{"$f":"IF(X46=\"anno esterno\",\"anno esterno\",IF(X46+1<='2 Descrizione Progetto'!$D$22,X46+1,\"anno esterno\"))","v":"anno esterno"},{"$f":"IF(Y46=\"anno esterno\",\"anno esterno\",IF(Y46+1<='2 Descrizione Progetto'!$D$22,Y46+1,\"anno esterno\"))","v":"anno esterno"},{"$f":"IF(Z46=\"anno esterno\",\"anno esterno\",IF(Z46+1<='2 Descrizione Progetto'!$D$22,Z46+1,\"anno esterno\"))","v":"anno esterno"},{"$f":"IF(AA46=\"anno esterno\",\"anno esterno\",IF(AA46+1<='2 Descrizione Progetto'!$D$22,AA46+1,\"anno esterno\"))","v":"anno esterno"},{"$f":"IF(AB46=\"anno esterno\",\"anno esterno\",IF(AB46+1<='2 Descrizione Progetto'!$D$22,AB46+1,\"anno esterno\"))","v":"anno esterno"},{"$f":"IF(AC46=\"anno esterno\",\"anno esterno\",IF(AC46+1<='2 Descrizione Progetto'!$D$22,AC46+1,\"anno esterno\"))","v":"anno esterno"},{"$f":"IF(AD46=\"anno esterno\",\"anno esterno\",IF(AD46+1<='2 Descrizione Progetto'!$D$22,AD46+1,\"anno esterno\"))","v":"anno esterno"},{"$f":"IF(AE46=\"anno esterno\",\"anno esterno\",IF(AE46+1<='2 Descrizione Progetto'!$D$22,AE46+1,\"anno esterno\"))","v":"anno esterno"},{"$f":"IF(AF46=\"anno esterno\",\"anno esterno\",IF(AF46+1<='2 Descrizione Progetto'!$D$22,AF46+1,\"anno esterno\"))","v":"anno esterno"},{"$f":"IF(AG46=\"anno esterno\",\"anno esterno\",IF(AG46+1<='2 Descrizione Progetto'!$D$22,AG46+1,\"anno esterno\"))","v":"anno esterno"},{"$f":"IF(AH46=\"anno esterno\",\"anno esterno\",IF(AH46+1<='2 Descrizione Progetto'!$D$22,AH46+1,\"anno esterno\"))","v":"anno esterno"},{"$f":"IF(AI46=\"anno esterno\",\"anno esterno\",IF(AI46+1<='2 Descrizione Progetto'!$D$22,AI46+1,\"anno esterno\"))","v":"anno esterno"},{"$f":"IF(AJ46=\"anno esterno\",\"anno esterno\",IF(AJ46+1<='2 Descrizione Progetto'!$D$22,AJ46+1,\"anno esterno\"))","v":"anno esterno"},{"$f":"IF(AK46=\"anno esterno\",\"anno esterno\",IF(AK46+1<='2 Descrizione Progetto'!$D$22,AK46+1,\"anno esterno\"))","v":"anno esterno"},{"$f":"IF(AL46=\"anno esterno\",\"anno esterno\",IF(AL46+1<='2 Descrizione Progetto'!$D$22,AL46+1,\"anno esterno\"))","v":"anno esterno"},{"$f":"IF(AM46=\"anno esterno\",\"anno esterno\",IF(AM46+1<='2 Descrizione Progetto'!$D$22,AM46+1,\"anno esterno\"))","v":"anno esterno"},{"$f":"IF(AN46=\"anno esterno\",\"anno esterno\",IF(AN46+1<='2 Descrizione Progetto'!$D$22,AN46+1,\"anno esterno\"))","v":"anno esterno"},{"$f":"IF(AO46=\"anno esterno\",\"anno esterno\",IF(AO46+1<='2 Descrizione Progetto'!$D$22,AO46+1,\"anno esterno\"))","v":"anno esterno"},{"$f":"IF(AP46=\"anno esterno\",\"anno esterno\",IF(AP46+1<='2 Descrizione Progetto'!$D$22,AP46+1,\"anno esterno\"))","v":"anno esterno"},{"$f":"IF(AQ46=\"anno esterno\",\"anno esterno\",IF(AQ46+1<='2 Descrizione Progetto'!$D$22,AQ46+1,\"anno esterno\"))","v":"anno esterno"},{"$f":"IF(AR46=\"anno esterno\",\"anno esterno\",IF(AR46+1<='2 Descrizione Progetto'!$D$22,AR46+1,\"anno esterno\"))","v":"anno esterno"},{"$f":"IF(AS46=\"anno esterno\",\"anno esterno\",IF(AS46+1<='2 Descrizione Progetto'!$D$22,AS46+1,\"anno esterno\"))","v":"anno esterno"},{"$f":"IF(AT46=\"anno esterno\",\"anno esterno\",IF(AT46+1<='2 Descrizione Progetto'!$D$22,AT46+1,\"anno esterno\"))","v":"anno esterno"},{"$f":"IF(AU46=\"anno esterno\",\"anno esterno\",IF(AU46+1<='2 Descrizione Progetto'!$D$22,AU46+1,\"anno esterno\"))","v":"anno esterno"},{"$f":"IF(AV46=\"anno esterno\",\"anno esterno\",IF(AV46+1<='2 Descrizione Progetto'!$D$22,AV46+1,\"anno esterno\"))","v":"anno esterno"},{"$f":"IF(AW46=\"anno esterno\",\"anno esterno\",IF(AW46+1<='2 Descrizione Progetto'!$D$22,AW46+1,\"anno esterno\"))","v":"anno esterno"},{"$f":"IF(AX46=\"anno esterno\",\"anno esterno\",IF(AX46+1<='2 Descrizione Progetto'!$D$22,AX46+1,\"anno esterno\"))","v":"anno esterno"},{"$f":"IF(AY46=\"anno esterno\",\"anno esterno\",IF(AY46+1<='2 Descrizione Progetto'!$D$22,AY46+1,\"anno esterno\"))","v":"anno esterno"},{"$f":"IF(AZ46=\"anno esterno\",\"anno esterno\",IF(AZ46+1<='2 Descrizione Progetto'!$D$22,AZ46+1,\"anno esterno\"))","v":"anno esterno"},{"$f":"IF(BA46=\"anno esterno\",\"anno esterno\",IF(BA46+1<='2 Descrizione Progetto'!$D$22,BA46+1,\"anno esterno\"))","v":"anno esterno"},{"$f":"IF(BB46=\"anno esterno\",\"anno esterno\",IF(BB46+1<='2 Descrizione Progetto'!$D$22,BB46+1,\"anno esterno\"))","v":"anno esterno"},{"$f":"IF(BC46=\"anno esterno\",\"anno esterno\",IF(BC46+1<='2 Descrizione Progetto'!$D$22,BC46+1,\"anno esterno\"))","v":"anno esterno"},{"$f":"IF(BD46=\"anno esterno\",\"anno esterno\",IF(BD46+1<='2 Descrizione Progetto'!$D$22,BD46+1,\"anno esterno\"))","v":"anno esterno"},{"$f":"IF(BE46=\"anno esterno\",\"anno esterno\",IF(BE46+1<='2 Descrizione Progetto'!$D$22,BE46+1,\"anno esterno\"))","v":"anno esterno"},{"$f":"IF(BF46=\"anno esterno\",\"anno esterno\",IF(BF46+1<='2 Descrizione Progetto'!$D$22,BF46+1,\"anno esterno\"))","v":"anno esterno"},{"$f":"IF(BG46=\"anno esterno\",\"anno esterno\",IF(BG46+1<='2 Descrizione Progetto'!$D$22,BG46+1,\"anno esterno\"))","v":"anno esterno"},{"$f":"IF(BH46=\"anno esterno\",\"anno esterno\",IF(BH46+1<='2 Descrizione Progetto'!$D$22,BH46+1,\"anno esterno\"))","v":"anno esterno"},{"$f":"IF(BI46=\"anno esterno\",\"anno esterno\",IF(BI46+1<='2 Descrizione Progetto'!$D$22,BI46+1,\"anno esterno\"))","v":"anno esterno"},{"$f":"IF(BJ46=\"anno esterno\",\"anno esterno\",IF(BJ46+1<='2 Descrizione Progetto'!$D$22,BJ46+1,\"anno esterno\"))","v":"anno esterno"},{"$f":"IF(BK46=\"anno esterno\",\"anno esterno\",IF(BK46+1<='2 Descrizione Progetto'!$D$22,BK46+1,\"anno esterno\"))","v":"anno esterno"}]
[null,null,"Domanda ","k-unità fisiche",{"$f":"'3 Costi-Ricavi'!D6","v":55250},{"$f":"'3 Costi-Ricavi'!E6","v":64300},{"$f":"'3 Costi-Ricavi'!F6","v":77096},{"$f":"'3 Costi-Ricavi'!G6","v":77096},{"$f":"'3 Costi-Ricavi'!H6","v":77096},{"$f":"'3 Costi-Ricavi'!I6","v":77096},{"$f":"'3 Costi-Ricavi'!J6","v":77096},{"$f":"'3 Costi-Ricavi'!K6","v":77096},{"$f":"'3 Costi-Ricavi'!L6","v":77096},{"$f":"'3 Costi-Ricavi'!M6","v":77096},{"$f":"'3 Costi-Ricavi'!N6","v":0},{"$f":"'3 Costi-Ricavi'!O6","v":0},{"$f":"'3 Costi-Ricavi'!P6","v":0},{"$f":"'3 Costi-Ricavi'!Q6","v":0},{"$f":"'3 Costi-Ricavi'!R6","v":0},{"$f":"'3 Costi-Ricavi'!S6","v":0},{"$f":"'3 Costi-Ricavi'!T6","v":0},{"$f":"'3 Costi-Ricavi'!U6","v":0},{"$f":"'3 Costi-Ricavi'!V6","v":0},{"$f":"'3 Costi-Ricavi'!W6","v":0},{"$f":"'3 Costi-Ricavi'!X6","v":0},{"$f":"'3 Costi-Ricavi'!Y6","v":0},{"$f":"'3 Costi-Ricavi'!Z6","v":0},{"$f":"'3 Costi-Ricavi'!AA6","v":0},{"$f":"'3 Costi-Ricavi'!AB6","v":0},{"$f":"'3 Costi-Ricavi'!AC6","v":0},{"$f":"'3 Costi-Ricavi'!AD6","v":0},{"$f":"'3 Costi-Ricavi'!AE6","v":0},{"$f":"'3 Costi-Ricavi'!AF6","v":0},{"$f":"'3 Costi-Ricavi'!AG6","v":0},{"$f":"'3 Costi-Ricavi'!AH6","v":0},{"$f":"'3 Costi-Ricavi'!AI6","v":0},{"$f":"'3 Costi-Ricavi'!AJ6","v":0},{"$f":"'3 Costi-Ricavi'!AK6","v":0},{"$f":"'3 Costi-Ricavi'!AL6","v":0},{"$f":"'3 Costi-Ricavi'!AM6","v":0},{"$f":"'3 Costi-Ricavi'!AN6","v":0},{"$f":"'3 Costi-Ricavi'!AO6","v":0},{"$f":"'3 Costi-Ricavi'!AP6","v":0},{"$f":"'3 Costi-Ricavi'!AQ6","v":0},{"$f":"'3 Costi-Ricavi'!AR6","v":0},{"$f":"'3 Costi-Ricavi'!AS6","v":0},{"$f":"'3 Costi-Ricavi'!AT6","v":0},{"$f":"'3 Costi-Ricavi'!AU6","v":0},{"$f":"'3 Costi-Ricavi'!AV6","v":0},{"$f":"'3 Costi-Ricavi'!AW6","v":0},{"$f":"'3 Costi-Ricavi'!AX6","v":0},{"$f":"'3 Costi-Ricavi'!AY6","v":0},{"$f":"'3 Costi-Ricavi'!AZ6","v":0},{"$f":"'3 Costi-Ricavi'!BA6","v":0},{"$f":"'3 Costi-Ricavi'!BB6","v":0},{"$f":"'3 Costi-Ricavi'!BC6","v":0},{"$f":"'3 Costi-Ricavi'!BD6","v":0},{"$f":"'3 Costi-Ricavi'!BE6","v":0},{"$f":"'3 Costi-Ricavi'!BF6","v":0},{"$f":"'3 Costi-Ricavi'!BG6","v":0},{"$f":"'3 Costi-Ricavi'!BH6","v":0},{"$f":"'3 Costi-Ricavi'!BI6","v":0},{"$f":"'3 Costi-Ricavi'!BJ6","v":0},{"$f":"'3 Costi-Ricavi'!BK6","v":0}]
[null,null,"Tariffa unitaria ","euro/unità",{"$f":"F28","v":1},{"$f":"E48*(1+$G$28)","v":1.02},1.0404,1.0612079999999999,1.08243216,1.1040808032,1.1261624192640001,1.14868566764928,1.1716593810022657,1.1950925686223111,1.2189944199947573,1.2433743083946525,1.2682417945625455,1.2936066304537963,1.3194787630628724,1.3458683383241299,1.3727857050906125,1.4002414191924248,1.4282462475762734,1.4568111725277988,1.4859473959783549,1.5156663438979221,1.5459796707758806,1.5768992641913981,1.6084372494752261,1.6406059944647307,1.6734181143540252,1.7068864766411058,1.7410242061739281,1.7758446902974065,1.8113615841033548,1.8475888157854219,1.8845405921011305,1.9222314039431532,1.9606760320220162,1.9998895526624565,2.0398873437157055,2.0806850905900198,2.1222987924018204,2.1647447682498568,2.208039663614854,2.252200456887151,2.2972444660248938,2.343189355345392,2.3900531424522997,2.4378542053013459,2.4866112894073726,2.53634351519552,2.5870703854994304,2.6388117932094191,2.6915880290736074,2.7454197896550796,2.8003281854481812,2.8563347491571447,2.9134614441402875,2.9717306730230932,3.0311652864835552,3.0917885922132262,3.1536243640574906,3.2166968513386403]
[null,null,"Ricavi","euro",{"$f":"E47*E48","v":55250},65586,80210.678400000004,81814.891967999996,83451.189807360002,85120.213603507204,86822.617875577344,88559.070233088889,90330.251637750684,92136.856670505687,0,0,0,0,0,0,0,0,0,0,0,0,0,0,0,0,0,0,0,0,0,0,0,0,0,0,0,0,0,0,0,0,0,0,0,0,0,0,0,0,0,0,0,0,0,0,0,0,0,0]
[]
[null,null,"Ricavo 1 ",null,{"$f":"'2 Descrizione Progetto'!$D$20","v":1},{"$f":"IF(E51=\"anno esterno\",\"anno esterno\",IF(E51+1<='2 Descrizione Progetto'!$D$22,E51+1,\"anno esterno\"))","v":2},{"$f":"IF(F51=\"anno esterno\",\"anno esterno\",IF(F51+1<='2 Descrizione Progetto'!$D$22,F51+1,\"anno esterno\"))","v":3},{"$f":"IF(G51=\"anno esterno\",\"anno esterno\",IF(G51+1<='2 Descrizione Progetto'!$D$22,G51+1,\"anno esterno\"))","v":4},{"$f":"IF(H51=\"anno esterno\",\"anno esterno\",IF(H51+1<='2 Descrizione Progetto'!$D$22,H51+1,\"anno esterno\"))","v":5},{"$f":"IF(I51=\"anno esterno\",\"anno esterno\",IF(I51+1<='2 Descrizione Progetto'!$D$22,I51+1,\"anno esterno\"))","v":6},{"$f":"IF(J51=\"anno esterno\",\"anno esterno\",IF(J51+1<='2 Descrizione Progetto'!$D$22,J51+1,\"anno esterno\"))","v":7},{"$f":"IF(K51=\"anno esterno\",\"anno esterno\",IF(K51+1<='2 Descrizione Progetto'!$D$22,K51+1,\"anno esterno\"))","v":8},{"$f":"IF(L51=\"anno esterno\",\"anno esterno\",IF(L51+1<='2 Descrizione Progetto'!$D$22,L51+1,\"anno esterno\"))","v":9},{"$f":"IF(M51=\"anno esterno\",\"anno esterno\",IF(M51+1<='2 Descrizione Progetto'!$D$22,M51+1,\"anno esterno\"))","v":10},{"$f":"IF(N51=\"anno esterno\",\"anno esterno\",IF(N51+1<='2 Descrizione Progetto'!$D$22,N51+1,\"anno esterno\"))","v":"anno esterno"},{"$f":"IF(O51=\"anno esterno\",\"anno esterno\",IF(O51+1<='2 Descrizione Progetto'!$D$22,O51+1,\"anno esterno\"))","v":"anno esterno"},{"$f":"IF(P51=\"anno esterno\",\"anno esterno\",IF(P51+1<='2 Descrizione Progetto'!$D$22,P51+1,\"anno esterno\"))","v":"anno esterno"},{"$f":"IF(Q51=\"anno esterno\",\"anno esterno\",IF(Q51+1<='2 Descrizione Progetto'!$D$22,Q51+1,\"anno esterno\"))","v":"anno esterno"},{"$f":"IF(R51=\"anno esterno\",\"anno esterno\",IF(R51+1<='2 Descrizione Progetto'!$D$22,R51+1,\"anno esterno\"))","v":"anno esterno"},{"$f":"IF(S51=\"anno esterno\",\"anno esterno\",IF(S51+1<='2 Descrizione Progetto'!$D$22,S51+1,\"anno esterno\"))","v":"anno esterno"},{"$f":"IF(T51=\"anno esterno\",\"anno esterno\",IF(T51+1<='2 Descrizione Progetto'!$D$22,T51+1,\"anno esterno\"))","v":"anno esterno"},{"$f":"IF(U51=\"anno esterno\",\"anno esterno\",IF(U51+1<='2 Descrizione Progetto'!$D$22,U51+1,\"anno esterno\"))","v":"anno esterno"},{"$f":"IF(V51=\"anno esterno\",\"anno esterno\",IF(V51+1<='2 Descrizione Progetto'!$D$22,V51+1,\"anno esterno\"))","v":"anno esterno"},{"$f":"IF(W51=\"anno esterno\",\"anno esterno\",IF(W51+1<='2 Descrizione Progetto'!$D$22,W51+1,\"anno esterno\"))","v":"anno esterno"},{"$f":"IF(X51=\"anno esterno\",\"anno esterno\",IF(X51+1<='2 Descrizione Progetto'!$D$22,X51+1,\"anno esterno\"))","v":"anno esterno"},{"$f":"IF(Y51=\"anno esterno\",\"anno esterno\",IF(Y51+1<='2 Descrizione Progetto'!$D$22,Y51+1,\"anno esterno\"))","v":"anno esterno"},{"$f":"IF(Z51=\"anno esterno\",\"anno esterno\",IF(Z51+1<='2 Descrizione Progetto'!$D$22,Z51+1,\"anno esterno\"))","v":"anno esterno"},{"$f":"IF(AA51=\"anno esterno\",\"anno esterno\",IF(AA51+1<='2 Descrizione Progetto'!$D$22,AA51+1,\"anno esterno\"))","v":"anno esterno"},{"$f":"IF(AB51=\"anno esterno\",\"anno esterno\",IF(AB51+1<='2 Descrizione Progetto'!$D$22,AB51+1,\"anno esterno\"))","v":"anno esterno"},{"$f":"IF(AC51=\"anno esterno\",\"anno esterno\",IF(AC51+1<='2 Descrizione Progetto'!$D$22,AC51+1,\"anno esterno\"))","v":"anno esterno"},{"$f":"IF(AD51=\"anno esterno\",\"anno esterno\",IF(AD51+1<='2 Descrizione Progetto'!$D$22,AD51+1,\"anno esterno\"))","v":"anno esterno"},{"$f":"IF(AE51=\"anno esterno\",\"anno esterno\",IF(AE51+1<='2 Descrizione Progetto'!$D$22,AE51+1,\"anno esterno\"))","v":"anno esterno"},{"$f":"IF(AF51=\"anno esterno\",\"anno esterno\",IF(AF51+1<='2 Descrizione Progetto'!$D$22,AF51+1,\"anno esterno\"))","v":"anno esterno"},{"$f":"IF(AG51=\"anno esterno\",\"anno esterno\",IF(AG51+1<='2 Descrizione Progetto'!$D$22,AG51+1,\"anno esterno\"))","v":"anno esterno"},{"$f":"IF(AH51=\"anno esterno\",\"anno esterno\",IF(AH51+1<='2 Descrizione Progetto'!$D$22,AH51+1,\"anno esterno\"))","v":"anno esterno"},{"$f":"IF(AI51=\"anno esterno\",\"anno esterno\",IF(AI51+1<='2 Descrizione Progetto'!$D$22,AI51+1,\"anno esterno\"))","v":"anno esterno"},{"$f":"IF(AJ51=\"anno esterno\",\"anno esterno\",IF(AJ51+1<='2 Descrizione Progetto'!$D$22,AJ51+1,\"anno esterno\"))","v":"anno esterno"},{"$f":"IF(AK51=\"anno esterno\",\"anno esterno\",IF(AK51+1<='2 Descrizione Progetto'!$D$22,AK51+1,\"anno esterno\"))","v":"anno esterno"},{"$f":"IF(AL51=\"anno esterno\",\"anno esterno\",IF(AL51+1<='2 Descrizione Progetto'!$D$22,AL51+1,\"anno esterno\"))","v":"anno esterno"},{"$f":"IF(AM51=\"anno esterno\",\"anno esterno\",IF(AM51+1<='2 Descrizione Progetto'!$D$22,AM51+1,\"anno esterno\"))","v":"anno esterno"},{"$f":"IF(AN51=\"anno esterno\",\"anno esterno\",IF(AN51+1<='2 Descrizione Progetto'!$D$22,AN51+1,\"anno esterno\"))","v":"anno esterno"},{"$f":"IF(AO51=\"anno esterno\",\"anno esterno\",IF(AO51+1<='2 Descrizione Progetto'!$D$22,AO51+1,\"anno esterno\"))","v":"anno esterno"},{"$f":"IF(AP51=\"anno esterno\",\"anno esterno\",IF(AP51+1<='2 Descrizione Progetto'!$D$22,AP51+1,\"anno esterno\"))","v":"anno esterno"},{"$f":"IF(AQ51=\"anno esterno\",\"anno esterno\",IF(AQ51+1<='2 Descrizione Progetto'!$D$22,AQ51+1,\"anno esterno\"))","v":"anno esterno"},{"$f":"IF(AR51=\"anno esterno\",\"anno esterno\",IF(AR51+1<='2 Descrizione Progetto'!$D$22,AR51+1,\"anno esterno\"))","v":"anno esterno"},{"$f":"IF(AS51=\"anno esterno\",\"anno esterno\",IF(AS51+1<='2 Descrizione Progetto'!$D$22,AS51+1,\"anno esterno\"))","v":"anno esterno"},{"$f":"IF(AT51=\"anno esterno\",\"anno esterno\",IF(AT51+1<='2 Descrizione Progetto'!$D$22,AT51+1,\"anno esterno\"))","v":"anno esterno"},{"$f":"IF(AU51=\"anno esterno\",\"anno esterno\",IF(AU51+1<='2 Descrizione Progetto'!$D$22,AU51+1,\"anno esterno\"))","v":"anno esterno"},{"$f":"IF(AV51=\"anno esterno\",\"anno esterno\",IF(AV51+1<='2 Descrizione Progetto'!$D$22,AV51+1,\"anno esterno\"))","v":"anno esterno"},{"$f":"IF(AW51=\"anno esterno\",\"anno esterno\",IF(AW51+1<='2 Descrizione Progetto'!$D$22,AW51+1,\"anno esterno\"))","v":"anno esterno"},{"$f":"IF(AX51=\"anno esterno\",\"anno esterno\",IF(AX51+1<='2 Descrizione Progetto'!$D$22,AX51+1,\"anno esterno\"))","v":"anno esterno"},{"$f":"IF(AY51=\"anno esterno\",\"anno esterno\",IF(AY51+1<='2 Descrizione Progetto'!$D$22,AY51+1,\"anno esterno\"))","v":"anno esterno"},{"$f":"IF(AZ51=\"anno esterno\",\"anno esterno\",IF(AZ51+1<='2 Descrizione Progetto'!$D$22,AZ51+1,\"anno esterno\"))","v":"anno esterno"},{"$f":"IF(BA51=\"anno esterno\",\"anno esterno\",IF(BA51+1<='2 Descrizione Progetto'!$D$22,BA51+1,\"anno esterno\"))","v":"anno esterno"},{"$f":"IF(BB51=\"anno esterno\",\"anno esterno\",IF(BB51+1<='2 Descrizione Progetto'!$D$22,BB51+1,\"anno esterno\"))","v":"anno esterno"},{"$f":"IF(BC51=\"anno esterno\",\"anno esterno\",IF(BC51+1<='2 Descrizione Progetto'!$D$22,BC51+1,\"anno esterno\"))","v":"anno esterno"},{"$f":"IF(BD51=\"anno esterno\",\"anno esterno\",IF(BD51+1<='2 Descrizione Progetto'!$D$22,BD51+1,\"anno esterno\"))","v":"anno esterno"},{"$f":"IF(BE51=\"anno esterno\",\"anno esterno\",IF(BE51+1<='2 Descrizione Progetto'!$D$22,BE51+1,\"anno esterno\"))","v":"anno esterno"},{"$f":"IF(BF51=\"anno esterno\",\"anno esterno\",IF(BF51+1<='2 Descrizione Progetto'!$D$22,BF51+1,\"anno esterno\"))","v":"anno esterno"},{"$f":"IF(BG51=\"anno esterno\",\"anno esterno\",IF(BG51+1<='2 Descrizione Progetto'!$D$22,BG51+1,\"anno esterno\"))","v":"anno esterno"},{"$f":"IF(BH51=\"anno esterno\",\"anno esterno\",IF(BH51+1<='2 Descrizione Progetto'!$D$22,BH51+1,\"anno esterno\"))","v":"anno esterno"},{"$f":"IF(BI51=\"anno esterno\",\"anno esterno\",IF(BI51+1<='2 Descrizione Progetto'!$D$22,BI51+1,\"anno esterno\"))","v":"anno esterno"},{"$f":"IF(BJ51=\"anno esterno\",\"anno esterno\",IF(BJ51+1<='2 Descrizione Progetto'!$D$22,BJ51+1,\"anno esterno\"))","v":"anno esterno"},{"$f":"IF(BK51=\"anno esterno\",\"anno esterno\",IF(BK51+1<='2 Descrizione Progetto'!$D$22,BK51+1,\"anno esterno\"))","v":"anno esterno"}]
[null,null,"Domanda ","k-unità fisiche",{"$f":"SUM('3 Costi-Ricavi'!D7)","v":24600},{"$f":"SUM('3 Costi-Ricavi'!E7)","v":29500},{"$f":"SUM('3 Costi-Ricavi'!F7)","v":36700},{"$f":"SUM('3 Costi-Ricavi'!G7)","v":36700},{"$f":"SUM('3 Costi-Ricavi'!H7)","v":36700},{"$f":"SUM('3 Costi-Ricavi'!I7)","v":36700},{"$f":"SUM('3 Costi-Ricavi'!J7)","v":36700},{"$f":"SUM('3 Costi-Ricavi'!K7)","v":36700},{"$f":"SUM('3 Costi-Ricavi'!L7)","v":36700},{"$f":"SUM('3 Costi-Ricavi'!M7)","v":36700},{"$f":"SUM('3 Costi-Ricavi'!N7)","v":0},{"$f":"SUM('3 Costi-Ricavi'!O7)","v":0},{"$f":"SUM('3 Costi-Ricavi'!P7)","v":0},{"$f":"SUM('3 Costi-Ricavi'!Q7)","v":0},{"$f":"SUM('3 Costi-Ricavi'!R7)","v":0},{"$f":"SUM('3 Costi-Ricavi'!S7)","v":0},{"$f":"SUM('3 Costi-Ricavi'!T7)","v":0},{"$f":"SUM('3 Costi-Ricavi'!U7)","v":0},{"$f":"SUM('3 Costi-Ricavi'!V7)","v":0},{"$f":"SUM('3 Costi-Ricavi'!W7)","v":0},{"$f":"SUM('3 Costi-Ricavi'!X7)","v":0},{"$f":"SUM('3 Costi-Ricavi'!Y7)","v":0},{"$f":"SUM('3 Costi-Ricavi'!Z7)","v":0},{"$f":"SUM('3 Costi-Ricavi'!AA7)","v":0},{"$f":"SUM('3 Costi-Ricavi'!AB7)","v":0},{"$f":"SUM('3 Costi-Ricavi'!AC7)","v":0},{"$f":"SUM('3 Costi-Ricavi'!AD7)","v":0},{"$f":"SUM('3 Costi-Ricavi'!AE7)","v":0},{"$f":"SUM('3 Costi-Ricavi'!AF7)","v":0},{"$f":"SUM('3 Costi-Ricavi'!AG7)","v":0},{"$f":"SUM('3 Costi-Ricavi'!AH7)","v":0},{"$f":"SUM('3 Costi-Ricavi'!AI7)","v":0},{"$f":"SUM('3 Costi-Ricavi'!AJ7)","v":0},{"$f":"SUM('3 Costi-Ricavi'!AK7)","v":0},{"$f":"SUM('3 Costi-Ricavi'!AL7)","v":0},{"$f":"SUM('3 Costi-Ricavi'!AM7)","v":0},{"$f":"SUM('3 Costi-Ricavi'!AN7)","v":0},{"$f":"SUM('3 Costi-Ricavi'!AO7)","v":0},{"$f":"SUM('3 Costi-Ricavi'!AP7)","v":0},{"$f":"SUM('3 Costi-Ricavi'!AQ7)","v":0},{"$f":"SUM('3 Costi-Ricavi'!AR7)","v":0},{"$f":"SUM('3 Costi-Ricavi'!AS7)","v":0},{"$f":"SUM('3 Costi-Ricavi'!AT7)","v":0},{"$f":"SUM('3 Costi-Ricavi'!AU7)","v":0},{"$f":"SUM('3 Costi-Ricavi'!AV7)","v":0},{"$f":"SUM('3 Costi-Ricavi'!AW7)","v":0},{"$f":"SUM('3 Costi-Ricavi'!AX7)","v":0},{"$f":"SUM('3 Costi-Ricavi'!AY7)","v":0},{"$f":"SUM('3 Costi-Ricavi'!AZ7)","v":0},{"$f":"SUM('3 Costi-Ricavi'!BA7)","v":0},{"$f":"SUM('3 Costi-Ricavi'!BB7)","v":0},{"$f":"SUM('3 Costi-Ricavi'!BC7)","v":0},{"$f":"SUM('3 Costi-Ricavi'!BD7)","v":0},{"$f":"SUM('3 Costi-Ricavi'!BE7)","v":0},{"$f":"SUM('3 Costi-Ricavi'!BF7)","v":0},{"$f":"SUM('3 Costi-Ricavi'!BG7)","v":0},{"$f":"SUM('3 Costi-Ricavi'!BH7)","v":0},{"$f":"SUM('3 Costi-Ricavi'!BI7)","v":0},{"$f":"SUM('3 Costi-Ricavi'!BJ7)","v":0},{"$f":"SUM('3 Costi-Ricavi'!BK7)","v":0}]
[null,null,"Tariffa unitaria ","euro/unità",{"$f":"F29","v":1},{"$f":"E53*(1+$G$29)","v":1.02},1.0404,1.0612079999999999,1.08243216,1.1040808032,1.1261624192640001,1.14868566764928,1.1716593810022657,1.1950925686223111,1.2189944199947573,1.2433743083946525,1.2682417945625455,1.2936066304537963,1.3194787630628724,1.3458683383241299,1.3727857050906125,1.4002414191924248,1.4282462475762734,1.4568111725277988,1.4859473959783549,1.5156663438979221,1.5459796707758806,1.5768992641913981,1.6084372494752261,1.6406059944647307,1.6734181143540252,1.7068864766411058,1.7410242061739281,1.7758446902974065,1.8113615841033548,1.8475888157854219,1.8845405921011305,1.9222314039431532,1.9606760320220162,1.9998895526624565,2.0398873437157055,2.0806850905900198,2.1222987924018204,2.1647447682498568,2.208039663614854,2.252200456887151,2.2972444660248938,2.343189355345392,2.3900531424522997,2.4378542053013459,2.4866112894073726,2.53634351519552,2.5870703854994304,2.6388117932094191,2.6915880290736074,2.7454197896550796,2.8003281854481812,2.8563347491571447,2.9134614441402875,2.9717306730230932,3.0311652864835552,3.0917885922132262,3.1536243640574906,3.2166968513386403]
[null,null,"Ricavi","euro",{"$f":"E52*E53","v":24600},30090,38182.68,38946.333599999998,39725.260272,40519.76547744,41330.160786988803,42156.764002728574,42999.899282783153,43859.897268438814,0,0,0,0,0,0,0,0,0,0,0,0,0,0,0,0,0,0,0,0,0,0,0,0,0,0,0,0,0,0,0,0,0,0,0,0,0,0,0,0,0,0,0,0,0,0,0,0,0,0]
[]
[null,null,"Ricavo 1 ",null,{"$f":"'2 Descrizione Progetto'!$D$20","v":1},{"$f":"IF(E56=\"anno esterno\",\"anno esterno\",IF(E56+1<='2 Descrizione Progetto'!$D$22,E56+1,\"anno esterno\"))","v":2},{"$f":"IF(F56=\"anno esterno\",\"anno esterno\",IF(F56+1<='2 Descrizione Progetto'!$D$22,F56+1,\"anno esterno\"))","v":3},{"$f":"IF(G56=\"anno esterno\",\"anno esterno\",IF(G56+1<='2 Descrizione Progetto'!$D$22,G56+1,\"anno esterno\"))","v":4},{"$f":"IF(H56=\"anno esterno\",\"anno esterno\",IF(H56+1<='2 Descrizione Progetto'!$D$22,H56+1,\"anno esterno\"))","v":5},{"$f":"IF(I56=\"anno esterno\",\"anno esterno\",IF(I56+1<='2 Descrizione Progetto'!$D$22,I56+1,\"anno esterno\"))","v":6},{"$f":"IF(J56=\"anno esterno\",\"anno esterno\",IF(J56+1<='2 Descrizione Progetto'!$D$22,J56+1,\"anno esterno\"))","v":7},{"$f":"IF(K56=\"anno esterno\",\"anno esterno\",IF(K56+1<='2 Descrizione Progetto'!$D$22,K56+1,\"anno esterno\"))","v":8},{"$f":"IF(L56=\"anno esterno\",\"anno esterno\",IF(L56+1<='2 Descrizione Progetto'!$D$22,L56+1,\"anno esterno\"))","v":9},{"$f":"IF(M56=\"anno esterno\",\"anno esterno\",IF(M56+1<='2 Descrizione Progetto'!$D$22,M56+1,\"anno esterno\"))","v":10},{"$f":"IF(N56=\"anno esterno\",\"anno esterno\",IF(N56+1<='2 Descrizione Progetto'!$D$22,N56+1,\"anno esterno\"))","v":"anno esterno"},{"$f":"IF(O56=\"anno esterno\",\"anno esterno\",IF(O56+1<='2 Descrizione Progetto'!$D$22,O56+1,\"anno esterno\"))","v":"anno esterno"},{"$f":"IF(P56=\"anno esterno\",\"anno esterno\",IF(P56+1<='2 Descrizione Progetto'!$D$22,P56+1,\"anno esterno\"))","v":"anno esterno"},{"$f":"IF(Q56=\"anno esterno\",\"anno esterno\",IF(Q56+1<='2 Descrizione Progetto'!$D$22,Q56+1,\"anno esterno\"))","v":"anno esterno"},{"$f":"IF(R56=\"anno esterno\",\"anno esterno\",IF(R56+1<='2 Descrizione Progetto'!$D$22,R56+1,\"anno esterno\"))","v":"anno esterno"},{"$f":"IF(S56=\"anno esterno\",\"anno esterno\",IF(S56+1<='2 Descrizione Progetto'!$D$22,S56+1,\"anno esterno\"))","v":"anno esterno"},{"$f":"IF(T56=\"anno esterno\",\"anno esterno\",IF(T56+1<='2 Descrizione Progetto'!$D$22,T56+1,\"anno esterno\"))","v":"anno esterno"},{"$f":"IF(U56=\"anno esterno\",\"anno esterno\",IF(U56+1<='2 Descrizione Progetto'!$D$22,U56+1,\"anno esterno\"))","v":"anno esterno"},{"$f":"IF(V56=\"anno esterno\",\"anno esterno\",IF(V56+1<='2 Descrizione Progetto'!$D$22,V56+1,\"anno esterno\"))","v":"anno esterno"},{"$f":"IF(W56=\"anno esterno\",\"anno esterno\",IF(W56+1<='2 Descrizione Progetto'!$D$22,W56+1,\"anno esterno\"))","v":"anno esterno"},{"$f":"IF(X56=\"anno esterno\",\"anno esterno\",IF(X56+1<='2 Descrizione Progetto'!$D$22,X56+1,\"anno esterno\"))","v":"anno esterno"},{"$f":"IF(Y56=\"anno esterno\",\"anno esterno\",IF(Y56+1<='2 Descrizione Progetto'!$D$22,Y56+1,\"anno esterno\"))","v":"anno esterno"},{"$f":"IF(Z56=\"anno esterno\",\"anno esterno\",IF(Z56+1<='2 Descrizione Progetto'!$D$22,Z56+1,\"anno esterno\"))","v":"anno esterno"},{"$f":"IF(AA56=\"anno esterno\",\"anno esterno\",IF(AA56+1<='2 Descrizione Progetto'!$D$22,AA56+1,\"anno esterno\"))","v":"anno esterno"},{"$f":"IF(AB56=\"anno esterno\",\"anno esterno\",IF(AB56+1<='2 Descrizione Progetto'!$D$22,AB56+1,\"anno esterno\"))","v":"anno esterno"},{"$f":"IF(AC56=\"anno esterno\",\"anno esterno\",IF(AC56+1<='2 Descrizione Progetto'!$D$22,AC56+1,\"anno esterno\"))","v":"anno esterno"},{"$f":"IF(AD56=\"anno esterno\",\"anno esterno\",IF(AD56+1<='2 Descrizione Progetto'!$D$22,AD56+1,\"anno esterno\"))","v":"anno esterno"},{"$f":"IF(AE56=\"anno esterno\",\"anno esterno\",IF(AE56+1<='2 Descrizione Progetto'!$D$22,AE56+1,\"anno esterno\"))","v":"anno esterno"},{"$f":"IF(AF56=\"anno esterno\",\"anno esterno\",IF(AF56+1<='2 Descrizione Progetto'!$D$22,AF56+1,\"anno esterno\"))","v":"anno esterno"},{"$f":"IF(AG56=\"anno esterno\",\"anno esterno\",IF(AG56+1<='2 Descrizione Progetto'!$D$22,AG56+1,\"anno esterno\"))","v":"anno esterno"},{"$f":"IF(AH56=\"anno esterno\",\"anno esterno\",IF(AH56+1<='2 Descrizione Progetto'!$D$22,AH56+1,\"anno esterno\"))","v":"anno esterno"},{"$f":"IF(AI56=\"anno esterno\",\"anno esterno\",IF(AI56+1<='2 Descrizione Progetto'!$D$22,AI56+1,\"anno esterno\"))","v":"anno esterno"},{"$f":"IF(AJ56=\"anno esterno\",\"anno esterno\",IF(AJ56+1<='2 Descrizione Progetto'!$D$22,AJ56+1,\"anno esterno\"))","v":"anno esterno"},{"$f":"IF(AK56=\"anno esterno\",\"anno esterno\",IF(AK56+1<='2 Descrizione Progetto'!$D$22,AK56+1,\"anno esterno\"))","v":"anno esterno"},{"$f":"IF(AL56=\"anno esterno\",\"anno esterno\",IF(AL56+1<='2 Descrizione Progetto'!$D$22,AL56+1,\"anno esterno\"))","v":"anno esterno"},{"$f":"IF(AM56=\"anno esterno\",\"anno esterno\",IF(AM56+1<='2 Descrizione Progetto'!$D$22,AM56+1,\"anno esterno\"))","v":"anno esterno"},{"$f":"IF(AN56=\"anno esterno\",\"anno esterno\",IF(AN56+1<='2 Descrizione Progetto'!$D$22,AN56+1,\"anno esterno\"))","v":"anno esterno"},{"$f":"IF(AO56=\"anno esterno\",\"anno esterno\",IF(AO56+1<='2 Descrizione Progetto'!$D$22,AO56+1,\"anno esterno\"))","v":"anno esterno"},{"$f":"IF(AP56=\"anno esterno\",\"anno esterno\",IF(AP56+1<='2 Descrizione Progetto'!$D$22,AP56+1,\"anno esterno\"))","v":"anno esterno"},{"$f":"IF(AQ56=\"anno esterno\",\"anno esterno\",IF(AQ56+1<='2 Descrizione Progetto'!$D$22,AQ56+1,\"anno esterno\"))","v":"anno esterno"},{"$f":"IF(AR56=\"anno esterno\",\"anno esterno\",IF(AR56+1<='2 Descrizione Progetto'!$D$22,AR56+1,\"anno esterno\"))","v":"anno esterno"},{"$f":"IF(AS56=\"anno esterno\",\"anno esterno\",IF(AS56+1<='2 Descrizione Progetto'!$D$22,AS56+1,\"anno esterno\"))","v":"anno esterno"},{"$f":"IF(AT56=\"anno esterno\",\"anno esterno\",IF(AT56+1<='2 Descrizione Progetto'!$D$22,AT56+1,\"anno esterno\"))","v":"anno esterno"},{"$f":"IF(AU56=\"anno esterno\",\"anno esterno\",IF(AU56+1<='2 Descrizione Progetto'!$D$22,AU56+1,\"anno esterno\"))","v":"anno esterno"},{"$f":"IF(AV56=\"anno esterno\",\"anno esterno\",IF(AV56+1<='2 Descrizione Progetto'!$D$22,AV56+1,\"anno esterno\"))","v":"anno esterno"},{"$f":"IF(AW56=\"anno esterno\",\"anno esterno\",IF(AW56+1<='2 Descrizione Progetto'!$D$22,AW56+1,\"anno esterno\"))","v":"anno esterno"},{"$f":"IF(AX56=\"anno esterno\",\"anno esterno\",IF(AX56+1<='2 Descrizione Progetto'!$D$22,AX56+1,\"anno esterno\"))","v":"anno esterno"},{"$f":"IF(AY56=\"anno esterno\",\"anno esterno\",IF(AY56+1<='2 Descrizione Progetto'!$D$22,AY56+1,\"anno esterno\"))","v":"anno esterno"},{"$f":"IF(AZ56=\"anno esterno\",\"anno esterno\",IF(AZ56+1<='2 Descrizione Progetto'!$D$22,AZ56+1,\"anno esterno\"))","v":"anno esterno"},{"$f":"IF(BA56=\"anno esterno\",\"anno esterno\",IF(BA56+1<='2 Descrizione Progetto'!$D$22,BA56+1,\"anno esterno\"))","v":"anno esterno"},{"$f":"IF(BB56=\"anno esterno\",\"anno esterno\",IF(BB56+1<='2 Descrizione Progetto'!$D$22,BB56+1,\"anno esterno\"))","v":"anno esterno"},{"$f":"IF(BC56=\"anno esterno\",\"anno esterno\",IF(BC56+1<='2 Descrizione Progetto'!$D$22,BC56+1,\"anno esterno\"))","v":"anno esterno"},{"$f":"IF(BD56=\"anno esterno\",\"anno esterno\",IF(BD56+1<='2 Descrizione Progetto'!$D$22,BD56+1,\"anno esterno\"))","v":"anno esterno"},{"$f":"IF(BE56=\"anno esterno\",\"anno esterno\",IF(BE56+1<='2 Descrizione Progetto'!$D$22,BE56+1,\"anno esterno\"))","v":"anno esterno"},{"$f":"IF(BF56=\"anno esterno\",\"anno esterno\",IF(BF56+1<='2 Descrizione Progetto'!$D$22,BF56+1,\"anno esterno\"))","v":"anno esterno"},{"$f":"IF(BG56=\"anno esterno\",\"anno esterno\",IF(BG56+1<='2 Descrizione Progetto'!$D$22,BG56+1,\"anno esterno\"))","v":"anno esterno"},{"$f":"IF(BH56=\"anno esterno\",\"anno esterno\",IF(BH56+1<='2 Descrizione Progetto'!$D$22,BH56+1,\"anno esterno\"))","v":"anno esterno"},{"$f":"IF(BI56=\"anno esterno\",\"anno esterno\",IF(BI56+1<='2 Descrizione Progetto'!$D$22,BI56+1,\"anno esterno\"))","v":"anno esterno"},{"$f":"IF(BJ56=\"anno esterno\",\"anno esterno\",IF(BJ56+1<='2 Descrizione Progetto'!$D$22,BJ56+1,\"anno esterno\"))","v":"anno esterno"},{"$f":"IF(BK56=\"anno esterno\",\"anno esterno\",IF(BK56+1<='2 Descrizione Progetto'!$D$22,BK56+1,\"anno esterno\"))","v":"anno esterno"}]
[null,null,"Domanda ","k-unità fisiche",{"$f":"'3 Costi-Ricavi'!D8","v":0},{"$f":"'3 Costi-Ricavi'!E8","v":2500},{"$f":"'3 Costi-Ricavi'!F8","v":2500},{"$f":"'3 Costi-Ricavi'!G8","v":2500},{"$f":"'3 Costi-Ricavi'!H8","v":2500},{"$f":"'3 Costi-Ricavi'!I8","v":2500},{"$f":"'3 Costi-Ricavi'!J8","v":2500},{"$f":"'3 Costi-Ricavi'!K8","v":2500},{"$f":"'3 Costi-Ricavi'!L8","v":2500},{"$f":"'3 Costi-Ricavi'!M8","v":2500},{"$f":"'3 Costi-Ricavi'!N8","v":0},{"$f":"'3 Costi-Ricavi'!O8","v":0},{"$f":"'3 Costi-Ricavi'!P8","v":0},{"$f":"'3 Costi-Ricavi'!Q8","v":0},{"$f":"'3 Costi-Ricavi'!R8","v":0},{"$f":"'3 Costi-Ricavi'!S8","v":0},{"$f":"'3 Costi-Ricavi'!T8","v":0},{"$f":"'3 Costi-Ricavi'!U8","v":0},{"$f":"'3 Costi-Ricavi'!V8","v":0},{"$f":"'3 Costi-Ricavi'!W8","v":0},{"$f":"'3 Costi-Ricavi'!X8","v":0},{"$f":"'3 Costi-Ricavi'!Y8","v":0},{"$f":"'3 Costi-Ricavi'!Z8","v":0},{"$f":"'3 Costi-Ricavi'!AA8","v":0},{"$f":"'3 Costi-Ricavi'!AB8","v":0},{"$f":"'3 Costi-Ricavi'!AC8","v":0},{"$f":"'3 Costi-Ricavi'!AD8","v":0},{"$f":"'3 Costi-Ricavi'!AE8","v":0},{"$f":"'3 Costi-Ricavi'!AF8","v":0},{"$f":"'3 Costi-Ricavi'!AG8","v":0},{"$f":"'3 Costi-Ricavi'!AH8","v":0},{"$f":"'3 Costi-Ricavi'!AI8","v":0},{"$f":"'3 Costi-Ricavi'!AJ8","v":0},{"$f":"'3 Costi-Ricavi'!AK8","v":0},{"$f":"'3 Costi-Ricavi'!AL8","v":0},{"$f":"'3 Costi-Ricavi'!AM8","v":0},{"$f":"'3 Costi-Ricavi'!AN8","v":0},{"$f":"'3 Costi-Ricavi'!AO8","v":0},{"$f":"'3 Costi-Ricavi'!AP8","v":0},{"$f":"'3 Costi-Ricavi'!AQ8","v":0},{"$f":"'3 Costi-Ricavi'!AR8","v":0},{"$f":"'3 Costi-Ricavi'!AS8","v":0},{"$f":"'3 Costi-Ricavi'!AT8","v":0},{"$f":"'3 Costi-Ricavi'!AU8","v":0},{"$f":"'3 Costi-Ricavi'!AV8","v":0},{"$f":"'3 Costi-Ricavi'!AW8","v":0},{"$f":"'3 Costi-Ricavi'!AX8","v":0},{"$f":"'3 Costi-Ricavi'!AY8","v":0},{"$f":"'3 Costi-Ricavi'!AZ8","v":0},{"$f":"'3 Costi-Ricavi'!BA8","v":0},{"$f":"'3 Costi-Ricavi'!BB8","v":0},{"$f":"'3 Costi-Ricavi'!BC8","v":0},{"$f":"'3 Costi-Ricavi'!BD8","v":0},{"$f":"'3 Costi-Ricavi'!BE8","v":0},{"$f":"'3 Costi-Ricavi'!BF8","v":0},{"$f":"'3 Costi-Ricavi'!BG8","v":0},{"$f":"'3 Costi-Ricavi'!BH8","v":0},{"$f":"'3 Costi-Ricavi'!BI8","v":0},{"$f":"'3 Costi-Ricavi'!BJ8","v":0},{"$f":"'3 Costi-Ricavi'!BK8","v":0}]
[null,null,"Tariffa unitaria ","euro/unità",{"$f":"F30","v":1},{"$f":"E58*(1+$G$30)","v":1.02},1.0404,1.0612079999999999,1.08243216,1.1040808032,1.1261624192640001,1.14868566764928,1.1716593810022657,1.1950925686223111,1.2189944199947573,1.2433743083946525,1.2682417945625455,1.2936066304537963,1.3194787630628724,1.3458683383241299,1.3727857050906125,1.4002414191924248,1.4282462475762734,1.4568111725277988,1.4859473959783549,1.5156663438979221,1.5459796707758806,1.5768992641913981,1.6084372494752261,1.6406059944647307,1.6734181143540252,1.7068864766411058,1.7410242061739281,1.7758446902974065,1.8113615841033548,1.8475888157854219,1.8845405921011305,1.9222314039431532,1.9606760320220162,1.9998895526624565,2.0398873437157055,2.0806850905900198,2.1222987924018204,2.1647447682498568,2.208039663614854,2.252200456887151,2.2972444660248938,2.343189355345392,2.3900531424522997,2.4378542053013459,2.4866112894073726,2.53634351519552,2.5870703854994304,2.6388117932094191,2.6915880290736074,2.7454197896550796,2.8003281854481812,2.8563347491571447,2.9134614441402875,2.9717306730230932,3.0311652864835552,3.0917885922132262,3.1536243640574906,3.2166968513386403]
[null,null,"Ricavi","euro",{"$f":"E57*E58","v":0},2550,2601,2653.02,2706.0803999999998,2760.2020080000002,2815.40604816,2871.7141691232,2929.1484525056644,2987.7314215557776,0,0,0,0,0,0,0,0,0,0,0,0,0,0,0,0,0,0,0,0,0,0,0,0,0,0,0,0,0,0,0,0,0,0,0,0,0,0,0,0,0,0,0,0,0,0,0,0,0,0]
[]
[null,null,"Ricavo 1 ",null,{"$f":"'2 Descrizione Progetto'!$D$20","v":1},{"$f":"IF(E61=\"anno esterno\",\"anno esterno\",IF(E61+1<='2 Descrizione Progetto'!$D$22,E61+1,\"anno esterno\"))","v":2},{"$f":"IF(F61=\"anno esterno\",\"anno esterno\",IF(F61+1<='2 Descrizione Progetto'!$D$22,F61+1,\"anno esterno\"))","v":3},{"$f":"IF(G61=\"anno esterno\",\"anno esterno\",IF(G61+1<='2 Descrizione Progetto'!$D$22,G61+1,\"anno esterno\"))","v":4},{"$f":"IF(H61=\"anno esterno\",\"anno esterno\",IF(H61+1<='2 Descrizione Progetto'!$D$22,H61+1,\"anno esterno\"))","v":5},{"$f":"IF(I61=\"anno esterno\",\"anno esterno\",IF(I61+1<='2 Descrizione Progetto'!$D$22,I61+1,\"anno esterno\"))","v":6},{"$f":"IF(J61=\"anno esterno\",\"anno esterno\",IF(J61+1<='2 Descrizione Progetto'!$D$22,J61+1,\"anno esterno\"))","v":7},{"$f":"IF(K61=\"anno esterno\",\"anno esterno\",IF(K61+1<='2 Descrizione Progetto'!$D$22,K61+1,\"anno esterno\"))","v":8},{"$f":"IF(L61=\"anno esterno\",\"anno esterno\",IF(L61+1<='2 Descrizione Progetto'!$D$22,L61+1,\"anno esterno\"))","v":9},{"$f":"IF(M61=\"anno esterno\",\"anno esterno\",IF(M61+1<='2 Descrizione Progetto'!$D$22,M61+1,\"anno esterno\"))","v":10},{"$f":"IF(N61=\"anno esterno\",\"anno esterno\",IF(N61+1<='2 Descrizione Progetto'!$D$22,N61+1,\"anno esterno\"))","v":"anno esterno"},{"$f":"IF(O61=\"anno esterno\",\"anno esterno\",IF(O61+1<='2 Descrizione Progetto'!$D$22,O61+1,\"anno esterno\"))","v":"anno esterno"},{"$f":"IF(P61=\"anno esterno\",\"anno esterno\",IF(P61+1<='2 Descrizione Progetto'!$D$22,P61+1,\"anno esterno\"))","v":"anno esterno"},{"$f":"IF(Q61=\"anno esterno\",\"anno esterno\",IF(Q61+1<='2 Descrizione Progetto'!$D$22,Q61+1,\"anno esterno\"))","v":"anno esterno"},{"$f":"IF(R61=\"anno esterno\",\"anno esterno\",IF(R61+1<='2 Descrizione Progetto'!$D$22,R61+1,\"anno esterno\"))","v":"anno esterno"},{"$f":"IF(S61=\"anno esterno\",\"anno esterno\",IF(S61+1<='2 Descrizione Progetto'!$D$22,S61+1,\"anno esterno\"))","v":"anno esterno"},{"$f":"IF(T61=\"anno esterno\",\"anno esterno\",IF(T61+1<='2 Descrizione Progetto'!$D$22,T61+1,\"anno esterno\"))","v":"anno esterno"},{"$f":"IF(U61=\"anno esterno\",\"anno esterno\",IF(U61+1<='2 Descrizione Progetto'!$D$22,U61+1,\"anno esterno\"))","v":"anno esterno"},{"$f":"IF(V61=\"anno esterno\",\"anno esterno\",IF(V61+1<='2 Descrizione Progetto'!$D$22,V61+1,\"anno esterno\"))","v":"anno esterno"},{"$f":"IF(W61=\"anno esterno\",\"anno esterno\",IF(W61+1<='2 Descrizione Progetto'!$D$22,W61+1,\"anno esterno\"))","v":"anno esterno"},{"$f":"IF(X61=\"anno esterno\",\"anno esterno\",IF(X61+1<='2 Descrizione Progetto'!$D$22,X61+1,\"anno esterno\"))","v":"anno esterno"},{"$f":"IF(Y61=\"anno esterno\",\"anno esterno\",IF(Y61+1<='2 Descrizione Progetto'!$D$22,Y61+1,\"anno esterno\"))","v":"anno esterno"},{"$f":"IF(Z61=\"anno esterno\",\"anno esterno\",IF(Z61+1<='2 Descrizione Progetto'!$D$22,Z61+1,\"anno esterno\"))","v":"anno esterno"},{"$f":"IF(AA61=\"anno esterno\",\"anno esterno\",IF(AA61+1<='2 Descrizione Progetto'!$D$22,AA61+1,\"anno esterno\"))","v":"anno esterno"},{"$f":"IF(AB61=\"anno esterno\",\"anno esterno\",IF(AB61+1<='2 Descrizione Progetto'!$D$22,AB61+1,\"anno esterno\"))","v":"anno esterno"},{"$f":"IF(AC61=\"anno esterno\",\"anno esterno\",IF(AC61+1<='2 Descrizione Progetto'!$D$22,AC61+1,\"anno esterno\"))","v":"anno esterno"},{"$f":"IF(AD61=\"anno esterno\",\"anno esterno\",IF(AD61+1<='2 Descrizione Progetto'!$D$22,AD61+1,\"anno esterno\"))","v":"anno esterno"},{"$f":"IF(AE61=\"anno esterno\",\"anno esterno\",IF(AE61+1<='2 Descrizione Progetto'!$D$22,AE61+1,\"anno esterno\"))","v":"anno esterno"},{"$f":"IF(AF61=\"anno esterno\",\"anno esterno\",IF(AF61+1<='2 Descrizione Progetto'!$D$22,AF61+1,\"anno esterno\"))","v":"anno esterno"},{"$f":"IF(AG61=\"anno esterno\",\"anno esterno\",IF(AG61+1<='2 Descrizione Progetto'!$D$22,AG61+1,\"anno esterno\"))","v":"anno esterno"},{"$f":"IF(AH61=\"anno esterno\",\"anno esterno\",IF(AH61+1<='2 Descrizione Progetto'!$D$22,AH61+1,\"anno esterno\"))","v":"anno esterno"},{"$f":"IF(AI61=\"anno esterno\",\"anno esterno\",IF(AI61+1<='2 Descrizione Progetto'!$D$22,AI61+1,\"anno esterno\"))","v":"anno esterno"},{"$f":"IF(AJ61=\"anno esterno\",\"anno esterno\",IF(AJ61+1<='2 Descrizione Progetto'!$D$22,AJ61+1,\"anno esterno\"))","v":"anno esterno"},{"$f":"IF(AK61=\"anno esterno\",\"anno esterno\",IF(AK61+1<='2 Descrizione Progetto'!$D$22,AK61+1,\"anno esterno\"))","v":"anno esterno"},{"$f":"IF(AL61=\"anno esterno\",\"anno esterno\",IF(AL61+1<='2 Descrizione Progetto'!$D$22,AL61+1,\"anno esterno\"))","v":"anno esterno"},{"$f":"IF(AM61=\"anno esterno\",\"anno esterno\",IF(AM61+1<='2 Descrizione Progetto'!$D$22,AM61+1,\"anno esterno\"))","v":"anno esterno"},{"$f":"IF(AN61=\"anno esterno\",\"anno esterno\",IF(AN61+1<='2 Descrizione Progetto'!$D$22,AN61+1,\"anno esterno\"))","v":"anno esterno"},{"$f":"IF(AO61=\"anno esterno\",\"anno esterno\",IF(AO61+1<='2 Descrizione Progetto'!$D$22,AO61+1,\"anno esterno\"))","v":"anno esterno"},{"$f":"IF(AP61=\"anno esterno\",\"anno esterno\",IF(AP61+1<='2 Descrizione Progetto'!$D$22,AP61+1,\"anno esterno\"))","v":"anno esterno"},{"$f":"IF(AQ61=\"anno esterno\",\"anno esterno\",IF(AQ61+1<='2 Descrizione Progetto'!$D$22,AQ61+1,\"anno esterno\"))","v":"anno esterno"},{"$f":"IF(AR61=\"anno esterno\",\"anno esterno\",IF(AR61+1<='2 Descrizione Progetto'!$D$22,AR61+1,\"anno esterno\"))","v":"anno esterno"},{"$f":"IF(AS61=\"anno esterno\",\"anno esterno\",IF(AS61+1<='2 Descrizione Progetto'!$D$22,AS61+1,\"anno esterno\"))","v":"anno esterno"},{"$f":"IF(AT61=\"anno esterno\",\"anno esterno\",IF(AT61+1<='2 Descrizione Progetto'!$D$22,AT61+1,\"anno esterno\"))","v":"anno esterno"},{"$f":"IF(AU61=\"anno esterno\",\"anno esterno\",IF(AU61+1<='2 Descrizione Progetto'!$D$22,AU61+1,\"anno esterno\"))","v":"anno esterno"},{"$f":"IF(AV61=\"anno esterno\",\"anno esterno\",IF(AV61+1<='2 Descrizione Progetto'!$D$22,AV61+1,\"anno esterno\"))","v":"anno esterno"},{"$f":"IF(AW61=\"anno esterno\",\"anno esterno\",IF(AW61+1<='2 Descrizione Progetto'!$D$22,AW61+1,\"anno esterno\"))","v":"anno esterno"},{"$f":"IF(AX61=\"anno esterno\",\"anno esterno\",IF(AX61+1<='2 Descrizione Progetto'!$D$22,AX61+1,\"anno esterno\"))","v":"anno esterno"},{"$f":"IF(AY61=\"anno esterno\",\"anno esterno\",IF(AY61+1<='2 Descrizione Progetto'!$D$22,AY61+1,\"anno esterno\"))","v":"anno esterno"},{"$f":"IF(AZ61=\"anno esterno\",\"anno esterno\",IF(AZ61+1<='2 Descrizione Progetto'!$D$22,AZ61+1,\"anno esterno\"))","v":"anno esterno"},{"$f":"IF(BA61=\"anno esterno\",\"anno esterno\",IF(BA61+1<='2 Descrizione Progetto'!$D$22,BA61+1,\"anno esterno\"))","v":"anno esterno"},{"$f":"IF(BB61=\"anno esterno\",\"anno esterno\",IF(BB61+1<='2 Descrizione Progetto'!$D$22,BB61+1,\"anno esterno\"))","v":"anno esterno"},{"$f":"IF(BC61=\"anno esterno\",\"anno esterno\",IF(BC61+1<='2 Descrizione Progetto'!$D$22,BC61+1,\"anno esterno\"))","v":"anno esterno"},{"$f":"IF(BD61=\"anno esterno\",\"anno esterno\",IF(BD61+1<='2 Descrizione Progetto'!$D$22,BD61+1,\"anno esterno\"))","v":"anno esterno"},{"$f":"IF(BE61=\"anno esterno\",\"anno esterno\",IF(BE61+1<='2 Descrizione Progetto'!$D$22,BE61+1,\"anno esterno\"))","v":"anno esterno"},{"$f":"IF(BF61=\"anno esterno\",\"anno esterno\",IF(BF61+1<='2 Descrizione Progetto'!$D$22,BF61+1,\"anno esterno\"))","v":"anno esterno"},{"$f":"IF(BG61=\"anno esterno\",\"anno esterno\",IF(BG61+1<='2 Descrizione Progetto'!$D$22,BG61+1,\"anno esterno\"))","v":"anno esterno"},{"$f":"IF(BH61=\"anno esterno\",\"anno esterno\",IF(BH61+1<='2 Descrizione Progetto'!$D$22,BH61+1,\"anno esterno\"))","v":"anno esterno"},{"$f":"IF(BI61=\"anno esterno\",\"anno esterno\",IF(BI61+1<='2 Descrizione Progetto'!$D$22,BI61+1,\"anno esterno\"))","v":"anno esterno"},{"$f":"IF(BJ61=\"anno esterno\",\"anno esterno\",IF(BJ61+1<='2 Descrizione Progetto'!$D$22,BJ61+1,\"anno esterno\"))","v":"anno esterno"},{"$f":"IF(BK61=\"anno esterno\",\"anno esterno\",IF(BK61+1<='2 Descrizione Progetto'!$D$22,BK61+1,\"anno esterno\"))","v":"anno esterno"}]
[null,null,"Domanda ","k-unità fisiche",{"$f":"'3 Costi-Ricavi'!D9","v":0},{"$f":"'3 Costi-Ricavi'!E9","v":0},{"$f":"'3 Costi-Ricavi'!F9","v":0},{"$f":"'3 Costi-Ricavi'!G9","v":0},{"$f":"'3 Costi-Ricavi'!H9","v":0},{"$f":"'3 Costi-Ricavi'!I9","v":0},{"$f":"'3 Costi-Ricavi'!J9","v":0},{"$f":"'3 Costi-Ricavi'!K9","v":0},{"$f":"'3 Costi-Ricavi'!L9","v":0},{"$f":"'3 Costi-Ricavi'!M9","v":0},{"$f":"'3 Costi-Ricavi'!N9","v":0},{"$f":"'3 Costi-Ricavi'!O9","v":0},{"$f":"'3 Costi-Ricavi'!P9","v":0},{"$f":"'3 Costi-Ricavi'!Q9","v":0},{"$f":"'3 Costi-Ricavi'!R9","v":0},{"$f":"'3 Costi-Ricavi'!S9","v":0},{"$f":"'3 Costi-Ricavi'!T9","v":0},{"$f":"'3 Costi-Ricavi'!U9","v":0},{"$f":"'3 Costi-Ricavi'!V9","v":0},{"$f":"'3 Costi-Ricavi'!W9","v":0},{"$f":"'3 Costi-Ricavi'!X9","v":0},{"$f":"'3 Costi-Ricavi'!Y9","v":0},{"$f":"'3 Costi-Ricavi'!Z9","v":0},{"$f":"'3 Costi-Ricavi'!AA9","v":0},{"$f":"'3 Costi-Ricavi'!AB9","v":0},{"$f":"'3 Costi-Ricavi'!AC9","v":0},{"$f":"'3 Costi-Ricavi'!AD9","v":0},{"$f":"'3 Costi-Ricavi'!AE9","v":0},{"$f":"'3 Costi-Ricavi'!AF9","v":0},{"$f":"'3 Costi-Ricavi'!AG9","v":0},{"$f":"'3 Costi-Ricavi'!AH9","v":0},{"$f":"'3 Costi-Ricavi'!AI9","v":0},{"$f":"'3 Costi-Ricavi'!AJ9","v":0},{"$f":"'3 Costi-Ricavi'!AK9","v":0},{"$f":"'3 Costi-Ricavi'!AL9","v":0},{"$f":"'3 Costi-Ricavi'!AM9","v":0},{"$f":"'3 Costi-Ricavi'!AN9","v":0},{"$f":"'3 Costi-Ricavi'!AO9","v":0},{"$f":"'3 Costi-Ricavi'!AP9","v":0},{"$f":"'3 Costi-Ricavi'!AQ9","v":0},{"$f":"'3 Costi-Ricavi'!AR9","v":0},{"$f":"'3 Costi-Ricavi'!AS9","v":0},{"$f":"'3 Costi-Ricavi'!AT9","v":0},{"$f":"'3 Costi-Ricavi'!AU9","v":0},{"$f":"'3 Costi-Ricavi'!AV9","v":0},{"$f":"'3 Costi-Ricavi'!AW9","v":0},{"$f":"'3 Costi-Ricavi'!AX9","v":0},{"$f":"'3 Costi-Ricavi'!AY9","v":0},{"$f":"'3 Costi-Ricavi'!AZ9","v":0},{"$f":"'3 Costi-Ricavi'!BA9","v":0},{"$f":"'3 Costi-Ricavi'!BB9","v":0},{"$f":"'3 Costi-Ricavi'!BC9","v":0},{"$f":"'3 Costi-Ricavi'!BD9","v":0},{"$f":"'3 Costi-Ricavi'!BE9","v":0},{"$f":"'3 Costi-Ricavi'!BF9","v":0},{"$f":"'3 Costi-Ricavi'!BG9","v":0},{"$f":"'3 Costi-Ricavi'!BH9","v":0},{"$f":"'3 Costi-Ricavi'!BI9","v":0},{"$f":"'3 Costi-Ricavi'!BJ9","v":0},{"$f":"'3 Costi-Ricavi'!BK9","v":0}]
[null,null,"Tariffa unitaria ","euro/unità",{"$f":"F31","v":1},{"$f":"E63*(1+$G$31)","v":1.02},1.0404,1.0612079999999999,1.08243216,1.1040808032,1.1261624192640001,1.14868566764928,1.1716593810022657,1.1950925686223111,1.2189944199947573,1.2433743083946525,1.2682417945625455,1.2936066304537963,1.3194787630628724,1.3458683383241299,1.3727857050906125,1.4002414191924248,1.4282462475762734,1.4568111725277988,1.4859473959783549,1.5156663438979221,1.5459796707758806,1.5768992641913981,1.6084372494752261,1.6406059944647307,1.6734181143540252,1.7068864766411058,1.7410242061739281,1.7758446902974065,1.8113615841033548,1.8475888157854219,1.8845405921011305,1.9222314039431532,1.9606760320220162,1.9998895526624565,2.0398873437157055,2.0806850905900198,2.1222987924018204,2.1647447682498568,2.208039663614854,2.252200456887151,2.2972444660248938,2.343189355345392,2.3900531424522997,2.4378542053013459,2.4866112894073726,2.53634351519552,2.5870703854994304,2.6388117932094191,2.6915880290736074,2.7454197896550796,2.8003281854481812,2.8563347491571447,2.9134614441402875,2.9717306730230932,3.0311652864835552,3.0917885922132262,3.1536243640574906,3.2166968513386403]
[null,null,"Ricavi","euro",{"$f":"E62*E63","v":0},0,0,0,0,0,0,0,0,0,0,0,0,0,0,0,0,0,0,0,0,0,0,0,0,0,0,0,0,0,0,0,0,0,0,0,0,0,0,0,0,0,0,0,0,0,0,0,0,0,0,0,0,0,0,0,0,0,0,0]
[]
[null,null,"Ricavo 1 ",null,{"$f":"'2 Descrizione Progetto'!$D$20","v":1},{"$f":"IF(E66=\"anno esterno\",\"anno esterno\",IF(E66+1<='2 Descrizione Progetto'!$D$22,E66+1,\"anno esterno\"))","v":2},{"$f":"IF(F66=\"anno esterno\",\"anno esterno\",IF(F66+1<='2 Descrizione Progetto'!$D$22,F66+1,\"anno esterno\"))","v":3},{"$f":"IF(G66=\"anno esterno\",\"anno esterno\",IF(G66+1<='2 Descrizione Progetto'!$D$22,G66+1,\"anno esterno\"))","v":4},{"$f":"IF(H66=\"anno esterno\",\"anno esterno\",IF(H66+1<='2 Descrizione Progetto'!$D$22,H66+1,\"anno esterno\"))","v":5},{"$f":"IF(I66=\"anno esterno\",\"anno esterno\",IF(I66+1<='2 Descrizione Progetto'!$D$22,I66+1,\"anno esterno\"))","v":6},{"$f":"IF(J66=\"anno esterno\",\"anno esterno\",IF(J66+1<='2 Descrizione Progetto'!$D$22,J66+1,\"anno esterno\"))","v":7},{"$f":"IF(K66=\"anno esterno\",\"anno esterno\",IF(K66+1<='2 Descrizione Progetto'!$D$22,K66+1,\"anno esterno\"))","v":8},{"$f":"IF(L66=\"anno esterno\",\"anno esterno\",IF(L66+1<='2 Descrizione Progetto'!$D$22,L66+1,\"anno esterno\"))","v":9},{"$f":"IF(M66=\"anno esterno\",\"anno esterno\",IF(M66+1<='2 Descrizione Progetto'!$D$22,M66+1,\"anno esterno\"))","v":10},{"$f":"IF(N66=\"anno esterno\",\"anno esterno\",IF(N66+1<='2 Descrizione Progetto'!$D$22,N66+1,\"anno esterno\"))","v":"anno esterno"},{"$f":"IF(O66=\"anno esterno\",\"anno esterno\",IF(O66+1<='2 Descrizione Progetto'!$D$22,O66+1,\"anno esterno\"))","v":"anno esterno"},{"$f":"IF(P66=\"anno esterno\",\"anno esterno\",IF(P66+1<='2 Descrizione Progetto'!$D$22,P66+1,\"anno esterno\"))","v":"anno esterno"},{"$f":"IF(Q66=\"anno esterno\",\"anno esterno\",IF(Q66+1<='2 Descrizione Progetto'!$D$22,Q66+1,\"anno esterno\"))","v":"anno esterno"},{"$f":"IF(R66=\"anno esterno\",\"anno esterno\",IF(R66+1<='2 Descrizione Progetto'!$D$22,R66+1,\"anno esterno\"))","v":"anno esterno"},{"$f":"IF(S66=\"anno esterno\",\"anno esterno\",IF(S66+1<='2 Descrizione Progetto'!$D$22,S66+1,\"anno esterno\"))","v":"anno esterno"},{"$f":"IF(T66=\"anno esterno\",\"anno esterno\",IF(T66+1<='2 Descrizione Progetto'!$D$22,T66+1,\"anno esterno\"))","v":"anno esterno"},{"$f":"IF(U66=\"anno esterno\",\"anno esterno\",IF(U66+1<='2 Descrizione Progetto'!$D$22,U66+1,\"anno esterno\"))","v":"anno esterno"},{"$f":"IF(V66=\"anno esterno\",\"anno esterno\",IF(V66+1<='2 Descrizione Progetto'!$D$22,V66+1,\"anno esterno\"))","v":"anno esterno"},{"$f":"IF(W66=\"anno esterno\",\"anno esterno\",IF(W66+1<='2 Descrizione Progetto'!$D$22,W66+1,\"anno esterno\"))","v":"anno esterno"},{"$f":"IF(X66=\"anno esterno\",\"anno esterno\",IF(X66+1<='2 Descrizione Progetto'!$D$22,X66+1,\"anno esterno\"))","v":"anno esterno"},{"$f":"IF(Y66=\"anno esterno\",\"anno esterno\",IF(Y66+1<='2 Descrizione Progetto'!$D$22,Y66+1,\"anno esterno\"))","v":"anno esterno"},{"$f":"IF(Z66=\"anno esterno\",\"anno esterno\",IF(Z66+1<='2 Descrizione Progetto'!$D$22,Z66+1,\"anno esterno\"))","v":"anno esterno"},{"$f":"IF(AA66=\"anno esterno\",\"anno esterno\",IF(AA66+1<='2 Descrizione Progetto'!$D$22,AA66+1,\"anno esterno\"))","v":"anno esterno"},{"$f":"IF(AB66=\"anno esterno\",\"anno esterno\",IF(AB66+1<='2 Descrizione Progetto'!$D$22,AB66+1,\"anno esterno\"))","v":"anno esterno"},{"$f":"IF(AC66=\"anno esterno\",\"anno esterno\",IF(AC66+1<='2 Descrizione Progetto'!$D$22,AC66+1,\"anno esterno\"))","v":"anno esterno"},{"$f":"IF(AD66=\"anno esterno\",\"anno esterno\",IF(AD66+1<='2 Descrizione Progetto'!$D$22,AD66+1,\"anno esterno\"))","v":"anno esterno"},{"$f":"IF(AE66=\"anno esterno\",\"anno esterno\",IF(AE66+1<='2 Descrizione Progetto'!$D$22,AE66+1,\"anno esterno\"))","v":"anno esterno"},{"$f":"IF(AF66=\"anno esterno\",\"anno esterno\",IF(AF66+1<='2 Descrizione Progetto'!$D$22,AF66+1,\"anno esterno\"))","v":"anno esterno"},{"$f":"IF(AG66=\"anno esterno\",\"anno esterno\",IF(AG66+1<='2 Descrizione Progetto'!$D$22,AG66+1,\"anno esterno\"))","v":"anno esterno"},{"$f":"IF(AH66=\"anno esterno\",\"anno esterno\",IF(AH66+1<='2 Descrizione Progetto'!$D$22,AH66+1,\"anno esterno\"))","v":"anno esterno"},{"$f":"IF(AI66=\"anno esterno\",\"anno esterno\",IF(AI66+1<='2 Descrizione Progetto'!$D$22,AI66+1,\"anno esterno\"))","v":"anno esterno"},{"$f":"IF(AJ66=\"anno esterno\",\"anno esterno\",IF(AJ66+1<='2 Descrizione Progetto'!$D$22,AJ66+1,\"anno esterno\"))","v":"anno esterno"},{"$f":"IF(AK66=\"anno esterno\",\"anno esterno\",IF(AK66+1<='2 Descrizione Progetto'!$D$22,AK66+1,\"anno esterno\"))","v":"anno esterno"},{"$f":"IF(AL66=\"anno esterno\",\"anno esterno\",IF(AL66+1<='2 Descrizione Progetto'!$D$22,AL66+1,\"anno esterno\"))","v":"anno esterno"},{"$f":"IF(AM66=\"anno esterno\",\"anno esterno\",IF(AM66+1<='2 Descrizione Progetto'!$D$22,AM66+1,\"anno esterno\"))","v":"anno esterno"},{"$f":"IF(AN66=\"anno esterno\",\"anno esterno\",IF(AN66+1<='2 Descrizione Progetto'!$D$22,AN66+1,\"anno esterno\"))","v":"anno esterno"},{"$f":"IF(AO66=\"anno esterno\",\"anno esterno\",IF(AO66+1<='2 Descrizione Progetto'!$D$22,AO66+1,\"anno esterno\"))","v":"anno esterno"},{"$f":"IF(AP66=\"anno esterno\",\"anno esterno\",IF(AP66+1<='2 Descrizione Progetto'!$D$22,AP66+1,\"anno esterno\"))","v":"anno esterno"},{"$f":"IF(AQ66=\"anno esterno\",\"anno esterno\",IF(AQ66+1<='2 Descrizione Progetto'!$D$22,AQ66+1,\"anno esterno\"))","v":"anno esterno"},{"$f":"IF(AR66=\"anno esterno\",\"anno esterno\",IF(AR66+1<='2 Descrizione Progetto'!$D$22,AR66+1,\"anno esterno\"))","v":"anno esterno"},{"$f":"IF(AS66=\"anno esterno\",\"anno esterno\",IF(AS66+1<='2 Descrizione Progetto'!$D$22,AS66+1,\"anno esterno\"))","v":"anno esterno"},{"$f":"IF(AT66=\"anno esterno\",\"anno esterno\",IF(AT66+1<='2 Descrizione Progetto'!$D$22,AT66+1,\"anno esterno\"))","v":"anno esterno"},{"$f":"IF(AU66=\"anno esterno\",\"anno esterno\",IF(AU66+1<='2 Descrizione Progetto'!$D$22,AU66+1,\"anno esterno\"))","v":"anno esterno"},{"$f":"IF(AV66=\"anno esterno\",\"anno esterno\",IF(AV66+1<='2 Descrizione Progetto'!$D$22,AV66+1,\"anno esterno\"))","v":"anno esterno"},{"$f":"IF(AW66=\"anno esterno\",\"anno esterno\",IF(AW66+1<='2 Descrizione Progetto'!$D$22,AW66+1,\"anno esterno\"))","v":"anno esterno"},{"$f":"IF(AX66=\"anno esterno\",\"anno esterno\",IF(AX66+1<='2 Descrizione Progetto'!$D$22,AX66+1,\"anno esterno\"))","v":"anno esterno"},{"$f":"IF(AY66=\"anno esterno\",\"anno esterno\",IF(AY66+1<='2 Descrizione Progetto'!$D$22,AY66+1,\"anno esterno\"))","v":"anno esterno"},{"$f":"IF(AZ66=\"anno esterno\",\"anno esterno\",IF(AZ66+1<='2 Descrizione Progetto'!$D$22,AZ66+1,\"anno esterno\"))","v":"anno esterno"},{"$f":"IF(BA66=\"anno esterno\",\"anno esterno\",IF(BA66+1<='2 Descrizione Progetto'!$D$22,BA66+1,\"anno esterno\"))","v":"anno esterno"},{"$f":"IF(BB66=\"anno esterno\",\"anno esterno\",IF(BB66+1<='2 Descrizione Progetto'!$D$22,BB66+1,\"anno esterno\"))","v":"anno esterno"},{"$f":"IF(BC66=\"anno esterno\",\"anno esterno\",IF(BC66+1<='2 Descrizione Progetto'!$D$22,BC66+1,\"anno esterno\"))","v":"anno esterno"},{"$f":"IF(BD66=\"anno esterno\",\"anno esterno\",IF(BD66+1<='2 Descrizione Progetto'!$D$22,BD66+1,\"anno esterno\"))","v":"anno esterno"},{"$f":"IF(BE66=\"anno esterno\",\"anno esterno\",IF(BE66+1<='2 Descrizione Progetto'!$D$22,BE66+1,\"anno esterno\"))","v":"anno esterno"},{"$f":"IF(BF66=\"anno esterno\",\"anno esterno\",IF(BF66+1<='2 Descrizione Progetto'!$D$22,BF66+1,\"anno esterno\"))","v":"anno esterno"},{"$f":"IF(BG66=\"anno esterno\",\"anno esterno\",IF(BG66+1<='2 Descrizione Progetto'!$D$22,BG66+1,\"anno esterno\"))","v":"anno esterno"},{"$f":"IF(BH66=\"anno esterno\",\"anno esterno\",IF(BH66+1<='2 Descrizione Progetto'!$D$22,BH66+1,\"anno esterno\"))","v":"anno esterno"},{"$f":"IF(BI66=\"anno esterno\",\"anno esterno\",IF(BI66+1<='2 Descrizione Progetto'!$D$22,BI66+1,\"anno esterno\"))","v":"anno esterno"},{"$f":"IF(BJ66=\"anno esterno\",\"anno esterno\",IF(BJ66+1<='2 Descrizione Progetto'!$D$22,BJ66+1,\"anno esterno\"))","v":"anno esterno"},{"$f":"IF(BK66=\"anno esterno\",\"anno esterno\",IF(BK66+1<='2 Descrizione Progetto'!$D$22,BK66+1,\"anno esterno\"))","v":"anno esterno"}]
[null,null,"Domanda ","k-unità fisiche",{"$f":"'3 Costi-Ricavi'!D10","v":0},{"$f":"'3 Costi-Ricavi'!E10","v":0},{"$f":"'3 Costi-Ricavi'!F10","v":0},{"$f":"'3 Costi-Ricavi'!G10","v":0},{"$f":"'3 Costi-Ricavi'!H10","v":0},{"$f":"'3 Costi-Ricavi'!I10","v":0},{"$f":"'3 Costi-Ricavi'!J10","v":0},{"$f":"'3 Costi-Ricavi'!K10","v":0},{"$f":"'3 Costi-Ricavi'!L10","v":0},{"$f":"'3 Costi-Ricavi'!M10","v":0},{"$f":"'3 Costi-Ricavi'!N10","v":0},{"$f":"'3 Costi-Ricavi'!O10","v":0},{"$f":"'3 Costi-Ricavi'!P10","v":0},{"$f":"'3 Costi-Ricavi'!Q10","v":0},{"$f":"'3 Costi-Ricavi'!R10","v":0},{"$f":"'3 Costi-Ricavi'!S10","v":0},{"$f":"'3 Costi-Ricavi'!T10","v":0},{"$f":"'3 Costi-Ricavi'!U10","v":0},{"$f":"'3 Costi-Ricavi'!V10","v":0},{"$f":"'3 Costi-Ricavi'!W10","v":0},{"$f":"'3 Costi-Ricavi'!X10","v":0},{"$f":"'3 Costi-Ricavi'!Y10","v":0},{"$f":"'3 Costi-Ricavi'!Z10","v":0},{"$f":"'3 Costi-Ricavi'!AA10","v":0},{"$f":"'3 Costi-Ricavi'!AB10","v":0},{"$f":"'3 Costi-Ricavi'!AC10","v":0},{"$f":"'3 Costi-Ricavi'!AD10","v":0},{"$f":"'3 Costi-Ricavi'!AE10","v":0},{"$f":"'3 Costi-Ricavi'!AF10","v":0},{"$f":"'3 Costi-Ricavi'!AG10","v":0},{"$f":"'3 Costi-Ricavi'!AH10","v":0},{"$f":"'3 Costi-Ricavi'!AI10","v":0},{"$f":"'3 Costi-Ricavi'!AJ10","v":0},{"$f":"'3 Costi-Ricavi'!AK10","v":0},{"$f":"'3 Costi-Ricavi'!AL10","v":0},{"$f":"'3 Costi-Ricavi'!AM10","v":0},{"$f":"'3 Costi-Ricavi'!AN10","v":0},{"$f":"'3 Costi-Ricavi'!AO10","v":0},{"$f":"'3 Costi-Ricavi'!AP10","v":0},{"$f":"'3 Costi-Ricavi'!AQ10","v":0},{"$f":"'3 Costi-Ricavi'!AR10","v":0},{"$f":"'3 Costi-Ricavi'!AS10","v":0},{"$f":"'3 Costi-Ricavi'!AT10","v":0},{"$f":"'3 Costi-Ricavi'!AU10","v":0},{"$f":"'3 Costi-Ricavi'!AV10","v":0},{"$f":"'3 Costi-Ricavi'!AW10","v":0},{"$f":"'3 Costi-Ricavi'!AX10","v":0},{"$f":"'3 Costi-Ricavi'!AY10","v":0},{"$f":"'3 Costi-Ricavi'!AZ10","v":0},{"$f":"'3 Costi-Ricavi'!BA10","v":0},{"$f":"'3 Costi-Ricavi'!BB10","v":0},{"$f":"'3 Costi-Ricavi'!BC10","v":0},{"$f":"'3 Costi-Ricavi'!BD10","v":0},{"$f":"'3 Costi-Ricavi'!BE10","v":0},{"$f":"'3 Costi-Ricavi'!BF10","v":0},{"$f":"'3 Costi-Ricavi'!BG10","v":0},{"$f":"'3 Costi-Ricavi'!BH10","v":0},{"$f":"'3 Costi-Ricavi'!BI10","v":0},{"$f":"'3 Costi-Ricavi'!BJ10","v":0},{"$f":"'3 Costi-Ricavi'!BK10","v":0}]
[null,null,"Tariffa unitaria ","euro/unità",{"$f":"F32","v":1},{"$f":"E68*(1+$G$32)","v":1.02},1.0404,1.0612079999999999,1.08243216,1.1040808032,1.1261624192640001,1.14868566764928,1.1716593810022657,1.1950925686223111,1.2189944199947573,1.2433743083946525,1.2682417945625455,1.2936066304537963,1.3194787630628724,1.3458683383241299,1.3727857050906125,1.4002414191924248,1.4282462475762734,1.4568111725277988,1.4859473959783549,1.5156663438979221,1.5459796707758806,1.5768992641913981,1.6084372494752261,1.6406059944647307,1.6734181143540252,1.7068864766411058,1.7410242061739281,1.7758446902974065,1.8113615841033548,1.8475888157854219,1.8845405921011305,1.9222314039431532,1.9606760320220162,1.9998895526624565,2.0398873437157055,2.0806850905900198,2.1222987924018204,2.1647447682498568,2.208039663614854,2.252200456887151,2.2972444660248938,2.343189355345392,2.3900531424522997,2.4378542053013459,2.4866112894073726,2.53634351519552,2.5870703854994304,2.6388117932094191,2.6915880290736074,2.7454197896550796,2.8003281854481812,2.8563347491571447,2.9134614441402875,2.9717306730230932,3.0311652864835552,3.0917885922132262,3.1536243640574906,3.2166968513386403]
[null,null,"Ricavi","euro",{"$f":"E67*E68","v":0},0,0,0,0,0,0,0,0,0,0,0,0,0,0,0,0,0,0,0,0,0,0,0,0,0,0,0,0,0,0,0,0,0,0,0,0,0,0,0,0,0,0,0,0,0,0,0,0,0,0,0,0,0,0,0,0,0,0,0]
[]
[null,null,"Ricavo 1 ",null,{"$f":"'2 Descrizione Progetto'!$D$20","v":1},{"$f":"IF(E71=\"anno esterno\",\"anno esterno\",IF(E71+1<='2 Descrizione Progetto'!$D$22,E71+1,\"anno esterno\"))","v":2},{"$f":"IF(F71=\"anno esterno\",\"anno esterno\",IF(F71+1<='2 Descrizione Progetto'!$D$22,F71+1,\"anno esterno\"))","v":3},{"$f":"IF(G71=\"anno esterno\",\"anno esterno\",IF(G71+1<='2 Descrizione Progetto'!$D$22,G71+1,\"anno esterno\"))","v":4},{"$f":"IF(H71=\"anno esterno\",\"anno esterno\",IF(H71+1<='2 Descrizione Progetto'!$D$22,H71+1,\"anno esterno\"))","v":5},{"$f":"IF(I71=\"anno esterno\",\"anno esterno\",IF(I71+1<='2 Descrizione Progetto'!$D$22,I71+1,\"anno esterno\"))","v":6},{"$f":"IF(J71=\"anno esterno\",\"anno esterno\",IF(J71+1<='2 Descrizione Progetto'!$D$22,J71+1,\"anno esterno\"))","v":7},{"$f":"IF(K71=\"anno esterno\",\"anno esterno\",IF(K71+1<='2 Descrizione Progetto'!$D$22,K71+1,\"anno esterno\"))","v":8},{"$f":"IF(L71=\"anno esterno\",\"anno esterno\",IF(L71+1<='2 Descrizione Progetto'!$D$22,L71+1,\"anno esterno\"))","v":9},{"$f":"IF(M71=\"anno esterno\",\"anno esterno\",IF(M71+1<='2 Descrizione Progetto'!$D$22,M71+1,\"anno esterno\"))","v":10},{"$f":"IF(N71=\"anno esterno\",\"anno esterno\",IF(N71+1<='2 Descrizione Progetto'!$D$22,N71+1,\"anno esterno\"))","v":"anno esterno"},{"$f":"IF(O71=\"anno esterno\",\"anno esterno\",IF(O71+1<='2 Descrizione Progetto'!$D$22,O71+1,\"anno esterno\"))","v":"anno esterno"},{"$f":"IF(P71=\"anno esterno\",\"anno esterno\",IF(P71+1<='2 Descrizione Progetto'!$D$22,P71+1,\"anno esterno\"))","v":"anno esterno"},{"$f":"IF(Q71=\"anno esterno\",\"anno esterno\",IF(Q71+1<='2 Descrizione Progetto'!$D$22,Q71+1,\"anno esterno\"))","v":"anno esterno"},{"$f":"IF(R71=\"anno esterno\",\"anno esterno\",IF(R71+1<='2 Descrizione Progetto'!$D$22,R71+1,\"anno esterno\"))","v":"anno esterno"},{"$f":"IF(S71=\"anno esterno\",\"anno esterno\",IF(S71+1<='2 Descrizione Progetto'!$D$22,S71+1,\"anno esterno\"))","v":"anno esterno"},{"$f":"IF(T71=\"anno esterno\",\"anno esterno\",IF(T71+1<='2 Descrizione Progetto'!$D$22,T71+1,\"anno esterno\"))","v":"anno esterno"},{"$f":"IF(U71=\"anno esterno\",\"anno esterno\",IF(U71+1<='2 Descrizione Progetto'!$D$22,U71+1,\"anno esterno\"))","v":"anno esterno"},{"$f":"IF(V71=\"anno esterno\",\"anno esterno\",IF(V71+1<='2 Descrizione Progetto'!$D$22,V71+1,\"anno esterno\"))","v":"anno esterno"},{"$f":"IF(W71=\"anno esterno\",\"anno esterno\",IF(W71+1<='2 Descrizione Progetto'!$D$22,W71+1,\"anno esterno\"))","v":"anno esterno"},{"$f":"IF(X71=\"anno esterno\",\"anno esterno\",IF(X71+1<='2 Descrizione Progetto'!$D$22,X71+1,\"anno esterno\"))","v":"anno esterno"},{"$f":"IF(Y71=\"anno esterno\",\"anno esterno\",IF(Y71+1<='2 Descrizione Progetto'!$D$22,Y71+1,\"anno esterno\"))","v":"anno esterno"},{"$f":"IF(Z71=\"anno esterno\",\"anno esterno\",IF(Z71+1<='2 Descrizione Progetto'!$D$22,Z71+1,\"anno esterno\"))","v":"anno esterno"},{"$f":"IF(AA71=\"anno esterno\",\"anno esterno\",IF(AA71+1<='2 Descrizione Progetto'!$D$22,AA71+1,\"anno esterno\"))","v":"anno esterno"},{"$f":"IF(AB71=\"anno esterno\",\"anno esterno\",IF(AB71+1<='2 Descrizione Progetto'!$D$22,AB71+1,\"anno esterno\"))","v":"anno esterno"},{"$f":"IF(AC71=\"anno esterno\",\"anno esterno\",IF(AC71+1<='2 Descrizione Progetto'!$D$22,AC71+1,\"anno esterno\"))","v":"anno esterno"},{"$f":"IF(AD71=\"anno esterno\",\"anno esterno\",IF(AD71+1<='2 Descrizione Progetto'!$D$22,AD71+1,\"anno esterno\"))","v":"anno esterno"},{"$f":"IF(AE71=\"anno esterno\",\"anno esterno\",IF(AE71+1<='2 Descrizione Progetto'!$D$22,AE71+1,\"anno esterno\"))","v":"anno esterno"},{"$f":"IF(AF71=\"anno esterno\",\"anno esterno\",IF(AF71+1<='2 Descrizione Progetto'!$D$22,AF71+1,\"anno esterno\"))","v":"anno esterno"},{"$f":"IF(AG71=\"anno esterno\",\"anno esterno\",IF(AG71+1<='2 Descrizione Progetto'!$D$22,AG71+1,\"anno esterno\"))","v":"anno esterno"},{"$f":"IF(AH71=\"anno esterno\",\"anno esterno\",IF(AH71+1<='2 Descrizione Progetto'!$D$22,AH71+1,\"anno esterno\"))","v":"anno esterno"},{"$f":"IF(AI71=\"anno esterno\",\"anno esterno\",IF(AI71+1<='2 Descrizione Progetto'!$D$22,AI71+1,\"anno esterno\"))","v":"anno esterno"},{"$f":"IF(AJ71=\"anno esterno\",\"anno esterno\",IF(AJ71+1<='2 Descrizione Progetto'!$D$22,AJ71+1,\"anno esterno\"))","v":"anno esterno"},{"$f":"IF(AK71=\"anno esterno\",\"anno esterno\",IF(AK71+1<='2 Descrizione Progetto'!$D$22,AK71+1,\"anno esterno\"))","v":"anno esterno"},{"$f":"IF(AL71=\"anno esterno\",\"anno esterno\",IF(AL71+1<='2 Descrizione Progetto'!$D$22,AL71+1,\"anno esterno\"))","v":"anno esterno"},{"$f":"IF(AM71=\"anno esterno\",\"anno esterno\",IF(AM71+1<='2 Descrizione Progetto'!$D$22,AM71+1,\"anno esterno\"))","v":"anno esterno"},{"$f":"IF(AN71=\"anno esterno\",\"anno esterno\",IF(AN71+1<='2 Descrizione Progetto'!$D$22,AN71+1,\"anno esterno\"))","v":"anno esterno"},{"$f":"IF(AO71=\"anno esterno\",\"anno esterno\",IF(AO71+1<='2 Descrizione Progetto'!$D$22,AO71+1,\"anno esterno\"))","v":"anno esterno"},{"$f":"IF(AP71=\"anno esterno\",\"anno esterno\",IF(AP71+1<='2 Descrizione Progetto'!$D$22,AP71+1,\"anno esterno\"))","v":"anno esterno"},{"$f":"IF(AQ71=\"anno esterno\",\"anno esterno\",IF(AQ71+1<='2 Descrizione Progetto'!$D$22,AQ71+1,\"anno esterno\"))","v":"anno esterno"},{"$f":"IF(AR71=\"anno esterno\",\"anno esterno\",IF(AR71+1<='2 Descrizione Progetto'!$D$22,AR71+1,\"anno esterno\"))","v":"anno esterno"},{"$f":"IF(AS71=\"anno esterno\",\"anno esterno\",IF(AS71+1<='2 Descrizione Progetto'!$D$22,AS71+1,\"anno esterno\"))","v":"anno esterno"},{"$f":"IF(AT71=\"anno esterno\",\"anno esterno\",IF(AT71+1<='2 Descrizione Progetto'!$D$22,AT71+1,\"anno esterno\"))","v":"anno esterno"},{"$f":"IF(AU71=\"anno esterno\",\"anno esterno\",IF(AU71+1<='2 Descrizione Progetto'!$D$22,AU71+1,\"anno esterno\"))","v":"anno esterno"},{"$f":"IF(AV71=\"anno esterno\",\"anno esterno\",IF(AV71+1<='2 Descrizione Progetto'!$D$22,AV71+1,\"anno esterno\"))","v":"anno esterno"},{"$f":"IF(AW71=\"anno esterno\",\"anno esterno\",IF(AW71+1<='2 Descrizione Progetto'!$D$22,AW71+1,\"anno esterno\"))","v":"anno esterno"},{"$f":"IF(AX71=\"anno esterno\",\"anno esterno\",IF(AX71+1<='2 Descrizione Progetto'!$D$22,AX71+1,\"anno esterno\"))","v":"anno esterno"},{"$f":"IF(AY71=\"anno esterno\",\"anno esterno\",IF(AY71+1<='2 Descrizione Progetto'!$D$22,AY71+1,\"anno esterno\"))","v":"anno esterno"},{"$f":"IF(AZ71=\"anno esterno\",\"anno esterno\",IF(AZ71+1<='2 Descrizione Progetto'!$D$22,AZ71+1,\"anno esterno\"))","v":"anno esterno"},{"$f":"IF(BA71=\"anno esterno\",\"anno esterno\",IF(BA71+1<='2 Descrizione Progetto'!$D$22,BA71+1,\"anno esterno\"))","v":"anno esterno"},{"$f":"IF(BB71=\"anno esterno\",\"anno esterno\",IF(BB71+1<='2 Descrizione Progetto'!$D$22,BB71+1,\"anno esterno\"))","v":"anno esterno"},{"$f":"IF(BC71=\"anno esterno\",\"anno esterno\",IF(BC71+1<='2 Descrizione Progetto'!$D$22,BC71+1,\"anno esterno\"))","v":"anno esterno"},{"$f":"IF(BD71=\"anno esterno\",\"anno esterno\",IF(BD71+1<='2 Descrizione Progetto'!$D$22,BD71+1,\"anno esterno\"))","v":"anno esterno"},{"$f":"IF(BE71=\"anno esterno\",\"anno esterno\",IF(BE71+1<='2 Descrizione Progetto'!$D$22,BE71+1,\"anno esterno\"))","v":"anno esterno"},{"$f":"IF(BF71=\"anno esterno\",\"anno esterno\",IF(BF71+1<='2 Descrizione Progetto'!$D$22,BF71+1,\"anno esterno\"))","v":"anno esterno"},{"$f":"IF(BG71=\"anno esterno\",\"anno esterno\",IF(BG71+1<='2 Descrizione Progetto'!$D$22,BG71+1,\"anno esterno\"))","v":"anno esterno"},{"$f":"IF(BH71=\"anno esterno\",\"anno esterno\",IF(BH71+1<='2 Descrizione Progetto'!$D$22,BH71+1,\"anno esterno\"))","v":"anno esterno"},{"$f":"IF(BI71=\"anno esterno\",\"anno esterno\",IF(BI71+1<='2 Descrizione Progetto'!$D$22,BI71+1,\"anno esterno\"))","v":"anno esterno"},{"$f":"IF(BJ71=\"anno esterno\",\"anno esterno\",IF(BJ71+1<='2 Descrizione Progetto'!$D$22,BJ71+1,\"anno esterno\"))","v":"anno esterno"},{"$f":"IF(BK71=\"anno esterno\",\"anno esterno\",IF(BK71+1<='2 Descrizione Progetto'!$D$22,BK71+1,\"anno esterno\"))","v":"anno esterno"}]
[null,null,"Domanda ","k-unità fisiche",{"$f":"'3 Costi-Ricavi'!D11","v":0},{"$f":"'3 Costi-Ricavi'!E11","v":0},{"$f":"'3 Costi-Ricavi'!F11","v":0},{"$f":"'3 Costi-Ricavi'!G11","v":0},{"$f":"'3 Costi-Ricavi'!H11","v":0},{"$f":"'3 Costi-Ricavi'!I11","v":0},{"$f":"'3 Costi-Ricavi'!J11","v":0},{"$f":"'3 Costi-Ricavi'!K11","v":0},{"$f":"'3 Costi-Ricavi'!L11","v":0},{"$f":"'3 Costi-Ricavi'!M11","v":0},{"$f":"'3 Costi-Ricavi'!N11","v":0},{"$f":"'3 Costi-Ricavi'!O11","v":0},{"$f":"'3 Costi-Ricavi'!P11","v":0},{"$f":"'3 Costi-Ricavi'!Q11","v":0},{"$f":"'3 Costi-Ricavi'!R11","v":0},{"$f":"'3 Costi-Ricavi'!S11","v":0},{"$f":"'3 Costi-Ricavi'!T11","v":0},{"$f":"'3 Costi-Ricavi'!U11","v":0},{"$f":"'3 Costi-Ricavi'!V11","v":0},{"$f":"'3 Costi-Ricavi'!W11","v":0},{"$f":"'3 Costi-Ricavi'!X11","v":0},{"$f":"'3 Costi-Ricavi'!Y11","v":0},{"$f":"'3 Costi-Ricavi'!Z11","v":0},{"$f":"'3 Costi-Ricavi'!AA11","v":0},{"$f":"'3 Costi-Ricavi'!AB11","v":0},{"$f":"'3 Costi-Ricavi'!AC11","v":0},{"$f":"'3 Costi-Ricavi'!AD11","v":0},{"$f":"'3 Costi-Ricavi'!AE11","v":0},{"$f":"'3 Costi-Ricavi'!AF11","v":0},{"$f":"'3 Costi-Ricavi'!AG11","v":0},{"$f":"'3 Costi-Ricavi'!AH11","v":0},{"$f":"'3 Costi-Ricavi'!AI11","v":0},{"$f":"'3 Costi-Ricavi'!AJ11","v":0},{"$f":"'3 Costi-Ricavi'!AK11","v":0},{"$f":"'3 Costi-Ricavi'!AL11","v":0},{"$f":"'3 Costi-Ricavi'!AM11","v":0},{"$f":"'3 Costi-Ricavi'!AN11","v":0},{"$f":"'3 Costi-Ricavi'!AO11","v":0},{"$f":"'3 Costi-Ricavi'!AP11","v":0},{"$f":"'3 Costi-Ricavi'!AQ11","v":0},{"$f":"'3 Costi-Ricavi'!AR11","v":0},{"$f":"'3 Costi-Ricavi'!AS11","v":0},{"$f":"'3 Costi-Ricavi'!AT11","v":0},{"$f":"'3 Costi-Ricavi'!AU11","v":0},{"$f":"'3 Costi-Ricavi'!AV11","v":0},{"$f":"'3 Costi-Ricavi'!AW11","v":0},{"$f":"'3 Costi-Ricavi'!AX11","v":0},{"$f":"'3 Costi-Ricavi'!AY11","v":0},{"$f":"'3 Costi-Ricavi'!AZ11","v":0},{"$f":"'3 Costi-Ricavi'!BA11","v":0},{"$f":"'3 Costi-Ricavi'!BB11","v":0},{"$f":"'3 Costi-Ricavi'!BC11","v":0},{"$f":"'3 Costi-Ricavi'!BD11","v":0},{"$f":"'3 Costi-Ricavi'!BE11","v":0},{"$f":"'3 Costi-Ricavi'!BF11","v":0},{"$f":"'3 Costi-Ricavi'!BG11","v":0},{"$f":"'3 Costi-Ricavi'!BH11","v":0},{"$f":"'3 Costi-Ricavi'!BI11","v":0},{"$f":"'3 Costi-Ricavi'!BJ11","v":0},{"$f":"'3 Costi-Ricavi'!BK11","v":0}]
[null,null,"Tariffa unitaria ","euro/unità",{"$f":"F33","v":1},{"$f":"E73*(1+$G$33)","v":1.02},1.0404,1.0612079999999999,1.08243216,1.1040808032,1.1261624192640001,1.14868566764928,1.1716593810022657,1.1950925686223111,1.2189944199947573,1.2433743083946525,1.2682417945625455,1.2936066304537963,1.3194787630628724,1.3458683383241299,1.3727857050906125,1.4002414191924248,1.4282462475762734,1.4568111725277988,1.4859473959783549,1.5156663438979221,1.5459796707758806,1.5768992641913981,1.6084372494752261,1.6406059944647307,1.6734181143540252,1.7068864766411058,1.7410242061739281,1.7758446902974065,1.8113615841033548,1.8475888157854219,1.8845405921011305,1.9222314039431532,1.9606760320220162,1.9998895526624565,2.0398873437157055,2.0806850905900198,2.1222987924018204,2.1647447682498568,2.208039663614854,2.252200456887151,2.2972444660248938,2.343189355345392,2.3900531424522997,2.4378542053013459,2.4866112894073726,2.53634351519552,2.5870703854994304,2.6388117932094191,2.6915880290736074,2.7454197896550796,2.8003281854481812,2.8563347491571447,2.9134614441402875,2.9717306730230932,3.0311652864835552,3.0917885922132262,3.1536243640574906,3.2166968513386403]
[null,null,"Ricavi","euro",{"$f":"E72*E73","v":0},0,0,0,0,0,0,0,0,0,0,0,0,0,0,0,0,0,0,0,0,0,0,0,0,0,0,0,0,0,0,0,0,0,0,0,0,0,0,0,0,0,0,0,0,0,0,0,0,0,0,0,0,0,0,0,0,0,0,0]
[]
[null,null,"Ricavo 1 ",null,{"$f":"'2 Descrizione Progetto'!$D$20","v":1},{"$f":"IF(E76=\"anno esterno\",\"anno esterno\",IF(E76+1<='2 Descrizione Progetto'!$D$22,E76+1,\"anno esterno\"))","v":2},{"$f":"IF(F76=\"anno esterno\",\"anno esterno\",IF(F76+1<='2 Descrizione Progetto'!$D$22,F76+1,\"anno esterno\"))","v":3},{"$f":"IF(G76=\"anno esterno\",\"anno esterno\",IF(G76+1<='2 Descrizione Progetto'!$D$22,G76+1,\"anno esterno\"))","v":4},{"$f":"IF(H76=\"anno esterno\",\"anno esterno\",IF(H76+1<='2 Descrizione Progetto'!$D$22,H76+1,\"anno esterno\"))","v":5},{"$f":"IF(I76=\"anno esterno\",\"anno esterno\",IF(I76+1<='2 Descrizione Progetto'!$D$22,I76+1,\"anno esterno\"))","v":6},{"$f":"IF(J76=\"anno esterno\",\"anno esterno\",IF(J76+1<='2 Descrizione Progetto'!$D$22,J76+1,\"anno esterno\"))","v":7},{"$f":"IF(K76=\"anno esterno\",\"anno esterno\",IF(K76+1<='2 Descrizione Progetto'!$D$22,K76+1,\"anno esterno\"))","v":8},{"$f":"IF(L76=\"anno esterno\",\"anno esterno\",IF(L76+1<='2 Descrizione Progetto'!$D$22,L76+1,\"anno esterno\"))","v":9},{"$f":"IF(M76=\"anno esterno\",\"anno esterno\",IF(M76+1<='2 Descrizione Progetto'!$D$22,M76+1,\"anno esterno\"))","v":10},{"$f":"IF(N76=\"anno esterno\",\"anno esterno\",IF(N76+1<='2 Descrizione Progetto'!$D$22,N76+1,\"anno esterno\"))","v":"anno esterno"},{"$f":"IF(O76=\"anno esterno\",\"anno esterno\",IF(O76+1<='2 Descrizione Progetto'!$D$22,O76+1,\"anno esterno\"))","v":"anno esterno"},{"$f":"IF(P76=\"anno esterno\",\"anno esterno\",IF(P76+1<='2 Descrizione Progetto'!$D$22,P76+1,\"anno esterno\"))","v":"anno esterno"},{"$f":"IF(Q76=\"anno esterno\",\"anno esterno\",IF(Q76+1<='2 Descrizione Progetto'!$D$22,Q76+1,\"anno esterno\"))","v":"anno esterno"},{"$f":"IF(R76=\"anno esterno\",\"anno esterno\",IF(R76+1<='2 Descrizione Progetto'!$D$22,R76+1,\"anno esterno\"))","v":"anno esterno"},{"$f":"IF(S76=\"anno esterno\",\"anno esterno\",IF(S76+1<='2 Descrizione Progetto'!$D$22,S76+1,\"anno esterno\"))","v":"anno esterno"},{"$f":"IF(T76=\"anno esterno\",\"anno esterno\",IF(T76+1<='2 Descrizione Progetto'!$D$22,T76+1,\"anno esterno\"))","v":"anno esterno"},{"$f":"IF(U76=\"anno esterno\",\"anno esterno\",IF(U76+1<='2 Descrizione Progetto'!$D$22,U76+1,\"anno esterno\"))","v":"anno esterno"},{"$f":"IF(V76=\"anno esterno\",\"anno esterno\",IF(V76+1<='2 Descrizione Progetto'!$D$22,V76+1,\"anno esterno\"))","v":"anno esterno"},{"$f":"IF(W76=\"anno esterno\",\"anno esterno\",IF(W76+1<='2 Descrizione Progetto'!$D$22,W76+1,\"anno esterno\"))","v":"anno esterno"},{"$f":"IF(X76=\"anno esterno\",\"anno esterno\",IF(X76+1<='2 Descrizione Progetto'!$D$22,X76+1,\"anno esterno\"))","v":"anno esterno"},{"$f":"IF(Y76=\"anno esterno\",\"anno esterno\",IF(Y76+1<='2 Descrizione Progetto'!$D$22,Y76+1,\"anno esterno\"))","v":"anno esterno"},{"$f":"IF(Z76=\"anno esterno\",\"anno esterno\",IF(Z76+1<='2 Descrizione Progetto'!$D$22,Z76+1,\"anno esterno\"))","v":"anno esterno"},{"$f":"IF(AA76=\"anno esterno\",\"anno esterno\",IF(AA76+1<='2 Descrizione Progetto'!$D$22,AA76+1,\"anno esterno\"))","v":"anno esterno"},{"$f":"IF(AB76=\"anno esterno\",\"anno esterno\",IF(AB76+1<='2 Descrizione Progetto'!$D$22,AB76+1,\"anno esterno\"))","v":"anno esterno"},{"$f":"IF(AC76=\"anno esterno\",\"anno esterno\",IF(AC76+1<='2 Descrizione Progetto'!$D$22,AC76+1,\"anno esterno\"))","v":"anno esterno"},{"$f":"IF(AD76=\"anno esterno\",\"anno esterno\",IF(AD76+1<='2 Descrizione Progetto'!$D$22,AD76+1,\"anno esterno\"))","v":"anno esterno"},{"$f":"IF(AE76=\"anno esterno\",\"anno esterno\",IF(AE76+1<='2 Descrizione Progetto'!$D$22,AE76+1,\"anno esterno\"))","v":"anno esterno"},{"$f":"IF(AF76=\"anno esterno\",\"anno esterno\",IF(AF76+1<='2 Descrizione Progetto'!$D$22,AF76+1,\"anno esterno\"))","v":"anno esterno"},{"$f":"IF(AG76=\"anno esterno\",\"anno esterno\",IF(AG76+1<='2 Descrizione Progetto'!$D$22,AG76+1,\"anno esterno\"))","v":"anno esterno"},{"$f":"IF(AH76=\"anno esterno\",\"anno esterno\",IF(AH76+1<='2 Descrizione Progetto'!$D$22,AH76+1,\"anno esterno\"))","v":"anno esterno"},{"$f":"IF(AI76=\"anno esterno\",\"anno esterno\",IF(AI76+1<='2 Descrizione Progetto'!$D$22,AI76+1,\"anno esterno\"))","v":"anno esterno"},{"$f":"IF(AJ76=\"anno esterno\",\"anno esterno\",IF(AJ76+1<='2 Descrizione Progetto'!$D$22,AJ76+1,\"anno esterno\"))","v":"anno esterno"},{"$f":"IF(AK76=\"anno esterno\",\"anno esterno\",IF(AK76+1<='2 Descrizione Progetto'!$D$22,AK76+1,\"anno esterno\"))","v":"anno esterno"},{"$f":"IF(AL76=\"anno esterno\",\"anno esterno\",IF(AL76+1<='2 Descrizione Progetto'!$D$22,AL76+1,\"anno esterno\"))","v":"anno esterno"},{"$f":"IF(AM76=\"anno esterno\",\"anno esterno\",IF(AM76+1<='2 Descrizione Progetto'!$D$22,AM76+1,\"anno esterno\"))","v":"anno esterno"},{"$f":"IF(AN76=\"anno esterno\",\"anno esterno\",IF(AN76+1<='2 Descrizione Progetto'!$D$22,AN76+1,\"anno esterno\"))","v":"anno esterno"},{"$f":"IF(AO76=\"anno esterno\",\"anno esterno\",IF(AO76+1<='2 Descrizione Progetto'!$D$22,AO76+1,\"anno esterno\"))","v":"anno esterno"},{"$f":"IF(AP76=\"anno esterno\",\"anno esterno\",IF(AP76+1<='2 Descrizione Progetto'!$D$22,AP76+1,\"anno esterno\"))","v":"anno esterno"},{"$f":"IF(AQ76=\"anno esterno\",\"anno esterno\",IF(AQ76+1<='2 Descrizione Progetto'!$D$22,AQ76+1,\"anno esterno\"))","v":"anno esterno"},{"$f":"IF(AR76=\"anno esterno\",\"anno esterno\",IF(AR76+1<='2 Descrizione Progetto'!$D$22,AR76+1,\"anno esterno\"))","v":"anno esterno"},{"$f":"IF(AS76=\"anno esterno\",\"anno esterno\",IF(AS76+1<='2 Descrizione Progetto'!$D$22,AS76+1,\"anno esterno\"))","v":"anno esterno"},{"$f":"IF(AT76=\"anno esterno\",\"anno esterno\",IF(AT76+1<='2 Descrizione Progetto'!$D$22,AT76+1,\"anno esterno\"))","v":"anno esterno"},{"$f":"IF(AU76=\"anno esterno\",\"anno esterno\",IF(AU76+1<='2 Descrizione Progetto'!$D$22,AU76+1,\"anno esterno\"))","v":"anno esterno"},{"$f":"IF(AV76=\"anno esterno\",\"anno esterno\",IF(AV76+1<='2 Descrizione Progetto'!$D$22,AV76+1,\"anno esterno\"))","v":"anno esterno"},{"$f":"IF(AW76=\"anno esterno\",\"anno esterno\",IF(AW76+1<='2 Descrizione Progetto'!$D$22,AW76+1,\"anno esterno\"))","v":"anno esterno"},{"$f":"IF(AX76=\"anno esterno\",\"anno esterno\",IF(AX76+1<='2 Descrizione Progetto'!$D$22,AX76+1,\"anno esterno\"))","v":"anno esterno"},{"$f":"IF(AY76=\"anno esterno\",\"anno esterno\",IF(AY76+1<='2 Descrizione Progetto'!$D$22,AY76+1,\"anno esterno\"))","v":"anno esterno"},{"$f":"IF(AZ76=\"anno esterno\",\"anno esterno\",IF(AZ76+1<='2 Descrizione Progetto'!$D$22,AZ76+1,\"anno esterno\"))","v":"anno esterno"},{"$f":"IF(BA76=\"anno esterno\",\"anno esterno\",IF(BA76+1<='2 Descrizione Progetto'!$D$22,BA76+1,\"anno esterno\"))","v":"anno esterno"},{"$f":"IF(BB76=\"anno esterno\",\"anno esterno\",IF(BB76+1<='2 Descrizione Progetto'!$D$22,BB76+1,\"anno esterno\"))","v":"anno esterno"},{"$f":"IF(BC76=\"anno esterno\",\"anno esterno\",IF(BC76+1<='2 Descrizione Progetto'!$D$22,BC76+1,\"anno esterno\"))","v":"anno esterno"},{"$f":"IF(BD76=\"anno esterno\",\"anno esterno\",IF(BD76+1<='2 Descrizione Progetto'!$D$22,BD76+1,\"anno esterno\"))","v":"anno esterno"},{"$f":"IF(BE76=\"anno esterno\",\"anno esterno\",IF(BE76+1<='2 Descrizione Progetto'!$D$22,BE76+1,\"anno esterno\"))","v":"anno esterno"},{"$f":"IF(BF76=\"anno esterno\",\"anno esterno\",IF(BF76+1<='2 Descrizione Progetto'!$D$22,BF76+1,\"anno esterno\"))","v":"anno esterno"},{"$f":"IF(BG76=\"anno esterno\",\"anno esterno\",IF(BG76+1<='2 Descrizione Progetto'!$D$22,BG76+1,\"anno esterno\"))","v":"anno esterno"},{"$f":"IF(BH76=\"anno esterno\",\"anno esterno\",IF(BH76+1<='2 Descrizione Progetto'!$D$22,BH76+1,\"anno esterno\"))","v":"anno esterno"},{"$f":"IF(BI76=\"anno esterno\",\"anno esterno\",IF(BI76+1<='2 Descrizione Progetto'!$D$22,BI76+1,\"anno esterno\"))","v":"anno esterno"},{"$f":"IF(BJ76=\"anno esterno\",\"anno esterno\",IF(BJ76+1<='2 Descrizione Progetto'!$D$22,BJ76+1,\"anno esterno\"))","v":"anno esterno"},{"$f":"IF(BK76=\"anno esterno\",\"anno esterno\",IF(BK76+1<='2 Descrizione Progetto'!$D$22,BK76+1,\"anno esterno\"))","v":"anno esterno"}]
[null,null,"Domanda ","k-unità fisiche",{"$f":"'3 Costi-Ricavi'!D12","v":0},{"$f":"'3 Costi-Ricavi'!E12","v":0},{"$f":"'3 Costi-Ricavi'!F12","v":0},{"$f":"'3 Costi-Ricavi'!G12","v":0},{"$f":"'3 Costi-Ricavi'!H12","v":0},{"$f":"'3 Costi-Ricavi'!I12","v":0},{"$f":"'3 Costi-Ricavi'!J12","v":0},{"$f":"'3 Costi-Ricavi'!K12","v":0},{"$f":"'3 Costi-Ricavi'!L12","v":0},{"$f":"'3 Costi-Ricavi'!M12","v":0},{"$f":"'3 Costi-Ricavi'!N12","v":0},{"$f":"'3 Costi-Ricavi'!O12","v":0},{"$f":"'3 Costi-Ricavi'!P12","v":0},{"$f":"'3 Costi-Ricavi'!Q12","v":0},{"$f":"'3 Costi-Ricavi'!R12","v":0},{"$f":"'3 Costi-Ricavi'!S12","v":0},{"$f":"'3 Costi-Ricavi'!T12","v":0},{"$f":"'3 Costi-Ricavi'!U12","v":0},{"$f":"'3 Costi-Ricavi'!V12","v":0},{"$f":"'3 Costi-Ricavi'!W12","v":0},{"$f":"'3 Costi-Ricavi'!X12","v":0},{"$f":"'3 Costi-Ricavi'!Y12","v":0},{"$f":"'3 Costi-Ricavi'!Z12","v":0},{"$f":"'3 Costi-Ricavi'!AA12","v":0},{"$f":"'3 Costi-Ricavi'!AB12","v":0},{"$f":"'3 Costi-Ricavi'!AC12","v":0},{"$f":"'3 Costi-Ricavi'!AD12","v":0},{"$f":"'3 Costi-Ricavi'!AE12","v":0},{"$f":"'3 Costi-Ricavi'!AF12","v":0},{"$f":"'3 Costi-Ricavi'!AG12","v":0},{"$f":"'3 Costi-Ricavi'!AH12","v":0},{"$f":"'3 Costi-Ricavi'!AI12","v":0},{"$f":"'3 Costi-Ricavi'!AJ12","v":0},{"$f":"'3 Costi-Ricavi'!AK12","v":0},{"$f":"'3 Costi-Ricavi'!AL12","v":0},{"$f":"'3 Costi-Ricavi'!AM12","v":0},{"$f":"'3 Costi-Ricavi'!AN12","v":0},{"$f":"'3 Costi-Ricavi'!AO12","v":0},{"$f":"'3 Costi-Ricavi'!AP12","v":0},{"$f":"'3 Costi-Ricavi'!AQ12","v":0},{"$f":"'3 Costi-Ricavi'!AR12","v":0},{"$f":"'3 Costi-Ricavi'!AS12","v":0},{"$f":"'3 Costi-Ricavi'!AT12","v":0},{"$f":"'3 Costi-Ricavi'!AU12","v":0},{"$f":"'3 Costi-Ricavi'!AV12","v":0},{"$f":"'3 Costi-Ricavi'!AW12","v":0},{"$f":"'3 Costi-Ricavi'!AX12","v":0},{"$f":"'3 Costi-Ricavi'!AY12","v":0},{"$f":"'3 Costi-Ricavi'!AZ12","v":0},{"$f":"'3 Costi-Ricavi'!BA12","v":0},{"$f":"'3 Costi-Ricavi'!BB12","v":0},{"$f":"'3 Costi-Ricavi'!BC12","v":0},{"$f":"'3 Costi-Ricavi'!BD12","v":0},{"$f":"'3 Costi-Ricavi'!BE12","v":0},{"$f":"'3 Costi-Ricavi'!BF12","v":0},{"$f":"'3 Costi-Ricavi'!BG12","v":0},{"$f":"'3 Costi-Ricavi'!BH12","v":0},{"$f":"'3 Costi-Ricavi'!BI12","v":0},{"$f":"'3 Costi-Ricavi'!BJ12","v":0},{"$f":"'3 Costi-Ricavi'!BK12","v":0}]
[null,null,"Tariffa unitaria ","euro/unità",{"$f":"F34","v":1},{"$f":"E78*(1+$G$33)","v":1.02},1.0404,1.0612079999999999,1.08243216,1.1040808032,1.1261624192640001,1.14868566764928,1.1716593810022657,1.1950925686223111,1.2189944199947573,1.2433743083946525,1.2682417945625455,1.2936066304537963,1.3194787630628724,1.3458683383241299,1.3727857050906125,1.4002414191924248,1.4282462475762734,1.4568111725277988,1.4859473959783549,1.5156663438979221,1.5459796707758806,1.5768992641913981,1.6084372494752261,1.6406059944647307,1.6734181143540252,1.7068864766411058,1.7410242061739281,1.7758446902974065,1.8113615841033548,1.8475888157854219,1.8845405921011305,1.9222314039431532,1.9606760320220162,1.9998895526624565,2.0398873437157055,2.0806850905900198,2.1222987924018204,2.1647447682498568,2.208039663614854,2.252200456887151,2.2972444660248938,2.343189355345392,2.3900531424522997,2.4378542053013459,2.4866112894073726,2.53634351519552,2.5870703854994304,2.6388117932094191,2.6915880290736074,2.7454197896550796,2.8003281854481812,2.8563347491571447,2.9134614441402875,2.9717306730230932,3.0311652864835552,3.0917885922132262,3.1536243640574906,3.2166968513386403]
[null,null,"Ricavi","euro",{"$f":"E77*E78","v":0},0,0,0,0,0,0,0,0,0,0,0,0,0,0,0,0,0,0,0,0,0,0,0,0,0,0,0,0,0,0,0,0,0,0,0,0,0,0,0,0,0,0,0,0,0,0,0,0,0,0,0,0,0,0,0,0,0,0,0]
[]
[null,null,"Ricavo 1 ",null,{"$f":"'2 Descrizione Progetto'!$D$20","v":1},{"$f":"IF(E81=\"anno esterno\",\"anno esterno\",IF(E81+1<='2 Descrizione Progetto'!$D$22,E81+1,\"anno esterno\"))","v":2},{"$f":"IF(F81=\"anno esterno\",\"anno esterno\",IF(F81+1<='2 Descrizione Progetto'!$D$22,F81+1,\"anno esterno\"))","v":3},{"$f":"IF(G81=\"anno esterno\",\"anno esterno\",IF(G81+1<='2 Descrizione Progetto'!$D$22,G81+1,\"anno esterno\"))","v":4},{"$f":"IF(H81=\"anno esterno\",\"anno esterno\",IF(H81+1<='2 Descrizione Progetto'!$D$22,H81+1,\"anno esterno\"))","v":5},{"$f":"IF(I81=\"anno esterno\",\"anno esterno\",IF(I81+1<='2 Descrizione Progetto'!$D$22,I81+1,\"anno esterno\"))","v":6},{"$f":"IF(J81=\"anno esterno\",\"anno esterno\",IF(J81+1<='2 Descrizione Progetto'!$D$22,J81+1,\"anno esterno\"))","v":7},{"$f":"IF(K81=\"anno esterno\",\"anno esterno\",IF(K81+1<='2 Descrizione Progetto'!$D$22,K81+1,\"anno esterno\"))","v":8},{"$f":"IF(L81=\"anno esterno\",\"anno esterno\",IF(L81+1<='2 Descrizione Progetto'!$D$22,L81+1,\"anno esterno\"))","v":9},{"$f":"IF(M81=\"anno esterno\",\"anno esterno\",IF(M81+1<='2 Descrizione Progetto'!$D$22,M81+1,\"anno esterno\"))","v":10},{"$f":"IF(N81=\"anno esterno\",\"anno esterno\",IF(N81+1<='2 Descrizione Progetto'!$D$22,N81+1,\"anno esterno\"))","v":"anno esterno"},{"$f":"IF(O81=\"anno esterno\",\"anno esterno\",IF(O81+1<='2 Descrizione Progetto'!$D$22,O81+1,\"anno esterno\"))","v":"anno esterno"},{"$f":"IF(P81=\"anno esterno\",\"anno esterno\",IF(P81+1<='2 Descrizione Progetto'!$D$22,P81+1,\"anno esterno\"))","v":"anno esterno"},{"$f":"IF(Q81=\"anno esterno\",\"anno esterno\",IF(Q81+1<='2 Descrizione Progetto'!$D$22,Q81+1,\"anno esterno\"))","v":"anno esterno"},{"$f":"IF(R81=\"anno esterno\",\"anno esterno\",IF(R81+1<='2 Descrizione Progetto'!$D$22,R81+1,\"anno esterno\"))","v":"anno esterno"},{"$f":"IF(S81=\"anno esterno\",\"anno esterno\",IF(S81+1<='2 Descrizione Progetto'!$D$22,S81+1,\"anno esterno\"))","v":"anno esterno"},{"$f":"IF(T81=\"anno esterno\",\"anno esterno\",IF(T81+1<='2 Descrizione Progetto'!$D$22,T81+1,\"anno esterno\"))","v":"anno esterno"},{"$f":"IF(U81=\"anno esterno\",\"anno esterno\",IF(U81+1<='2 Descrizione Progetto'!$D$22,U81+1,\"anno esterno\"))","v":"anno esterno"},{"$f":"IF(V81=\"anno esterno\",\"anno esterno\",IF(V81+1<='2 Descrizione Progetto'!$D$22,V81+1,\"anno esterno\"))","v":"anno esterno"},{"$f":"IF(W81=\"anno esterno\",\"anno esterno\",IF(W81+1<='2 Descrizione Progetto'!$D$22,W81+1,\"anno esterno\"))","v":"anno esterno"},{"$f":"IF(X81=\"anno esterno\",\"anno esterno\",IF(X81+1<='2 Descrizione Progetto'!$D$22,X81+1,\"anno esterno\"))","v":"anno esterno"},{"$f":"IF(Y81=\"anno esterno\",\"anno esterno\",IF(Y81+1<='2 Descrizione Progetto'!$D$22,Y81+1,\"anno esterno\"))","v":"anno esterno"},{"$f":"IF(Z81=\"anno esterno\",\"anno esterno\",IF(Z81+1<='2 Descrizione Progetto'!$D$22,Z81+1,\"anno esterno\"))","v":"anno esterno"},{"$f":"IF(AA81=\"anno esterno\",\"anno esterno\",IF(AA81+1<='2 Descrizione Progetto'!$D$22,AA81+1,\"anno esterno\"))","v":"anno esterno"},{"$f":"IF(AB81=\"anno esterno\",\"anno esterno\",IF(AB81+1<='2 Descrizione Progetto'!$D$22,AB81+1,\"anno esterno\"))","v":"anno esterno"},{"$f":"IF(AC81=\"anno esterno\",\"anno esterno\",IF(AC81+1<='2 Descrizione Progetto'!$D$22,AC81+1,\"anno esterno\"))","v":"anno esterno"},{"$f":"IF(AD81=\"anno esterno\",\"anno esterno\",IF(AD81+1<='2 Descrizione Progetto'!$D$22,AD81+1,\"anno esterno\"))","v":"anno esterno"},{"$f":"IF(AE81=\"anno esterno\",\"anno esterno\",IF(AE81+1<='2 Descrizione Progetto'!$D$22,AE81+1,\"anno esterno\"))","v":"anno esterno"},{"$f":"IF(AF81=\"anno esterno\",\"anno esterno\",IF(AF81+1<='2 Descrizione Progetto'!$D$22,AF81+1,\"anno esterno\"))","v":"anno esterno"},{"$f":"IF(AG81=\"anno esterno\",\"anno esterno\",IF(AG81+1<='2 Descrizione Progetto'!$D$22,AG81+1,\"anno esterno\"))","v":"anno esterno"},{"$f":"IF(AH81=\"anno esterno\",\"anno esterno\",IF(AH81+1<='2 Descrizione Progetto'!$D$22,AH81+1,\"anno esterno\"))","v":"anno esterno"},{"$f":"IF(AI81=\"anno esterno\",\"anno esterno\",IF(AI81+1<='2 Descrizione Progetto'!$D$22,AI81+1,\"anno esterno\"))","v":"anno esterno"},{"$f":"IF(AJ81=\"anno esterno\",\"anno esterno\",IF(AJ81+1<='2 Descrizione Progetto'!$D$22,AJ81+1,\"anno esterno\"))","v":"anno esterno"},{"$f":"IF(AK81=\"anno esterno\",\"anno esterno\",IF(AK81+1<='2 Descrizione Progetto'!$D$22,AK81+1,\"anno esterno\"))","v":"anno esterno"},{"$f":"IF(AL81=\"anno esterno\",\"anno esterno\",IF(AL81+1<='2 Descrizione Progetto'!$D$22,AL81+1,\"anno esterno\"))","v":"anno esterno"},{"$f":"IF(AM81=\"anno esterno\",\"anno esterno\",IF(AM81+1<='2 Descrizione Progetto'!$D$22,AM81+1,\"anno esterno\"))","v":"anno esterno"},{"$f":"IF(AN81=\"anno esterno\",\"anno esterno\",IF(AN81+1<='2 Descrizione Progetto'!$D$22,AN81+1,\"anno esterno\"))","v":"anno esterno"},{"$f":"IF(AO81=\"anno esterno\",\"anno esterno\",IF(AO81+1<='2 Descrizione Progetto'!$D$22,AO81+1,\"anno esterno\"))","v":"anno esterno"},{"$f":"IF(AP81=\"anno esterno\",\"anno esterno\",IF(AP81+1<='2 Descrizione Progetto'!$D$22,AP81+1,\"anno esterno\"))","v":"anno esterno"},{"$f":"IF(AQ81=\"anno esterno\",\"anno esterno\",IF(AQ81+1<='2 Descrizione Progetto'!$D$22,AQ81+1,\"anno esterno\"))","v":"anno esterno"},{"$f":"IF(AR81=\"anno esterno\",\"anno esterno\",IF(AR81+1<='2 Descrizione Progetto'!$D$22,AR81+1,\"anno esterno\"))","v":"anno esterno"},{"$f":"IF(AS81=\"anno esterno\",\"anno esterno\",IF(AS81+1<='2 Descrizione Progetto'!$D$22,AS81+1,\"anno esterno\"))","v":"anno esterno"},{"$f":"IF(AT81=\"anno esterno\",\"anno esterno\",IF(AT81+1<='2 Descrizione Progetto'!$D$22,AT81+1,\"anno esterno\"))","v":"anno esterno"},{"$f":"IF(AU81=\"anno esterno\",\"anno esterno\",IF(AU81+1<='2 Descrizione Progetto'!$D$22,AU81+1,\"anno esterno\"))","v":"anno esterno"},{"$f":"IF(AV81=\"anno esterno\",\"anno esterno\",IF(AV81+1<='2 Descrizione Progetto'!$D$22,AV81+1,\"anno esterno\"))","v":"anno esterno"},{"$f":"IF(AW81=\"anno esterno\",\"anno esterno\",IF(AW81+1<='2 Descrizione Progetto'!$D$22,AW81+1,\"anno esterno\"))","v":"anno esterno"},{"$f":"IF(AX81=\"anno esterno\",\"anno esterno\",IF(AX81+1<='2 Descrizione Progetto'!$D$22,AX81+1,\"anno esterno\"))","v":"anno esterno"},{"$f":"IF(AY81=\"anno esterno\",\"anno esterno\",IF(AY81+1<='2 Descrizione Progetto'!$D$22,AY81+1,\"anno esterno\"))","v":"anno esterno"},{"$f":"IF(AZ81=\"anno esterno\",\"anno esterno\",IF(AZ81+1<='2 Descrizione Progetto'!$D$22,AZ81+1,\"anno esterno\"))","v":"anno esterno"},{"$f":"IF(BA81=\"anno esterno\",\"anno esterno\",IF(BA81+1<='2 Descrizione Progetto'!$D$22,BA81+1,\"anno esterno\"))","v":"anno esterno"},{"$f":"IF(BB81=\"anno esterno\",\"anno esterno\",IF(BB81+1<='2 Descrizione Progetto'!$D$22,BB81+1,\"anno esterno\"))","v":"anno esterno"},{"$f":"IF(BC81=\"anno esterno\",\"anno esterno\",IF(BC81+1<='2 Descrizione Progetto'!$D$22,BC81+1,\"anno esterno\"))","v":"anno esterno"},{"$f":"IF(BD81=\"anno esterno\",\"anno esterno\",IF(BD81+1<='2 Descrizione Progetto'!$D$22,BD81+1,\"anno esterno\"))","v":"anno esterno"},{"$f":"IF(BE81=\"anno esterno\",\"anno esterno\",IF(BE81+1<='2 Descrizione Progetto'!$D$22,BE81+1,\"anno esterno\"))","v":"anno esterno"},{"$f":"IF(BF81=\"anno esterno\",\"anno esterno\",IF(BF81+1<='2 Descrizione Progetto'!$D$22,BF81+1,\"anno esterno\"))","v":"anno esterno"},{"$f":"IF(BG81=\"anno esterno\",\"anno esterno\",IF(BG81+1<='2 Descrizione Progetto'!$D$22,BG81+1,\"anno esterno\"))","v":"anno esterno"},{"$f":"IF(BH81=\"anno esterno\",\"anno esterno\",IF(BH81+1<='2 Descrizione Progetto'!$D$22,BH81+1,\"anno esterno\"))","v":"anno esterno"},{"$f":"IF(BI81=\"anno esterno\",\"anno esterno\",IF(BI81+1<='2 Descrizione Progetto'!$D$22,BI81+1,\"anno esterno\"))","v":"anno esterno"},{"$f":"IF(BJ81=\"anno esterno\",\"anno esterno\",IF(BJ81+1<='2 Descrizione Progetto'!$D$22,BJ81+1,\"anno esterno\"))","v":"anno esterno"},{"$f":"IF(BK81=\"anno esterno\",\"anno esterno\",IF(BK81+1<='2 Descrizione Progetto'!$D$22,BK81+1,\"anno esterno\"))","v":"anno esterno"}]
[null,null,"Domanda ","k-unità fisiche",{"$f":"'3 Costi-Ricavi'!D13","v":0},{"$f":"'3 Costi-Ricavi'!E13","v":0},{"$f":"'3 Costi-Ricavi'!F13","v":0},{"$f":"'3 Costi-Ricavi'!G13","v":0},{"$f":"'3 Costi-Ricavi'!H13","v":0},{"$f":"'3 Costi-Ricavi'!I13","v":0},{"$f":"'3 Costi-Ricavi'!J13","v":0},{"$f":"'3 Costi-Ricavi'!K13","v":0},{"$f":"'3 Costi-Ricavi'!L13","v":0},{"$f":"'3 Costi-Ricavi'!M13","v":0},{"$f":"'3 Costi-Ricavi'!N13","v":0},{"$f":"'3 Costi-Ricavi'!O13","v":0},{"$f":"'3 Costi-Ricavi'!P13","v":0},{"$f":"'3 Costi-Ricavi'!Q13","v":0},{"$f":"'3 Costi-Ricavi'!R13","v":0},{"$f":"'3 Costi-Ricavi'!S13","v":0},{"$f":"'3 Costi-Ricavi'!T13","v":0},{"$f":"'3 Costi-Ricavi'!U13","v":0},{"$f":"'3 Costi-Ricavi'!V13","v":0},{"$f":"'3 Costi-Ricavi'!W13","v":0},{"$f":"'3 Costi-Ricavi'!X13","v":0},{"$f":"'3 Costi-Ricavi'!Y13","v":0},{"$f":"'3 Costi-Ricavi'!Z13","v":0},{"$f":"'3 Costi-Ricavi'!AA13","v":0},{"$f":"'3 Costi-Ricavi'!AB13","v":0},{"$f":"'3 Costi-Ricavi'!AC13","v":0},{"$f":"'3 Costi-Ricavi'!AD13","v":0},{"$f":"'3 Costi-Ricavi'!AE13","v":0},{"$f":"'3 Costi-Ricavi'!AF13","v":0},{"$f":"'3 Costi-Ricavi'!AG13","v":0},{"$f":"'3 Costi-Ricavi'!AH13","v":0},{"$f":"'3 Costi-Ricavi'!AI13","v":0},{"$f":"'3 Costi-Ricavi'!AJ13","v":0},{"$f":"'3 Costi-Ricavi'!AK13","v":0},{"$f":"'3 Costi-Ricavi'!AL13","v":0},{"$f":"'3 Costi-Ricavi'!AM13","v":0},{"$f":"'3 Costi-Ricavi'!AN13","v":0},{"$f":"'3 Costi-Ricavi'!AO13","v":0},{"$f":"'3 Costi-Ricavi'!AP13","v":0},{"$f":"'3 Costi-Ricavi'!AQ13","v":0},{"$f":"'3 Costi-Ricavi'!AR13","v":0},{"$f":"'3 Costi-Ricavi'!AS13","v":0},{"$f":"'3 Costi-Ricavi'!AT13","v":0},{"$f":"'3 Costi-Ricavi'!AU13","v":0},{"$f":"'3 Costi-Ricavi'!AV13","v":0},{"$f":"'3 Costi-Ricavi'!AW13","v":0},{"$f":"'3 Costi-Ricavi'!AX13","v":0},{"$f":"'3 Costi-Ricavi'!AY13","v":0},{"$f":"'3 Costi-Ricavi'!AZ13","v":0},{"$f":"'3 Costi-Ricavi'!BA13","v":0},{"$f":"'3 Costi-Ricavi'!BB13","v":0},{"$f":"'3 Costi-Ricavi'!BC13","v":0},{"$f":"'3 Costi-Ricavi'!BD13","v":0},{"$f":"'3 Costi-Ricavi'!BE13","v":0},{"$f":"'3 Costi-Ricavi'!BF13","v":0},{"$f":"'3 Costi-Ricavi'!BG13","v":0},{"$f":"'3 Costi-Ricavi'!BH13","v":0},{"$f":"'3 Costi-Ricavi'!BI13","v":0},{"$f":"'3 Costi-Ricavi'!BJ13","v":0},{"$f":"'3 Costi-Ricavi'!BK13","v":0}]
[null,null,"Tariffa unitaria ","euro/unità",{"$f":"F35","v":1},{"$f":"E83*(1+$G$35)","v":1.02},1.0404,1.0612079999999999,1.08243216,1.1040808032,1.1261624192640001,1.14868566764928,1.1716593810022657,1.1950925686223111,1.2189944199947573,1.2433743083946525,1.2682417945625455,1.2936066304537963,1.3194787630628724,1.3458683383241299,1.3727857050906125,1.4002414191924248,1.4282462475762734,1.4568111725277988,1.4859473959783549,1.5156663438979221,1.5459796707758806,1.5768992641913981,1.6084372494752261,1.6406059944647307,1.6734181143540252,1.7068864766411058,1.7410242061739281,1.7758446902974065,1.8113615841033548,1.8475888157854219,1.8845405921011305,1.9222314039431532,1.9606760320220162,1.9998895526624565,2.0398873437157055,2.0806850905900198,2.1222987924018204,2.1647447682498568,2.208039663614854,2.252200456887151,2.2972444660248938,2.343189355345392,2.3900531424522997,2.4378542053013459,2.4866112894073726,2.53634351519552,2.5870703854994304,2.6388117932094191,2.6915880290736074,2.7454197896550796,2.8003281854481812,2.8563347491571447,2.9134614441402875,2.9717306730230932,3.0311652864835552,3.0917885922132262,3.1536243640574906,3.2166968513386403]
[null,null,"Ricavi","euro",{"$f":"E82*E83","v":0},0,0,0,0,0,0,0,0,0,0,0,0,0,0,0,0,0,0,0,0,0,0,0,0,0,0,0,0,0,0,0,0,0,0,0,0,0,0,0,0,0,0,0,0,0,0,0,0,0,0,0,0,0,0,0,0,0,0,0]
[]
[null,null,"Ricavo 1 ",null,{"$f":"'2 Descrizione Progetto'!$D$20","v":1},{"$f":"IF(E86=\"anno esterno\",\"anno esterno\",IF(E86+1<='2 Descrizione Progetto'!$D$22,E86+1,\"anno esterno\"))","v":2},{"$f":"IF(F86=\"anno esterno\",\"anno esterno\",IF(F86+1<='2 Descrizione Progetto'!$D$22,F86+1,\"anno esterno\"))","v":3},{"$f":"IF(G86=\"anno esterno\",\"anno esterno\",IF(G86+1<='2 Descrizione Progetto'!$D$22,G86+1,\"anno esterno\"))","v":4},{"$f":"IF(H86=\"anno esterno\",\"anno esterno\",IF(H86+1<='2 Descrizione Progetto'!$D$22,H86+1,\"anno esterno\"))","v":5},{"$f":"IF(I86=\"anno esterno\",\"anno esterno\",IF(I86+1<='2 Descrizione Progetto'!$D$22,I86+1,\"anno esterno\"))","v":6},{"$f":"IF(J86=\"anno esterno\",\"anno esterno\",IF(J86+1<='2 Descrizione Progetto'!$D$22,J86+1,\"anno esterno\"))","v":7},{"$f":"IF(K86=\"anno esterno\",\"anno esterno\",IF(K86+1<='2 Descrizione Progetto'!$D$22,K86+1,\"anno esterno\"))","v":8},{"$f":"IF(L86=\"anno esterno\",\"anno esterno\",IF(L86+1<='2 Descrizione Progetto'!$D$22,L86+1,\"anno esterno\"))","v":9},{"$f":"IF(M86=\"anno esterno\",\"anno esterno\",IF(M86+1<='2 Descrizione Progetto'!$D$22,M86+1,\"anno esterno\"))","v":10},{"$f":"IF(N86=\"anno esterno\",\"anno esterno\",IF(N86+1<='2 Descrizione Progetto'!$D$22,N86+1,\"anno esterno\"))","v":"anno esterno"},{"$f":"IF(O86=\"anno esterno\",\"anno esterno\",IF(O86+1<='2 Descrizione Progetto'!$D$22,O86+1,\"anno esterno\"))","v":"anno esterno"},{"$f":"IF(P86=\"anno esterno\",\"anno esterno\",IF(P86+1<='2 Descrizione Progetto'!$D$22,P86+1,\"anno esterno\"))","v":"anno esterno"},{"$f":"IF(Q86=\"anno esterno\",\"anno esterno\",IF(Q86+1<='2 Descrizione Progetto'!$D$22,Q86+1,\"anno esterno\"))","v":"anno esterno"},{"$f":"IF(R86=\"anno esterno\",\"anno esterno\",IF(R86+1<='2 Descrizione Progetto'!$D$22,R86+1,\"anno esterno\"))","v":"anno esterno"},{"$f":"IF(S86=\"anno esterno\",\"anno esterno\",IF(S86+1<='2 Descrizione Progetto'!$D$22,S86+1,\"anno esterno\"))","v":"anno esterno"},{"$f":"IF(T86=\"anno esterno\",\"anno esterno\",IF(T86+1<='2 Descrizione Progetto'!$D$22,T86+1,\"anno esterno\"))","v":"anno esterno"},{"$f":"IF(U86=\"anno esterno\",\"anno esterno\",IF(U86+1<='2 Descrizione Progetto'!$D$22,U86+1,\"anno esterno\"))","v":"anno esterno"},{"$f":"IF(V86=\"anno esterno\",\"anno esterno\",IF(V86+1<='2 Descrizione Progetto'!$D$22,V86+1,\"anno esterno\"))","v":"anno esterno"},{"$f":"IF(W86=\"anno esterno\",\"anno esterno\",IF(W86+1<='2 Descrizione Progetto'!$D$22,W86+1,\"anno esterno\"))","v":"anno esterno"},{"$f":"IF(X86=\"anno esterno\",\"anno esterno\",IF(X86+1<='2 Descrizione Progetto'!$D$22,X86+1,\"anno esterno\"))","v":"anno esterno"},{"$f":"IF(Y86=\"anno esterno\",\"anno esterno\",IF(Y86+1<='2 Descrizione Progetto'!$D$22,Y86+1,\"anno esterno\"))","v":"anno esterno"},{"$f":"IF(Z86=\"anno esterno\",\"anno esterno\",IF(Z86+1<='2 Descrizione Progetto'!$D$22,Z86+1,\"anno esterno\"))","v":"anno esterno"},{"$f":"IF(AA86=\"anno esterno\",\"anno esterno\",IF(AA86+1<='2 Descrizione Progetto'!$D$22,AA86+1,\"anno esterno\"))","v":"anno esterno"},{"$f":"IF(AB86=\"anno esterno\",\"anno esterno\",IF(AB86+1<='2 Descrizione Progetto'!$D$22,AB86+1,\"anno esterno\"))","v":"anno esterno"},{"$f":"IF(AC86=\"anno esterno\",\"anno esterno\",IF(AC86+1<='2 Descrizione Progetto'!$D$22,AC86+1,\"anno esterno\"))","v":"anno esterno"},{"$f":"IF(AD86=\"anno esterno\",\"anno esterno\",IF(AD86+1<='2 Descrizione Progetto'!$D$22,AD86+1,\"anno esterno\"))","v":"anno esterno"},{"$f":"IF(AE86=\"anno esterno\",\"anno esterno\",IF(AE86+1<='2 Descrizione Progetto'!$D$22,AE86+1,\"anno esterno\"))","v":"anno esterno"},{"$f":"IF(AF86=\"anno esterno\",\"anno esterno\",IF(AF86+1<='2 Descrizione Progetto'!$D$22,AF86+1,\"anno esterno\"))","v":"anno esterno"},{"$f":"IF(AG86=\"anno esterno\",\"anno esterno\",IF(AG86+1<='2 Descrizione Progetto'!$D$22,AG86+1,\"anno esterno\"))","v":"anno esterno"},{"$f":"IF(AH86=\"anno esterno\",\"anno esterno\",IF(AH86+1<='2 Descrizione Progetto'!$D$22,AH86+1,\"anno esterno\"))","v":"anno esterno"},{"$f":"IF(AI86=\"anno esterno\",\"anno esterno\",IF(AI86+1<='2 Descrizione Progetto'!$D$22,AI86+1,\"anno esterno\"))","v":"anno esterno"},{"$f":"IF(AJ86=\"anno esterno\",\"anno esterno\",IF(AJ86+1<='2 Descrizione Progetto'!$D$22,AJ86+1,\"anno esterno\"))","v":"anno esterno"},{"$f":"IF(AK86=\"anno esterno\",\"anno esterno\",IF(AK86+1<='2 Descrizione Progetto'!$D$22,AK86+1,\"anno esterno\"))","v":"anno esterno"},{"$f":"IF(AL86=\"anno esterno\",\"anno esterno\",IF(AL86+1<='2 Descrizione Progetto'!$D$22,AL86+1,\"anno esterno\"))","v":"anno esterno"},{"$f":"IF(AM86=\"anno esterno\",\"anno esterno\",IF(AM86+1<='2 Descrizione Progetto'!$D$22,AM86+1,\"anno esterno\"))","v":"anno esterno"},{"$f":"IF(AN86=\"anno esterno\",\"anno esterno\",IF(AN86+1<='2 Descrizione Progetto'!$D$22,AN86+1,\"anno esterno\"))","v":"anno esterno"},{"$f":"IF(AO86=\"anno esterno\",\"anno esterno\",IF(AO86+1<='2 Descrizione Progetto'!$D$22,AO86+1,\"anno esterno\"))","v":"anno esterno"},{"$f":"IF(AP86=\"anno esterno\",\"anno esterno\",IF(AP86+1<='2 Descrizione Progetto'!$D$22,AP86+1,\"anno esterno\"))","v":"anno esterno"},{"$f":"IF(AQ86=\"anno esterno\",\"anno esterno\",IF(AQ86+1<='2 Descrizione Progetto'!$D$22,AQ86+1,\"anno esterno\"))","v":"anno esterno"},{"$f":"IF(AR86=\"anno esterno\",\"anno esterno\",IF(AR86+1<='2 Descrizione Progetto'!$D$22,AR86+1,\"anno esterno\"))","v":"anno esterno"},{"$f":"IF(AS86=\"anno esterno\",\"anno esterno\",IF(AS86+1<='2 Descrizione Progetto'!$D$22,AS86+1,\"anno esterno\"))","v":"anno esterno"},{"$f":"IF(AT86=\"anno esterno\",\"anno esterno\",IF(AT86+1<='2 Descrizione Progetto'!$D$22,AT86+1,\"anno esterno\"))","v":"anno esterno"},{"$f":"IF(AU86=\"anno esterno\",\"anno esterno\",IF(AU86+1<='2 Descrizione Progetto'!$D$22,AU86+1,\"anno esterno\"))","v":"anno esterno"},{"$f":"IF(AV86=\"anno esterno\",\"anno esterno\",IF(AV86+1<='2 Descrizione Progetto'!$D$22,AV86+1,\"anno esterno\"))","v":"anno esterno"},{"$f":"IF(AW86=\"anno esterno\",\"anno esterno\",IF(AW86+1<='2 Descrizione Progetto'!$D$22,AW86+1,\"anno esterno\"))","v":"anno esterno"},{"$f":"IF(AX86=\"anno esterno\",\"anno esterno\",IF(AX86+1<='2 Descrizione Progetto'!$D$22,AX86+1,\"anno esterno\"))","v":"anno esterno"},{"$f":"IF(AY86=\"anno esterno\",\"anno esterno\",IF(AY86+1<='2 Descrizione Progetto'!$D$22,AY86+1,\"anno esterno\"))","v":"anno esterno"},{"$f":"IF(AZ86=\"anno esterno\",\"anno esterno\",IF(AZ86+1<='2 Descrizione Progetto'!$D$22,AZ86+1,\"anno esterno\"))","v":"anno esterno"},{"$f":"IF(BA86=\"anno esterno\",\"anno esterno\",IF(BA86+1<='2 Descrizione Progetto'!$D$22,BA86+1,\"anno esterno\"))","v":"anno esterno"},{"$f":"IF(BB86=\"anno esterno\",\"anno esterno\",IF(BB86+1<='2 Descrizione Progetto'!$D$22,BB86+1,\"anno esterno\"))","v":"anno esterno"},{"$f":"IF(BC86=\"anno esterno\",\"anno esterno\",IF(BC86+1<='2 Descrizione Progetto'!$D$22,BC86+1,\"anno esterno\"))","v":"anno esterno"},{"$f":"IF(BD86=\"anno esterno\",\"anno esterno\",IF(BD86+1<='2 Descrizione Progetto'!$D$22,BD86+1,\"anno esterno\"))","v":"anno esterno"},{"$f":"IF(BE86=\"anno esterno\",\"anno esterno\",IF(BE86+1<='2 Descrizione Progetto'!$D$22,BE86+1,\"anno esterno\"))","v":"anno esterno"},{"$f":"IF(BF86=\"anno esterno\",\"anno esterno\",IF(BF86+1<='2 Descrizione Progetto'!$D$22,BF86+1,\"anno esterno\"))","v":"anno esterno"},{"$f":"IF(BG86=\"anno esterno\",\"anno esterno\",IF(BG86+1<='2 Descrizione Progetto'!$D$22,BG86+1,\"anno esterno\"))","v":"anno esterno"},{"$f":"IF(BH86=\"anno esterno\",\"anno esterno\",IF(BH86+1<='2 Descrizione Progetto'!$D$22,BH86+1,\"anno esterno\"))","v":"anno esterno"},{"$f":"IF(BI86=\"anno esterno\",\"anno esterno\",IF(BI86+1<='2 Descrizione Progetto'!$D$22,BI86+1,\"anno esterno\"))","v":"anno esterno"},{"$f":"IF(BJ86=\"anno esterno\",\"anno esterno\",IF(BJ86+1<='2 Descrizione Progetto'!$D$22,BJ86+1,\"anno esterno\"))","v":"anno esterno"},{"$f":"IF(BK86=\"anno esterno\",\"anno esterno\",IF(BK86+1<='2 Descrizione Progetto'!$D$22,BK86+1,\"anno esterno\"))","v":"anno esterno"}]
[null,null,"Domanda ","k-unità fisiche",{"$f":"'3 Costi-Ricavi'!D14","v":0},{"$f":"'3 Costi-Ricavi'!E14","v":0},{"$f":"'3 Costi-Ricavi'!F14","v":0},{"$f":"'3 Costi-Ricavi'!G14","v":0},{"$f":"'3 Costi-Ricavi'!H14","v":0},{"$f":"'3 Costi-Ricavi'!I14","v":0},{"$f":"'3 Costi-Ricavi'!J14","v":0},{"$f":"'3 Costi-Ricavi'!K14","v":0},{"$f":"'3 Costi-Ricavi'!L14","v":0},{"$f":"'3 Costi-Ricavi'!M14","v":0},{"$f":"'3 Costi-Ricavi'!N14","v":0},{"$f":"'3 Costi-Ricavi'!O14","v":0},{"$f":"'3 Costi-Ricavi'!P14","v":0},{"$f":"'3 Costi-Ricavi'!Q14","v":0},{"$f":"'3 Costi-Ricavi'!R14","v":0},{"$f":"'3 Costi-Ricavi'!S14","v":0},{"$f":"'3 Costi-Ricavi'!T14","v":0},{"$f":"'3 Costi-Ricavi'!U14","v":0},{"$f":"'3 Costi-Ricavi'!V14","v":0},{"$f":"'3 Costi-Ricavi'!W14","v":0},{"$f":"'3 Costi-Ricavi'!X14","v":0},{"$f":"'3 Costi-Ricavi'!Y14","v":0},{"$f":"'3 Costi-Ricavi'!Z14","v":0},{"$f":"'3 Costi-Ricavi'!AA14","v":0},{"$f":"'3 Costi-Ricavi'!AB14","v":0},{"$f":"'3 Costi-Ricavi'!AC14","v":0},{"$f":"'3 Costi-Ricavi'!AD14","v":0},{"$f":"'3 Costi-Ricavi'!AE14","v":0},{"$f":"'3 Costi-Ricavi'!AF14","v":0},{"$f":"'3 Costi-Ricavi'!AG14","v":0},{"$f":"'3 Costi-Ricavi'!AH14","v":0},{"$f":"'3 Costi-Ricavi'!AI14","v":0},{"$f":"'3 Costi-Ricavi'!AJ14","v":0},{"$f":"'3 Costi-Ricavi'!AK14","v":0},{"$f":"'3 Costi-Ricavi'!AL14","v":0},{"$f":"'3 Costi-Ricavi'!AM14","v":0},{"$f":"'3 Costi-Ricavi'!AN14","v":0},{"$f":"'3 Costi-Ricavi'!AO14","v":0},{"$f":"'3 Costi-Ricavi'!AP14","v":0},{"$f":"'3 Costi-Ricavi'!AQ14","v":0},{"$f":"'3 Costi-Ricavi'!AR14","v":0},{"$f":"'3 Costi-Ricavi'!AS14","v":0},{"$f":"'3 Costi-Ricavi'!AT14","v":0},{"$f":"'3 Costi-Ricavi'!AU14","v":0},{"$f":"'3 Costi-Ricavi'!AV14","v":0},{"$f":"'3 Costi-Ricavi'!AW14","v":0},{"$f":"'3 Costi-Ricavi'!AX14","v":0},{"$f":"'3 Costi-Ricavi'!AY14","v":0},{"$f":"'3 Costi-Ricavi'!AZ14","v":0},{"$f":"'3 Costi-Ricavi'!BA14","v":0},{"$f":"'3 Costi-Ricavi'!BB14","v":0},{"$f":"'3 Costi-Ricavi'!BC14","v":0},{"$f":"'3 Costi-Ricavi'!BD14","v":0},{"$f":"'3 Costi-Ricavi'!BE14","v":0},{"$f":"'3 Costi-Ricavi'!BF14","v":0},{"$f":"'3 Costi-Ricavi'!BG14","v":0},{"$f":"'3 Costi-Ricavi'!BH14","v":0},{"$f":"'3 Costi-Ricavi'!BI14","v":0},{"$f":"'3 Costi-Ricavi'!BJ14","v":0},{"$f":"'3 Costi-Ricavi'!BK14","v":0}]
[null,null,"Tariffa unitaria ","euro/unità",{"$f":"F36","v":1},{"$f":"E88*(1+$G$36)","v":1.02},1.0404,1.0612079999999999,1.08243216,1.1040808032,1.1261624192640001,1.14868566764928,1.1716593810022657,1.1950925686223111,1.2189944199947573,1.2433743083946525,1.2682417945625455,1.2936066304537963,1.3194787630628724,1.3458683383241299,1.3727857050906125,1.4002414191924248,1.4282462475762734,1.4568111725277988,1.4859473959783549,1.5156663438979221,1.5459796707758806,1.5768992641913981,1.6084372494752261,1.6406059944647307,1.6734181143540252,1.7068864766411058,1.7410242061739281,1.7758446902974065,1.8113615841033548,1.8475888157854219,1.8845405921011305,1.9222314039431532,1.9606760320220162,1.9998895526624565,2.0398873437157055,2.0806850905900198,2.1222987924018204,2.1647447682498568,2.208039663614854,2.252200456887151,2.2972444660248938,2.343189355345392,2.3900531424522997,2.4378542053013459,2.4866112894073726,2.53634351519552,2.5870703854994304,2.6388117932094191,2.6915880290736074,2.7454197896550796,2.8003281854481812,2.8563347491571447,2.9134614441402875,2.9717306730230932,3.0311652864835552,3.0917885922132262,3.1536243640574906,3.2166968513386403]
[null,null,"Ricavi","euro",{"$f":"E87*E88","v":0},0,0,0,0,0,0,0,0,0,0,0,0,0,0,0,0,0,0,0,0,0,0,0,0,0,0,0,0,0,0,0,0,0,0,0,0,0,0,0,0,0,0,0,0,0,0,0,0,0,0,0,0,0,0,0,0,0,0,0]
[]
[]
[]
[null,null,"Voci Ricavo Anno per Anno ",null,{"$f":"IF(COUNTIF(D96:BL145,\"VERIFICA 2\")>0,\"VERIFICA 2:   Domanda stimata per l'anno  > Domanda da soddisfare\",\"\")","v":"VERIFICA 2:   Domanda stimata per l'anno  > Domanda da soddisfare"}]
[null,null,null,null,{"$f":"IF(COUNTIF(D96:BL145,\"VERIFICA 3\")>0,\"VERIFICA 3:   Domanda stimata per l'anno > Capacità massima del progetto\",\"\")","v":"VERIFICA 3:   Domanda stimata per l'anno > Capacità massima del progetto"}]
[]
[null,1,{"$f":"IF(C9=\"\",\"\",C9)","v":"Ricavi Istituzionali"},{"$f":"'2 Descrizione Progetto'!$D$20","v":1},{"$f":"IF(D96=\"anno esterno\",\"anno esterno\",IF(D96+1<='2 Descrizione Progetto'!$D$22,D96+1,\"anno esterno\"))","v":2},{"$f":"IF(E96=\"anno esterno\",\"anno esterno\",IF(E96+1<='2 Descrizione Progetto'!$D$22,E96+1,\"anno esterno\"))","v":3},{"$f":"IF(F96=\"anno esterno\",\"anno esterno\",IF(F96+1<='2 Descrizione Progetto'!$D$22,F96+1,\"anno esterno\"))","v":4},{"$f":"IF(G96=\"anno esterno\",\"anno esterno\",IF(G96+1<='2 Descrizione Progetto'!$D$22,G96+1,\"anno esterno\"))","v":5},{"$f":"IF(H96=\"anno esterno\",\"anno esterno\",IF(H96+1<='2 Descrizione Progetto'!$D$22,H96+1,\"anno esterno\"))","v":6},{"$f":"IF(I96=\"anno esterno\",\"anno esterno\",IF(I96+1<='2 Descrizione Progetto'!$D$22,I96+1,\"anno esterno\"))","v":7},{"$f":"IF(J96=\"anno esterno\",\"anno esterno\",IF(J96+1<='2 Descrizione Progetto'!$D$22,J96+1,\"anno esterno\"))","v":8},{"$f":"IF(K96=\"anno esterno\",\"anno esterno\",IF(K96+1<='2 Descrizione Progetto'!$D$22,K96+1,\"anno esterno\"))","v":9},{"$f":"IF(L96=\"anno esterno\",\"anno esterno\",IF(L96+1<='2 Descrizione Progetto'!$D$22,L96+1,\"anno esterno\"))","v":10},{"$f":"IF(M96=\"anno esterno\",\"anno esterno\",IF(M96+1<='2 Descrizione Progetto'!$D$22,M96+1,\"anno esterno\"))","v":"anno esterno"},{"$f":"IF(N96=\"anno esterno\",\"anno esterno\",IF(N96+1<='2 Descrizione Progetto'!$D$22,N96+1,\"anno esterno\"))","v":"anno esterno"},{"$f":"IF(O96=\"anno esterno\",\"anno esterno\",IF(O96+1<='2 Descrizione Progetto'!$D$22,O96+1,\"anno esterno\"))","v":"anno esterno"},{"$f":"IF(P96=\"anno esterno\",\"anno esterno\",IF(P96+1<='2 Descrizione Progetto'!$D$22,P96+1,\"anno esterno\"))","v":"anno esterno"},{"$f":"IF(Q96=\"anno esterno\",\"anno esterno\",IF(Q96+1<='2 Descrizione Progetto'!$D$22,Q96+1,\"anno esterno\"))","v":"anno esterno"},{"$f":"IF(R96=\"anno esterno\",\"anno esterno\",IF(R96+1<='2 Descrizione Progetto'!$D$22,R96+1,\"anno esterno\"))","v":"anno esterno"},{"$f":"IF(S96=\"anno esterno\",\"anno esterno\",IF(S96+1<='2 Descrizione Progetto'!$D$22,S96+1,\"anno esterno\"))","v":"anno esterno"},{"$f":"IF(T96=\"anno esterno\",\"anno esterno\",IF(T96+1<='2 Descrizione Progetto'!$D$22,T96+1,\"anno esterno\"))","v":"anno esterno"},{"$f":"IF(U96=\"anno esterno\",\"anno esterno\",IF(U96+1<='2 Descrizione Progetto'!$D$22,U96+1,\"anno esterno\"))","v":"anno esterno"},{"$f":"IF(V96=\"anno esterno\",\"anno esterno\",IF(V96+1<='2 Descrizione Progetto'!$D$22,V96+1,\"anno esterno\"))","v":"anno esterno"},{"$f":"IF(W96=\"anno esterno\",\"anno esterno\",IF(W96+1<='2 Descrizione Progetto'!$D$22,W96+1,\"anno esterno\"))","v":"anno esterno"},{"$f":"IF(X96=\"anno esterno\",\"anno esterno\",IF(X96+1<='2 Descrizione Progetto'!$D$22,X96+1,\"anno esterno\"))","v":"anno esterno"},{"$f":"IF(Y96=\"anno esterno\",\"anno esterno\",IF(Y96+1<='2 Descrizione Progetto'!$D$22,Y96+1,\"anno esterno\"))","v":"anno esterno"},{"$f":"IF(Z96=\"anno esterno\",\"anno esterno\",IF(Z96+1<='2 Descrizione Progetto'!$D$22,Z96+1,\"anno esterno\"))","v":"anno esterno"},{"$f":"IF(AA96=\"anno esterno\",\"anno esterno\",IF(AA96+1<='2 Descrizione Progetto'!$D$22,AA96+1,\"anno esterno\"))","v":"anno esterno"},{"$f":"IF(AB96=\"anno esterno\",\"anno esterno\",IF(AB96+1<='2 Descrizione Progetto'!$D$22,AB96+1,\"anno esterno\"))","v":"anno esterno"},{"$f":"IF(AC96=\"anno esterno\",\"anno esterno\",IF(AC96+1<='2 Descrizione Progetto'!$D$22,AC96+1,\"anno esterno\"))","v":"anno esterno"},{"$f":"IF(AD96=\"anno esterno\",\"anno esterno\",IF(AD96+1<='2 Descrizione Progetto'!$D$22,AD96+1,\"anno esterno\"))","v":"anno esterno"},{"$f":"IF(AE96=\"anno esterno\",\"anno esterno\",IF(AE96+1<='2 Descrizione Progetto'!$D$22,AE96+1,\"anno esterno\"))","v":"anno esterno"},{"$f":"IF(AF96=\"anno esterno\",\"anno esterno\",IF(AF96+1<='2 Descrizione Progetto'!$D$22,AF96+1,\"anno esterno\"))","v":"anno esterno"},{"$f":"IF(AG96=\"anno esterno\",\"anno esterno\",IF(AG96+1<='2 Descrizione Progetto'!$D$22,AG96+1,\"anno esterno\"))","v":"anno esterno"},{"$f":"IF(AH96=\"anno esterno\",\"anno esterno\",IF(AH96+1<='2 Descrizione Progetto'!$D$22,AH96+1,\"anno esterno\"))","v":"anno esterno"},{"$f":"IF(AI96=\"anno esterno\",\"anno esterno\",IF(AI96+1<='2 Descrizione Progetto'!$D$22,AI96+1,\"anno esterno\"))","v":"anno esterno"},{"$f":"IF(AJ96=\"anno esterno\",\"anno esterno\",IF(AJ96+1<='2 Descrizione Progetto'!$D$22,AJ96+1,\"anno esterno\"))","v":"anno esterno"},{"$f":"IF(AK96=\"anno esterno\",\"anno esterno\",IF(AK96+1<='2 Descrizione Progetto'!$D$22,AK96+1,\"anno esterno\"))","v":"anno esterno"},{"$f":"IF(AL96=\"anno esterno\",\"anno esterno\",IF(AL96+1<='2 Descrizione Progetto'!$D$22,AL96+1,\"anno esterno\"))","v":"anno esterno"},{"$f":"IF(AM96=\"anno esterno\",\"anno esterno\",IF(AM96+1<='2 Descrizione Progetto'!$D$22,AM96+1,\"anno esterno\"))","v":"anno esterno"},{"$f":"IF(AN96=\"anno esterno\",\"anno esterno\",IF(AN96+1<='2 Descrizione Progetto'!$D$22,AN96+1,\"anno esterno\"))","v":"anno esterno"},{"$f":"IF(AO96=\"anno esterno\",\"anno esterno\",IF(AO96+1<='2 Descrizione Progetto'!$D$22,AO96+1,\"anno esterno\"))","v":"anno esterno"},{"$f":"IF(AP96=\"anno esterno\",\"anno esterno\",IF(AP96+1<='2 Descrizione Progetto'!$D$22,AP96+1,\"anno esterno\"))","v":"anno esterno"},{"$f":"IF(AQ96=\"anno esterno\",\"anno esterno\",IF(AQ96+1<='2 Descrizione Progetto'!$D$22,AQ96+1,\"anno esterno\"))","v":"anno esterno"},{"$f":"IF(AR96=\"anno esterno\",\"anno esterno\",IF(AR96+1<='2 Descrizione Progetto'!$D$22,AR96+1,\"anno esterno\"))","v":"anno esterno"},{"$f":"IF(AS96=\"anno esterno\",\"anno esterno\",IF(AS96+1<='2 Descrizione Progetto'!$D$22,AS96+1,\"anno esterno\"))","v":"anno esterno"},{"$f":"IF(AT96=\"anno esterno\",\"anno esterno\",IF(AT96+1<='2 Descrizione Progetto'!$D$22,AT96+1,\"anno esterno\"))","v":"anno esterno"},{"$f":"IF(AU96=\"anno esterno\",\"anno esterno\",IF(AU96+1<='2 Descrizione Progetto'!$D$22,AU96+1,\"anno esterno\"))","v":"anno esterno"},{"$f":"IF(AV96=\"anno esterno\",\"anno esterno\",IF(AV96+1<='2 Descrizione Progetto'!$D$22,AV96+1,\"anno esterno\"))","v":"anno esterno"},{"$f":"IF(AW96=\"anno esterno\",\"anno esterno\",IF(AW96+1<='2 Descrizione Progetto'!$D$22,AW96+1,\"anno esterno\"))","v":"anno esterno"},{"$f":"IF(AX96=\"anno esterno\",\"anno esterno\",IF(AX96+1<='2 Descrizione Progetto'!$D$22,AX96+1,\"anno esterno\"))","v":"anno esterno"},{"$f":"IF(AY96=\"anno esterno\",\"anno esterno\",IF(AY96+1<='2 Descrizione Progetto'!$D$22,AY96+1,\"anno esterno\"))","v":"anno esterno"},{"$f":"IF(AZ96=\"anno esterno\",\"anno esterno\",IF(AZ96+1<='2 Descrizione Progetto'!$D$22,AZ96+1,\"anno esterno\"))","v":"anno esterno"},{"$f":"IF(BA96=\"anno esterno\",\"anno esterno\",IF(BA96+1<='2 Descrizione Progetto'!$D$22,BA96+1,\"anno esterno\"))","v":"anno esterno"},{"$f":"IF(BB96=\"anno esterno\",\"anno esterno\",IF(BB96+1<='2 Descrizione Progetto'!$D$22,BB96+1,\"anno esterno\"))","v":"anno esterno"},{"$f":"IF(BC96=\"anno esterno\",\"anno esterno\",IF(BC96+1<='2 Descrizione Progetto'!$D$22,BC96+1,\"anno esterno\"))","v":"anno esterno"},{"$f":"IF(BD96=\"anno esterno\",\"anno esterno\",IF(BD96+1<='2 Descrizione Progetto'!$D$22,BD96+1,\"anno esterno\"))","v":"anno esterno"},{"$f":"IF(BE96=\"anno esterno\",\"anno esterno\",IF(BE96+1<='2 Descrizione Progetto'!$D$22,BE96+1,\"anno esterno\"))","v":"anno esterno"},{"$f":"IF(BF96=\"anno esterno\",\"anno esterno\",IF(BF96+1<='2 Descrizione Progetto'!$D$22,BF96+1,\"anno esterno\"))","v":"anno esterno"},{"$f":"IF(BG96=\"anno esterno\",\"anno esterno\",IF(BG96+1<='2 Descrizione Progetto'!$D$22,BG96+1,\"anno esterno\"))","v":"anno esterno"},{"$f":"IF(BH96=\"anno esterno\",\"anno esterno\",IF(BH96+1<='2 Descrizione Progetto'!$D$22,BH96+1,\"anno esterno\"))","v":"anno esterno"},{"$f":"IF(BI96=\"anno esterno\",\"anno esterno\",IF(BI96+1<='2 Descrizione Progetto'!$D$22,BI96+1,\"anno esterno\"))","v":"anno esterno"},{"$f":"IF(BJ96=\"anno esterno\",\"anno esterno\",IF(BJ96+1<='2 Descrizione Progetto'!$D$22,BJ96+1,\"anno esterno\"))","v":"anno esterno"},{"$f":"IF(BK96=\"anno esterno\",\"anno esterno\",IF(BK96+1<='2 Descrizione Progetto'!$D$22,BK96+1,\"anno esterno\"))","v":"anno esterno"}]
[null,null,"Domanda (unità)"]
[null,null,"Tariffa unitaria (euro)"]
[null,null,"Ricavi (euro)",{"$f":"D97*D98","v":0},0,0,0,0,0,0,0,0,0,0,0,0,0,0,0,0,0,0,0,0,0,0,0,0,0,0,0,0,0,0,0,0,0,0,0,0,0,0,0,0,0,0,0,0,0,0,0,0,0,0,0,0,0,0,0,0,0,0,0,0]
[null,null,"CHECK 2 e 3",{"$f":"IF(D97=\"\",\"\",IF(D97>($L$10-$K$10),\"VERIFICA 2\",IF(D97<$M$10,\"OK\",\"VERIFICA 3\")))","v":""},"","","","","","","","","","","","","","","","","","","","","","","","","","","","","","","","","","","","","","","","","","","","","","","","","","","","","","","","","","","",""]
[null,2,{"$f":"IF(C10=\"\",\"\",C10)","v":"Ricavi Commerciali"},{"$f":"'2 Descrizione Progetto'!$D$20","v":1},{"$f":"IF(D101=\"anno esterno\",\"anno esterno\",IF(D101+1<='2 Descrizione Progetto'!$D$22,D101+1,\"anno esterno\"))","v":2},{"$f":"IF(E101=\"anno esterno\",\"anno esterno\",IF(E101+1<='2 Descrizione Progetto'!$D$22,E101+1,\"anno esterno\"))","v":3},{"$f":"IF(F101=\"anno esterno\",\"anno esterno\",IF(F101+1<='2 Descrizione Progetto'!$D$22,F101+1,\"anno esterno\"))","v":4},{"$f":"IF(G101=\"anno esterno\",\"anno esterno\",IF(G101+1<='2 Descrizione Progetto'!$D$22,G101+1,\"anno esterno\"))","v":5},{"$f":"IF(H101=\"anno esterno\",\"anno esterno\",IF(H101+1<='2 Descrizione Progetto'!$D$22,H101+1,\"anno esterno\"))","v":6},{"$f":"IF(I101=\"anno esterno\",\"anno esterno\",IF(I101+1<='2 Descrizione Progetto'!$D$22,I101+1,\"anno esterno\"))","v":7},{"$f":"IF(J101=\"anno esterno\",\"anno esterno\",IF(J101+1<='2 Descrizione Progetto'!$D$22,J101+1,\"anno esterno\"))","v":8},{"$f":"IF(K101=\"anno esterno\",\"anno esterno\",IF(K101+1<='2 Descrizione Progetto'!$D$22,K101+1,\"anno esterno\"))","v":9},{"$f":"IF(L101=\"anno esterno\",\"anno esterno\",IF(L101+1<='2 Descrizione Progetto'!$D$22,L101+1,\"anno esterno\"))","v":10},{"$f":"IF(M101=\"anno esterno\",\"anno esterno\",IF(M101+1<='2 Descrizione Progetto'!$D$22,M101+1,\"anno esterno\"))","v":"anno esterno"},{"$f":"IF(N101=\"anno esterno\",\"anno esterno\",IF(N101+1<='2 Descrizione Progetto'!$D$22,N101+1,\"anno esterno\"))","v":"anno esterno"},{"$f":"IF(O101=\"anno esterno\",\"anno esterno\",IF(O101+1<='2 Descrizione Progetto'!$D$22,O101+1,\"anno esterno\"))","v":"anno esterno"},{"$f":"IF(P101=\"anno esterno\",\"anno esterno\",IF(P101+1<='2 Descrizione Progetto'!$D$22,P101+1,\"anno esterno\"))","v":"anno esterno"},{"$f":"IF(Q101=\"anno esterno\",\"anno esterno\",IF(Q101+1<='2 Descrizione Progetto'!$D$22,Q101+1,\"anno esterno\"))","v":"anno esterno"},{"$f":"IF(R101=\"anno esterno\",\"anno esterno\",IF(R101+1<='2 Descrizione Progetto'!$D$22,R101+1,\"anno esterno\"))","v":"anno esterno"},{"$f":"IF(S101=\"anno esterno\",\"anno esterno\",IF(S101+1<='2 Descrizione Progetto'!$D$22,S101+1,\"anno esterno\"))","v":"anno esterno"},{"$f":"IF(T101=\"anno esterno\",\"anno esterno\",IF(T101+1<='2 Descrizione Progetto'!$D$22,T101+1,\"anno esterno\"))","v":"anno esterno"},{"$f":"IF(U101=\"anno esterno\",\"anno esterno\",IF(U101+1<='2 Descrizione Progetto'!$D$22,U101+1,\"anno esterno\"))","v":"anno esterno"},{"$f":"IF(V101=\"anno esterno\",\"anno esterno\",IF(V101+1<='2 Descrizione Progetto'!$D$22,V101+1,\"anno esterno\"))","v":"anno esterno"},{"$f":"IF(W101=\"anno esterno\",\"anno esterno\",IF(W101+1<='2 Descrizione Progetto'!$D$22,W101+1,\"anno esterno\"))","v":"anno esterno"},{"$f":"IF(X101=\"anno esterno\",\"anno esterno\",IF(X101+1<='2 Descrizione Progetto'!$D$22,X101+1,\"anno esterno\"))","v":"anno esterno"},{"$f":"IF(Y101=\"anno esterno\",\"anno esterno\",IF(Y101+1<='2 Descrizione Progetto'!$D$22,Y101+1,\"anno esterno\"))","v":"anno esterno"},{"$f":"IF(Z101=\"anno esterno\",\"anno esterno\",IF(Z101+1<='2 Descrizione Progetto'!$D$22,Z101+1,\"anno esterno\"))","v":"anno esterno"},{"$f":"IF(AA101=\"anno esterno\",\"anno esterno\",IF(AA101+1<='2 Descrizione Progetto'!$D$22,AA101+1,\"anno esterno\"))","v":"anno esterno"},{"$f":"IF(AB101=\"anno esterno\",\"anno esterno\",IF(AB101+1<='2 Descrizione Progetto'!$D$22,AB101+1,\"anno esterno\"))","v":"anno esterno"},{"$f":"IF(AC101=\"anno esterno\",\"anno esterno\",IF(AC101+1<='2 Descrizione Progetto'!$D$22,AC101+1,\"anno esterno\"))","v":"anno esterno"},{"$f":"IF(AD101=\"anno esterno\",\"anno esterno\",IF(AD101+1<='2 Descrizione Progetto'!$D$22,AD101+1,\"anno esterno\"))","v":"anno esterno"},{"$f":"IF(AE101=\"anno esterno\",\"anno esterno\",IF(AE101+1<='2 Descrizione Progetto'!$D$22,AE101+1,\"anno esterno\"))","v":"anno esterno"},{"$f":"IF(AF101=\"anno esterno\",\"anno esterno\",IF(AF101+1<='2 Descrizione Progetto'!$D$22,AF101+1,\"anno esterno\"))","v":"anno esterno"},{"$f":"IF(AG101=\"anno esterno\",\"anno esterno\",IF(AG101+1<='2 Descrizione Progetto'!$D$22,AG101+1,\"anno esterno\"))","v":"anno esterno"},{"$f":"IF(AH101=\"anno esterno\",\"anno esterno\",IF(AH101+1<='2 Descrizione Progetto'!$D$22,AH101+1,\"anno esterno\"))","v":"anno esterno"},{"$f":"IF(AI101=\"anno esterno\",\"anno esterno\",IF(AI101+1<='2 Descrizione Progetto'!$D$22,AI101+1,\"anno esterno\"))","v":"anno esterno"},{"$f":"IF(AJ101=\"anno esterno\",\"anno esterno\",IF(AJ101+1<='2 Descrizione Progetto'!$D$22,AJ101+1,\"anno esterno\"))","v":"anno esterno"},{"$f":"IF(AK101=\"anno esterno\",\"anno esterno\",IF(AK101+1<='2 Descrizione Progetto'!$D$22,AK101+1,\"anno esterno\"))","v":"anno esterno"},{"$f":"IF(AL101=\"anno esterno\",\"anno esterno\",IF(AL101+1<='2 Descrizione Progetto'!$D$22,AL101+1,\"anno esterno\"))","v":"anno esterno"},{"$f":"IF(AM101=\"anno esterno\",\"anno esterno\",IF(AM101+1<='2 Descrizione Progetto'!$D$22,AM101+1,\"anno esterno\"))","v":"anno esterno"},{"$f":"IF(AN101=\"anno esterno\",\"anno esterno\",IF(AN101+1<='2 Descrizione Progetto'!$D$22,AN101+1,\"anno esterno\"))","v":"anno esterno"},{"$f":"IF(AO101=\"anno esterno\",\"anno esterno\",IF(AO101+1<='2 Descrizione Progetto'!$D$22,AO101+1,\"anno esterno\"))","v":"anno esterno"},{"$f":"IF(AP101=\"anno esterno\",\"anno esterno\",IF(AP101+1<='2 Descrizione Progetto'!$D$22,AP101+1,\"anno esterno\"))","v":"anno esterno"},{"$f":"IF(AQ101=\"anno esterno\",\"anno esterno\",IF(AQ101+1<='2 Descrizione Progetto'!$D$22,AQ101+1,\"anno esterno\"))","v":"anno esterno"},{"$f":"IF(AR101=\"anno esterno\",\"anno esterno\",IF(AR101+1<='2 Descrizione Progetto'!$D$22,AR101+1,\"anno esterno\"))","v":"anno esterno"},{"$f":"IF(AS101=\"anno esterno\",\"anno esterno\",IF(AS101+1<='2 Descrizione Progetto'!$D$22,AS101+1,\"anno esterno\"))","v":"anno esterno"},{"$f":"IF(AT101=\"anno esterno\",\"anno esterno\",IF(AT101+1<='2 Descrizione Progetto'!$D$22,AT101+1,\"anno esterno\"))","v":"anno esterno"},{"$f":"IF(AU101=\"anno esterno\",\"anno esterno\",IF(AU101+1<='2 Descrizione Progetto'!$D$22,AU101+1,\"anno esterno\"))","v":"anno esterno"},{"$f":"IF(AV101=\"anno esterno\",\"anno esterno\",IF(AV101+1<='2 Descrizione Progetto'!$D$22,AV101+1,\"anno esterno\"))","v":"anno esterno"},{"$f":"IF(AW101=\"anno esterno\",\"anno esterno\",IF(AW101+1<='2 Descrizione Progetto'!$D$22,AW101+1,\"anno esterno\"))","v":"anno esterno"},{"$f":"IF(AX101=\"anno esterno\",\"anno esterno\",IF(AX101+1<='2 Descrizione Progetto'!$D$22,AX101+1,\"anno esterno\"))","v":"anno esterno"},{"$f":"IF(AY101=\"anno esterno\",\"anno esterno\",IF(AY101+1<='2 Descrizione Progetto'!$D$22,AY101+1,\"anno esterno\"))","v":"anno esterno"},{"$f":"IF(AZ101=\"anno esterno\",\"anno esterno\",IF(AZ101+1<='2 Descrizione Progetto'!$D$22,AZ101+1,\"anno esterno\"))","v":"anno esterno"},{"$f":"IF(BA101=\"anno esterno\",\"anno esterno\",IF(BA101+1<='2 Descrizione Progetto'!$D$22,BA101+1,\"anno esterno\"))","v":"anno esterno"},{"$f":"IF(BB101=\"anno esterno\",\"anno esterno\",IF(BB101+1<='2 Descrizione Progetto'!$D$22,BB101+1,\"anno esterno\"))","v":"anno esterno"},{"$f":"IF(BC101=\"anno esterno\",\"anno esterno\",IF(BC101+1<='2 Descrizione Progetto'!$D$22,BC101+1,\"anno esterno\"))","v":"anno esterno"},{"$f":"IF(BD101=\"anno esterno\",\"anno esterno\",IF(BD101+1<='2 Descrizione Progetto'!$D$22,BD101+1,\"anno esterno\"))","v":"anno esterno"},{"$f":"IF(BE101=\"anno esterno\",\"anno esterno\",IF(BE101+1<='2 Descrizione Progetto'!$D$22,BE101+1,\"anno esterno\"))","v":"anno esterno"},{"$f":"IF(BF101=\"anno esterno\",\"anno esterno\",IF(BF101+1<='2 Descrizione Progetto'!$D$22,BF101+1,\"anno esterno\"))","v":"anno esterno"},{"$f":"IF(BG101=\"anno esterno\",\"anno esterno\",IF(BG101+1<='2 Descrizione Progetto'!$D$22,BG101+1,\"anno esterno\"))","v":"anno esterno"},{"$f":"IF(BH101=\"anno esterno\",\"anno esterno\",IF(BH101+1<='2 Descrizione Progetto'!$D$22,BH101+1,\"anno esterno\"))","v":"anno esterno"},{"$f":"IF(BI101=\"anno esterno\",\"anno esterno\",IF(BI101+1<='2 Descrizione Progetto'!$D$22,BI101+1,\"anno esterno\"))","v":"anno esterno"},{"$f":"IF(BJ101=\"anno esterno\",\"anno esterno\",IF(BJ101+1<='2 Descrizione Progetto'!$D$22,BJ101+1,\"anno esterno\"))","v":"anno esterno"},{"$f":"IF(BK101=\"anno esterno\",\"anno esterno\",IF(BK101+1<='2 Descrizione Progetto'!$D$22,BK101+1,\"anno esterno\"))","v":"anno esterno"}]
[null,null,"Domanda (unità)",0,0,0,0,0,0,0,0,0,19500,20000,20500,21000,21500,22000,22500,23000,23500,24000,24500,25000,25500,26000,26500,27000]
[null,null,"Tariffa unitaria (euro)",0,0,0,0,0,0,0,0,0,15,15,15,15,15,15,15,15,15,15,15,15,15,15,15,15]
[null,null,"Ricavi (euro)",{"$f":"D102*D103","v":0},0,0,0,0,0,0,0,0,292500,300000,307500,315000,322500,330000,337500,345000,352500,360000,367500,375000,382500,390000,397500,405000,0,0,0,0,0,0,0,0,0,0,0,0,0,0,0,0,0,0,0,0,0,0,0,0,0,0,0,0,0,0,0,0,0,0,0,0]
[null,null,"CHECK 2 e 3",{"$f":"IF(D102=\"\",\"\",IF(D102>($L$10-$K$10),\"VERIFICA 2\",IF(D102<$M$10,\"OK\",\"VERIFICA 3\")))","v":"OK"},"OK","OK","OK","OK","OK","OK","OK","OK","OK","OK","OK","OK","OK","OK","OK","OK","OK","VERIFICA 3","VERIFICA 3","VERIFICA 3","VERIFICA 2","VERIFICA 2","VERIFICA 2","VERIFICA 2","","","","","","","","","","","","","","","","","","","","","","","","","","","","","","","","","","","",""]
[null,3,{"$f":"IF(C11=\"\",\"\",C11)","v":"Ricavi Bar"},{"$f":"'2 Descrizione Progetto'!$D$20","v":1},{"$f":"IF(D106=\"anno esterno\",\"anno esterno\",IF(D106+1<='2 Descrizione Progetto'!$D$22,D106+1,\"anno esterno\"))","v":2},{"$f":"IF(E106=\"anno esterno\",\"anno esterno\",IF(E106+1<='2 Descrizione Progetto'!$D$22,E106+1,\"anno esterno\"))","v":3},{"$f":"IF(F106=\"anno esterno\",\"anno esterno\",IF(F106+1<='2 Descrizione Progetto'!$D$22,F106+1,\"anno esterno\"))","v":4},{"$f":"IF(G106=\"anno esterno\",\"anno esterno\",IF(G106+1<='2 Descrizione Progetto'!$D$22,G106+1,\"anno esterno\"))","v":5},{"$f":"IF(H106=\"anno esterno\",\"anno esterno\",IF(H106+1<='2 Descrizione Progetto'!$D$22,H106+1,\"anno esterno\"))","v":6},{"$f":"IF(I106=\"anno esterno\",\"anno esterno\",IF(I106+1<='2 Descrizione Progetto'!$D$22,I106+1,\"anno esterno\"))","v":7},{"$f":"IF(J106=\"anno esterno\",\"anno esterno\",IF(J106+1<='2 Descrizione Progetto'!$D$22,J106+1,\"anno esterno\"))","v":8},{"$f":"IF(K106=\"anno esterno\",\"anno esterno\",IF(K106+1<='2 Descrizione Progetto'!$D$22,K106+1,\"anno esterno\"))","v":9},{"$f":"IF(L106=\"anno esterno\",\"anno esterno\",IF(L106+1<='2 Descrizione Progetto'!$D$22,L106+1,\"anno esterno\"))","v":10},{"$f":"IF(M106=\"anno esterno\",\"anno esterno\",IF(M106+1<='2 Descrizione Progetto'!$D$22,M106+1,\"anno esterno\"))","v":"anno esterno"},{"$f":"IF(N106=\"anno esterno\",\"anno esterno\",IF(N106+1<='2 Descrizione Progetto'!$D$22,N106+1,\"anno esterno\"))","v":"anno esterno"},{"$f":"IF(O106=\"anno esterno\",\"anno esterno\",IF(O106+1<='2 Descrizione Progetto'!$D$22,O106+1,\"anno esterno\"))","v":"anno esterno"},{"$f":"IF(P106=\"anno esterno\",\"anno esterno\",IF(P106+1<='2 Descrizione Progetto'!$D$22,P106+1,\"anno esterno\"))","v":"anno esterno"},{"$f":"IF(Q106=\"anno esterno\",\"anno esterno\",IF(Q106+1<='2 Descrizione Progetto'!$D$22,Q106+1,\"anno esterno\"))","v":"anno esterno"},{"$f":"IF(R106=\"anno esterno\",\"anno esterno\",IF(R106+1<='2 Descrizione Progetto'!$D$22,R106+1,\"anno esterno\"))","v":"anno esterno"},{"$f":"IF(S106=\"anno esterno\",\"anno esterno\",IF(S106+1<='2 Descrizione Progetto'!$D$22,S106+1,\"anno esterno\"))","v":"anno esterno"},{"$f":"IF(T106=\"anno esterno\",\"anno esterno\",IF(T106+1<='2 Descrizione Progetto'!$D$22,T106+1,\"anno esterno\"))","v":"anno esterno"},{"$f":"IF(U106=\"anno esterno\",\"anno esterno\",IF(U106+1<='2 Descrizione Progetto'!$D$22,U106+1,\"anno esterno\"))","v":"anno esterno"},{"$f":"IF(V106=\"anno esterno\",\"anno esterno\",IF(V106+1<='2 Descrizione Progetto'!$D$22,V106+1,\"anno esterno\"))","v":"anno esterno"},{"$f":"IF(W106=\"anno esterno\",\"anno esterno\",IF(W106+1<='2 Descrizione Progetto'!$D$22,W106+1,\"anno esterno\"))","v":"anno esterno"},{"$f":"IF(X106=\"anno esterno\",\"anno esterno\",IF(X106+1<='2 Descrizione Progetto'!$D$22,X106+1,\"anno esterno\"))","v":"anno esterno"},{"$f":"IF(Y106=\"anno esterno\",\"anno esterno\",IF(Y106+1<='2 Descrizione Progetto'!$D$22,Y106+1,\"anno esterno\"))","v":"anno esterno"},{"$f":"IF(Z106=\"anno esterno\",\"anno esterno\",IF(Z106+1<='2 Descrizione Progetto'!$D$22,Z106+1,\"anno esterno\"))","v":"anno esterno"},{"$f":"IF(AA106=\"anno esterno\",\"anno esterno\",IF(AA106+1<='2 Descrizione Progetto'!$D$22,AA106+1,\"anno esterno\"))","v":"anno esterno"},{"$f":"IF(AB106=\"anno esterno\",\"anno esterno\",IF(AB106+1<='2 Descrizione Progetto'!$D$22,AB106+1,\"anno esterno\"))","v":"anno esterno"},{"$f":"IF(AC106=\"anno esterno\",\"anno esterno\",IF(AC106+1<='2 Descrizione Progetto'!$D$22,AC106+1,\"anno esterno\"))","v":"anno esterno"},{"$f":"IF(AD106=\"anno esterno\",\"anno esterno\",IF(AD106+1<='2 Descrizione Progetto'!$D$22,AD106+1,\"anno esterno\"))","v":"anno esterno"},{"$f":"IF(AE106=\"anno esterno\",\"anno esterno\",IF(AE106+1<='2 Descrizione Progetto'!$D$22,AE106+1,\"anno esterno\"))","v":"anno esterno"},{"$f":"IF(AF106=\"anno esterno\",\"anno esterno\",IF(AF106+1<='2 Descrizione Progetto'!$D$22,AF106+1,\"anno esterno\"))","v":"anno esterno"},{"$f":"IF(AG106=\"anno esterno\",\"anno esterno\",IF(AG106+1<='2 Descrizione Progetto'!$D$22,AG106+1,\"anno esterno\"))","v":"anno esterno"},{"$f":"IF(AH106=\"anno esterno\",\"anno esterno\",IF(AH106+1<='2 Descrizione Progetto'!$D$22,AH106+1,\"anno esterno\"))","v":"anno esterno"},{"$f":"IF(AI106=\"anno esterno\",\"anno esterno\",IF(AI106+1<='2 Descrizione Progetto'!$D$22,AI106+1,\"anno esterno\"))","v":"anno esterno"},{"$f":"IF(AJ106=\"anno esterno\",\"anno esterno\",IF(AJ106+1<='2 Descrizione Progetto'!$D$22,AJ106+1,\"anno esterno\"))","v":"anno esterno"},{"$f":"IF(AK106=\"anno esterno\",\"anno esterno\",IF(AK106+1<='2 Descrizione Progetto'!$D$22,AK106+1,\"anno esterno\"))","v":"anno esterno"},{"$f":"IF(AL106=\"anno esterno\",\"anno esterno\",IF(AL106+1<='2 Descrizione Progetto'!$D$22,AL106+1,\"anno esterno\"))","v":"anno esterno"},{"$f":"IF(AM106=\"anno esterno\",\"anno esterno\",IF(AM106+1<='2 Descrizione Progetto'!$D$22,AM106+1,\"anno esterno\"))","v":"anno esterno"},{"$f":"IF(AN106=\"anno esterno\",\"anno esterno\",IF(AN106+1<='2 Descrizione Progetto'!$D$22,AN106+1,\"anno esterno\"))","v":"anno esterno"},{"$f":"IF(AO106=\"anno esterno\",\"anno esterno\",IF(AO106+1<='2 Descrizione Progetto'!$D$22,AO106+1,\"anno esterno\"))","v":"anno esterno"},{"$f":"IF(AP106=\"anno esterno\",\"anno esterno\",IF(AP106+1<='2 Descrizione Progetto'!$D$22,AP106+1,\"anno esterno\"))","v":"anno esterno"},{"$f":"IF(AQ106=\"anno esterno\",\"anno esterno\",IF(AQ106+1<='2 Descrizione Progetto'!$D$22,AQ106+1,\"anno esterno\"))","v":"anno esterno"},{"$f":"IF(AR106=\"anno esterno\",\"anno esterno\",IF(AR106+1<='2 Descrizione Progetto'!$D$22,AR106+1,\"anno esterno\"))","v":"anno esterno"},{"$f":"IF(AS106=\"anno esterno\",\"anno esterno\",IF(AS106+1<='2 Descrizione Progetto'!$D$22,AS106+1,\"anno esterno\"))","v":"anno esterno"},{"$f":"IF(AT106=\"anno esterno\",\"anno esterno\",IF(AT106+1<='2 Descrizione Progetto'!$D$22,AT106+1,\"anno esterno\"))","v":"anno esterno"},{"$f":"IF(AU106=\"anno esterno\",\"anno esterno\",IF(AU106+1<='2 Descrizione Progetto'!$D$22,AU106+1,\"anno esterno\"))","v":"anno esterno"},{"$f":"IF(AV106=\"anno esterno\",\"anno esterno\",IF(AV106+1<='2 Descrizione Progetto'!$D$22,AV106+1,\"anno esterno\"))","v":"anno esterno"},{"$f":"IF(AW106=\"anno esterno\",\"anno esterno\",IF(AW106+1<='2 Descrizione Progetto'!$D$22,AW106+1,\"anno esterno\"))","v":"anno esterno"},{"$f":"IF(AX106=\"anno esterno\",\"anno esterno\",IF(AX106+1<='2 Descrizione Progetto'!$D$22,AX106+1,\"anno esterno\"))","v":"anno esterno"},{"$f":"IF(AY106=\"anno esterno\",\"anno esterno\",IF(AY106+1<='2 Descrizione Progetto'!$D$22,AY106+1,\"anno esterno\"))","v":"anno esterno"},{"$f":"IF(AZ106=\"anno esterno\",\"anno esterno\",IF(AZ106+1<='2 Descrizione Progetto'!$D$22,AZ106+1,\"anno esterno\"))","v":"anno esterno"},{"$f":"IF(BA106=\"anno esterno\",\"anno esterno\",IF(BA106+1<='2 Descrizione Progetto'!$D$22,BA106+1,\"anno esterno\"))","v":"anno esterno"},{"$f":"IF(BB106=\"anno esterno\",\"anno esterno\",IF(BB106+1<='2 Descrizione Progetto'!$D$22,BB106+1,\"anno esterno\"))","v":"anno esterno"},{"$f":"IF(BC106=\"anno esterno\",\"anno esterno\",IF(BC106+1<='2 Descrizione Progetto'!$D$22,BC106+1,\"anno esterno\"))","v":"anno esterno"},{"$f":"IF(BD106=\"anno esterno\",\"anno esterno\",IF(BD106+1<='2 Descrizione Progetto'!$D$22,BD106+1,\"anno esterno\"))","v":"anno esterno"},{"$f":"IF(BE106=\"anno esterno\",\"anno esterno\",IF(BE106+1<='2 Descrizione Progetto'!$D$22,BE106+1,\"anno esterno\"))","v":"anno esterno"},{"$f":"IF(BF106=\"anno esterno\",\"anno esterno\",IF(BF106+1<='2 Descrizione Progetto'!$D$22,BF106+1,\"anno esterno\"))","v":"anno esterno"},{"$f":"IF(BG106=\"anno esterno\",\"anno esterno\",IF(BG106+1<='2 Descrizione Progetto'!$D$22,BG106+1,\"anno esterno\"))","v":"anno esterno"},{"$f":"IF(BH106=\"anno esterno\",\"anno esterno\",IF(BH106+1<='2 Descrizione Progetto'!$D$22,BH106+1,\"anno esterno\"))","v":"anno esterno"},{"$f":"IF(BI106=\"anno esterno\",\"anno esterno\",IF(BI106+1<='2 Descrizione Progetto'!$D$22,BI106+1,\"anno esterno\"))","v":"anno esterno"},{"$f":"IF(BJ106=\"anno esterno\",\"anno esterno\",IF(BJ106+1<='2 Descrizione Progetto'!$D$22,BJ106+1,\"anno esterno\"))","v":"anno esterno"},{"$f":"IF(BK106=\"anno esterno\",\"anno esterno\",IF(BK106+1<='2 Descrizione Progetto'!$D$22,BK106+1,\"anno esterno\"))","v":"anno esterno"}]
[null,null,"Domanda (unità)"]
[null,null,"Tariffa unitaria (euro)"]
[null,null,"Ricavi (euro)",{"$f":"D107*D108","v":0},0,0,0,0,0,0,0,0,0,0,0,0,0,0,0,0,0,0,0,0,0,0,0,0,0,0,0,0,0,0,0,0,0,0,0,0,0,0,0,0,0,0,0,0,0,0,0,0,0,0,0,0,0,0,0,0,0,0,0,0]
[null,null,"CHECK 2 e 3",{"$f":"IF(D107=\"\",\"\",IF(D107>($L$10-$K$10),\"VERIFICA 2\",IF(D107<$M$10,\"OK\",\"VERIFICA 3\")))","v":""},"","","","","","","","","","","","","","","","","","","","","","","","","","","","","","","","","","","","","","","","","","","","","","","","","","","","","","","","","","","",""]
[null,4,{"$f":"IF(C12=\"\",\"\",C12)","v":"Proventi diversi/pubblicità"},{"$f":"'2 Descrizione Progetto'!$D$20","v":1},{"$f":"IF(D111=\"anno esterno\",\"anno esterno\",IF(D111+1<='2 Descrizione Progetto'!$D$22,D111+1,\"anno esterno\"))","v":2},{"$f":"IF(E111=\"anno esterno\",\"anno esterno\",IF(E111+1<='2 Descrizione Progetto'!$D$22,E111+1,\"anno esterno\"))","v":3},{"$f":"IF(F111=\"anno esterno\",\"anno esterno\",IF(F111+1<='2 Descrizione Progetto'!$D$22,F111+1,\"anno esterno\"))","v":4},{"$f":"IF(G111=\"anno esterno\",\"anno esterno\",IF(G111+1<='2 Descrizione Progetto'!$D$22,G111+1,\"anno esterno\"))","v":5},{"$f":"IF(H111=\"anno esterno\",\"anno esterno\",IF(H111+1<='2 Descrizione Progetto'!$D$22,H111+1,\"anno esterno\"))","v":6},{"$f":"IF(I111=\"anno esterno\",\"anno esterno\",IF(I111+1<='2 Descrizione Progetto'!$D$22,I111+1,\"anno esterno\"))","v":7},{"$f":"IF(J111=\"anno esterno\",\"anno esterno\",IF(J111+1<='2 Descrizione Progetto'!$D$22,J111+1,\"anno esterno\"))","v":8},{"$f":"IF(K111=\"anno esterno\",\"anno esterno\",IF(K111+1<='2 Descrizione Progetto'!$D$22,K111+1,\"anno esterno\"))","v":9},{"$f":"IF(L111=\"anno esterno\",\"anno esterno\",IF(L111+1<='2 Descrizione Progetto'!$D$22,L111+1,\"anno esterno\"))","v":10},{"$f":"IF(M111=\"anno esterno\",\"anno esterno\",IF(M111+1<='2 Descrizione Progetto'!$D$22,M111+1,\"anno esterno\"))","v":"anno esterno"},{"$f":"IF(N111=\"anno esterno\",\"anno esterno\",IF(N111+1<='2 Descrizione Progetto'!$D$22,N111+1,\"anno esterno\"))","v":"anno esterno"},{"$f":"IF(O111=\"anno esterno\",\"anno esterno\",IF(O111+1<='2 Descrizione Progetto'!$D$22,O111+1,\"anno esterno\"))","v":"anno esterno"},{"$f":"IF(P111=\"anno esterno\",\"anno esterno\",IF(P111+1<='2 Descrizione Progetto'!$D$22,P111+1,\"anno esterno\"))","v":"anno esterno"},{"$f":"IF(Q111=\"anno esterno\",\"anno esterno\",IF(Q111+1<='2 Descrizione Progetto'!$D$22,Q111+1,\"anno esterno\"))","v":"anno esterno"},{"$f":"IF(R111=\"anno esterno\",\"anno esterno\",IF(R111+1<='2 Descrizione Progetto'!$D$22,R111+1,\"anno esterno\"))","v":"anno esterno"},{"$f":"IF(S111=\"anno esterno\",\"anno esterno\",IF(S111+1<='2 Descrizione Progetto'!$D$22,S111+1,\"anno esterno\"))","v":"anno esterno"},{"$f":"IF(T111=\"anno esterno\",\"anno esterno\",IF(T111+1<='2 Descrizione Progetto'!$D$22,T111+1,\"anno esterno\"))","v":"anno esterno"},{"$f":"IF(U111=\"anno esterno\",\"anno esterno\",IF(U111+1<='2 Descrizione Progetto'!$D$22,U111+1,\"anno esterno\"))","v":"anno esterno"},{"$f":"IF(V111=\"anno esterno\",\"anno esterno\",IF(V111+1<='2 Descrizione Progetto'!$D$22,V111+1,\"anno esterno\"))","v":"anno esterno"},{"$f":"IF(W111=\"anno esterno\",\"anno esterno\",IF(W111+1<='2 Descrizione Progetto'!$D$22,W111+1,\"anno esterno\"))","v":"anno esterno"},{"$f":"IF(X111=\"anno esterno\",\"anno esterno\",IF(X111+1<='2 Descrizione Progetto'!$D$22,X111+1,\"anno esterno\"))","v":"anno esterno"},{"$f":"IF(Y111=\"anno esterno\",\"anno esterno\",IF(Y111+1<='2 Descrizione Progetto'!$D$22,Y111+1,\"anno esterno\"))","v":"anno esterno"},{"$f":"IF(Z111=\"anno esterno\",\"anno esterno\",IF(Z111+1<='2 Descrizione Progetto'!$D$22,Z111+1,\"anno esterno\"))","v":"anno esterno"},{"$f":"IF(AA111=\"anno esterno\",\"anno esterno\",IF(AA111+1<='2 Descrizione Progetto'!$D$22,AA111+1,\"anno esterno\"))","v":"anno esterno"},{"$f":"IF(AB111=\"anno esterno\",\"anno esterno\",IF(AB111+1<='2 Descrizione Progetto'!$D$22,AB111+1,\"anno esterno\"))","v":"anno esterno"},{"$f":"IF(AC111=\"anno esterno\",\"anno esterno\",IF(AC111+1<='2 Descrizione Progetto'!$D$22,AC111+1,\"anno esterno\"))","v":"anno esterno"},{"$f":"IF(AD111=\"anno esterno\",\"anno esterno\",IF(AD111+1<='2 Descrizione Progetto'!$D$22,AD111+1,\"anno esterno\"))","v":"anno esterno"},{"$f":"IF(AE111=\"anno esterno\",\"anno esterno\",IF(AE111+1<='2 Descrizione Progetto'!$D$22,AE111+1,\"anno esterno\"))","v":"anno esterno"},{"$f":"IF(AF111=\"anno esterno\",\"anno esterno\",IF(AF111+1<='2 Descrizione Progetto'!$D$22,AF111+1,\"anno esterno\"))","v":"anno esterno"},{"$f":"IF(AG111=\"anno esterno\",\"anno esterno\",IF(AG111+1<='2 Descrizione Progetto'!$D$22,AG111+1,\"anno esterno\"))","v":"anno esterno"},{"$f":"IF(AH111=\"anno esterno\",\"anno esterno\",IF(AH111+1<='2 Descrizione Progetto'!$D$22,AH111+1,\"anno esterno\"))","v":"anno esterno"},{"$f":"IF(AI111=\"anno esterno\",\"anno esterno\",IF(AI111+1<='2 Descrizione Progetto'!$D$22,AI111+1,\"anno esterno\"))","v":"anno esterno"},{"$f":"IF(AJ111=\"anno esterno\",\"anno esterno\",IF(AJ111+1<='2 Descrizione Progetto'!$D$22,AJ111+1,\"anno esterno\"))","v":"anno esterno"},{"$f":"IF(AK111=\"anno esterno\",\"anno esterno\",IF(AK111+1<='2 Descrizione Progetto'!$D$22,AK111+1,\"anno esterno\"))","v":"anno esterno"},{"$f":"IF(AL111=\"anno esterno\",\"anno esterno\",IF(AL111+1<='2 Descrizione Progetto'!$D$22,AL111+1,\"anno esterno\"))","v":"anno esterno"},{"$f":"IF(AM111=\"anno esterno\",\"anno esterno\",IF(AM111+1<='2 Descrizione Progetto'!$D$22,AM111+1,\"anno esterno\"))","v":"anno esterno"},{"$f":"IF(AN111=\"anno esterno\",\"anno esterno\",IF(AN111+1<='2 Descrizione Progetto'!$D$22,AN111+1,\"anno esterno\"))","v":"anno esterno"},{"$f":"IF(AO111=\"anno esterno\",\"anno esterno\",IF(AO111+1<='2 Descrizione Progetto'!$D$22,AO111+1,\"anno esterno\"))","v":"anno esterno"},{"$f":"IF(AP111=\"anno esterno\",\"anno esterno\",IF(AP111+1<='2 Descrizione Progetto'!$D$22,AP111+1,\"anno esterno\"))","v":"anno esterno"},{"$f":"IF(AQ111=\"anno esterno\",\"anno esterno\",IF(AQ111+1<='2 Descrizione Progetto'!$D$22,AQ111+1,\"anno esterno\"))","v":"anno esterno"},{"$f":"IF(AR111=\"anno esterno\",\"anno esterno\",IF(AR111+1<='2 Descrizione Progetto'!$D$22,AR111+1,\"anno esterno\"))","v":"anno esterno"},{"$f":"IF(AS111=\"anno esterno\",\"anno esterno\",IF(AS111+1<='2 Descrizione Progetto'!$D$22,AS111+1,\"anno esterno\"))","v":"anno esterno"},{"$f":"IF(AT111=\"anno esterno\",\"anno esterno\",IF(AT111+1<='2 Descrizione Progetto'!$D$22,AT111+1,\"anno esterno\"))","v":"anno esterno"},{"$f":"IF(AU111=\"anno esterno\",\"anno esterno\",IF(AU111+1<='2 Descrizione Progetto'!$D$22,AU111+1,\"anno esterno\"))","v":"anno esterno"},{"$f":"IF(AV111=\"anno esterno\",\"anno esterno\",IF(AV111+1<='2 Descrizione Progetto'!$D$22,AV111+1,\"anno esterno\"))","v":"anno esterno"},{"$f":"IF(AW111=\"anno esterno\",\"anno esterno\",IF(AW111+1<='2 Descrizione Progetto'!$D$22,AW111+1,\"anno esterno\"))","v":"anno esterno"},{"$f":"IF(AX111=\"anno esterno\",\"anno esterno\",IF(AX111+1<='2 Descrizione Progetto'!$D$22,AX111+1,\"anno esterno\"))","v":"anno esterno"},{"$f":"IF(AY111=\"anno esterno\",\"anno esterno\",IF(AY111+1<='2 Descrizione Progetto'!$D$22,AY111+1,\"anno esterno\"))","v":"anno esterno"},{"$f":"IF(AZ111=\"anno esterno\",\"anno esterno\",IF(AZ111+1<='2 Descrizione Progetto'!$D$22,AZ111+1,\"anno esterno\"))","v":"anno esterno"},{"$f":"IF(BA111=\"anno esterno\",\"anno esterno\",IF(BA111+1<='2 Descrizione Progetto'!$D$22,BA111+1,\"anno esterno\"))","v":"anno esterno"},{"$f":"IF(BB111=\"anno esterno\",\"anno esterno\",IF(BB111+1<='2 Descrizione Progetto'!$D$22,BB111+1,\"anno esterno\"))","v":"anno esterno"},{"$f":"IF(BC111=\"anno esterno\",\"anno esterno\",IF(BC111+1<='2 Descrizione Progetto'!$D$22,BC111+1,\"anno esterno\"))","v":"anno esterno"},{"$f":"IF(BD111=\"anno esterno\",\"anno esterno\",IF(BD111+1<='2 Descrizione Progetto'!$D$22,BD111+1,\"anno esterno\"))","v":"anno esterno"},{"$f":"IF(BE111=\"anno esterno\",\"anno esterno\",IF(BE111+1<='2 Descrizione Progetto'!$D$22,BE111+1,\"anno esterno\"))","v":"anno esterno"},{"$f":"IF(BF111=\"anno esterno\",\"anno esterno\",IF(BF111+1<='2 Descrizione Progetto'!$D$22,BF111+1,\"anno esterno\"))","v":"anno esterno"},{"$f":"IF(BG111=\"anno esterno\",\"anno esterno\",IF(BG111+1<='2 Descrizione Progetto'!$D$22,BG111+1,\"anno esterno\"))","v":"anno esterno"},{"$f":"IF(BH111=\"anno esterno\",\"anno esterno\",IF(BH111+1<='2 Descrizione Progetto'!$D$22,BH111+1,\"anno esterno\"))","v":"anno esterno"},{"$f":"IF(BI111=\"anno esterno\",\"anno esterno\",IF(BI111+1<='2 Descrizione Progetto'!$D$22,BI111+1,\"anno esterno\"))","v":"anno esterno"},{"$f":"IF(BJ111=\"anno esterno\",\"anno esterno\",IF(BJ111+1<='2 Descrizione Progetto'!$D$22,BJ111+1,\"anno esterno\"))","v":"anno esterno"},{"$f":"IF(BK111=\"anno esterno\",\"anno esterno\",IF(BK111+1<='2 Descrizione Progetto'!$D$22,BK111+1,\"anno esterno\"))","v":"anno esterno"}]
[null,null,"Domanda (unità)"]
[null,null,"Tariffa unitaria (euro)"]
[null,null,"Ricavi (euro)",{"$f":"D112*D113","v":0},0,0,0,0,0,0,0,0,0,0,0,0,0,0,0,0,0,0,0,0,0,0,0,0,0,0,0,0,0,0,0,0,0,0,0,0,0,0,0,0,0,0,0,0,0,0,0,0,0,0,0,0,0,0,0,0,0,0,0,0]
[null,null,"CHECK 2 e 3",{"$f":"IF(D112=\"\",\"\",IF(D112>($L$10-$K$10),\"VERIFICA 2\",IF(D112<$M$10,\"OK\",\"VERIFICA 3\")))","v":""},"","","","","","","","","","","","","","","","","","","","","","","","","","","","","","","","","","","","","","","","","","","","","","","","","","","","","","","","","","","",""]
[null,5,{"$f":"IF(C13=\"\",\"\",C13)","v":"b"},{"$f":"'2 Descrizione Progetto'!$D$20","v":1},{"$f":"IF(D116=\"anno esterno\",\"anno esterno\",IF(D116+1<='2 Descrizione Progetto'!$D$22,D116+1,\"anno esterno\"))","v":2},{"$f":"IF(E116=\"anno esterno\",\"anno esterno\",IF(E116+1<='2 Descrizione Progetto'!$D$22,E116+1,\"anno esterno\"))","v":3},{"$f":"IF(F116=\"anno esterno\",\"anno esterno\",IF(F116+1<='2 Descrizione Progetto'!$D$22,F116+1,\"anno esterno\"))","v":4},{"$f":"IF(G116=\"anno esterno\",\"anno esterno\",IF(G116+1<='2 Descrizione Progetto'!$D$22,G116+1,\"anno esterno\"))","v":5},{"$f":"IF(H116=\"anno esterno\",\"anno esterno\",IF(H116+1<='2 Descrizione Progetto'!$D$22,H116+1,\"anno esterno\"))","v":6},{"$f":"IF(I116=\"anno esterno\",\"anno esterno\",IF(I116+1<='2 Descrizione Progetto'!$D$22,I116+1,\"anno esterno\"))","v":7},{"$f":"IF(J116=\"anno esterno\",\"anno esterno\",IF(J116+1<='2 Descrizione Progetto'!$D$22,J116+1,\"anno esterno\"))","v":8},{"$f":"IF(K116=\"anno esterno\",\"anno esterno\",IF(K116+1<='2 Descrizione Progetto'!$D$22,K116+1,\"anno esterno\"))","v":9},{"$f":"IF(L116=\"anno esterno\",\"anno esterno\",IF(L116+1<='2 Descrizione Progetto'!$D$22,L116+1,\"anno esterno\"))","v":10},{"$f":"IF(M116=\"anno esterno\",\"anno esterno\",IF(M116+1<='2 Descrizione Progetto'!$D$22,M116+1,\"anno esterno\"))","v":"anno esterno"},{"$f":"IF(N116=\"anno esterno\",\"anno esterno\",IF(N116+1<='2 Descrizione Progetto'!$D$22,N116+1,\"anno esterno\"))","v":"anno esterno"},{"$f":"IF(O116=\"anno esterno\",\"anno esterno\",IF(O116+1<='2 Descrizione Progetto'!$D$22,O116+1,\"anno esterno\"))","v":"anno esterno"},{"$f":"IF(P116=\"anno esterno\",\"anno esterno\",IF(P116+1<='2 Descrizione Progetto'!$D$22,P116+1,\"anno esterno\"))","v":"anno esterno"},{"$f":"IF(Q116=\"anno esterno\",\"anno esterno\",IF(Q116+1<='2 Descrizione Progetto'!$D$22,Q116+1,\"anno esterno\"))","v":"anno esterno"},{"$f":"IF(R116=\"anno esterno\",\"anno esterno\",IF(R116+1<='2 Descrizione Progetto'!$D$22,R116+1,\"anno esterno\"))","v":"anno esterno"},{"$f":"IF(S116=\"anno esterno\",\"anno esterno\",IF(S116+1<='2 Descrizione Progetto'!$D$22,S116+1,\"anno esterno\"))","v":"anno esterno"},{"$f":"IF(T116=\"anno esterno\",\"anno esterno\",IF(T116+1<='2 Descrizione Progetto'!$D$22,T116+1,\"anno esterno\"))","v":"anno esterno"},{"$f":"IF(U116=\"anno esterno\",\"anno esterno\",IF(U116+1<='2 Descrizione Progetto'!$D$22,U116+1,\"anno esterno\"))","v":"anno esterno"},{"$f":"IF(V116=\"anno esterno\",\"anno esterno\",IF(V116+1<='2 Descrizione Progetto'!$D$22,V116+1,\"anno esterno\"))","v":"anno esterno"},{"$f":"IF(W116=\"anno esterno\",\"anno esterno\",IF(W116+1<='2 Descrizione Progetto'!$D$22,W116+1,\"anno esterno\"))","v":"anno esterno"},{"$f":"IF(X116=\"anno esterno\",\"anno esterno\",IF(X116+1<='2 Descrizione Progetto'!$D$22,X116+1,\"anno esterno\"))","v":"anno esterno"},{"$f":"IF(Y116=\"anno esterno\",\"anno esterno\",IF(Y116+1<='2 Descrizione Progetto'!$D$22,Y116+1,\"anno esterno\"))","v":"anno esterno"},{"$f":"IF(Z116=\"anno esterno\",\"anno esterno\",IF(Z116+1<='2 Descrizione Progetto'!$D$22,Z116+1,\"anno esterno\"))","v":"anno esterno"},{"$f":"IF(AA116=\"anno esterno\",\"anno esterno\",IF(AA116+1<='2 Descrizione Progetto'!$D$22,AA116+1,\"anno esterno\"))","v":"anno esterno"},{"$f":"IF(AB116=\"anno esterno\",\"anno esterno\",IF(AB116+1<='2 Descrizione Progetto'!$D$22,AB116+1,\"anno esterno\"))","v":"anno esterno"},{"$f":"IF(AC116=\"anno esterno\",\"anno esterno\",IF(AC116+1<='2 Descrizione Progetto'!$D$22,AC116+1,\"anno esterno\"))","v":"anno esterno"},{"$f":"IF(AD116=\"anno esterno\",\"anno esterno\",IF(AD116+1<='2 Descrizione Progetto'!$D$22,AD116+1,\"anno esterno\"))","v":"anno esterno"},{"$f":"IF(AE116=\"anno esterno\",\"anno esterno\",IF(AE116+1<='2 Descrizione Progetto'!$D$22,AE116+1,\"anno esterno\"))","v":"anno esterno"},{"$f":"IF(AF116=\"anno esterno\",\"anno esterno\",IF(AF116+1<='2 Descrizione Progetto'!$D$22,AF116+1,\"anno esterno\"))","v":"anno esterno"},{"$f":"IF(AG116=\"anno esterno\",\"anno esterno\",IF(AG116+1<='2 Descrizione Progetto'!$D$22,AG116+1,\"anno esterno\"))","v":"anno esterno"},{"$f":"IF(AH116=\"anno esterno\",\"anno esterno\",IF(AH116+1<='2 Descrizione Progetto'!$D$22,AH116+1,\"anno esterno\"))","v":"anno esterno"},{"$f":"IF(AI116=\"anno esterno\",\"anno esterno\",IF(AI116+1<='2 Descrizione Progetto'!$D$22,AI116+1,\"anno esterno\"))","v":"anno esterno"},{"$f":"IF(AJ116=\"anno esterno\",\"anno esterno\",IF(AJ116+1<='2 Descrizione Progetto'!$D$22,AJ116+1,\"anno esterno\"))","v":"anno esterno"},{"$f":"IF(AK116=\"anno esterno\",\"anno esterno\",IF(AK116+1<='2 Descrizione Progetto'!$D$22,AK116+1,\"anno esterno\"))","v":"anno esterno"},{"$f":"IF(AL116=\"anno esterno\",\"anno esterno\",IF(AL116+1<='2 Descrizione Progetto'!$D$22,AL116+1,\"anno esterno\"))","v":"anno esterno"},{"$f":"IF(AM116=\"anno esterno\",\"anno esterno\",IF(AM116+1<='2 Descrizione Progetto'!$D$22,AM116+1,\"anno esterno\"))","v":"anno esterno"},{"$f":"IF(AN116=\"anno esterno\",\"anno esterno\",IF(AN116+1<='2 Descrizione Progetto'!$D$22,AN116+1,\"anno esterno\"))","v":"anno esterno"},{"$f":"IF(AO116=\"anno esterno\",\"anno esterno\",IF(AO116+1<='2 Descrizione Progetto'!$D$22,AO116+1,\"anno esterno\"))","v":"anno esterno"},{"$f":"IF(AP116=\"anno esterno\",\"anno esterno\",IF(AP116+1<='2 Descrizione Progetto'!$D$22,AP116+1,\"anno esterno\"))","v":"anno esterno"},{"$f":"IF(AQ116=\"anno esterno\",\"anno esterno\",IF(AQ116+1<='2 Descrizione Progetto'!$D$22,AQ116+1,\"anno esterno\"))","v":"anno esterno"},{"$f":"IF(AR116=\"anno esterno\",\"anno esterno\",IF(AR116+1<='2 Descrizione Progetto'!$D$22,AR116+1,\"anno esterno\"))","v":"anno esterno"},{"$f":"IF(AS116=\"anno esterno\",\"anno esterno\",IF(AS116+1<='2 Descrizione Progetto'!$D$22,AS116+1,\"anno esterno\"))","v":"anno esterno"},{"$f":"IF(AT116=\"anno esterno\",\"anno esterno\",IF(AT116+1<='2 Descrizione Progetto'!$D$22,AT116+1,\"anno esterno\"))","v":"anno esterno"},{"$f":"IF(AU116=\"anno esterno\",\"anno esterno\",IF(AU116+1<='2 Descrizione Progetto'!$D$22,AU116+1,\"anno esterno\"))","v":"anno esterno"},{"$f":"IF(AV116=\"anno esterno\",\"anno esterno\",IF(AV116+1<='2 Descrizione Progetto'!$D$22,AV116+1,\"anno esterno\"))","v":"anno esterno"},{"$f":"IF(AW116=\"anno esterno\",\"anno esterno\",IF(AW116+1<='2 Descrizione Progetto'!$D$22,AW116+1,\"anno esterno\"))","v":"anno esterno"},{"$f":"IF(AX116=\"anno esterno\",\"anno esterno\",IF(AX116+1<='2 Descrizione Progetto'!$D$22,AX116+1,\"anno esterno\"))","v":"anno esterno"},{"$f":"IF(AY116=\"anno esterno\",\"anno esterno\",IF(AY116+1<='2 Descrizione Progetto'!$D$22,AY116+1,\"anno esterno\"))","v":"anno esterno"},{"$f":"IF(AZ116=\"anno esterno\",\"anno esterno\",IF(AZ116+1<='2 Descrizione Progetto'!$D$22,AZ116+1,\"anno esterno\"))","v":"anno esterno"},{"$f":"IF(BA116=\"anno esterno\",\"anno esterno\",IF(BA116+1<='2 Descrizione Progetto'!$D$22,BA116+1,\"anno esterno\"))","v":"anno esterno"},{"$f":"IF(BB116=\"anno esterno\",\"anno esterno\",IF(BB116+1<='2 Descrizione Progetto'!$D$22,BB116+1,\"anno esterno\"))","v":"anno esterno"},{"$f":"IF(BC116=\"anno esterno\",\"anno esterno\",IF(BC116+1<='2 Descrizione Progetto'!$D$22,BC116+1,\"anno esterno\"))","v":"anno esterno"},{"$f":"IF(BD116=\"anno esterno\",\"anno esterno\",IF(BD116+1<='2 Descrizione Progetto'!$D$22,BD116+1,\"anno esterno\"))","v":"anno esterno"},{"$f":"IF(BE116=\"anno esterno\",\"anno esterno\",IF(BE116+1<='2 Descrizione Progetto'!$D$22,BE116+1,\"anno esterno\"))","v":"anno esterno"},{"$f":"IF(BF116=\"anno esterno\",\"anno esterno\",IF(BF116+1<='2 Descrizione Progetto'!$D$22,BF116+1,\"anno esterno\"))","v":"anno esterno"},{"$f":"IF(BG116=\"anno esterno\",\"anno esterno\",IF(BG116+1<='2 Descrizione Progetto'!$D$22,BG116+1,\"anno esterno\"))","v":"anno esterno"},{"$f":"IF(BH116=\"anno esterno\",\"anno esterno\",IF(BH116+1<='2 Descrizione Progetto'!$D$22,BH116+1,\"anno esterno\"))","v":"anno esterno"},{"$f":"IF(BI116=\"anno esterno\",\"anno esterno\",IF(BI116+1<='2 Descrizione Progetto'!$D$22,BI116+1,\"anno esterno\"))","v":"anno esterno"},{"$f":"IF(BJ116=\"anno esterno\",\"anno esterno\",IF(BJ116+1<='2 Descrizione Progetto'!$D$22,BJ116+1,\"anno esterno\"))","v":"anno esterno"},{"$f":"IF(BK116=\"anno esterno\",\"anno esterno\",IF(BK116+1<='2 Descrizione Progetto'!$D$22,BK116+1,\"anno esterno\"))","v":"anno esterno"}]
[null,null,"Domanda (unità)"]
[null,null,"Tariffa unitaria (euro)"]
[null,null,"Ricavi (euro)",{"$f":"D117*D118","v":0},0,0,0,0,0,0,0,0,0,0,0,0,0,0,0,0,0,0,0,0,0,0,0,0,0,0,0,0,0,0,0,0,0,0,0,0,0,0,0,0,0,0,0,0,0,0,0,0,0,0,0,0,0,0,0,0,0,0,0,0]
[null,null,"CHECK 2 e 3",{"$f":"IF(D117=\"\",\"\",IF(D117>($L$10-$K$10),\"VERIFICA 2\",IF(D117<$M$10,\"OK\",\"VERIFICA 3\")))","v":""},"","","","","","","","","","","","","","","","","","","","","","","","","","","","","","","","","","","","","","","","","","","","","","","","","","","","","","","","","","","",""]
[null,6,{"$f":"IF(C14=\"\",\"\",C14)","v":"c"},{"$f":"'2 Descrizione Progetto'!$D$20","v":1},{"$f":"IF(D121=\"anno esterno\",\"anno esterno\",IF(D121+1<='2 Descrizione Progetto'!$D$22,D121+1,\"anno esterno\"))","v":2},{"$f":"IF(E121=\"anno esterno\",\"anno esterno\",IF(E121+1<='2 Descrizione Progetto'!$D$22,E121+1,\"anno esterno\"))","v":3},{"$f":"IF(F121=\"anno esterno\",\"anno esterno\",IF(F121+1<='2 Descrizione Progetto'!$D$22,F121+1,\"anno esterno\"))","v":4},{"$f":"IF(G121=\"anno esterno\",\"anno esterno\",IF(G121+1<='2 Descrizione Progetto'!$D$22,G121+1,\"anno esterno\"))","v":5},{"$f":"IF(H121=\"anno esterno\",\"anno esterno\",IF(H121+1<='2 Descrizione Progetto'!$D$22,H121+1,\"anno esterno\"))","v":6},{"$f":"IF(I121=\"anno esterno\",\"anno esterno\",IF(I121+1<='2 Descrizione Progetto'!$D$22,I121+1,\"anno esterno\"))","v":7},{"$f":"IF(J121=\"anno esterno\",\"anno esterno\",IF(J121+1<='2 Descrizione Progetto'!$D$22,J121+1,\"anno esterno\"))","v":8},{"$f":"IF(K121=\"anno esterno\",\"anno esterno\",IF(K121+1<='2 Descrizione Progetto'!$D$22,K121+1,\"anno esterno\"))","v":9},{"$f":"IF(L121=\"anno esterno\",\"anno esterno\",IF(L121+1<='2 Descrizione Progetto'!$D$22,L121+1,\"anno esterno\"))","v":10},{"$f":"IF(M121=\"anno esterno\",\"anno esterno\",IF(M121+1<='2 Descrizione Progetto'!$D$22,M121+1,\"anno esterno\"))","v":"anno esterno"},{"$f":"IF(N121=\"anno esterno\",\"anno esterno\",IF(N121+1<='2 Descrizione Progetto'!$D$22,N121+1,\"anno esterno\"))","v":"anno esterno"},{"$f":"IF(O121=\"anno esterno\",\"anno esterno\",IF(O121+1<='2 Descrizione Progetto'!$D$22,O121+1,\"anno esterno\"))","v":"anno esterno"},{"$f":"IF(P121=\"anno esterno\",\"anno esterno\",IF(P121+1<='2 Descrizione Progetto'!$D$22,P121+1,\"anno esterno\"))","v":"anno esterno"},{"$f":"IF(Q121=\"anno esterno\",\"anno esterno\",IF(Q121+1<='2 Descrizione Progetto'!$D$22,Q121+1,\"anno esterno\"))","v":"anno esterno"},{"$f":"IF(R121=\"anno esterno\",\"anno esterno\",IF(R121+1<='2 Descrizione Progetto'!$D$22,R121+1,\"anno esterno\"))","v":"anno esterno"},{"$f":"IF(S121=\"anno esterno\",\"anno esterno\",IF(S121+1<='2 Descrizione Progetto'!$D$22,S121+1,\"anno esterno\"))","v":"anno esterno"},{"$f":"IF(T121=\"anno esterno\",\"anno esterno\",IF(T121+1<='2 Descrizione Progetto'!$D$22,T121+1,\"anno esterno\"))","v":"anno esterno"},{"$f":"IF(U121=\"anno esterno\",\"anno esterno\",IF(U121+1<='2 Descrizione Progetto'!$D$22,U121+1,\"anno esterno\"))","v":"anno esterno"},{"$f":"IF(V121=\"anno esterno\",\"anno esterno\",IF(V121+1<='2 Descrizione Progetto'!$D$22,V121+1,\"anno esterno\"))","v":"anno esterno"},{"$f":"IF(W121=\"anno esterno\",\"anno esterno\",IF(W121+1<='2 Descrizione Progetto'!$D$22,W121+1,\"anno esterno\"))","v":"anno esterno"},{"$f":"IF(X121=\"anno esterno\",\"anno esterno\",IF(X121+1<='2 Descrizione Progetto'!$D$22,X121+1,\"anno esterno\"))","v":"anno esterno"},{"$f":"IF(Y121=\"anno esterno\",\"anno esterno\",IF(Y121+1<='2 Descrizione Progetto'!$D$22,Y121+1,\"anno esterno\"))","v":"anno esterno"},{"$f":"IF(Z121=\"anno esterno\",\"anno esterno\",IF(Z121+1<='2 Descrizione Progetto'!$D$22,Z121+1,\"anno esterno\"))","v":"anno esterno"},{"$f":"IF(AA121=\"anno esterno\",\"anno esterno\",IF(AA121+1<='2 Descrizione Progetto'!$D$22,AA121+1,\"anno esterno\"))","v":"anno esterno"},{"$f":"IF(AB121=\"anno esterno\",\"anno esterno\",IF(AB121+1<='2 Descrizione Progetto'!$D$22,AB121+1,\"anno esterno\"))","v":"anno esterno"},{"$f":"IF(AC121=\"anno esterno\",\"anno esterno\",IF(AC121+1<='2 Descrizione Progetto'!$D$22,AC121+1,\"anno esterno\"))","v":"anno esterno"},{"$f":"IF(AD121=\"anno esterno\",\"anno esterno\",IF(AD121+1<='2 Descrizione Progetto'!$D$22,AD121+1,\"anno esterno\"))","v":"anno esterno"},{"$f":"IF(AE121=\"anno esterno\",\"anno esterno\",IF(AE121+1<='2 Descrizione Progetto'!$D$22,AE121+1,\"anno esterno\"))","v":"anno esterno"},{"$f":"IF(AF121=\"anno esterno\",\"anno esterno\",IF(AF121+1<='2 Descrizione Progetto'!$D$22,AF121+1,\"anno esterno\"))","v":"anno esterno"},{"$f":"IF(AG121=\"anno esterno\",\"anno esterno\",IF(AG121+1<='2 Descrizione Progetto'!$D$22,AG121+1,\"anno esterno\"))","v":"anno esterno"},{"$f":"IF(AH121=\"anno esterno\",\"anno esterno\",IF(AH121+1<='2 Descrizione Progetto'!$D$22,AH121+1,\"anno esterno\"))","v":"anno esterno"},{"$f":"IF(AI121=\"anno esterno\",\"anno esterno\",IF(AI121+1<='2 Descrizione Progetto'!$D$22,AI121+1,\"anno esterno\"))","v":"anno esterno"},{"$f":"IF(AJ121=\"anno esterno\",\"anno esterno\",IF(AJ121+1<='2 Descrizione Progetto'!$D$22,AJ121+1,\"anno esterno\"))","v":"anno esterno"},{"$f":"IF(AK121=\"anno esterno\",\"anno esterno\",IF(AK121+1<='2 Descrizione Progetto'!$D$22,AK121+1,\"anno esterno\"))","v":"anno esterno"},{"$f":"IF(AL121=\"anno esterno\",\"anno esterno\",IF(AL121+1<='2 Descrizione Progetto'!$D$22,AL121+1,\"anno esterno\"))","v":"anno esterno"},{"$f":"IF(AM121=\"anno esterno\",\"anno esterno\",IF(AM121+1<='2 Descrizione Progetto'!$D$22,AM121+1,\"anno esterno\"))","v":"anno esterno"},{"$f":"IF(AN121=\"anno esterno\",\"anno esterno\",IF(AN121+1<='2 Descrizione Progetto'!$D$22,AN121+1,\"anno esterno\"))","v":"anno esterno"},{"$f":"IF(AO121=\"anno esterno\",\"anno esterno\",IF(AO121+1<='2 Descrizione Progetto'!$D$22,AO121+1,\"anno esterno\"))","v":"anno esterno"},{"$f":"IF(AP121=\"anno esterno\",\"anno esterno\",IF(AP121+1<='2 Descrizione Progetto'!$D$22,AP121+1,\"anno esterno\"))","v":"anno esterno"},{"$f":"IF(AQ121=\"anno esterno\",\"anno esterno\",IF(AQ121+1<='2 Descrizione Progetto'!$D$22,AQ121+1,\"anno esterno\"))","v":"anno esterno"},{"$f":"IF(AR121=\"anno esterno\",\"anno esterno\",IF(AR121+1<='2 Descrizione Progetto'!$D$22,AR121+1,\"anno esterno\"))","v":"anno esterno"},{"$f":"IF(AS121=\"anno esterno\",\"anno esterno\",IF(AS121+1<='2 Descrizione Progetto'!$D$22,AS121+1,\"anno esterno\"))","v":"anno esterno"},{"$f":"IF(AT121=\"anno esterno\",\"anno esterno\",IF(AT121+1<='2 Descrizione Progetto'!$D$22,AT121+1,\"anno esterno\"))","v":"anno esterno"},{"$f":"IF(AU121=\"anno esterno\",\"anno esterno\",IF(AU121+1<='2 Descrizione Progetto'!$D$22,AU121+1,\"anno esterno\"))","v":"anno esterno"},{"$f":"IF(AV121=\"anno esterno\",\"anno esterno\",IF(AV121+1<='2 Descrizione Progetto'!$D$22,AV121+1,\"anno esterno\"))","v":"anno esterno"},{"$f":"IF(AW121=\"anno esterno\",\"anno esterno\",IF(AW121+1<='2 Descrizione Progetto'!$D$22,AW121+1,\"anno esterno\"))","v":"anno esterno"},{"$f":"IF(AX121=\"anno esterno\",\"anno esterno\",IF(AX121+1<='2 Descrizione Progetto'!$D$22,AX121+1,\"anno esterno\"))","v":"anno esterno"},{"$f":"IF(AY121=\"anno esterno\",\"anno esterno\",IF(AY121+1<='2 Descrizione Progetto'!$D$22,AY121+1,\"anno esterno\"))","v":"anno esterno"},{"$f":"IF(AZ121=\"anno esterno\",\"anno esterno\",IF(AZ121+1<='2 Descrizione Progetto'!$D$22,AZ121+1,\"anno esterno\"))","v":"anno esterno"},{"$f":"IF(BA121=\"anno esterno\",\"anno esterno\",IF(BA121+1<='2 Descrizione Progetto'!$D$22,BA121+1,\"anno esterno\"))","v":"anno esterno"},{"$f":"IF(BB121=\"anno esterno\",\"anno esterno\",IF(BB121+1<='2 Descrizione Progetto'!$D$22,BB121+1,\"anno esterno\"))","v":"anno esterno"},{"$f":"IF(BC121=\"anno esterno\",\"anno esterno\",IF(BC121+1<='2 Descrizione Progetto'!$D$22,BC121+1,\"anno esterno\"))","v":"anno esterno"},{"$f":"IF(BD121=\"anno esterno\",\"anno esterno\",IF(BD121+1<='2 Descrizione Progetto'!$D$22,BD121+1,\"anno esterno\"))","v":"anno esterno"},{"$f":"IF(BE121=\"anno esterno\",\"anno esterno\",IF(BE121+1<='2 Descrizione Progetto'!$D$22,BE121+1,\"anno esterno\"))","v":"anno esterno"},{"$f":"IF(BF121=\"anno esterno\",\"anno esterno\",IF(BF121+1<='2 Descrizione Progetto'!$D$22,BF121+1,\"anno esterno\"))","v":"anno esterno"},{"$f":"IF(BG121=\"anno esterno\",\"anno esterno\",IF(BG121+1<='2 Descrizione Progetto'!$D$22,BG121+1,\"anno esterno\"))","v":"anno esterno"},{"$f":"IF(BH121=\"anno esterno\",\"anno esterno\",IF(BH121+1<='2 Descrizione Progetto'!$D$22,BH121+1,\"anno esterno\"))","v":"anno esterno"},{"$f":"IF(BI121=\"anno esterno\",\"anno esterno\",IF(BI121+1<='2 Descrizione Progetto'!$D$22,BI121+1,\"anno esterno\"))","v":"anno esterno"},{"$f":"IF(BJ121=\"anno esterno\",\"anno esterno\",IF(BJ121+1<='2 Descrizione Progetto'!$D$22,BJ121+1,\"anno esterno\"))","v":"anno esterno"},{"$f":"IF(BK121=\"anno esterno\",\"anno esterno\",IF(BK121+1<='2 Descrizione Progetto'!$D$22,BK121+1,\"anno esterno\"))","v":"anno esterno"}]
[null,null,"Domanda (unità)"]
[null,null,"Tariffa unitaria (euro)"]
[null,null,"Ricavi (euro)",{"$f":"D122*D123","v":0},0,0,0,0,0,0,0,0,0,0,0,0,0,0,0,0,0,0,0,0,0,0,0,0,0,0,0,0,0,0,0,0,0,0,0,0,0,0,0,0,0,0,0,0,0,0,0,0,0,0,0,0,0,0,0,0,0,0,0,0]
[null,null,"CHECK 2 e 3",{"$f":"IF(D122=\"\",\"\",IF(D122>($L$10-$K$10),\"VERIFICA 2\",IF(D122<$M$10,\"OK\",\"VERIFICA 3\")))","v":""},"","","","","","","","","","","","","","","","","","","","","","","","","","","","","","","","","","","","","","","","","","","","","","","","","","","","","","","","","","","",""]
[null,7,{"$f":"IF(C15=\"\",\"\",C15)","v":"d"},{"$f":"'2 Descrizione Progetto'!$D$20","v":1},{"$f":"IF(D126=\"anno esterno\",\"anno esterno\",IF(D126+1<='2 Descrizione Progetto'!$D$22,D126+1,\"anno esterno\"))","v":2},{"$f":"IF(E126=\"anno esterno\",\"anno esterno\",IF(E126+1<='2 Descrizione Progetto'!$D$22,E126+1,\"anno esterno\"))","v":3},{"$f":"IF(F126=\"anno esterno\",\"anno esterno\",IF(F126+1<='2 Descrizione Progetto'!$D$22,F126+1,\"anno esterno\"))","v":4},{"$f":"IF(G126=\"anno esterno\",\"anno esterno\",IF(G126+1<='2 Descrizione Progetto'!$D$22,G126+1,\"anno esterno\"))","v":5},{"$f":"IF(H126=\"anno esterno\",\"anno esterno\",IF(H126+1<='2 Descrizione Progetto'!$D$22,H126+1,\"anno esterno\"))","v":6},{"$f":"IF(I126=\"anno esterno\",\"anno esterno\",IF(I126+1<='2 Descrizione Progetto'!$D$22,I126+1,\"anno esterno\"))","v":7},{"$f":"IF(J126=\"anno esterno\",\"anno esterno\",IF(J126+1<='2 Descrizione Progetto'!$D$22,J126+1,\"anno esterno\"))","v":8},{"$f":"IF(K126=\"anno esterno\",\"anno esterno\",IF(K126+1<='2 Descrizione Progetto'!$D$22,K126+1,\"anno esterno\"))","v":9},{"$f":"IF(L126=\"anno esterno\",\"anno esterno\",IF(L126+1<='2 Descrizione Progetto'!$D$22,L126+1,\"anno esterno\"))","v":10},{"$f":"IF(M126=\"anno esterno\",\"anno esterno\",IF(M126+1<='2 Descrizione Progetto'!$D$22,M126+1,\"anno esterno\"))","v":"anno esterno"},{"$f":"IF(N126=\"anno esterno\",\"anno esterno\",IF(N126+1<='2 Descrizione Progetto'!$D$22,N126+1,\"anno esterno\"))","v":"anno esterno"},{"$f":"IF(O126=\"anno esterno\",\"anno esterno\",IF(O126+1<='2 Descrizione Progetto'!$D$22,O126+1,\"anno esterno\"))","v":"anno esterno"},{"$f":"IF(P126=\"anno esterno\",\"anno esterno\",IF(P126+1<='2 Descrizione Progetto'!$D$22,P126+1,\"anno esterno\"))","v":"anno esterno"},{"$f":"IF(Q126=\"anno esterno\",\"anno esterno\",IF(Q126+1<='2 Descrizione Progetto'!$D$22,Q126+1,\"anno esterno\"))","v":"anno esterno"},{"$f":"IF(R126=\"anno esterno\",\"anno esterno\",IF(R126+1<='2 Descrizione Progetto'!$D$22,R126+1,\"anno esterno\"))","v":"anno esterno"},{"$f":"IF(S126=\"anno esterno\",\"anno esterno\",IF(S126+1<='2 Descrizione Progetto'!$D$22,S126+1,\"anno esterno\"))","v":"anno esterno"},{"$f":"IF(T126=\"anno esterno\",\"anno esterno\",IF(T126+1<='2 Descrizione Progetto'!$D$22,T126+1,\"anno esterno\"))","v":"anno esterno"},{"$f":"IF(U126=\"anno esterno\",\"anno esterno\",IF(U126+1<='2 Descrizione Progetto'!$D$22,U126+1,\"anno esterno\"))","v":"anno esterno"},{"$f":"IF(V126=\"anno esterno\",\"anno esterno\",IF(V126+1<='2 Descrizione Progetto'!$D$22,V126+1,\"anno esterno\"))","v":"anno esterno"},{"$f":"IF(W126=\"anno esterno\",\"anno esterno\",IF(W126+1<='2 Descrizione Progetto'!$D$22,W126+1,\"anno esterno\"))","v":"anno esterno"},{"$f":"IF(X126=\"anno esterno\",\"anno esterno\",IF(X126+1<='2 Descrizione Progetto'!$D$22,X126+1,\"anno esterno\"))","v":"anno esterno"},{"$f":"IF(Y126=\"anno esterno\",\"anno esterno\",IF(Y126+1<='2 Descrizione Progetto'!$D$22,Y126+1,\"anno esterno\"))","v":"anno esterno"},{"$f":"IF(Z126=\"anno esterno\",\"anno esterno\",IF(Z126+1<='2 Descrizione Progetto'!$D$22,Z126+1,\"anno esterno\"))","v":"anno esterno"},{"$f":"IF(AA126=\"anno esterno\",\"anno esterno\",IF(AA126+1<='2 Descrizione Progetto'!$D$22,AA126+1,\"anno esterno\"))","v":"anno esterno"},{"$f":"IF(AB126=\"anno esterno\",\"anno esterno\",IF(AB126+1<='2 Descrizione Progetto'!$D$22,AB126+1,\"anno esterno\"))","v":"anno esterno"},{"$f":"IF(AC126=\"anno esterno\",\"anno esterno\",IF(AC126+1<='2 Descrizione Progetto'!$D$22,AC126+1,\"anno esterno\"))","v":"anno esterno"},{"$f":"IF(AD126=\"anno esterno\",\"anno esterno\",IF(AD126+1<='2 Descrizione Progetto'!$D$22,AD126+1,\"anno esterno\"))","v":"anno esterno"},{"$f":"IF(AE126=\"anno esterno\",\"anno esterno\",IF(AE126+1<='2 Descrizione Progetto'!$D$22,AE126+1,\"anno esterno\"))","v":"anno esterno"},{"$f":"IF(AF126=\"anno esterno\",\"anno esterno\",IF(AF126+1<='2 Descrizione Progetto'!$D$22,AF126+1,\"anno esterno\"))","v":"anno esterno"},{"$f":"IF(AG126=\"anno esterno\",\"anno esterno\",IF(AG126+1<='2 Descrizione Progetto'!$D$22,AG126+1,\"anno esterno\"))","v":"anno esterno"},{"$f":"IF(AH126=\"anno esterno\",\"anno esterno\",IF(AH126+1<='2 Descrizione Progetto'!$D$22,AH126+1,\"anno esterno\"))","v":"anno esterno"},{"$f":"IF(AI126=\"anno esterno\",\"anno esterno\",IF(AI126+1<='2 Descrizione Progetto'!$D$22,AI126+1,\"anno esterno\"))","v":"anno esterno"},{"$f":"IF(AJ126=\"anno esterno\",\"anno esterno\",IF(AJ126+1<='2 Descrizione Progetto'!$D$22,AJ126+1,\"anno esterno\"))","v":"anno esterno"},{"$f":"IF(AK126=\"anno esterno\",\"anno esterno\",IF(AK126+1<='2 Descrizione Progetto'!$D$22,AK126+1,\"anno esterno\"))","v":"anno esterno"},{"$f":"IF(AL126=\"anno esterno\",\"anno esterno\",IF(AL126+1<='2 Descrizione Progetto'!$D$22,AL126+1,\"anno esterno\"))","v":"anno esterno"},{"$f":"IF(AM126=\"anno esterno\",\"anno esterno\",IF(AM126+1<='2 Descrizione Progetto'!$D$22,AM126+1,\"anno esterno\"))","v":"anno esterno"},{"$f":"IF(AN126=\"anno esterno\",\"anno esterno\",IF(AN126+1<='2 Descrizione Progetto'!$D$22,AN126+1,\"anno esterno\"))","v":"anno esterno"},{"$f":"IF(AO126=\"anno esterno\",\"anno esterno\",IF(AO126+1<='2 Descrizione Progetto'!$D$22,AO126+1,\"anno esterno\"))","v":"anno esterno"},{"$f":"IF(AP126=\"anno esterno\",\"anno esterno\",IF(AP126+1<='2 Descrizione Progetto'!$D$22,AP126+1,\"anno esterno\"))","v":"anno esterno"},{"$f":"IF(AQ126=\"anno esterno\",\"anno esterno\",IF(AQ126+1<='2 Descrizione Progetto'!$D$22,AQ126+1,\"anno esterno\"))","v":"anno esterno"},{"$f":"IF(AR126=\"anno esterno\",\"anno esterno\",IF(AR126+1<='2 Descrizione Progetto'!$D$22,AR126+1,\"anno esterno\"))","v":"anno esterno"},{"$f":"IF(AS126=\"anno esterno\",\"anno esterno\",IF(AS126+1<='2 Descrizione Progetto'!$D$22,AS126+1,\"anno esterno\"))","v":"anno esterno"},{"$f":"IF(AT126=\"anno esterno\",\"anno esterno\",IF(AT126+1<='2 Descrizione Progetto'!$D$22,AT126+1,\"anno esterno\"))","v":"anno esterno"},{"$f":"IF(AU126=\"anno esterno\",\"anno esterno\",IF(AU126+1<='2 Descrizione Progetto'!$D$22,AU126+1,\"anno esterno\"))","v":"anno esterno"},{"$f":"IF(AV126=\"anno esterno\",\"anno esterno\",IF(AV126+1<='2 Descrizione Progetto'!$D$22,AV126+1,\"anno esterno\"))","v":"anno esterno"},{"$f":"IF(AW126=\"anno esterno\",\"anno esterno\",IF(AW126+1<='2 Descrizione Progetto'!$D$22,AW126+1,\"anno esterno\"))","v":"anno esterno"},{"$f":"IF(AX126=\"anno esterno\",\"anno esterno\",IF(AX126+1<='2 Descrizione Progetto'!$D$22,AX126+1,\"anno esterno\"))","v":"anno esterno"},{"$f":"IF(AY126=\"anno esterno\",\"anno esterno\",IF(AY126+1<='2 Descrizione Progetto'!$D$22,AY126+1,\"anno esterno\"))","v":"anno esterno"},{"$f":"IF(AZ126=\"anno esterno\",\"anno esterno\",IF(AZ126+1<='2 Descrizione Progetto'!$D$22,AZ126+1,\"anno esterno\"))","v":"anno esterno"},{"$f":"IF(BA126=\"anno esterno\",\"anno esterno\",IF(BA126+1<='2 Descrizione Progetto'!$D$22,BA126+1,\"anno esterno\"))","v":"anno esterno"},{"$f":"IF(BB126=\"anno esterno\",\"anno esterno\",IF(BB126+1<='2 Descrizione Progetto'!$D$22,BB126+1,\"anno esterno\"))","v":"anno esterno"},{"$f":"IF(BC126=\"anno esterno\",\"anno esterno\",IF(BC126+1<='2 Descrizione Progetto'!$D$22,BC126+1,\"anno esterno\"))","v":"anno esterno"},{"$f":"IF(BD126=\"anno esterno\",\"anno esterno\",IF(BD126+1<='2 Descrizione Progetto'!$D$22,BD126+1,\"anno esterno\"))","v":"anno esterno"},{"$f":"IF(BE126=\"anno esterno\",\"anno esterno\",IF(BE126+1<='2 Descrizione Progetto'!$D$22,BE126+1,\"anno esterno\"))","v":"anno esterno"},{"$f":"IF(BF126=\"anno esterno\",\"anno esterno\",IF(BF126+1<='2 Descrizione Progetto'!$D$22,BF126+1,\"anno esterno\"))","v":"anno esterno"},{"$f":"IF(BG126=\"anno esterno\",\"anno esterno\",IF(BG126+1<='2 Descrizione Progetto'!$D$22,BG126+1,\"anno esterno\"))","v":"anno esterno"},{"$f":"IF(BH126=\"anno esterno\",\"anno esterno\",IF(BH126+1<='2 Descrizione Progetto'!$D$22,BH126+1,\"anno esterno\"))","v":"anno esterno"},{"$f":"IF(BI126=\"anno esterno\",\"anno esterno\",IF(BI126+1<='2 Descrizione Progetto'!$D$22,BI126+1,\"anno esterno\"))","v":"anno esterno"},{"$f":"IF(BJ126=\"anno esterno\",\"anno esterno\",IF(BJ126+1<='2 Descrizione Progetto'!$D$22,BJ126+1,\"anno esterno\"))","v":"anno esterno"},{"$f":"IF(BK126=\"anno esterno\",\"anno esterno\",IF(BK126+1<='2 Descrizione Progetto'!$D$22,BK126+1,\"anno esterno\"))","v":"anno esterno"}]
[null,null,"Domanda (unità)"]
[null,null,"Tariffa unitaria (euro)"]
[null,null,"Ricavi (euro)",{"$f":"D127*D128","v":0},0,0,0,0,0,0,0,0,0,0,0,0,0,0,0,0,0,0,0,0,0,0,0,0,0,0,0,0,0,0,0,0,0,0,0,0,0,0,0,0,0,0,0,0,0,0,0,0,0,0,0,0,0,0,0,0,0,0,0,0]
[null,null,"CHECK 2 e 3",{"$f":"IF(D127=\"\",\"\",IF(D127>($L$10-$K$10),\"VERIFICA 2\",IF(D127<$M$10,\"OK\",\"VERIFICA 3\")))","v":""},"","","","","","","","","","","","","","","","","","","","","","","","","","","","","","","","","","","","","","","","","","","","","","","","","","","","","","","","","","","",""]
[null,8,{"$f":"IF(C16=\"\",\"\",C16)","v":"e"},{"$f":"'2 Descrizione Progetto'!$D$20","v":1},{"$f":"IF(D131=\"anno esterno\",\"anno esterno\",IF(D131+1<='2 Descrizione Progetto'!$D$22,D131+1,\"anno esterno\"))","v":2},{"$f":"IF(E131=\"anno esterno\",\"anno esterno\",IF(E131+1<='2 Descrizione Progetto'!$D$22,E131+1,\"anno esterno\"))","v":3},{"$f":"IF(F131=\"anno esterno\",\"anno esterno\",IF(F131+1<='2 Descrizione Progetto'!$D$22,F131+1,\"anno esterno\"))","v":4},{"$f":"IF(G131=\"anno esterno\",\"anno esterno\",IF(G131+1<='2 Descrizione Progetto'!$D$22,G131+1,\"anno esterno\"))","v":5},{"$f":"IF(H131=\"anno esterno\",\"anno esterno\",IF(H131+1<='2 Descrizione Progetto'!$D$22,H131+1,\"anno esterno\"))","v":6},{"$f":"IF(I131=\"anno esterno\",\"anno esterno\",IF(I131+1<='2 Descrizione Progetto'!$D$22,I131+1,\"anno esterno\"))","v":7},{"$f":"IF(J131=\"anno esterno\",\"anno esterno\",IF(J131+1<='2 Descrizione Progetto'!$D$22,J131+1,\"anno esterno\"))","v":8},{"$f":"IF(K131=\"anno esterno\",\"anno esterno\",IF(K131+1<='2 Descrizione Progetto'!$D$22,K131+1,\"anno esterno\"))","v":9},{"$f":"IF(L131=\"anno esterno\",\"anno esterno\",IF(L131+1<='2 Descrizione Progetto'!$D$22,L131+1,\"anno esterno\"))","v":10},{"$f":"IF(M131=\"anno esterno\",\"anno esterno\",IF(M131+1<='2 Descrizione Progetto'!$D$22,M131+1,\"anno esterno\"))","v":"anno esterno"},{"$f":"IF(N131=\"anno esterno\",\"anno esterno\",IF(N131+1<='2 Descrizione Progetto'!$D$22,N131+1,\"anno esterno\"))","v":"anno esterno"},{"$f":"IF(O131=\"anno esterno\",\"anno esterno\",IF(O131+1<='2 Descrizione Progetto'!$D$22,O131+1,\"anno esterno\"))","v":"anno esterno"},{"$f":"IF(P131=\"anno esterno\",\"anno esterno\",IF(P131+1<='2 Descrizione Progetto'!$D$22,P131+1,\"anno esterno\"))","v":"anno esterno"},{"$f":"IF(Q131=\"anno esterno\",\"anno esterno\",IF(Q131+1<='2 Descrizione Progetto'!$D$22,Q131+1,\"anno esterno\"))","v":"anno esterno"},{"$f":"IF(R131=\"anno esterno\",\"anno esterno\",IF(R131+1<='2 Descrizione Progetto'!$D$22,R131+1,\"anno esterno\"))","v":"anno esterno"},{"$f":"IF(S131=\"anno esterno\",\"anno esterno\",IF(S131+1<='2 Descrizione Progetto'!$D$22,S131+1,\"anno esterno\"))","v":"anno esterno"},{"$f":"IF(T131=\"anno esterno\",\"anno esterno\",IF(T131+1<='2 Descrizione Progetto'!$D$22,T131+1,\"anno esterno\"))","v":"anno esterno"},{"$f":"IF(U131=\"anno esterno\",\"anno esterno\",IF(U131+1<='2 Descrizione Progetto'!$D$22,U131+1,\"anno esterno\"))","v":"anno esterno"},{"$f":"IF(V131=\"anno esterno\",\"anno esterno\",IF(V131+1<='2 Descrizione Progetto'!$D$22,V131+1,\"anno esterno\"))","v":"anno esterno"},{"$f":"IF(W131=\"anno esterno\",\"anno esterno\",IF(W131+1<='2 Descrizione Progetto'!$D$22,W131+1,\"anno esterno\"))","v":"anno esterno"},{"$f":"IF(X131=\"anno esterno\",\"anno esterno\",IF(X131+1<='2 Descrizione Progetto'!$D$22,X131+1,\"anno esterno\"))","v":"anno esterno"},{"$f":"IF(Y131=\"anno esterno\",\"anno esterno\",IF(Y131+1<='2 Descrizione Progetto'!$D$22,Y131+1,\"anno esterno\"))","v":"anno esterno"},{"$f":"IF(Z131=\"anno esterno\",\"anno esterno\",IF(Z131+1<='2 Descrizione Progetto'!$D$22,Z131+1,\"anno esterno\"))","v":"anno esterno"},{"$f":"IF(AA131=\"anno esterno\",\"anno esterno\",IF(AA131+1<='2 Descrizione Progetto'!$D$22,AA131+1,\"anno esterno\"))","v":"anno esterno"},{"$f":"IF(AB131=\"anno esterno\",\"anno esterno\",IF(AB131+1<='2 Descrizione Progetto'!$D$22,AB131+1,\"anno esterno\"))","v":"anno esterno"},{"$f":"IF(AC131=\"anno esterno\",\"anno esterno\",IF(AC131+1<='2 Descrizione Progetto'!$D$22,AC131+1,\"anno esterno\"))","v":"anno esterno"},{"$f":"IF(AD131=\"anno esterno\",\"anno esterno\",IF(AD131+1<='2 Descrizione Progetto'!$D$22,AD131+1,\"anno esterno\"))","v":"anno esterno"},{"$f":"IF(AE131=\"anno esterno\",\"anno esterno\",IF(AE131+1<='2 Descrizione Progetto'!$D$22,AE131+1,\"anno esterno\"))","v":"anno esterno"},{"$f":"IF(AF131=\"anno esterno\",\"anno esterno\",IF(AF131+1<='2 Descrizione Progetto'!$D$22,AF131+1,\"anno esterno\"))","v":"anno esterno"},{"$f":"IF(AG131=\"anno esterno\",\"anno esterno\",IF(AG131+1<='2 Descrizione Progetto'!$D$22,AG131+1,\"anno esterno\"))","v":"anno esterno"},{"$f":"IF(AH131=\"anno esterno\",\"anno esterno\",IF(AH131+1<='2 Descrizione Progetto'!$D$22,AH131+1,\"anno esterno\"))","v":"anno esterno"},{"$f":"IF(AI131=\"anno esterno\",\"anno esterno\",IF(AI131+1<='2 Descrizione Progetto'!$D$22,AI131+1,\"anno esterno\"))","v":"anno esterno"},{"$f":"IF(AJ131=\"anno esterno\",\"anno esterno\",IF(AJ131+1<='2 Descrizione Progetto'!$D$22,AJ131+1,\"anno esterno\"))","v":"anno esterno"},{"$f":"IF(AK131=\"anno esterno\",\"anno esterno\",IF(AK131+1<='2 Descrizione Progetto'!$D$22,AK131+1,\"anno esterno\"))","v":"anno esterno"},{"$f":"IF(AL131=\"anno esterno\",\"anno esterno\",IF(AL131+1<='2 Descrizione Progetto'!$D$22,AL131+1,\"anno esterno\"))","v":"anno esterno"},{"$f":"IF(AM131=\"anno esterno\",\"anno esterno\",IF(AM131+1<='2 Descrizione Progetto'!$D$22,AM131+1,\"anno esterno\"))","v":"anno esterno"},{"$f":"IF(AN131=\"anno esterno\",\"anno esterno\",IF(AN131+1<='2 Descrizione Progetto'!$D$22,AN131+1,\"anno esterno\"))","v":"anno esterno"},{"$f":"IF(AO131=\"anno esterno\",\"anno esterno\",IF(AO131+1<='2 Descrizione Progetto'!$D$22,AO131+1,\"anno esterno\"))","v":"anno esterno"},{"$f":"IF(AP131=\"anno esterno\",\"anno esterno\",IF(AP131+1<='2 Descrizione Progetto'!$D$22,AP131+1,\"anno esterno\"))","v":"anno esterno"},{"$f":"IF(AQ131=\"anno esterno\",\"anno esterno\",IF(AQ131+1<='2 Descrizione Progetto'!$D$22,AQ131+1,\"anno esterno\"))","v":"anno esterno"},{"$f":"IF(AR131=\"anno esterno\",\"anno esterno\",IF(AR131+1<='2 Descrizione Progetto'!$D$22,AR131+1,\"anno esterno\"))","v":"anno esterno"},{"$f":"IF(AS131=\"anno esterno\",\"anno esterno\",IF(AS131+1<='2 Descrizione Progetto'!$D$22,AS131+1,\"anno esterno\"))","v":"anno esterno"},{"$f":"IF(AT131=\"anno esterno\",\"anno esterno\",IF(AT131+1<='2 Descrizione Progetto'!$D$22,AT131+1,\"anno esterno\"))","v":"anno esterno"},{"$f":"IF(AU131=\"anno esterno\",\"anno esterno\",IF(AU131+1<='2 Descrizione Progetto'!$D$22,AU131+1,\"anno esterno\"))","v":"anno esterno"},{"$f":"IF(AV131=\"anno esterno\",\"anno esterno\",IF(AV131+1<='2 Descrizione Progetto'!$D$22,AV131+1,\"anno esterno\"))","v":"anno esterno"},{"$f":"IF(AW131=\"anno esterno\",\"anno esterno\",IF(AW131+1<='2 Descrizione Progetto'!$D$22,AW131+1,\"anno esterno\"))","v":"anno esterno"},{"$f":"IF(AX131=\"anno esterno\",\"anno esterno\",IF(AX131+1<='2 Descrizione Progetto'!$D$22,AX131+1,\"anno esterno\"))","v":"anno esterno"},{"$f":"IF(AY131=\"anno esterno\",\"anno esterno\",IF(AY131+1<='2 Descrizione Progetto'!$D$22,AY131+1,\"anno esterno\"))","v":"anno esterno"},{"$f":"IF(AZ131=\"anno esterno\",\"anno esterno\",IF(AZ131+1<='2 Descrizione Progetto'!$D$22,AZ131+1,\"anno esterno\"))","v":"anno esterno"},{"$f":"IF(BA131=\"anno esterno\",\"anno esterno\",IF(BA131+1<='2 Descrizione Progetto'!$D$22,BA131+1,\"anno esterno\"))","v":"anno esterno"},{"$f":"IF(BB131=\"anno esterno\",\"anno esterno\",IF(BB131+1<='2 Descrizione Progetto'!$D$22,BB131+1,\"anno esterno\"))","v":"anno esterno"},{"$f":"IF(BC131=\"anno esterno\",\"anno esterno\",IF(BC131+1<='2 Descrizione Progetto'!$D$22,BC131+1,\"anno esterno\"))","v":"anno esterno"},{"$f":"IF(BD131=\"anno esterno\",\"anno esterno\",IF(BD131+1<='2 Descrizione Progetto'!$D$22,BD131+1,\"anno esterno\"))","v":"anno esterno"},{"$f":"IF(BE131=\"anno esterno\",\"anno esterno\",IF(BE131+1<='2 Descrizione Progetto'!$D$22,BE131+1,\"anno esterno\"))","v":"anno esterno"},{"$f":"IF(BF131=\"anno esterno\",\"anno esterno\",IF(BF131+1<='2 Descrizione Progetto'!$D$22,BF131+1,\"anno esterno\"))","v":"anno esterno"},{"$f":"IF(BG131=\"anno esterno\",\"anno esterno\",IF(BG131+1<='2 Descrizione Progetto'!$D$22,BG131+1,\"anno esterno\"))","v":"anno esterno"},{"$f":"IF(BH131=\"anno esterno\",\"anno esterno\",IF(BH131+1<='2 Descrizione Progetto'!$D$22,BH131+1,\"anno esterno\"))","v":"anno esterno"},{"$f":"IF(BI131=\"anno esterno\",\"anno esterno\",IF(BI131+1<='2 Descrizione Progetto'!$D$22,BI131+1,\"anno esterno\"))","v":"anno esterno"},{"$f":"IF(BJ131=\"anno esterno\",\"anno esterno\",IF(BJ131+1<='2 Descrizione Progetto'!$D$22,BJ131+1,\"anno esterno\"))","v":"anno esterno"},{"$f":"IF(BK131=\"anno esterno\",\"anno esterno\",IF(BK131+1<='2 Descrizione Progetto'!$D$22,BK131+1,\"anno esterno\"))","v":"anno esterno"}]
[null,null,"Domanda (unità)"]
[null,null,"Tariffa unitaria (euro)"]
[null,null,"Ricavi (euro)",{"$f":"D132*D133","v":0},0,0,0,0,0,0,0,0,0,0,0,0,0,0,0,0,0,0,0,0,0,0,0,0,0,0,0,0,0,0,0,0,0,0,0,0,0,0,0,0,0,0,0,0,0,0,0,0,0,0,0,0,0,0,0,0,0,0,0,0]
[null,null,"CHECK 2 e 3",{"$f":"IF(D132=\"\",\"\",IF(D132>($L$10-$K$10),\"VERIFICA 2\",IF(D132<$M$10,\"OK\",\"VERIFICA 3\")))","v":""},"","","","","","","","","","","","","","","","","","","","","","","","","","","","","","","","","","","","","","","","","","","","","","","","","","","","","","","","","","","",""]
[null,9,{"$f":"IF(C17=\"\",\"\",C17)","v":"f"},{"$f":"'2 Descrizione Progetto'!$D$20","v":1},{"$f":"IF(D136=\"anno esterno\",\"anno esterno\",IF(D136+1<='2 Descrizione Progetto'!$D$22,D136+1,\"anno esterno\"))","v":2},{"$f":"IF(E136=\"anno esterno\",\"anno esterno\",IF(E136+1<='2 Descrizione Progetto'!$D$22,E136+1,\"anno esterno\"))","v":3},{"$f":"IF(F136=\"anno esterno\",\"anno esterno\",IF(F136+1<='2 Descrizione Progetto'!$D$22,F136+1,\"anno esterno\"))","v":4},{"$f":"IF(G136=\"anno esterno\",\"anno esterno\",IF(G136+1<='2 Descrizione Progetto'!$D$22,G136+1,\"anno esterno\"))","v":5},{"$f":"IF(H136=\"anno esterno\",\"anno esterno\",IF(H136+1<='2 Descrizione Progetto'!$D$22,H136+1,\"anno esterno\"))","v":6},{"$f":"IF(I136=\"anno esterno\",\"anno esterno\",IF(I136+1<='2 Descrizione Progetto'!$D$22,I136+1,\"anno esterno\"))","v":7},{"$f":"IF(J136=\"anno esterno\",\"anno esterno\",IF(J136+1<='2 Descrizione Progetto'!$D$22,J136+1,\"anno esterno\"))","v":8},{"$f":"IF(K136=\"anno esterno\",\"anno esterno\",IF(K136+1<='2 Descrizione Progetto'!$D$22,K136+1,\"anno esterno\"))","v":9},{"$f":"IF(L136=\"anno esterno\",\"anno esterno\",IF(L136+1<='2 Descrizione Progetto'!$D$22,L136+1,\"anno esterno\"))","v":10},{"$f":"IF(M136=\"anno esterno\",\"anno esterno\",IF(M136+1<='2 Descrizione Progetto'!$D$22,M136+1,\"anno esterno\"))","v":"anno esterno"},{"$f":"IF(N136=\"anno esterno\",\"anno esterno\",IF(N136+1<='2 Descrizione Progetto'!$D$22,N136+1,\"anno esterno\"))","v":"anno esterno"},{"$f":"IF(O136=\"anno esterno\",\"anno esterno\",IF(O136+1<='2 Descrizione Progetto'!$D$22,O136+1,\"anno esterno\"))","v":"anno esterno"},{"$f":"IF(P136=\"anno esterno\",\"anno esterno\",IF(P136+1<='2 Descrizione Progetto'!$D$22,P136+1,\"anno esterno\"))","v":"anno esterno"},{"$f":"IF(Q136=\"anno esterno\",\"anno esterno\",IF(Q136+1<='2 Descrizione Progetto'!$D$22,Q136+1,\"anno esterno\"))","v":"anno esterno"},{"$f":"IF(R136=\"anno esterno\",\"anno esterno\",IF(R136+1<='2 Descrizione Progetto'!$D$22,R136+1,\"anno esterno\"))","v":"anno esterno"},{"$f":"IF(S136=\"anno esterno\",\"anno esterno\",IF(S136+1<='2 Descrizione Progetto'!$D$22,S136+1,\"anno esterno\"))","v":"anno esterno"},{"$f":"IF(T136=\"anno esterno\",\"anno esterno\",IF(T136+1<='2 Descrizione Progetto'!$D$22,T136+1,\"anno esterno\"))","v":"anno esterno"},{"$f":"IF(U136=\"anno esterno\",\"anno esterno\",IF(U136+1<='2 Descrizione Progetto'!$D$22,U136+1,\"anno esterno\"))","v":"anno esterno"},{"$f":"IF(V136=\"anno esterno\",\"anno esterno\",IF(V136+1<='2 Descrizione Progetto'!$D$22,V136+1,\"anno esterno\"))","v":"anno esterno"},{"$f":"IF(W136=\"anno esterno\",\"anno esterno\",IF(W136+1<='2 Descrizione Progetto'!$D$22,W136+1,\"anno esterno\"))","v":"anno esterno"},{"$f":"IF(X136=\"anno esterno\",\"anno esterno\",IF(X136+1<='2 Descrizione Progetto'!$D$22,X136+1,\"anno esterno\"))","v":"anno esterno"},{"$f":"IF(Y136=\"anno esterno\",\"anno esterno\",IF(Y136+1<='2 Descrizione Progetto'!$D$22,Y136+1,\"anno esterno\"))","v":"anno esterno"},{"$f":"IF(Z136=\"anno esterno\",\"anno esterno\",IF(Z136+1<='2 Descrizione Progetto'!$D$22,Z136+1,\"anno esterno\"))","v":"anno esterno"},{"$f":"IF(AA136=\"anno esterno\",\"anno esterno\",IF(AA136+1<='2 Descrizione Progetto'!$D$22,AA136+1,\"anno esterno\"))","v":"anno esterno"},{"$f":"IF(AB136=\"anno esterno\",\"anno esterno\",IF(AB136+1<='2 Descrizione Progetto'!$D$22,AB136+1,\"anno esterno\"))","v":"anno esterno"},{"$f":"IF(AC136=\"anno esterno\",\"anno esterno\",IF(AC136+1<='2 Descrizione Progetto'!$D$22,AC136+1,\"anno esterno\"))","v":"anno esterno"},{"$f":"IF(AD136=\"anno esterno\",\"anno esterno\",IF(AD136+1<='2 Descrizione Progetto'!$D$22,AD136+1,\"anno esterno\"))","v":"anno esterno"},{"$f":"IF(AE136=\"anno esterno\",\"anno esterno\",IF(AE136+1<='2 Descrizione Progetto'!$D$22,AE136+1,\"anno esterno\"))","v":"anno esterno"},{"$f":"IF(AF136=\"anno esterno\",\"anno esterno\",IF(AF136+1<='2 Descrizione Progetto'!$D$22,AF136+1,\"anno esterno\"))","v":"anno esterno"},{"$f":"IF(AG136=\"anno esterno\",\"anno esterno\",IF(AG136+1<='2 Descrizione Progetto'!$D$22,AG136+1,\"anno esterno\"))","v":"anno esterno"},{"$f":"IF(AH136=\"anno esterno\",\"anno esterno\",IF(AH136+1<='2 Descrizione Progetto'!$D$22,AH136+1,\"anno esterno\"))","v":"anno esterno"},{"$f":"IF(AI136=\"anno esterno\",\"anno esterno\",IF(AI136+1<='2 Descrizione Progetto'!$D$22,AI136+1,\"anno esterno\"))","v":"anno esterno"},{"$f":"IF(AJ136=\"anno esterno\",\"anno esterno\",IF(AJ136+1<='2 Descrizione Progetto'!$D$22,AJ136+1,\"anno esterno\"))","v":"anno esterno"},{"$f":"IF(AK136=\"anno esterno\",\"anno esterno\",IF(AK136+1<='2 Descrizione Progetto'!$D$22,AK136+1,\"anno esterno\"))","v":"anno esterno"},{"$f":"IF(AL136=\"anno esterno\",\"anno esterno\",IF(AL136+1<='2 Descrizione Progetto'!$D$22,AL136+1,\"anno esterno\"))","v":"anno esterno"},{"$f":"IF(AM136=\"anno esterno\",\"anno esterno\",IF(AM136+1<='2 Descrizione Progetto'!$D$22,AM136+1,\"anno esterno\"))","v":"anno esterno"},{"$f":"IF(AN136=\"anno esterno\",\"anno esterno\",IF(AN136+1<='2 Descrizione Progetto'!$D$22,AN136+1,\"anno esterno\"))","v":"anno esterno"},{"$f":"IF(AO136=\"anno esterno\",\"anno esterno\",IF(AO136+1<='2 Descrizione Progetto'!$D$22,AO136+1,\"anno esterno\"))","v":"anno esterno"},{"$f":"IF(AP136=\"anno esterno\",\"anno esterno\",IF(AP136+1<='2 Descrizione Progetto'!$D$22,AP136+1,\"anno esterno\"))","v":"anno esterno"},{"$f":"IF(AQ136=\"anno esterno\",\"anno esterno\",IF(AQ136+1<='2 Descrizione Progetto'!$D$22,AQ136+1,\"anno esterno\"))","v":"anno esterno"},{"$f":"IF(AR136=\"anno esterno\",\"anno esterno\",IF(AR136+1<='2 Descrizione Progetto'!$D$22,AR136+1,\"anno esterno\"))","v":"anno esterno"},{"$f":"IF(AS136=\"anno esterno\",\"anno esterno\",IF(AS136+1<='2 Descrizione Progetto'!$D$22,AS136+1,\"anno esterno\"))","v":"anno esterno"},{"$f":"IF(AT136=\"anno esterno\",\"anno esterno\",IF(AT136+1<='2 Descrizione Progetto'!$D$22,AT136+1,\"anno esterno\"))","v":"anno esterno"},{"$f":"IF(AU136=\"anno esterno\",\"anno esterno\",IF(AU136+1<='2 Descrizione Progetto'!$D$22,AU136+1,\"anno esterno\"))","v":"anno esterno"},{"$f":"IF(AV136=\"anno esterno\",\"anno esterno\",IF(AV136+1<='2 Descrizione Progetto'!$D$22,AV136+1,\"anno esterno\"))","v":"anno esterno"},{"$f":"IF(AW136=\"anno esterno\",\"anno esterno\",IF(AW136+1<='2 Descrizione Progetto'!$D$22,AW136+1,\"anno esterno\"))","v":"anno esterno"},{"$f":"IF(AX136=\"anno esterno\",\"anno esterno\",IF(AX136+1<='2 Descrizione Progetto'!$D$22,AX136+1,\"anno esterno\"))","v":"anno esterno"},{"$f":"IF(AY136=\"anno esterno\",\"anno esterno\",IF(AY136+1<='2 Descrizione Progetto'!$D$22,AY136+1,\"anno esterno\"))","v":"anno esterno"},{"$f":"IF(AZ136=\"anno esterno\",\"anno esterno\",IF(AZ136+1<='2 Descrizione Progetto'!$D$22,AZ136+1,\"anno esterno\"))","v":"anno esterno"},{"$f":"IF(BA136=\"anno esterno\",\"anno esterno\",IF(BA136+1<='2 Descrizione Progetto'!$D$22,BA136+1,\"anno esterno\"))","v":"anno esterno"},{"$f":"IF(BB136=\"anno esterno\",\"anno esterno\",IF(BB136+1<='2 Descrizione Progetto'!$D$22,BB136+1,\"anno esterno\"))","v":"anno esterno"},{"$f":"IF(BC136=\"anno esterno\",\"anno esterno\",IF(BC136+1<='2 Descrizione Progetto'!$D$22,BC136+1,\"anno esterno\"))","v":"anno esterno"},{"$f":"IF(BD136=\"anno esterno\",\"anno esterno\",IF(BD136+1<='2 Descrizione Progetto'!$D$22,BD136+1,\"anno esterno\"))","v":"anno esterno"},{"$f":"IF(BE136=\"anno esterno\",\"anno esterno\",IF(BE136+1<='2 Descrizione Progetto'!$D$22,BE136+1,\"anno esterno\"))","v":"anno esterno"},{"$f":"IF(BF136=\"anno esterno\",\"anno esterno\",IF(BF136+1<='2 Descrizione Progetto'!$D$22,BF136+1,\"anno esterno\"))","v":"anno esterno"},{"$f":"IF(BG136=\"anno esterno\",\"anno esterno\",IF(BG136+1<='2 Descrizione Progetto'!$D$22,BG136+1,\"anno esterno\"))","v":"anno esterno"},{"$f":"IF(BH136=\"anno esterno\",\"anno esterno\",IF(BH136+1<='2 Descrizione Progetto'!$D$22,BH136+1,\"anno esterno\"))","v":"anno esterno"},{"$f":"IF(BI136=\"anno esterno\",\"anno esterno\",IF(BI136+1<='2 Descrizione Progetto'!$D$22,BI136+1,\"anno esterno\"))","v":"anno esterno"},{"$f":"IF(BJ136=\"anno esterno\",\"anno esterno\",IF(BJ136+1<='2 Descrizione Progetto'!$D$22,BJ136+1,\"anno esterno\"))","v":"anno esterno"},{"$f":"IF(BK136=\"anno esterno\",\"anno esterno\",IF(BK136+1<='2 Descrizione Progetto'!$D$22,BK136+1,\"anno esterno\"))","v":"anno esterno"}]
[null,null,"Domanda (unità)"]
[null,null,"Tariffa unitaria (euro)"]
[null,null,"Ricavi (euro)",{"$f":"D137*D138","v":0},0,0,0,0,0,0,0,0,0,0,0,0,0,0,0,0,0,0,0,0,0,0,0,0,0,0,0,0,0,0,0,0,0,0,0,0,0,0,0,0,0,0,0,0,0,0,0,0,0,0,0,0,0,0,0,0,0,0,0,0]
[null,null,"CHECK 2 e 3",{"$f":"IF(D137=\"\",\"\",IF(D137>($L$10-$K$10),\"VERIFICA 2\",IF(D137<$M$10,\"OK\",\"VERIFICA 3\")))","v":""},"","","","","","","","","","","","","","","","","","","","","","","","","","","","","","","","","","","","","","","","","","","","","","","","","","","","","","","","","","","",""]
[null,10,{"$f":"IF(C18=\"\",\"\",C18)","v":"g"},{"$f":"'2 Descrizione Progetto'!$D$20","v":1},{"$f":"IF(D141=\"anno esterno\",\"anno esterno\",IF(D141+1<='2 Descrizione Progetto'!$D$22,D141+1,\"anno esterno\"))","v":2},{"$f":"IF(E141=\"anno esterno\",\"anno esterno\",IF(E141+1<='2 Descrizione Progetto'!$D$22,E141+1,\"anno esterno\"))","v":3},{"$f":"IF(F141=\"anno esterno\",\"anno esterno\",IF(F141+1<='2 Descrizione Progetto'!$D$22,F141+1,\"anno esterno\"))","v":4},{"$f":"IF(G141=\"anno esterno\",\"anno esterno\",IF(G141+1<='2 Descrizione Progetto'!$D$22,G141+1,\"anno esterno\"))","v":5},{"$f":"IF(H141=\"anno esterno\",\"anno esterno\",IF(H141+1<='2 Descrizione Progetto'!$D$22,H141+1,\"anno esterno\"))","v":6},{"$f":"IF(I141=\"anno esterno\",\"anno esterno\",IF(I141+1<='2 Descrizione Progetto'!$D$22,I141+1,\"anno esterno\"))","v":7},{"$f":"IF(J141=\"anno esterno\",\"anno esterno\",IF(J141+1<='2 Descrizione Progetto'!$D$22,J141+1,\"anno esterno\"))","v":8},{"$f":"IF(K141=\"anno esterno\",\"anno esterno\",IF(K141+1<='2 Descrizione Progetto'!$D$22,K141+1,\"anno esterno\"))","v":9},{"$f":"IF(L141=\"anno esterno\",\"anno esterno\",IF(L141+1<='2 Descrizione Progetto'!$D$22,L141+1,\"anno esterno\"))","v":10},{"$f":"IF(M141=\"anno esterno\",\"anno esterno\",IF(M141+1<='2 Descrizione Progetto'!$D$22,M141+1,\"anno esterno\"))","v":"anno esterno"},{"$f":"IF(N141=\"anno esterno\",\"anno esterno\",IF(N141+1<='2 Descrizione Progetto'!$D$22,N141+1,\"anno esterno\"))","v":"anno esterno"},{"$f":"IF(O141=\"anno esterno\",\"anno esterno\",IF(O141+1<='2 Descrizione Progetto'!$D$22,O141+1,\"anno esterno\"))","v":"anno esterno"},{"$f":"IF(P141=\"anno esterno\",\"anno esterno\",IF(P141+1<='2 Descrizione Progetto'!$D$22,P141+1,\"anno esterno\"))","v":"anno esterno"},{"$f":"IF(Q141=\"anno esterno\",\"anno esterno\",IF(Q141+1<='2 Descrizione Progetto'!$D$22,Q141+1,\"anno esterno\"))","v":"anno esterno"},{"$f":"IF(R141=\"anno esterno\",\"anno esterno\",IF(R141+1<='2 Descrizione Progetto'!$D$22,R141+1,\"anno esterno\"))","v":"anno esterno"},{"$f":"IF(S141=\"anno esterno\",\"anno esterno\",IF(S141+1<='2 Descrizione Progetto'!$D$22,S141+1,\"anno esterno\"))","v":"anno esterno"},{"$f":"IF(T141=\"anno esterno\",\"anno esterno\",IF(T141+1<='2 Descrizione Progetto'!$D$22,T141+1,\"anno esterno\"))","v":"anno esterno"},{"$f":"IF(U141=\"anno esterno\",\"anno esterno\",IF(U141+1<='2 Descrizione Progetto'!$D$22,U141+1,\"anno esterno\"))","v":"anno esterno"},{"$f":"IF(V141=\"anno esterno\",\"anno esterno\",IF(V141+1<='2 Descrizione Progetto'!$D$22,V141+1,\"anno esterno\"))","v":"anno esterno"},{"$f":"IF(W141=\"anno esterno\",\"anno esterno\",IF(W141+1<='2 Descrizione Progetto'!$D$22,W141+1,\"anno esterno\"))","v":"anno esterno"},{"$f":"IF(X141=\"anno esterno\",\"anno esterno\",IF(X141+1<='2 Descrizione Progetto'!$D$22,X141+1,\"anno esterno\"))","v":"anno esterno"},{"$f":"IF(Y141=\"anno esterno\",\"anno esterno\",IF(Y141+1<='2 Descrizione Progetto'!$D$22,Y141+1,\"anno esterno\"))","v":"anno esterno"},{"$f":"IF(Z141=\"anno esterno\",\"anno esterno\",IF(Z141+1<='2 Descrizione Progetto'!$D$22,Z141+1,\"anno esterno\"))","v":"anno esterno"},{"$f":"IF(AA141=\"anno esterno\",\"anno esterno\",IF(AA141+1<='2 Descrizione Progetto'!$D$22,AA141+1,\"anno esterno\"))","v":"anno esterno"},{"$f":"IF(AB141=\"anno esterno\",\"anno esterno\",IF(AB141+1<='2 Descrizione Progetto'!$D$22,AB141+1,\"anno esterno\"))","v":"anno esterno"},{"$f":"IF(AC141=\"anno esterno\",\"anno esterno\",IF(AC141+1<='2 Descrizione Progetto'!$D$22,AC141+1,\"anno esterno\"))","v":"anno esterno"},{"$f":"IF(AD141=\"anno esterno\",\"anno esterno\",IF(AD141+1<='2 Descrizione Progetto'!$D$22,AD141+1,\"anno esterno\"))","v":"anno esterno"},{"$f":"IF(AE141=\"anno esterno\",\"anno esterno\",IF(AE141+1<='2 Descrizione Progetto'!$D$22,AE141+1,\"anno esterno\"))","v":"anno esterno"},{"$f":"IF(AF141=\"anno esterno\",\"anno esterno\",IF(AF141+1<='2 Descrizione Progetto'!$D$22,AF141+1,\"anno esterno\"))","v":"anno esterno"},{"$f":"IF(AG141=\"anno esterno\",\"anno esterno\",IF(AG141+1<='2 Descrizione Progetto'!$D$22,AG141+1,\"anno esterno\"))","v":"anno esterno"},{"$f":"IF(AH141=\"anno esterno\",\"anno esterno\",IF(AH141+1<='2 Descrizione Progetto'!$D$22,AH141+1,\"anno esterno\"))","v":"anno esterno"},{"$f":"IF(AI141=\"anno esterno\",\"anno esterno\",IF(AI141+1<='2 Descrizione Progetto'!$D$22,AI141+1,\"anno esterno\"))","v":"anno esterno"},{"$f":"IF(AJ141=\"anno esterno\",\"anno esterno\",IF(AJ141+1<='2 Descrizione Progetto'!$D$22,AJ141+1,\"anno esterno\"))","v":"anno esterno"},{"$f":"IF(AK141=\"anno esterno\",\"anno esterno\",IF(AK141+1<='2 Descrizione Progetto'!$D$22,AK141+1,\"anno esterno\"))","v":"anno esterno"},{"$f":"IF(AL141=\"anno esterno\",\"anno esterno\",IF(AL141+1<='2 Descrizione Progetto'!$D$22,AL141+1,\"anno esterno\"))","v":"anno esterno"},{"$f":"IF(AM141=\"anno esterno\",\"anno esterno\",IF(AM141+1<='2 Descrizione Progetto'!$D$22,AM141+1,\"anno esterno\"))","v":"anno esterno"},{"$f":"IF(AN141=\"anno esterno\",\"anno esterno\",IF(AN141+1<='2 Descrizione Progetto'!$D$22,AN141+1,\"anno esterno\"))","v":"anno esterno"},{"$f":"IF(AO141=\"anno esterno\",\"anno esterno\",IF(AO141+1<='2 Descrizione Progetto'!$D$22,AO141+1,\"anno esterno\"))","v":"anno esterno"},{"$f":"IF(AP141=\"anno esterno\",\"anno esterno\",IF(AP141+1<='2 Descrizione Progetto'!$D$22,AP141+1,\"anno esterno\"))","v":"anno esterno"},{"$f":"IF(AQ141=\"anno esterno\",\"anno esterno\",IF(AQ141+1<='2 Descrizione Progetto'!$D$22,AQ141+1,\"anno esterno\"))","v":"anno esterno"},{"$f":"IF(AR141=\"anno esterno\",\"anno esterno\",IF(AR141+1<='2 Descrizione Progetto'!$D$22,AR141+1,\"anno esterno\"))","v":"anno esterno"},{"$f":"IF(AS141=\"anno esterno\",\"anno esterno\",IF(AS141+1<='2 Descrizione Progetto'!$D$22,AS141+1,\"anno esterno\"))","v":"anno esterno"},{"$f":"IF(AT141=\"anno esterno\",\"anno esterno\",IF(AT141+1<='2 Descrizione Progetto'!$D$22,AT141+1,\"anno esterno\"))","v":"anno esterno"},{"$f":"IF(AU141=\"anno esterno\",\"anno esterno\",IF(AU141+1<='2 Descrizione Progetto'!$D$22,AU141+1,\"anno esterno\"))","v":"anno esterno"},{"$f":"IF(AV141=\"anno esterno\",\"anno esterno\",IF(AV141+1<='2 Descrizione Progetto'!$D$22,AV141+1,\"anno esterno\"))","v":"anno esterno"},{"$f":"IF(AW141=\"anno esterno\",\"anno esterno\",IF(AW141+1<='2 Descrizione Progetto'!$D$22,AW141+1,\"anno esterno\"))","v":"anno esterno"},{"$f":"IF(AX141=\"anno esterno\",\"anno esterno\",IF(AX141+1<='2 Descrizione Progetto'!$D$22,AX141+1,\"anno esterno\"))","v":"anno esterno"},{"$f":"IF(AY141=\"anno esterno\",\"anno esterno\",IF(AY141+1<='2 Descrizione Progetto'!$D$22,AY141+1,\"anno esterno\"))","v":"anno esterno"},{"$f":"IF(AZ141=\"anno esterno\",\"anno esterno\",IF(AZ141+1<='2 Descrizione Progetto'!$D$22,AZ141+1,\"anno esterno\"))","v":"anno esterno"},{"$f":"IF(BA141=\"anno esterno\",\"anno esterno\",IF(BA141+1<='2 Descrizione Progetto'!$D$22,BA141+1,\"anno esterno\"))","v":"anno esterno"},{"$f":"IF(BB141=\"anno esterno\",\"anno esterno\",IF(BB141+1<='2 Descrizione Progetto'!$D$22,BB141+1,\"anno esterno\"))","v":"anno esterno"},{"$f":"IF(BC141=\"anno esterno\",\"anno esterno\",IF(BC141+1<='2 Descrizione Progetto'!$D$22,BC141+1,\"anno esterno\"))","v":"anno esterno"},{"$f":"IF(BD141=\"anno esterno\",\"anno esterno\",IF(BD141+1<='2 Descrizione Progetto'!$D$22,BD141+1,\"anno esterno\"))","v":"anno esterno"},{"$f":"IF(BE141=\"anno esterno\",\"anno esterno\",IF(BE141+1<='2 Descrizione Progetto'!$D$22,BE141+1,\"anno esterno\"))","v":"anno esterno"},{"$f":"IF(BF141=\"anno esterno\",\"anno esterno\",IF(BF141+1<='2 Descrizione Progetto'!$D$22,BF141+1,\"anno esterno\"))","v":"anno esterno"},{"$f":"IF(BG141=\"anno esterno\",\"anno esterno\",IF(BG141+1<='2 Descrizione Progetto'!$D$22,BG141+1,\"anno esterno\"))","v":"anno esterno"},{"$f":"IF(BH141=\"anno esterno\",\"anno esterno\",IF(BH141+1<='2 Descrizione Progetto'!$D$22,BH141+1,\"anno esterno\"))","v":"anno esterno"},{"$f":"IF(BI141=\"anno esterno\",\"anno esterno\",IF(BI141+1<='2 Descrizione Progetto'!$D$22,BI141+1,\"anno esterno\"))","v":"anno esterno"},{"$f":"IF(BJ141=\"anno esterno\",\"anno esterno\",IF(BJ141+1<='2 Descrizione Progetto'!$D$22,BJ141+1,\"anno esterno\"))","v":"anno esterno"},{"$f":"IF(BK141=\"anno esterno\",\"anno esterno\",IF(BK141+1<='2 Descrizione Progetto'!$D$22,BK141+1,\"anno esterno\"))","v":"anno esterno"}]
[null,null,"Domanda (unità)"]
[null,null,"Tariffa unitaria (euro)"]
[null,null,"Ricavi (euro)",{"$f":"D142*D143","v":0},0,0,0,0,0,0,0,0,0,0,0,0,0,0,0,0,0,0,0,0,0,0,0,0,0,0,0,0,0,0,0,0,0,0,0,0,0,0,0,0,0,0,0,0,0,0,0,0,0,0,0,0,0,0,0,0,0,0,0,0]
[null,null,"CHECK 2 e 3",{"$f":"IF(D142=\"\",\"\",IF(D142>($L$10-$K$10),\"VERIFICA 2\",IF(D142<$M$10,\"OK\",\"VERIFICA 3\")))","v":""},"","","","","","","","","","","","","","","","","","","","","","","","","","","","","","","","","","","","","","","","","","","","","","","","","","","","","","","","","","","",""]
[]
[]
[]
[null,4,"Sviluppo della Domanda e della Gestione"]
[null,null," ",null,null,null,"Composizione flusso ricavi totali"]
[null,null,{"$f":"'2 Descrizione Progetto'!C3","v":"Comune di Guardiagrele"},null,null,null,"Rivalutazione media annua (ISTAT)",null,{"$f":"G27","v":0.02},null,null,null," ",null,null,null,null,null,null,null," ",null,null,null,null,null,null,null," ",null,null,null,null,null,null,null,{"$f":"M151","v":" "},null,null,null,null,null,null,null," ",null,null,null,null,null,null,null," ",null,null,null,null,null,null," "]
[null,null," "]
[null,null,"Ricavi Rivalutati Istat","Scelta profilo",{"$f":"E213","v":1},2,3,4,5,6,7,8,9,10,"0","0","0","0","0","0","0","0","0","0","0","0","0","0","0","0","0","0","0","0","0","0","0","0","0","0","0","0","0","0","0","0","0","0","0","0","0","0","0","0","0","0","0","0","0","0","0","0","0","0"]
[null,1,{"$f":"IF(C9=\"\",\"\",C9)","v":"Ricavi Istituzionali"},"Profilo standard",{"$f":"IF($C9=\"\",0,IF(E153>'2 Descrizione Progetto'!$D$22,\"\",IF($D$154=\"Profilo standard\",E44,D99)))","v":265400},{"$f":"IF($C9=\"\",0,IF(F153>'2 Descrizione Progetto'!$D$22,\"\",IF($D$154=\"Profilo standard\",F44,E99)))","v":291006},{"$f":"IF($C9=\"\",0,IF(G153>'2 Descrizione Progetto'!$D$22,\"\",IF($D$154=\"Profilo standard\",G44,F99)))","v":320943.6324},{"$f":"IF($C9=\"\",0,IF(H153>'2 Descrizione Progetto'!$D$22,\"\",IF($D$154=\"Profilo standard\",H44,G99)))","v":327362.50504799996},{"$f":"IF($C9=\"\",0,IF(I153>'2 Descrizione Progetto'!$D$22,\"\",IF($D$154=\"Profilo standard\",I44,H99)))","v":333909.75514895999},{"$f":"IF($C9=\"\",0,IF(J153>'2 Descrizione Progetto'!$D$22,\"\",IF($D$154=\"Profilo standard\",J44,I99)))","v":340587.95025193918},{"$f":"IF($C9=\"\",0,IF(K153>'2 Descrizione Progetto'!$D$22,\"\",IF($D$154=\"Profilo standard\",K44,J99)))","v":347399.70925697801},{"$f":"IF($C9=\"\",0,IF(L153>'2 Descrizione Progetto'!$D$22,\"\",IF($D$154=\"Profilo standard\",L44,K99)))","v":354347.70344211755},{"$f":"IF($C9=\"\",0,IF(M153>'2 Descrizione Progetto'!$D$22,\"\",IF($D$154=\"Profilo standard\",M44,L99)))","v":361434.65751095995},{"$f":"IF($C9=\"\",0,IF(N153>'2 Descrizione Progetto'!$D$22,\"\",IF($D$154=\"Profilo standard\",N44,M99)))","v":368663.35066117911},{"$f":"IF($C9=\"\",0,IF(O153>'2 Descrizione Progetto'!$D$22,\"\",IF($D$154=\"Profilo standard\",O44,N99)))","v":""},{"$f":"IF($C9=\"\",0,IF(P153>'2 Descrizione Progetto'!$D$22,\"\",IF($D$154=\"Profilo standard\",P44,O99)))","v":""},{"$f":"IF($C9=\"\",0,IF(Q153>'2 Descrizione Progetto'!$D$22,\"\",IF($D$154=\"Profilo standard\",Q44,P99)))","v":""},{"$f":"IF($C9=\"\",0,IF(R153>'2 Descrizione Progetto'!$D$22,\"\",IF($D$154=\"Profilo standard\",R44,Q99)))","v":""},{"$f":"IF($C9=\"\",0,IF(S153>'2 Descrizione Progetto'!$D$22,\"\",IF($D$154=\"Profilo standard\",S44,R99)))","v":""},{"$f":"IF($C9=\"\",0,IF(T153>'2 Descrizione Progetto'!$D$22,\"\",IF($D$154=\"Profilo standard\",T44,S99)))","v":""},{"$f":"IF($C9=\"\",0,IF(U153>'2 Descrizione Progetto'!$D$22,\"\",IF($D$154=\"Profilo standard\",U44,T99)))","v":""},{"$f":"IF($C9=\"\",0,IF(V153>'2 Descrizione Progetto'!$D$22,\"\",IF($D$154=\"Profilo standard\",V44,U99)))","v":""},{"$f":"IF($C9=\"\",0,IF(W153>'2 Descrizione Progetto'!$D$22,\"\",IF($D$154=\"Profilo standard\",W44,V99)))","v":""},{"$f":"IF($C9=\"\",0,IF(X153>'2 Descrizione Progetto'!$D$22,\"\",IF($D$154=\"Profilo standard\",X44,W99)))","v":""},{"$f":"IF($C9=\"\",0,IF(Y153>'2 Descrizione Progetto'!$D$22,\"\",IF($D$154=\"Profilo standard\",Y44,X99)))","v":""},{"$f":"IF($C9=\"\",0,IF(Z153>'2 Descrizione Progetto'!$D$22,\"\",IF($D$154=\"Profilo standard\",Z44,Y99)))","v":""},{"$f":"IF($C9=\"\",0,IF(AA153>'2 Descrizione Progetto'!$D$22,\"\",IF($D$154=\"Profilo standard\",AA44,Z99)))","v":""},{"$f":"IF($C9=\"\",0,IF(AB153>'2 Descrizione Progetto'!$D$22,\"\",IF($D$154=\"Profilo standard\",AB44,AA99)))","v":""},{"$f":"IF($C9=\"\",0,IF(AC153>'2 Descrizione Progetto'!$D$22,\"\",IF($D$154=\"Profilo standard\",AC44,AB99)))","v":""},{"$f":"IF($C9=\"\",0,IF(AD153>'2 Descrizione Progetto'!$D$22,\"\",IF($D$154=\"Profilo standard\",AD44,AC99)))","v":""},{"$f":"IF($C9=\"\",0,IF(AE153>'2 Descrizione Progetto'!$D$22,\"\",IF($D$154=\"Profilo standard\",AE44,AD99)))","v":""},{"$f":"IF($C9=\"\",0,IF(AF153>'2 Descrizione Progetto'!$D$22,\"\",IF($D$154=\"Profilo standard\",AF44,AE99)))","v":""},{"$f":"IF($C9=\"\",0,IF(AG153>'2 Descrizione Progetto'!$D$22,\"\",IF($D$154=\"Profilo standard\",AG44,AF99)))","v":""},{"$f":"IF($C9=\"\",0,IF(AH153>'2 Descrizione Progetto'!$D$22,\"\",IF($D$154=\"Profilo standard\",AH44,AG99)))","v":""},{"$f":"IF($C9=\"\",0,IF(AI153>'2 Descrizione Progetto'!$D$22,\"\",IF($D$154=\"Profilo standard\",AI44,AH99)))","v":""},{"$f":"IF($C9=\"\",0,IF(AJ153>'2 Descrizione Progetto'!$D$22,\"\",IF($D$154=\"Profilo standard\",AJ44,AI99)))","v":""},{"$f":"IF($C9=\"\",0,IF(AK153>'2 Descrizione Progetto'!$D$22,\"\",IF($D$154=\"Profilo standard\",AK44,AJ99)))","v":""},{"$f":"IF($C9=\"\",0,IF(AL153>'2 Descrizione Progetto'!$D$22,\"\",IF($D$154=\"Profilo standard\",AL44,AK99)))","v":""},{"$f":"IF($C9=\"\",0,IF(AM153>'2 Descrizione Progetto'!$D$22,\"\",IF($D$154=\"Profilo standard\",AM44,AL99)))","v":""},{"$f":"IF($C9=\"\",0,IF(AN153>'2 Descrizione Progetto'!$D$22,\"\",IF($D$154=\"Profilo standard\",AN44,AM99)))","v":""},{"$f":"IF($C9=\"\",0,IF(AO153>'2 Descrizione Progetto'!$D$22,\"\",IF($D$154=\"Profilo standard\",AO44,AN99)))","v":""},{"$f":"IF($C9=\"\",0,IF(AP153>'2 Descrizione Progetto'!$D$22,\"\",IF($D$154=\"Profilo standard\",AP44,AO99)))","v":""},{"$f":"IF($C9=\"\",0,IF(AQ153>'2 Descrizione Progetto'!$D$22,\"\",IF($D$154=\"Profilo standard\",AQ44,AP99)))","v":""},{"$f":"IF($C9=\"\",0,IF(AR153>'2 Descrizione Progetto'!$D$22,\"\",IF($D$154=\"Profilo standard\",AR44,AQ99)))","v":""},{"$f":"IF($C9=\"\",0,IF(AS153>'2 Descrizione Progetto'!$D$22,\"\",IF($D$154=\"Profilo standard\",AS44,AR99)))","v":""},{"$f":"IF($C9=\"\",0,IF(AT153>'2 Descrizione Progetto'!$D$22,\"\",IF($D$154=\"Profilo standard\",AT44,AS99)))","v":""},{"$f":"IF($C9=\"\",0,IF(AU153>'2 Descrizione Progetto'!$D$22,\"\",IF($D$154=\"Profilo standard\",AU44,AT99)))","v":""},{"$f":"IF($C9=\"\",0,IF(AV153>'2 Descrizione Progetto'!$D$22,\"\",IF($D$154=\"Profilo standard\",AV44,AU99)))","v":""},{"$f":"IF($C9=\"\",0,IF(AW153>'2 Descrizione Progetto'!$D$22,\"\",IF($D$154=\"Profilo standard\",AW44,AV99)))","v":""},{"$f":"IF($C9=\"\",0,IF(AX153>'2 Descrizione Progetto'!$D$22,\"\",IF($D$154=\"Profilo standard\",AX44,AW99)))","v":""},{"$f":"IF($C9=\"\",0,IF(AY153>'2 Descrizione Progetto'!$D$22,\"\",IF($D$154=\"Profilo standard\",AY44,AX99)))","v":""},{"$f":"IF($C9=\"\",0,IF(AZ153>'2 Descrizione Progetto'!$D$22,\"\",IF($D$154=\"Profilo standard\",AZ44,AY99)))","v":""},{"$f":"IF($C9=\"\",0,IF(BA153>'2 Descrizione Progetto'!$D$22,\"\",IF($D$154=\"Profilo standard\",BA44,AZ99)))","v":""},{"$f":"IF($C9=\"\",0,IF(BB153>'2 Descrizione Progetto'!$D$22,\"\",IF($D$154=\"Profilo standard\",BB44,BA99)))","v":""},{"$f":"IF($C9=\"\",0,IF(BC153>'2 Descrizione Progetto'!$D$22,\"\",IF($D$154=\"Profilo standard\",BC44,BB99)))","v":""},{"$f":"IF($C9=\"\",0,IF(BD153>'2 Descrizione Progetto'!$D$22,\"\",IF($D$154=\"Profilo standard\",BD44,BC99)))","v":""},{"$f":"IF($C9=\"\",0,IF(BE153>'2 Descrizione Progetto'!$D$22,\"\",IF($D$154=\"Profilo standard\",BE44,BD99)))","v":""},{"$f":"IF($C9=\"\",0,IF(BF153>'2 Descrizione Progetto'!$D$22,\"\",IF($D$154=\"Profilo standard\",BF44,BE99)))","v":""},{"$f":"IF($C9=\"\",0,IF(BG153>'2 Descrizione Progetto'!$D$22,\"\",IF($D$154=\"Profilo standard\",BG44,BF99)))","v":""},{"$f":"IF($C9=\"\",0,IF(BH153>'2 Descrizione Progetto'!$D$22,\"\",IF($D$154=\"Profilo standard\",BH44,BG99)))","v":""},{"$f":"IF($C9=\"\",0,IF(BI153>'2 Descrizione Progetto'!$D$22,\"\",IF($D$154=\"Profilo standard\",BI44,BH99)))","v":""},{"$f":"IF($C9=\"\",0,IF(BJ153>'2 Descrizione Progetto'!$D$22,\"\",IF($D$154=\"Profilo standard\",BJ44,BI99)))","v":""},{"$f":"IF($C9=\"\",0,IF(BK153>'2 Descrizione Progetto'!$D$22,\"\",IF($D$154=\"Profilo standard\",BK44,BJ99)))","v":""},{"$f":"IF($C9=\"\",0,IF(BL153>'2 Descrizione Progetto'!$D$22,\"\",IF($D$154=\"Profilo standard\",BL44,BK99)))","v":""}]
[null,2,"Ricavi Commerciali","Profilo standard",{"$f":"IF($C10=\"\",0,IF(E153>'2 Descrizione Progetto'!$D$22,\"\",IF($D$155=\"Profilo standard\",E49,D104)))","v":55250},{"$f":"IF($C10=\"\",0,IF(F153>'2 Descrizione Progetto'!$D$22,\"\",IF($D$155=\"Profilo standard\",F49,E104)))","v":65586},{"$f":"IF($C10=\"\",0,IF(G153>'2 Descrizione Progetto'!$D$22,\"\",IF($D$155=\"Profilo standard\",G49,F104)))","v":80210.678400000004},{"$f":"IF($C10=\"\",0,IF(H153>'2 Descrizione Progetto'!$D$22,\"\",IF($D$155=\"Profilo standard\",H49,G104)))","v":81814.891967999996},{"$f":"IF($C10=\"\",0,IF(I153>'2 Descrizione Progetto'!$D$22,\"\",IF($D$155=\"Profilo standard\",I49,H104)))","v":83451.189807360002},{"$f":"IF($C10=\"\",0,IF(J153>'2 Descrizione Progetto'!$D$22,\"\",IF($D$155=\"Profilo standard\",J49,I104)))","v":85120.213603507204},{"$f":"IF($C10=\"\",0,IF(K153>'2 Descrizione Progetto'!$D$22,\"\",IF($D$155=\"Profilo standard\",K49,J104)))","v":86822.617875577344},{"$f":"IF($C10=\"\",0,IF(L153>'2 Descrizione Progetto'!$D$22,\"\",IF($D$155=\"Profilo standard\",L49,K104)))","v":88559.070233088889},{"$f":"IF($C10=\"\",0,IF(M153>'2 Descrizione Progetto'!$D$22,\"\",IF($D$155=\"Profilo standard\",M49,L104)))","v":90330.251637750684},{"$f":"IF($C10=\"\",0,IF(N153>'2 Descrizione Progetto'!$D$22,\"\",IF($D$155=\"Profilo standard\",N49,M104)))","v":92136.856670505687},{"$f":"IF($C10=\"\",0,IF(O153>'2 Descrizione Progetto'!$D$22,\"\",IF($D$155=\"Profilo standard\",O49,N104)))","v":""},{"$f":"IF($C10=\"\",0,IF(P153>'2 Descrizione Progetto'!$D$22,\"\",IF($D$155=\"Profilo standard\",P49,O104)))","v":""},{"$f":"IF($C10=\"\",0,IF(Q153>'2 Descrizione Progetto'!$D$22,\"\",IF($D$155=\"Profilo standard\",Q49,P104)))","v":""},{"$f":"IF($C10=\"\",0,IF(R153>'2 Descrizione Progetto'!$D$22,\"\",IF($D$155=\"Profilo standard\",R49,Q104)))","v":""},{"$f":"IF($C10=\"\",0,IF(S153>'2 Descrizione Progetto'!$D$22,\"\",IF($D$155=\"Profilo standard\",S49,R104)))","v":""},{"$f":"IF($C10=\"\",0,IF(T153>'2 Descrizione Progetto'!$D$22,\"\",IF($D$155=\"Profilo standard\",T49,S104)))","v":""},{"$f":"IF($C10=\"\",0,IF(U153>'2 Descrizione Progetto'!$D$22,\"\",IF($D$155=\"Profilo standard\",U49,T104)))","v":""},{"$f":"IF($C10=\"\",0,IF(V153>'2 Descrizione Progetto'!$D$22,\"\",IF($D$155=\"Profilo standard\",V49,U104)))","v":""},{"$f":"IF($C10=\"\",0,IF(W153>'2 Descrizione Progetto'!$D$22,\"\",IF($D$155=\"Profilo standard\",W49,V104)))","v":""},{"$f":"IF($C10=\"\",0,IF(X153>'2 Descrizione Progetto'!$D$22,\"\",IF($D$155=\"Profilo standard\",X49,W104)))","v":""},{"$f":"IF($C10=\"\",0,IF(Y153>'2 Descrizione Progetto'!$D$22,\"\",IF($D$155=\"Profilo standard\",Y49,X104)))","v":""},{"$f":"IF($C10=\"\",0,IF(Z153>'2 Descrizione Progetto'!$D$22,\"\",IF($D$155=\"Profilo standard\",Z49,Y104)))","v":""},{"$f":"IF($C10=\"\",0,IF(AA153>'2 Descrizione Progetto'!$D$22,\"\",IF($D$155=\"Profilo standard\",AA49,Z104)))","v":""},{"$f":"IF($C10=\"\",0,IF(AB153>'2 Descrizione Progetto'!$D$22,\"\",IF($D$155=\"Profilo standard\",AB49,AA104)))","v":""},{"$f":"IF($C10=\"\",0,IF(AC153>'2 Descrizione Progetto'!$D$22,\"\",IF($D$155=\"Profilo standard\",AC49,AB104)))","v":""},{"$f":"IF($C10=\"\",0,IF(AD153>'2 Descrizione Progetto'!$D$22,\"\",IF($D$155=\"Profilo standard\",AD49,AC104)))","v":""},{"$f":"IF($C10=\"\",0,IF(AE153>'2 Descrizione Progetto'!$D$22,\"\",IF($D$155=\"Profilo standard\",AE49,AD104)))","v":""},{"$f":"IF($C10=\"\",0,IF(AF153>'2 Descrizione Progetto'!$D$22,\"\",IF($D$155=\"Profilo standard\",AF49,AE104)))","v":""},{"$f":"IF($C10=\"\",0,IF(AG153>'2 Descrizione Progetto'!$D$22,\"\",IF($D$155=\"Profilo standard\",AG49,AF104)))","v":""},{"$f":"IF($C10=\"\",0,IF(AH153>'2 Descrizione Progetto'!$D$22,\"\",IF($D$155=\"Profilo standard\",AH49,AG104)))","v":""},{"$f":"IF($C10=\"\",0,IF(AI153>'2 Descrizione Progetto'!$D$22,\"\",IF($D$155=\"Profilo standard\",AI49,AH104)))","v":""},{"$f":"IF($C10=\"\",0,IF(AJ153>'2 Descrizione Progetto'!$D$22,\"\",IF($D$155=\"Profilo standard\",AJ49,AI104)))","v":""},{"$f":"IF($C10=\"\",0,IF(AK153>'2 Descrizione Progetto'!$D$22,\"\",IF($D$155=\"Profilo standard\",AK49,AJ104)))","v":""},{"$f":"IF($C10=\"\",0,IF(AL153>'2 Descrizione Progetto'!$D$22,\"\",IF($D$155=\"Profilo standard\",AL49,AK104)))","v":""},{"$f":"IF($C10=\"\",0,IF(AM153>'2 Descrizione Progetto'!$D$22,\"\",IF($D$155=\"Profilo standard\",AM49,AL104)))","v":""},{"$f":"IF($C10=\"\",0,IF(AN153>'2 Descrizione Progetto'!$D$22,\"\",IF($D$155=\"Profilo standard\",AN49,AM104)))","v":""},{"$f":"IF($C10=\"\",0,IF(AO153>'2 Descrizione Progetto'!$D$22,\"\",IF($D$155=\"Profilo standard\",AO49,AN104)))","v":""},{"$f":"IF($C10=\"\",0,IF(AP153>'2 Descrizione Progetto'!$D$22,\"\",IF($D$155=\"Profilo standard\",AP49,AO104)))","v":""},{"$f":"IF($C10=\"\",0,IF(AQ153>'2 Descrizione Progetto'!$D$22,\"\",IF($D$155=\"Profilo standard\",AQ49,AP104)))","v":""},{"$f":"IF($C10=\"\",0,IF(AR153>'2 Descrizione Progetto'!$D$22,\"\",IF($D$155=\"Profilo standard\",AR49,AQ104)))","v":""},{"$f":"IF($C10=\"\",0,IF(AS153>'2 Descrizione Progetto'!$D$22,\"\",IF($D$155=\"Profilo standard\",AS49,AR104)))","v":""},{"$f":"IF($C10=\"\",0,IF(AT153>'2 Descrizione Progetto'!$D$22,\"\",IF($D$155=\"Profilo standard\",AT49,AS104)))","v":""},{"$f":"IF($C10=\"\",0,IF(AU153>'2 Descrizione Progetto'!$D$22,\"\",IF($D$155=\"Profilo standard\",AU49,AT104)))","v":""},{"$f":"IF($C10=\"\",0,IF(AV153>'2 Descrizione Progetto'!$D$22,\"\",IF($D$155=\"Profilo standard\",AV49,AU104)))","v":""},{"$f":"IF($C10=\"\",0,IF(AW153>'2 Descrizione Progetto'!$D$22,\"\",IF($D$155=\"Profilo standard\",AW49,AV104)))","v":""},{"$f":"IF($C10=\"\",0,IF(AX153>'2 Descrizione Progetto'!$D$22,\"\",IF($D$155=\"Profilo standard\",AX49,AW104)))","v":""},{"$f":"IF($C10=\"\",0,IF(AY153>'2 Descrizione Progetto'!$D$22,\"\",IF($D$155=\"Profilo standard\",AY49,AX104)))","v":""},{"$f":"IF($C10=\"\",0,IF(AZ153>'2 Descrizione Progetto'!$D$22,\"\",IF($D$155=\"Profilo standard\",AZ49,AY104)))","v":""},{"$f":"IF($C10=\"\",0,IF(BA153>'2 Descrizione Progetto'!$D$22,\"\",IF($D$155=\"Profilo standard\",BA49,AZ104)))","v":""},{"$f":"IF($C10=\"\",0,IF(BB153>'2 Descrizione Progetto'!$D$22,\"\",IF($D$155=\"Profilo standard\",BB49,BA104)))","v":""},{"$f":"IF($C10=\"\",0,IF(BC153>'2 Descrizione Progetto'!$D$22,\"\",IF($D$155=\"Profilo standard\",BC49,BB104)))","v":""},{"$f":"IF($C10=\"\",0,IF(BD153>'2 Descrizione Progetto'!$D$22,\"\",IF($D$155=\"Profilo standard\",BD49,BC104)))","v":""},{"$f":"IF($C10=\"\",0,IF(BE153>'2 Descrizione Progetto'!$D$22,\"\",IF($D$155=\"Profilo standard\",BE49,BD104)))","v":""},{"$f":"IF($C10=\"\",0,IF(BF153>'2 Descrizione Progetto'!$D$22,\"\",IF($D$155=\"Profilo standard\",BF49,BE104)))","v":""},{"$f":"IF($C10=\"\",0,IF(BG153>'2 Descrizione Progetto'!$D$22,\"\",IF($D$155=\"Profilo standard\",BG49,BF104)))","v":""},{"$f":"IF($C10=\"\",0,IF(BH153>'2 Descrizione Progetto'!$D$22,\"\",IF($D$155=\"Profilo standard\",BH49,BG104)))","v":""},{"$f":"IF($C10=\"\",0,IF(BI153>'2 Descrizione Progetto'!$D$22,\"\",IF($D$155=\"Profilo standard\",BI49,BH104)))","v":""},{"$f":"IF($C10=\"\",0,IF(BJ153>'2 Descrizione Progetto'!$D$22,\"\",IF($D$155=\"Profilo standard\",BJ49,BI104)))","v":""},{"$f":"IF($C10=\"\",0,IF(BK153>'2 Descrizione Progetto'!$D$22,\"\",IF($D$155=\"Profilo standard\",BK49,BJ104)))","v":""},{"$f":"IF($C10=\"\",0,IF(BL153>'2 Descrizione Progetto'!$D$22,\"\",IF($D$155=\"Profilo standard\",BL49,BK104)))","v":""}]
[null,3,"Ricavi Bar","Profilo standard",{"$f":"IF($C11=\"\",0,IF(E153>'2 Descrizione Progetto'!$D$22,\"\",IF($D$156=\"Profilo standard\",E54,D109)))","v":24600},{"$f":"IF($C11=\"\",0,IF(F153>'2 Descrizione Progetto'!$D$22,\"\",IF($D$156=\"Profilo standard\",F54,E109)))","v":30090},{"$f":"IF($C11=\"\",0,IF(G153>'2 Descrizione Progetto'!$D$22,\"\",IF($D$156=\"Profilo standard\",G54,F109)))","v":38182.68},{"$f":"IF($C11=\"\",0,IF(H153>'2 Descrizione Progetto'!$D$22,\"\",IF($D$156=\"Profilo standard\",H54,G109)))","v":38946.333599999998},{"$f":"IF($C11=\"\",0,IF(I153>'2 Descrizione Progetto'!$D$22,\"\",IF($D$156=\"Profilo standard\",I54,H109)))","v":39725.260272},{"$f":"IF($C11=\"\",0,IF(J153>'2 Descrizione Progetto'!$D$22,\"\",IF($D$156=\"Profilo standard\",J54,I109)))","v":40519.76547744},{"$f":"IF($C11=\"\",0,IF(K153>'2 Descrizione Progetto'!$D$22,\"\",IF($D$156=\"Profilo standard\",K54,J109)))","v":41330.160786988803},{"$f":"IF($C11=\"\",0,IF(L153>'2 Descrizione Progetto'!$D$22,\"\",IF($D$156=\"Profilo standard\",L54,K109)))","v":42156.764002728574},{"$f":"IF($C11=\"\",0,IF(M153>'2 Descrizione Progetto'!$D$22,\"\",IF($D$156=\"Profilo standard\",M54,L109)))","v":42999.899282783153},{"$f":"IF($C11=\"\",0,IF(N153>'2 Descrizione Progetto'!$D$22,\"\",IF($D$156=\"Profilo standard\",N54,M109)))","v":43859.897268438814},{"$f":"IF($C11=\"\",0,IF(O153>'2 Descrizione Progetto'!$D$22,\"\",IF($D$156=\"Profilo standard\",O54,N109)))","v":""},{"$f":"IF($C11=\"\",0,IF(P153>'2 Descrizione Progetto'!$D$22,\"\",IF($D$156=\"Profilo standard\",P54,O109)))","v":""},{"$f":"IF($C11=\"\",0,IF(Q153>'2 Descrizione Progetto'!$D$22,\"\",IF($D$156=\"Profilo standard\",Q54,P109)))","v":""},{"$f":"IF($C11=\"\",0,IF(R153>'2 Descrizione Progetto'!$D$22,\"\",IF($D$156=\"Profilo standard\",R54,Q109)))","v":""},{"$f":"IF($C11=\"\",0,IF(S153>'2 Descrizione Progetto'!$D$22,\"\",IF($D$156=\"Profilo standard\",S54,R109)))","v":""},{"$f":"IF($C11=\"\",0,IF(T153>'2 Descrizione Progetto'!$D$22,\"\",IF($D$156=\"Profilo standard\",T54,S109)))","v":""},{"$f":"IF($C11=\"\",0,IF(U153>'2 Descrizione Progetto'!$D$22,\"\",IF($D$156=\"Profilo standard\",U54,T109)))","v":""},{"$f":"IF($C11=\"\",0,IF(V153>'2 Descrizione Progetto'!$D$22,\"\",IF($D$156=\"Profilo standard\",V54,U109)))","v":""},{"$f":"IF($C11=\"\",0,IF(W153>'2 Descrizione Progetto'!$D$22,\"\",IF($D$156=\"Profilo standard\",W54,V109)))","v":""},{"$f":"IF($C11=\"\",0,IF(X153>'2 Descrizione Progetto'!$D$22,\"\",IF($D$156=\"Profilo standard\",X54,W109)))","v":""},{"$f":"IF($C11=\"\",0,IF(Y153>'2 Descrizione Progetto'!$D$22,\"\",IF($D$156=\"Profilo standard\",Y54,X109)))","v":""},{"$f":"IF($C11=\"\",0,IF(Z153>'2 Descrizione Progetto'!$D$22,\"\",IF($D$156=\"Profilo standard\",Z54,Y109)))","v":""},{"$f":"IF($C11=\"\",0,IF(AA153>'2 Descrizione Progetto'!$D$22,\"\",IF($D$156=\"Profilo standard\",AA54,Z109)))","v":""},{"$f":"IF($C11=\"\",0,IF(AB153>'2 Descrizione Progetto'!$D$22,\"\",IF($D$156=\"Profilo standard\",AB54,AA109)))","v":""},{"$f":"IF($C11=\"\",0,IF(AC153>'2 Descrizione Progetto'!$D$22,\"\",IF($D$156=\"Profilo standard\",AC54,AB109)))","v":""},{"$f":"IF($C11=\"\",0,IF(AD153>'2 Descrizione Progetto'!$D$22,\"\",IF($D$156=\"Profilo standard\",AD54,AC109)))","v":""},{"$f":"IF($C11=\"\",0,IF(AE153>'2 Descrizione Progetto'!$D$22,\"\",IF($D$156=\"Profilo standard\",AE54,AD109)))","v":""},{"$f":"IF($C11=\"\",0,IF(AF153>'2 Descrizione Progetto'!$D$22,\"\",IF($D$156=\"Profilo standard\",AF54,AE109)))","v":""},{"$f":"IF($C11=\"\",0,IF(AG153>'2 Descrizione Progetto'!$D$22,\"\",IF($D$156=\"Profilo standard\",AG54,AF109)))","v":""},{"$f":"IF($C11=\"\",0,IF(AH153>'2 Descrizione Progetto'!$D$22,\"\",IF($D$156=\"Profilo standard\",AH54,AG109)))","v":""},{"$f":"IF($C11=\"\",0,IF(AI153>'2 Descrizione Progetto'!$D$22,\"\",IF($D$156=\"Profilo standard\",AI54,AH109)))","v":""},{"$f":"IF($C11=\"\",0,IF(AJ153>'2 Descrizione Progetto'!$D$22,\"\",IF($D$156=\"Profilo standard\",AJ54,AI109)))","v":""},{"$f":"IF($C11=\"\",0,IF(AK153>'2 Descrizione Progetto'!$D$22,\"\",IF($D$156=\"Profilo standard\",AK54,AJ109)))","v":""},{"$f":"IF($C11=\"\",0,IF(AL153>'2 Descrizione Progetto'!$D$22,\"\",IF($D$156=\"Profilo standard\",AL54,AK109)))","v":""},{"$f":"IF($C11=\"\",0,IF(AM153>'2 Descrizione Progetto'!$D$22,\"\",IF($D$156=\"Profilo standard\",AM54,AL109)))","v":""},{"$f":"IF($C11=\"\",0,IF(AN153>'2 Descrizione Progetto'!$D$22,\"\",IF($D$156=\"Profilo standard\",AN54,AM109)))","v":""},{"$f":"IF($C11=\"\",0,IF(AO153>'2 Descrizione Progetto'!$D$22,\"\",IF($D$156=\"Profilo standard\",AO54,AN109)))","v":""},{"$f":"IF($C11=\"\",0,IF(AP153>'2 Descrizione Progetto'!$D$22,\"\",IF($D$156=\"Profilo standard\",AP54,AO109)))","v":""},{"$f":"IF($C11=\"\",0,IF(AQ153>'2 Descrizione Progetto'!$D$22,\"\",IF($D$156=\"Profilo standard\",AQ54,AP109)))","v":""},{"$f":"IF($C11=\"\",0,IF(AR153>'2 Descrizione Progetto'!$D$22,\"\",IF($D$156=\"Profilo standard\",AR54,AQ109)))","v":""},{"$f":"IF($C11=\"\",0,IF(AS153>'2 Descrizione Progetto'!$D$22,\"\",IF($D$156=\"Profilo standard\",AS54,AR109)))","v":""},{"$f":"IF($C11=\"\",0,IF(AT153>'2 Descrizione Progetto'!$D$22,\"\",IF($D$156=\"Profilo standard\",AT54,AS109)))","v":""},{"$f":"IF($C11=\"\",0,IF(AU153>'2 Descrizione Progetto'!$D$22,\"\",IF($D$156=\"Profilo standard\",AU54,AT109)))","v":""},{"$f":"IF($C11=\"\",0,IF(AV153>'2 Descrizione Progetto'!$D$22,\"\",IF($D$156=\"Profilo standard\",AV54,AU109)))","v":""},{"$f":"IF($C11=\"\",0,IF(AW153>'2 Descrizione Progetto'!$D$22,\"\",IF($D$156=\"Profilo standard\",AW54,AV109)))","v":""},{"$f":"IF($C11=\"\",0,IF(AX153>'2 Descrizione Progetto'!$D$22,\"\",IF($D$156=\"Profilo standard\",AX54,AW109)))","v":""},{"$f":"IF($C11=\"\",0,IF(AY153>'2 Descrizione Progetto'!$D$22,\"\",IF($D$156=\"Profilo standard\",AY54,AX109)))","v":""},{"$f":"IF($C11=\"\",0,IF(AZ153>'2 Descrizione Progetto'!$D$22,\"\",IF($D$156=\"Profilo standard\",AZ54,AY109)))","v":""},{"$f":"IF($C11=\"\",0,IF(BA153>'2 Descrizione Progetto'!$D$22,\"\",IF($D$156=\"Profilo standard\",BA54,AZ109)))","v":""},{"$f":"IF($C11=\"\",0,IF(BB153>'2 Descrizione Progetto'!$D$22,\"\",IF($D$156=\"Profilo standard\",BB54,BA109)))","v":""},{"$f":"IF($C11=\"\",0,IF(BC153>'2 Descrizione Progetto'!$D$22,\"\",IF($D$156=\"Profilo standard\",BC54,BB109)))","v":""},{"$f":"IF($C11=\"\",0,IF(BD153>'2 Descrizione Progetto'!$D$22,\"\",IF($D$156=\"Profilo standard\",BD54,BC109)))","v":""},{"$f":"IF($C11=\"\",0,IF(BE153>'2 Descrizione Progetto'!$D$22,\"\",IF($D$156=\"Profilo standard\",BE54,BD109)))","v":""},{"$f":"IF($C11=\"\",0,IF(BF153>'2 Descrizione Progetto'!$D$22,\"\",IF($D$156=\"Profilo standard\",BF54,BE109)))","v":""},{"$f":"IF($C11=\"\",0,IF(BG153>'2 Descrizione Progetto'!$D$22,\"\",IF($D$156=\"Profilo standard\",BG54,BF109)))","v":""},{"$f":"IF($C11=\"\",0,IF(BH153>'2 Descrizione Progetto'!$D$22,\"\",IF($D$156=\"Profilo standard\",BH54,BG109)))","v":""},{"$f":"IF($C11=\"\",0,IF(BI153>'2 Descrizione Progetto'!$D$22,\"\",IF($D$156=\"Profilo standard\",BI54,BH109)))","v":""},{"$f":"IF($C11=\"\",0,IF(BJ153>'2 Descrizione Progetto'!$D$22,\"\",IF($D$156=\"Profilo standard\",BJ54,BI109)))","v":""},{"$f":"IF($C11=\"\",0,IF(BK153>'2 Descrizione Progetto'!$D$22,\"\",IF($D$156=\"Profilo standard\",BK54,BJ109)))","v":""},{"$f":"IF($C11=\"\",0,IF(BL153>'2 Descrizione Progetto'!$D$22,\"\",IF($D$156=\"Profilo standard\",BL54,BK109)))","v":""}]
[null,4,"Proventi diversi/pubblicità","Profilo standard",{"$f":"IF($C12=\"\",0,IF(E153>'2 Descrizione Progetto'!$D$22,\"\",IF($D$157=\"Profilo standard\",E59,D114)))","v":0},{"$f":"IF($C12=\"\",0,IF(F153>'2 Descrizione Progetto'!$D$22,\"\",IF($D$157=\"Profilo standard\",F59,E114)))","v":2550},{"$f":"IF($C12=\"\",0,IF(G153>'2 Descrizione Progetto'!$D$22,\"\",IF($D$157=\"Profilo standard\",G59,F114)))","v":2601},{"$f":"IF($C12=\"\",0,IF(H153>'2 Descrizione Progetto'!$D$22,\"\",IF($D$157=\"Profilo standard\",H59,G114)))","v":2653.02},{"$f":"IF($C12=\"\",0,IF(I153>'2 Descrizione Progetto'!$D$22,\"\",IF($D$157=\"Profilo standard\",I59,H114)))","v":2706.0803999999998},{"$f":"IF($C12=\"\",0,IF(J153>'2 Descrizione Progetto'!$D$22,\"\",IF($D$157=\"Profilo standard\",J59,I114)))","v":2760.2020080000002},{"$f":"IF($C12=\"\",0,IF(K153>'2 Descrizione Progetto'!$D$22,\"\",IF($D$157=\"Profilo standard\",K59,J114)))","v":2815.40604816},{"$f":"IF($C12=\"\",0,IF(L153>'2 Descrizione Progetto'!$D$22,\"\",IF($D$157=\"Profilo standard\",L59,K114)))","v":2871.7141691232},{"$f":"IF($C12=\"\",0,IF(M153>'2 Descrizione Progetto'!$D$22,\"\",IF($D$157=\"Profilo standard\",M59,L114)))","v":2929.1484525056644},{"$f":"IF($C12=\"\",0,IF(N153>'2 Descrizione Progetto'!$D$22,\"\",IF($D$157=\"Profilo standard\",N59,M114)))","v":2987.7314215557776},{"$f":"IF($C12=\"\",0,IF(O153>'2 Descrizione Progetto'!$D$22,\"\",IF($D$157=\"Profilo standard\",O59,N114)))","v":""},{"$f":"IF($C12=\"\",0,IF(P153>'2 Descrizione Progetto'!$D$22,\"\",IF($D$157=\"Profilo standard\",P59,O114)))","v":""},{"$f":"IF($C12=\"\",0,IF(Q153>'2 Descrizione Progetto'!$D$22,\"\",IF($D$157=\"Profilo standard\",Q59,P114)))","v":""},{"$f":"IF($C12=\"\",0,IF(R153>'2 Descrizione Progetto'!$D$22,\"\",IF($D$157=\"Profilo standard\",R59,Q114)))","v":""},{"$f":"IF($C12=\"\",0,IF(S153>'2 Descrizione Progetto'!$D$22,\"\",IF($D$157=\"Profilo standard\",S59,R114)))","v":""},{"$f":"IF($C12=\"\",0,IF(T153>'2 Descrizione Progetto'!$D$22,\"\",IF($D$157=\"Profilo standard\",T59,S114)))","v":""},{"$f":"IF($C12=\"\",0,IF(U153>'2 Descrizione Progetto'!$D$22,\"\",IF($D$157=\"Profilo standard\",U59,T114)))","v":""},{"$f":"IF($C12=\"\",0,IF(V153>'2 Descrizione Progetto'!$D$22,\"\",IF($D$157=\"Profilo standard\",V59,U114)))","v":""},{"$f":"IF($C12=\"\",0,IF(W153>'2 Descrizione Progetto'!$D$22,\"\",IF($D$157=\"Profilo standard\",W59,V114)))","v":""},{"$f":"IF($C12=\"\",0,IF(X153>'2 Descrizione Progetto'!$D$22,\"\",IF($D$157=\"Profilo standard\",X59,W114)))","v":""},{"$f":"IF($C12=\"\",0,IF(Y153>'2 Descrizione Progetto'!$D$22,\"\",IF($D$157=\"Profilo standard\",Y59,X114)))","v":""},{"$f":"IF($C12=\"\",0,IF(Z153>'2 Descrizione Progetto'!$D$22,\"\",IF($D$157=\"Profilo standard\",Z59,Y114)))","v":""},{"$f":"IF($C12=\"\",0,IF(AA153>'2 Descrizione Progetto'!$D$22,\"\",IF($D$157=\"Profilo standard\",AA59,Z114)))","v":""},{"$f":"IF($C12=\"\",0,IF(AB153>'2 Descrizione Progetto'!$D$22,\"\",IF($D$157=\"Profilo standard\",AB59,AA114)))","v":""},{"$f":"IF($C12=\"\",0,IF(AC153>'2 Descrizione Progetto'!$D$22,\"\",IF($D$157=\"Profilo standard\",AC59,AB114)))","v":""},{"$f":"IF($C12=\"\",0,IF(AD153>'2 Descrizione Progetto'!$D$22,\"\",IF($D$157=\"Profilo standard\",AD59,AC114)))","v":""},{"$f":"IF($C12=\"\",0,IF(AE153>'2 Descrizione Progetto'!$D$22,\"\",IF($D$157=\"Profilo standard\",AE59,AD114)))","v":""},{"$f":"IF($C12=\"\",0,IF(AF153>'2 Descrizione Progetto'!$D$22,\"\",IF($D$157=\"Profilo standard\",AF59,AE114)))","v":""},{"$f":"IF($C12=\"\",0,IF(AG153>'2 Descrizione Progetto'!$D$22,\"\",IF($D$157=\"Profilo standard\",AG59,AF114)))","v":""},{"$f":"IF($C12=\"\",0,IF(AH153>'2 Descrizione Progetto'!$D$22,\"\",IF($D$157=\"Profilo standard\",AH59,AG114)))","v":""},{"$f":"IF($C12=\"\",0,IF(AI153>'2 Descrizione Progetto'!$D$22,\"\",IF($D$157=\"Profilo standard\",AI59,AH114)))","v":""},{"$f":"IF($C12=\"\",0,IF(AJ153>'2 Descrizione Progetto'!$D$22,\"\",IF($D$157=\"Profilo standard\",AJ59,AI114)))","v":""},{"$f":"IF($C12=\"\",0,IF(AK153>'2 Descrizione Progetto'!$D$22,\"\",IF($D$157=\"Profilo standard\",AK59,AJ114)))","v":""},{"$f":"IF($C12=\"\",0,IF(AL153>'2 Descrizione Progetto'!$D$22,\"\",IF($D$157=\"Profilo standard\",AL59,AK114)))","v":""},{"$f":"IF($C12=\"\",0,IF(AM153>'2 Descrizione Progetto'!$D$22,\"\",IF($D$157=\"Profilo standard\",AM59,AL114)))","v":""},{"$f":"IF($C12=\"\",0,IF(AN153>'2 Descrizione Progetto'!$D$22,\"\",IF($D$157=\"Profilo standard\",AN59,AM114)))","v":""},{"$f":"IF($C12=\"\",0,IF(AO153>'2 Descrizione Progetto'!$D$22,\"\",IF($D$157=\"Profilo standard\",AO59,AN114)))","v":""},{"$f":"IF($C12=\"\",0,IF(AP153>'2 Descrizione Progetto'!$D$22,\"\",IF($D$157=\"Profilo standard\",AP59,AO114)))","v":""},{"$f":"IF($C12=\"\",0,IF(AQ153>'2 Descrizione Progetto'!$D$22,\"\",IF($D$157=\"Profilo standard\",AQ59,AP114)))","v":""},{"$f":"IF($C12=\"\",0,IF(AR153>'2 Descrizione Progetto'!$D$22,\"\",IF($D$157=\"Profilo standard\",AR59,AQ114)))","v":""},{"$f":"IF($C12=\"\",0,IF(AS153>'2 Descrizione Progetto'!$D$22,\"\",IF($D$157=\"Profilo standard\",AS59,AR114)))","v":""},{"$f":"IF($C12=\"\",0,IF(AT153>'2 Descrizione Progetto'!$D$22,\"\",IF($D$157=\"Profilo standard\",AT59,AS114)))","v":""},{"$f":"IF($C12=\"\",0,IF(AU153>'2 Descrizione Progetto'!$D$22,\"\",IF($D$157=\"Profilo standard\",AU59,AT114)))","v":""},{"$f":"IF($C12=\"\",0,IF(AV153>'2 Descrizione Progetto'!$D$22,\"\",IF($D$157=\"Profilo standard\",AV59,AU114)))","v":""},{"$f":"IF($C12=\"\",0,IF(AW153>'2 Descrizione Progetto'!$D$22,\"\",IF($D$157=\"Profilo standard\",AW59,AV114)))","v":""},{"$f":"IF($C12=\"\",0,IF(AX153>'2 Descrizione Progetto'!$D$22,\"\",IF($D$157=\"Profilo standard\",AX59,AW114)))","v":""},{"$f":"IF($C12=\"\",0,IF(AY153>'2 Descrizione Progetto'!$D$22,\"\",IF($D$157=\"Profilo standard\",AY59,AX114)))","v":""},{"$f":"IF($C12=\"\",0,IF(AZ153>'2 Descrizione Progetto'!$D$22,\"\",IF($D$157=\"Profilo standard\",AZ59,AY114)))","v":""},{"$f":"IF($C12=\"\",0,IF(BA153>'2 Descrizione Progetto'!$D$22,\"\",IF($D$157=\"Profilo standard\",BA59,AZ114)))","v":""},{"$f":"IF($C12=\"\",0,IF(BB153>'2 Descrizione Progetto'!$D$22,\"\",IF($D$157=\"Profilo standard\",BB59,BA114)))","v":""},{"$f":"IF($C12=\"\",0,IF(BC153>'2 Descrizione Progetto'!$D$22,\"\",IF($D$157=\"Profilo standard\",BC59,BB114)))","v":""},{"$f":"IF($C12=\"\",0,IF(BD153>'2 Descrizione Progetto'!$D$22,\"\",IF($D$157=\"Profilo standard\",BD59,BC114)))","v":""},{"$f":"IF($C12=\"\",0,IF(BE153>'2 Descrizione Progetto'!$D$22,\"\",IF($D$157=\"Profilo standard\",BE59,BD114)))","v":""},{"$f":"IF($C12=\"\",0,IF(BF153>'2 Descrizione Progetto'!$D$22,\"\",IF($D$157=\"Profilo standard\",BF59,BE114)))","v":""},{"$f":"IF($C12=\"\",0,IF(BG153>'2 Descrizione Progetto'!$D$22,\"\",IF($D$157=\"Profilo standard\",BG59,BF114)))","v":""},{"$f":"IF($C12=\"\",0,IF(BH153>'2 Descrizione Progetto'!$D$22,\"\",IF($D$157=\"Profilo standard\",BH59,BG114)))","v":""},{"$f":"IF($C12=\"\",0,IF(BI153>'2 Descrizione Progetto'!$D$22,\"\",IF($D$157=\"Profilo standard\",BI59,BH114)))","v":""},{"$f":"IF($C12=\"\",0,IF(BJ153>'2 Descrizione Progetto'!$D$22,\"\",IF($D$157=\"Profilo standard\",BJ59,BI114)))","v":""},{"$f":"IF($C12=\"\",0,IF(BK153>'2 Descrizione Progetto'!$D$22,\"\",IF($D$157=\"Profilo standard\",BK59,BJ114)))","v":""},{"$f":"IF($C12=\"\",0,IF(BL153>'2 Descrizione Progetto'!$D$22,\"\",IF($D$157=\"Profilo standard\",BL59,BK114)))","v":""}]
[null,5,"b","Profilo standard",{"$f":"IF($C13=\"\",0,IF(E153>'2 Descrizione Progetto'!$D$22,\"\",IF($D$158=\"Profilo standard\",E64,D119)))","v":0},{"$f":"IF($C13=\"\",0,IF(F153>'2 Descrizione Progetto'!$D$22,\"\",IF($D$158=\"Profilo standard\",F64,E119)))","v":0},{"$f":"IF($C13=\"\",0,IF(G153>'2 Descrizione Progetto'!$D$22,\"\",IF($D$158=\"Profilo standard\",G64,F119)))","v":0},{"$f":"IF($C13=\"\",0,IF(H153>'2 Descrizione Progetto'!$D$22,\"\",IF($D$158=\"Profilo standard\",H64,G119)))","v":0},{"$f":"IF($C13=\"\",0,IF(I153>'2 Descrizione Progetto'!$D$22,\"\",IF($D$158=\"Profilo standard\",I64,H119)))","v":0},{"$f":"IF($C13=\"\",0,IF(J153>'2 Descrizione Progetto'!$D$22,\"\",IF($D$158=\"Profilo standard\",J64,I119)))","v":0},{"$f":"IF($C13=\"\",0,IF(K153>'2 Descrizione Progetto'!$D$22,\"\",IF($D$158=\"Profilo standard\",K64,J119)))","v":0},{"$f":"IF($C13=\"\",0,IF(L153>'2 Descrizione Progetto'!$D$22,\"\",IF($D$158=\"Profilo standard\",L64,K119)))","v":0},{"$f":"IF($C13=\"\",0,IF(M153>'2 Descrizione Progetto'!$D$22,\"\",IF($D$158=\"Profilo standard\",M64,L119)))","v":0},{"$f":"IF($C13=\"\",0,IF(N153>'2 Descrizione Progetto'!$D$22,\"\",IF($D$158=\"Profilo standard\",N64,M119)))","v":0},{"$f":"IF($C13=\"\",0,IF(O153>'2 Descrizione Progetto'!$D$22,\"\",IF($D$158=\"Profilo standard\",O64,N119)))","v":""},{"$f":"IF($C13=\"\",0,IF(P153>'2 Descrizione Progetto'!$D$22,\"\",IF($D$158=\"Profilo standard\",P64,O119)))","v":""},{"$f":"IF($C13=\"\",0,IF(Q153>'2 Descrizione Progetto'!$D$22,\"\",IF($D$158=\"Profilo standard\",Q64,P119)))","v":""},{"$f":"IF($C13=\"\",0,IF(R153>'2 Descrizione Progetto'!$D$22,\"\",IF($D$158=\"Profilo standard\",R64,Q119)))","v":""},{"$f":"IF($C13=\"\",0,IF(S153>'2 Descrizione Progetto'!$D$22,\"\",IF($D$158=\"Profilo standard\",S64,R119)))","v":""},{"$f":"IF($C13=\"\",0,IF(T153>'2 Descrizione Progetto'!$D$22,\"\",IF($D$158=\"Profilo standard\",T64,S119)))","v":""},{"$f":"IF($C13=\"\",0,IF(U153>'2 Descrizione Progetto'!$D$22,\"\",IF($D$158=\"Profilo standard\",U64,T119)))","v":""},{"$f":"IF($C13=\"\",0,IF(V153>'2 Descrizione Progetto'!$D$22,\"\",IF($D$158=\"Profilo standard\",V64,U119)))","v":""},{"$f":"IF($C13=\"\",0,IF(W153>'2 Descrizione Progetto'!$D$22,\"\",IF($D$158=\"Profilo standard\",W64,V119)))","v":""},{"$f":"IF($C13=\"\",0,IF(X153>'2 Descrizione Progetto'!$D$22,\"\",IF($D$158=\"Profilo standard\",X64,W119)))","v":""},{"$f":"IF($C13=\"\",0,IF(Y153>'2 Descrizione Progetto'!$D$22,\"\",IF($D$158=\"Profilo standard\",Y64,X119)))","v":""},{"$f":"IF($C13=\"\",0,IF(Z153>'2 Descrizione Progetto'!$D$22,\"\",IF($D$158=\"Profilo standard\",Z64,Y119)))","v":""},{"$f":"IF($C13=\"\",0,IF(AA153>'2 Descrizione Progetto'!$D$22,\"\",IF($D$158=\"Profilo standard\",AA64,Z119)))","v":""},{"$f":"IF($C13=\"\",0,IF(AB153>'2 Descrizione Progetto'!$D$22,\"\",IF($D$158=\"Profilo standard\",AB64,AA119)))","v":""},{"$f":"IF($C13=\"\",0,IF(AC153>'2 Descrizione Progetto'!$D$22,\"\",IF($D$158=\"Profilo standard\",AC64,AB119)))","v":""},{"$f":"IF($C13=\"\",0,IF(AD153>'2 Descrizione Progetto'!$D$22,\"\",IF($D$158=\"Profilo standard\",AD64,AC119)))","v":""},{"$f":"IF($C13=\"\",0,IF(AE153>'2 Descrizione Progetto'!$D$22,\"\",IF($D$158=\"Profilo standard\",AE64,AD119)))","v":""},{"$f":"IF($C13=\"\",0,IF(AF153>'2 Descrizione Progetto'!$D$22,\"\",IF($D$158=\"Profilo standard\",AF64,AE119)))","v":""},{"$f":"IF($C13=\"\",0,IF(AG153>'2 Descrizione Progetto'!$D$22,\"\",IF($D$158=\"Profilo standard\",AG64,AF119)))","v":""},{"$f":"IF($C13=\"\",0,IF(AH153>'2 Descrizione Progetto'!$D$22,\"\",IF($D$158=\"Profilo standard\",AH64,AG119)))","v":""},{"$f":"IF($C13=\"\",0,IF(AI153>'2 Descrizione Progetto'!$D$22,\"\",IF($D$158=\"Profilo standard\",AI64,AH119)))","v":""},{"$f":"IF($C13=\"\",0,IF(AJ153>'2 Descrizione Progetto'!$D$22,\"\",IF($D$158=\"Profilo standard\",AJ64,AI119)))","v":""},{"$f":"IF($C13=\"\",0,IF(AK153>'2 Descrizione Progetto'!$D$22,\"\",IF($D$158=\"Profilo standard\",AK64,AJ119)))","v":""},{"$f":"IF($C13=\"\",0,IF(AL153>'2 Descrizione Progetto'!$D$22,\"\",IF($D$158=\"Profilo standard\",AL64,AK119)))","v":""},{"$f":"IF($C13=\"\",0,IF(AM153>'2 Descrizione Progetto'!$D$22,\"\",IF($D$158=\"Profilo standard\",AM64,AL119)))","v":""},{"$f":"IF($C13=\"\",0,IF(AN153>'2 Descrizione Progetto'!$D$22,\"\",IF($D$158=\"Profilo standard\",AN64,AM119)))","v":""},{"$f":"IF($C13=\"\",0,IF(AO153>'2 Descrizione Progetto'!$D$22,\"\",IF($D$158=\"Profilo standard\",AO64,AN119)))","v":""},{"$f":"IF($C13=\"\",0,IF(AP153>'2 Descrizione Progetto'!$D$22,\"\",IF($D$158=\"Profilo standard\",AP64,AO119)))","v":""},{"$f":"IF($C13=\"\",0,IF(AQ153>'2 Descrizione Progetto'!$D$22,\"\",IF($D$158=\"Profilo standard\",AQ64,AP119)))","v":""},{"$f":"IF($C13=\"\",0,IF(AR153>'2 Descrizione Progetto'!$D$22,\"\",IF($D$158=\"Profilo standard\",AR64,AQ119)))","v":""},{"$f":"IF($C13=\"\",0,IF(AS153>'2 Descrizione Progetto'!$D$22,\"\",IF($D$158=\"Profilo standard\",AS64,AR119)))","v":""},{"$f":"IF($C13=\"\",0,IF(AT153>'2 Descrizione Progetto'!$D$22,\"\",IF($D$158=\"Profilo standard\",AT64,AS119)))","v":""},{"$f":"IF($C13=\"\",0,IF(AU153>'2 Descrizione Progetto'!$D$22,\"\",IF($D$158=\"Profilo standard\",AU64,AT119)))","v":""},{"$f":"IF($C13=\"\",0,IF(AV153>'2 Descrizione Progetto'!$D$22,\"\",IF($D$158=\"Profilo standard\",AV64,AU119)))","v":""},{"$f":"IF($C13=\"\",0,IF(AW153>'2 Descrizione Progetto'!$D$22,\"\",IF($D$158=\"Profilo standard\",AW64,AV119)))","v":""},{"$f":"IF($C13=\"\",0,IF(AX153>'2 Descrizione Progetto'!$D$22,\"\",IF($D$158=\"Profilo standard\",AX64,AW119)))","v":""},{"$f":"IF($C13=\"\",0,IF(AY153>'2 Descrizione Progetto'!$D$22,\"\",IF($D$158=\"Profilo standard\",AY64,AX119)))","v":""},{"$f":"IF($C13=\"\",0,IF(AZ153>'2 Descrizione Progetto'!$D$22,\"\",IF($D$158=\"Profilo standard\",AZ64,AY119)))","v":""},{"$f":"IF($C13=\"\",0,IF(BA153>'2 Descrizione Progetto'!$D$22,\"\",IF($D$158=\"Profilo standard\",BA64,AZ119)))","v":""},{"$f":"IF($C13=\"\",0,IF(BB153>'2 Descrizione Progetto'!$D$22,\"\",IF($D$158=\"Profilo standard\",BB64,BA119)))","v":""},{"$f":"IF($C13=\"\",0,IF(BC153>'2 Descrizione Progetto'!$D$22,\"\",IF($D$158=\"Profilo standard\",BC64,BB119)))","v":""},{"$f":"IF($C13=\"\",0,IF(BD153>'2 Descrizione Progetto'!$D$22,\"\",IF($D$158=\"Profilo standard\",BD64,BC119)))","v":""},{"$f":"IF($C13=\"\",0,IF(BE153>'2 Descrizione Progetto'!$D$22,\"\",IF($D$158=\"Profilo standard\",BE64,BD119)))","v":""},{"$f":"IF($C13=\"\",0,IF(BF153>'2 Descrizione Progetto'!$D$22,\"\",IF($D$158=\"Profilo standard\",BF64,BE119)))","v":""},{"$f":"IF($C13=\"\",0,IF(BG153>'2 Descrizione Progetto'!$D$22,\"\",IF($D$158=\"Profilo standard\",BG64,BF119)))","v":""},{"$f":"IF($C13=\"\",0,IF(BH153>'2 Descrizione Progetto'!$D$22,\"\",IF($D$158=\"Profilo standard\",BH64,BG119)))","v":""},{"$f":"IF($C13=\"\",0,IF(BI153>'2 Descrizione Progetto'!$D$22,\"\",IF($D$158=\"Profilo standard\",BI64,BH119)))","v":""},{"$f":"IF($C13=\"\",0,IF(BJ153>'2 Descrizione Progetto'!$D$22,\"\",IF($D$158=\"Profilo standard\",BJ64,BI119)))","v":""},{"$f":"IF($C13=\"\",0,IF(BK153>'2 Descrizione Progetto'!$D$22,\"\",IF($D$158=\"Profilo standard\",BK64,BJ119)))","v":""},{"$f":"IF($C13=\"\",0,IF(BL153>'2 Descrizione Progetto'!$D$22,\"\",IF($D$158=\"Profilo standard\",BL64,BK119)))","v":""}]
[null,6,"c","Profilo standard",{"$f":"IF($C14=\"\",0,IF(E153>'2 Descrizione Progetto'!$D$22,\"\",IF($D$159=\"Profilo standard\",E69,D124)))","v":0},{"$f":"IF($C14=\"\",0,IF(F153>'2 Descrizione Progetto'!$D$22,\"\",IF($D$159=\"Profilo standard\",F69,E124)))","v":0},{"$f":"IF($C14=\"\",0,IF(G153>'2 Descrizione Progetto'!$D$22,\"\",IF($D$159=\"Profilo standard\",G69,F124)))","v":0},{"$f":"IF($C14=\"\",0,IF(H153>'2 Descrizione Progetto'!$D$22,\"\",IF($D$159=\"Profilo standard\",H69,G124)))","v":0},{"$f":"IF($C14=\"\",0,IF(I153>'2 Descrizione Progetto'!$D$22,\"\",IF($D$159=\"Profilo standard\",I69,H124)))","v":0},{"$f":"IF($C14=\"\",0,IF(J153>'2 Descrizione Progetto'!$D$22,\"\",IF($D$159=\"Profilo standard\",J69,I124)))","v":0},{"$f":"IF($C14=\"\",0,IF(K153>'2 Descrizione Progetto'!$D$22,\"\",IF($D$159=\"Profilo standard\",K69,J124)))","v":0},{"$f":"IF($C14=\"\",0,IF(L153>'2 Descrizione Progetto'!$D$22,\"\",IF($D$159=\"Profilo standard\",L69,K124)))","v":0},{"$f":"IF($C14=\"\",0,IF(M153>'2 Descrizione Progetto'!$D$22,\"\",IF($D$159=\"Profilo standard\",M69,L124)))","v":0},{"$f":"IF($C14=\"\",0,IF(N153>'2 Descrizione Progetto'!$D$22,\"\",IF($D$159=\"Profilo standard\",N69,M124)))","v":0},{"$f":"IF($C14=\"\",0,IF(O153>'2 Descrizione Progetto'!$D$22,\"\",IF($D$159=\"Profilo standard\",O69,N124)))","v":""},{"$f":"IF($C14=\"\",0,IF(P153>'2 Descrizione Progetto'!$D$22,\"\",IF($D$159=\"Profilo standard\",P69,O124)))","v":""},{"$f":"IF($C14=\"\",0,IF(Q153>'2 Descrizione Progetto'!$D$22,\"\",IF($D$159=\"Profilo standard\",Q69,P124)))","v":""},{"$f":"IF($C14=\"\",0,IF(R153>'2 Descrizione Progetto'!$D$22,\"\",IF($D$159=\"Profilo standard\",R69,Q124)))","v":""},{"$f":"IF($C14=\"\",0,IF(S153>'2 Descrizione Progetto'!$D$22,\"\",IF($D$159=\"Profilo standard\",S69,R124)))","v":""},{"$f":"IF($C14=\"\",0,IF(T153>'2 Descrizione Progetto'!$D$22,\"\",IF($D$159=\"Profilo standard\",T69,S124)))","v":""},{"$f":"IF($C14=\"\",0,IF(U153>'2 Descrizione Progetto'!$D$22,\"\",IF($D$159=\"Profilo standard\",U69,T124)))","v":""},{"$f":"IF($C14=\"\",0,IF(V153>'2 Descrizione Progetto'!$D$22,\"\",IF($D$159=\"Profilo standard\",V69,U124)))","v":""},{"$f":"IF($C14=\"\",0,IF(W153>'2 Descrizione Progetto'!$D$22,\"\",IF($D$159=\"Profilo standard\",W69,V124)))","v":""},{"$f":"IF($C14=\"\",0,IF(X153>'2 Descrizione Progetto'!$D$22,\"\",IF($D$159=\"Profilo standard\",X69,W124)))","v":""},{"$f":"IF($C14=\"\",0,IF(Y153>'2 Descrizione Progetto'!$D$22,\"\",IF($D$159=\"Profilo standard\",Y69,X124)))","v":""},{"$f":"IF($C14=\"\",0,IF(Z153>'2 Descrizione Progetto'!$D$22,\"\",IF($D$159=\"Profilo standard\",Z69,Y124)))","v":""},{"$f":"IF($C14=\"\",0,IF(AA153>'2 Descrizione Progetto'!$D$22,\"\",IF($D$159=\"Profilo standard\",AA69,Z124)))","v":""},{"$f":"IF($C14=\"\",0,IF(AB153>'2 Descrizione Progetto'!$D$22,\"\",IF($D$159=\"Profilo standard\",AB69,AA124)))","v":""},{"$f":"IF($C14=\"\",0,IF(AC153>'2 Descrizione Progetto'!$D$22,\"\",IF($D$159=\"Profilo standard\",AC69,AB124)))","v":""},{"$f":"IF($C14=\"\",0,IF(AD153>'2 Descrizione Progetto'!$D$22,\"\",IF($D$159=\"Profilo standard\",AD69,AC124)))","v":""},{"$f":"IF($C14=\"\",0,IF(AE153>'2 Descrizione Progetto'!$D$22,\"\",IF($D$159=\"Profilo standard\",AE69,AD124)))","v":""},{"$f":"IF($C14=\"\",0,IF(AF153>'2 Descrizione Progetto'!$D$22,\"\",IF($D$159=\"Profilo standard\",AF69,AE124)))","v":""},{"$f":"IF($C14=\"\",0,IF(AG153>'2 Descrizione Progetto'!$D$22,\"\",IF($D$159=\"Profilo standard\",AG69,AF124)))","v":""},{"$f":"IF($C14=\"\",0,IF(AH153>'2 Descrizione Progetto'!$D$22,\"\",IF($D$159=\"Profilo standard\",AH69,AG124)))","v":""},{"$f":"IF($C14=\"\",0,IF(AI153>'2 Descrizione Progetto'!$D$22,\"\",IF($D$159=\"Profilo standard\",AI69,AH124)))","v":""},{"$f":"IF($C14=\"\",0,IF(AJ153>'2 Descrizione Progetto'!$D$22,\"\",IF($D$159=\"Profilo standard\",AJ69,AI124)))","v":""},{"$f":"IF($C14=\"\",0,IF(AK153>'2 Descrizione Progetto'!$D$22,\"\",IF($D$159=\"Profilo standard\",AK69,AJ124)))","v":""},{"$f":"IF($C14=\"\",0,IF(AL153>'2 Descrizione Progetto'!$D$22,\"\",IF($D$159=\"Profilo standard\",AL69,AK124)))","v":""},{"$f":"IF($C14=\"\",0,IF(AM153>'2 Descrizione Progetto'!$D$22,\"\",IF($D$159=\"Profilo standard\",AM69,AL124)))","v":""},{"$f":"IF($C14=\"\",0,IF(AN153>'2 Descrizione Progetto'!$D$22,\"\",IF($D$159=\"Profilo standard\",AN69,AM124)))","v":""},{"$f":"IF($C14=\"\",0,IF(AO153>'2 Descrizione Progetto'!$D$22,\"\",IF($D$159=\"Profilo standard\",AO69,AN124)))","v":""},{"$f":"IF($C14=\"\",0,IF(AP153>'2 Descrizione Progetto'!$D$22,\"\",IF($D$159=\"Profilo standard\",AP69,AO124)))","v":""},{"$f":"IF($C14=\"\",0,IF(AQ153>'2 Descrizione Progetto'!$D$22,\"\",IF($D$159=\"Profilo standard\",AQ69,AP124)))","v":""},{"$f":"IF($C14=\"\",0,IF(AR153>'2 Descrizione Progetto'!$D$22,\"\",IF($D$159=\"Profilo standard\",AR69,AQ124)))","v":""},{"$f":"IF($C14=\"\",0,IF(AS153>'2 Descrizione Progetto'!$D$22,\"\",IF($D$159=\"Profilo standard\",AS69,AR124)))","v":""},{"$f":"IF($C14=\"\",0,IF(AT153>'2 Descrizione Progetto'!$D$22,\"\",IF($D$159=\"Profilo standard\",AT69,AS124)))","v":""},{"$f":"IF($C14=\"\",0,IF(AU153>'2 Descrizione Progetto'!$D$22,\"\",IF($D$159=\"Profilo standard\",AU69,AT124)))","v":""},{"$f":"IF($C14=\"\",0,IF(AV153>'2 Descrizione Progetto'!$D$22,\"\",IF($D$159=\"Profilo standard\",AV69,AU124)))","v":""},{"$f":"IF($C14=\"\",0,IF(AW153>'2 Descrizione Progetto'!$D$22,\"\",IF($D$159=\"Profilo standard\",AW69,AV124)))","v":""},{"$f":"IF($C14=\"\",0,IF(AX153>'2 Descrizione Progetto'!$D$22,\"\",IF($D$159=\"Profilo standard\",AX69,AW124)))","v":""},{"$f":"IF($C14=\"\",0,IF(AY153>'2 Descrizione Progetto'!$D$22,\"\",IF($D$159=\"Profilo standard\",AY69,AX124)))","v":""},{"$f":"IF($C14=\"\",0,IF(AZ153>'2 Descrizione Progetto'!$D$22,\"\",IF($D$159=\"Profilo standard\",AZ69,AY124)))","v":""},{"$f":"IF($C14=\"\",0,IF(BA153>'2 Descrizione Progetto'!$D$22,\"\",IF($D$159=\"Profilo standard\",BA69,AZ124)))","v":""},{"$f":"IF($C14=\"\",0,IF(BB153>'2 Descrizione Progetto'!$D$22,\"\",IF($D$159=\"Profilo standard\",BB69,BA124)))","v":""},{"$f":"IF($C14=\"\",0,IF(BC153>'2 Descrizione Progetto'!$D$22,\"\",IF($D$159=\"Profilo standard\",BC69,BB124)))","v":""},{"$f":"IF($C14=\"\",0,IF(BD153>'2 Descrizione Progetto'!$D$22,\"\",IF($D$159=\"Profilo standard\",BD69,BC124)))","v":""},{"$f":"IF($C14=\"\",0,IF(BE153>'2 Descrizione Progetto'!$D$22,\"\",IF($D$159=\"Profilo standard\",BE69,BD124)))","v":""},{"$f":"IF($C14=\"\",0,IF(BF153>'2 Descrizione Progetto'!$D$22,\"\",IF($D$159=\"Profilo standard\",BF69,BE124)))","v":""},{"$f":"IF($C14=\"\",0,IF(BG153>'2 Descrizione Progetto'!$D$22,\"\",IF($D$159=\"Profilo standard\",BG69,BF124)))","v":""},{"$f":"IF($C14=\"\",0,IF(BH153>'2 Descrizione Progetto'!$D$22,\"\",IF($D$159=\"Profilo standard\",BH69,BG124)))","v":""},{"$f":"IF($C14=\"\",0,IF(BI153>'2 Descrizione Progetto'!$D$22,\"\",IF($D$159=\"Profilo standard\",BI69,BH124)))","v":""},{"$f":"IF($C14=\"\",0,IF(BJ153>'2 Descrizione Progetto'!$D$22,\"\",IF($D$159=\"Profilo standard\",BJ69,BI124)))","v":""},{"$f":"IF($C14=\"\",0,IF(BK153>'2 Descrizione Progetto'!$D$22,\"\",IF($D$159=\"Profilo standard\",BK69,BJ124)))","v":""},{"$f":"IF($C14=\"\",0,IF(BL153>'2 Descrizione Progetto'!$D$22,\"\",IF($D$159=\"Profilo standard\",BL69,BK124)))","v":""}]
[null,7,"d","Profilo standard",{"$f":"IF($C15=\"\",0,IF(E153>'2 Descrizione Progetto'!$D$22,\"\",IF($D$160=\"Profilo standard\",E74,D129)))","v":0},{"$f":"IF($C15=\"\",0,IF(F153>'2 Descrizione Progetto'!$D$22,\"\",IF($D$160=\"Profilo standard\",F74,E129)))","v":0},{"$f":"IF($C15=\"\",0,IF(G153>'2 Descrizione Progetto'!$D$22,\"\",IF($D$160=\"Profilo standard\",G74,F129)))","v":0},{"$f":"IF($C15=\"\",0,IF(H153>'2 Descrizione Progetto'!$D$22,\"\",IF($D$160=\"Profilo standard\",H74,G129)))","v":0},{"$f":"IF($C15=\"\",0,IF(I153>'2 Descrizione Progetto'!$D$22,\"\",IF($D$160=\"Profilo standard\",I74,H129)))","v":0},{"$f":"IF($C15=\"\",0,IF(J153>'2 Descrizione Progetto'!$D$22,\"\",IF($D$160=\"Profilo standard\",J74,I129)))","v":0},{"$f":"IF($C15=\"\",0,IF(K153>'2 Descrizione Progetto'!$D$22,\"\",IF($D$160=\"Profilo standard\",K74,J129)))","v":0},{"$f":"IF($C15=\"\",0,IF(L153>'2 Descrizione Progetto'!$D$22,\"\",IF($D$160=\"Profilo standard\",L74,K129)))","v":0},{"$f":"IF($C15=\"\",0,IF(M153>'2 Descrizione Progetto'!$D$22,\"\",IF($D$160=\"Profilo standard\",M74,L129)))","v":0},{"$f":"IF($C15=\"\",0,IF(N153>'2 Descrizione Progetto'!$D$22,\"\",IF($D$160=\"Profilo standard\",N74,M129)))","v":0},{"$f":"IF($C15=\"\",0,IF(O153>'2 Descrizione Progetto'!$D$22,\"\",IF($D$160=\"Profilo standard\",O74,N129)))","v":""},{"$f":"IF($C15=\"\",0,IF(P153>'2 Descrizione Progetto'!$D$22,\"\",IF($D$160=\"Profilo standard\",P74,O129)))","v":""},{"$f":"IF($C15=\"\",0,IF(Q153>'2 Descrizione Progetto'!$D$22,\"\",IF($D$160=\"Profilo standard\",Q74,P129)))","v":""},{"$f":"IF($C15=\"\",0,IF(R153>'2 Descrizione Progetto'!$D$22,\"\",IF($D$160=\"Profilo standard\",R74,Q129)))","v":""},{"$f":"IF($C15=\"\",0,IF(S153>'2 Descrizione Progetto'!$D$22,\"\",IF($D$160=\"Profilo standard\",S74,R129)))","v":""},{"$f":"IF($C15=\"\",0,IF(T153>'2 Descrizione Progetto'!$D$22,\"\",IF($D$160=\"Profilo standard\",T74,S129)))","v":""},{"$f":"IF($C15=\"\",0,IF(U153>'2 Descrizione Progetto'!$D$22,\"\",IF($D$160=\"Profilo standard\",U74,T129)))","v":""},{"$f":"IF($C15=\"\",0,IF(V153>'2 Descrizione Progetto'!$D$22,\"\",IF($D$160=\"Profilo standard\",V74,U129)))","v":""},{"$f":"IF($C15=\"\",0,IF(W153>'2 Descrizione Progetto'!$D$22,\"\",IF($D$160=\"Profilo standard\",W74,V129)))","v":""},{"$f":"IF($C15=\"\",0,IF(X153>'2 Descrizione Progetto'!$D$22,\"\",IF($D$160=\"Profilo standard\",X74,W129)))","v":""},{"$f":"IF($C15=\"\",0,IF(Y153>'2 Descrizione Progetto'!$D$22,\"\",IF($D$160=\"Profilo standard\",Y74,X129)))","v":""},{"$f":"IF($C15=\"\",0,IF(Z153>'2 Descrizione Progetto'!$D$22,\"\",IF($D$160=\"Profilo standard\",Z74,Y129)))","v":""},{"$f":"IF($C15=\"\",0,IF(AA153>'2 Descrizione Progetto'!$D$22,\"\",IF($D$160=\"Profilo standard\",AA74,Z129)))","v":""},{"$f":"IF($C15=\"\",0,IF(AB153>'2 Descrizione Progetto'!$D$22,\"\",IF($D$160=\"Profilo standard\",AB74,AA129)))","v":""},{"$f":"IF($C15=\"\",0,IF(AC153>'2 Descrizione Progetto'!$D$22,\"\",IF($D$160=\"Profilo standard\",AC74,AB129)))","v":""},{"$f":"IF($C15=\"\",0,IF(AD153>'2 Descrizione Progetto'!$D$22,\"\",IF($D$160=\"Profilo standard\",AD74,AC129)))","v":""},{"$f":"IF($C15=\"\",0,IF(AE153>'2 Descrizione Progetto'!$D$22,\"\",IF($D$160=\"Profilo standard\",AE74,AD129)))","v":""},{"$f":"IF($C15=\"\",0,IF(AF153>'2 Descrizione Progetto'!$D$22,\"\",IF($D$160=\"Profilo standard\",AF74,AE129)))","v":""},{"$f":"IF($C15=\"\",0,IF(AG153>'2 Descrizione Progetto'!$D$22,\"\",IF($D$160=\"Profilo standard\",AG74,AF129)))","v":""},{"$f":"IF($C15=\"\",0,IF(AH153>'2 Descrizione Progetto'!$D$22,\"\",IF($D$160=\"Profilo standard\",AH74,AG129)))","v":""},{"$f":"IF($C15=\"\",0,IF(AI153>'2 Descrizione Progetto'!$D$22,\"\",IF($D$160=\"Profilo standard\",AI74,AH129)))","v":""},{"$f":"IF($C15=\"\",0,IF(AJ153>'2 Descrizione Progetto'!$D$22,\"\",IF($D$160=\"Profilo standard\",AJ74,AI129)))","v":""},{"$f":"IF($C15=\"\",0,IF(AK153>'2 Descrizione Progetto'!$D$22,\"\",IF($D$160=\"Profilo standard\",AK74,AJ129)))","v":""},{"$f":"IF($C15=\"\",0,IF(AL153>'2 Descrizione Progetto'!$D$22,\"\",IF($D$160=\"Profilo standard\",AL74,AK129)))","v":""},{"$f":"IF($C15=\"\",0,IF(AM153>'2 Descrizione Progetto'!$D$22,\"\",IF($D$160=\"Profilo standard\",AM74,AL129)))","v":""},{"$f":"IF($C15=\"\",0,IF(AN153>'2 Descrizione Progetto'!$D$22,\"\",IF($D$160=\"Profilo standard\",AN74,AM129)))","v":""},{"$f":"IF($C15=\"\",0,IF(AO153>'2 Descrizione Progetto'!$D$22,\"\",IF($D$160=\"Profilo standard\",AO74,AN129)))","v":""},{"$f":"IF($C15=\"\",0,IF(AP153>'2 Descrizione Progetto'!$D$22,\"\",IF($D$160=\"Profilo standard\",AP74,AO129)))","v":""},{"$f":"IF($C15=\"\",0,IF(AQ153>'2 Descrizione Progetto'!$D$22,\"\",IF($D$160=\"Profilo standard\",AQ74,AP129)))","v":""},{"$f":"IF($C15=\"\",0,IF(AR153>'2 Descrizione Progetto'!$D$22,\"\",IF($D$160=\"Profilo standard\",AR74,AQ129)))","v":""},{"$f":"IF($C15=\"\",0,IF(AS153>'2 Descrizione Progetto'!$D$22,\"\",IF($D$160=\"Profilo standard\",AS74,AR129)))","v":""},{"$f":"IF($C15=\"\",0,IF(AT153>'2 Descrizione Progetto'!$D$22,\"\",IF($D$160=\"Profilo standard\",AT74,AS129)))","v":""},{"$f":"IF($C15=\"\",0,IF(AU153>'2 Descrizione Progetto'!$D$22,\"\",IF($D$160=\"Profilo standard\",AU74,AT129)))","v":""},{"$f":"IF($C15=\"\",0,IF(AV153>'2 Descrizione Progetto'!$D$22,\"\",IF($D$160=\"Profilo standard\",AV74,AU129)))","v":""},{"$f":"IF($C15=\"\",0,IF(AW153>'2 Descrizione Progetto'!$D$22,\"\",IF($D$160=\"Profilo standard\",AW74,AV129)))","v":""},{"$f":"IF($C15=\"\",0,IF(AX153>'2 Descrizione Progetto'!$D$22,\"\",IF($D$160=\"Profilo standard\",AX74,AW129)))","v":""},{"$f":"IF($C15=\"\",0,IF(AY153>'2 Descrizione Progetto'!$D$22,\"\",IF($D$160=\"Profilo standard\",AY74,AX129)))","v":""},{"$f":"IF($C15=\"\",0,IF(AZ153>'2 Descrizione Progetto'!$D$22,\"\",IF($D$160=\"Profilo standard\",AZ74,AY129)))","v":""},{"$f":"IF($C15=\"\",0,IF(BA153>'2 Descrizione Progetto'!$D$22,\"\",IF($D$160=\"Profilo standard\",BA74,AZ129)))","v":""},{"$f":"IF($C15=\"\",0,IF(BB153>'2 Descrizione Progetto'!$D$22,\"\",IF($D$160=\"Profilo standard\",BB74,BA129)))","v":""},{"$f":"IF($C15=\"\",0,IF(BC153>'2 Descrizione Progetto'!$D$22,\"\",IF($D$160=\"Profilo standard\",BC74,BB129)))","v":""},{"$f":"IF($C15=\"\",0,IF(BD153>'2 Descrizione Progetto'!$D$22,\"\",IF($D$160=\"Profilo standard\",BD74,BC129)))","v":""},{"$f":"IF($C15=\"\",0,IF(BE153>'2 Descrizione Progetto'!$D$22,\"\",IF($D$160=\"Profilo standard\",BE74,BD129)))","v":""},{"$f":"IF($C15=\"\",0,IF(BF153>'2 Descrizione Progetto'!$D$22,\"\",IF($D$160=\"Profilo standard\",BF74,BE129)))","v":""},{"$f":"IF($C15=\"\",0,IF(BG153>'2 Descrizione Progetto'!$D$22,\"\",IF($D$160=\"Profilo standard\",BG74,BF129)))","v":""},{"$f":"IF($C15=\"\",0,IF(BH153>'2 Descrizione Progetto'!$D$22,\"\",IF($D$160=\"Profilo standard\",BH74,BG129)))","v":""},{"$f":"IF($C15=\"\",0,IF(BI153>'2 Descrizione Progetto'!$D$22,\"\",IF($D$160=\"Profilo standard\",BI74,BH129)))","v":""},{"$f":"IF($C15=\"\",0,IF(BJ153>'2 Descrizione Progetto'!$D$22,\"\",IF($D$160=\"Profilo standard\",BJ74,BI129)))","v":""},{"$f":"IF($C15=\"\",0,IF(BK153>'2 Descrizione Progetto'!$D$22,\"\",IF($D$160=\"Profilo standard\",BK74,BJ129)))","v":""},{"$f":"IF($C15=\"\",0,IF(BL153>'2 Descrizione Progetto'!$D$22,\"\",IF($D$160=\"Profilo standard\",BL74,BK129)))","v":""}]
[null,8,"e","Profilo standard",{"$f":"IF($C16=\"\",0,IF(E153>'2 Descrizione Progetto'!$D$22,\"\",IF($D$161=\"Profilo standard\",E79,D134)))","v":0},{"$f":"IF($C16=\"\",0,IF(F153>'2 Descrizione Progetto'!$D$22,\"\",IF($D$161=\"Profilo standard\",F79,E134)))","v":0},{"$f":"IF($C16=\"\",0,IF(G153>'2 Descrizione Progetto'!$D$22,\"\",IF($D$161=\"Profilo standard\",G79,F134)))","v":0},{"$f":"IF($C16=\"\",0,IF(H153>'2 Descrizione Progetto'!$D$22,\"\",IF($D$161=\"Profilo standard\",H79,G134)))","v":0},{"$f":"IF($C16=\"\",0,IF(I153>'2 Descrizione Progetto'!$D$22,\"\",IF($D$161=\"Profilo standard\",I79,H134)))","v":0},{"$f":"IF($C16=\"\",0,IF(J153>'2 Descrizione Progetto'!$D$22,\"\",IF($D$161=\"Profilo standard\",J79,I134)))","v":0},{"$f":"IF($C16=\"\",0,IF(K153>'2 Descrizione Progetto'!$D$22,\"\",IF($D$161=\"Profilo standard\",K79,J134)))","v":0},{"$f":"IF($C16=\"\",0,IF(L153>'2 Descrizione Progetto'!$D$22,\"\",IF($D$161=\"Profilo standard\",L79,K134)))","v":0},{"$f":"IF($C16=\"\",0,IF(M153>'2 Descrizione Progetto'!$D$22,\"\",IF($D$161=\"Profilo standard\",M79,L134)))","v":0},{"$f":"IF($C16=\"\",0,IF(N153>'2 Descrizione Progetto'!$D$22,\"\",IF($D$161=\"Profilo standard\",N79,M134)))","v":0},{"$f":"IF($C16=\"\",0,IF(O153>'2 Descrizione Progetto'!$D$22,\"\",IF($D$161=\"Profilo standard\",O79,N134)))","v":""},{"$f":"IF($C16=\"\",0,IF(P153>'2 Descrizione Progetto'!$D$22,\"\",IF($D$161=\"Profilo standard\",P79,O134)))","v":""},{"$f":"IF($C16=\"\",0,IF(Q153>'2 Descrizione Progetto'!$D$22,\"\",IF($D$161=\"Profilo standard\",Q79,P134)))","v":""},{"$f":"IF($C16=\"\",0,IF(R153>'2 Descrizione Progetto'!$D$22,\"\",IF($D$161=\"Profilo standard\",R79,Q134)))","v":""},{"$f":"IF($C16=\"\",0,IF(S153>'2 Descrizione Progetto'!$D$22,\"\",IF($D$161=\"Profilo standard\",S79,R134)))","v":""},{"$f":"IF($C16=\"\",0,IF(T153>'2 Descrizione Progetto'!$D$22,\"\",IF($D$161=\"Profilo standard\",T79,S134)))","v":""},{"$f":"IF($C16=\"\",0,IF(U153>'2 Descrizione Progetto'!$D$22,\"\",IF($D$161=\"Profilo standard\",U79,T134)))","v":""},{"$f":"IF($C16=\"\",0,IF(V153>'2 Descrizione Progetto'!$D$22,\"\",IF($D$161=\"Profilo standard\",V79,U134)))","v":""},{"$f":"IF($C16=\"\",0,IF(W153>'2 Descrizione Progetto'!$D$22,\"\",IF($D$161=\"Profilo standard\",W79,V134)))","v":""},{"$f":"IF($C16=\"\",0,IF(X153>'2 Descrizione Progetto'!$D$22,\"\",IF($D$161=\"Profilo standard\",X79,W134)))","v":""},{"$f":"IF($C16=\"\",0,IF(Y153>'2 Descrizione Progetto'!$D$22,\"\",IF($D$161=\"Profilo standard\",Y79,X134)))","v":""},{"$f":"IF($C16=\"\",0,IF(Z153>'2 Descrizione Progetto'!$D$22,\"\",IF($D$161=\"Profilo standard\",Z79,Y134)))","v":""},{"$f":"IF($C16=\"\",0,IF(AA153>'2 Descrizione Progetto'!$D$22,\"\",IF($D$161=\"Profilo standard\",AA79,Z134)))","v":""},{"$f":"IF($C16=\"\",0,IF(AB153>'2 Descrizione Progetto'!$D$22,\"\",IF($D$161=\"Profilo standard\",AB79,AA134)))","v":""},{"$f":"IF($C16=\"\",0,IF(AC153>'2 Descrizione Progetto'!$D$22,\"\",IF($D$161=\"Profilo standard\",AC79,AB134)))","v":""},{"$f":"IF($C16=\"\",0,IF(AD153>'2 Descrizione Progetto'!$D$22,\"\",IF($D$161=\"Profilo standard\",AD79,AC134)))","v":""},{"$f":"IF($C16=\"\",0,IF(AE153>'2 Descrizione Progetto'!$D$22,\"\",IF($D$161=\"Profilo standard\",AE79,AD134)))","v":""},{"$f":"IF($C16=\"\",0,IF(AF153>'2 Descrizione Progetto'!$D$22,\"\",IF($D$161=\"Profilo standard\",AF79,AE134)))","v":""},{"$f":"IF($C16=\"\",0,IF(AG153>'2 Descrizione Progetto'!$D$22,\"\",IF($D$161=\"Profilo standard\",AG79,AF134)))","v":""},{"$f":"IF($C16=\"\",0,IF(AH153>'2 Descrizione Progetto'!$D$22,\"\",IF($D$161=\"Profilo standard\",AH79,AG134)))","v":""},{"$f":"IF($C16=\"\",0,IF(AI153>'2 Descrizione Progetto'!$D$22,\"\",IF($D$161=\"Profilo standard\",AI79,AH134)))","v":""},{"$f":"IF($C16=\"\",0,IF(AJ153>'2 Descrizione Progetto'!$D$22,\"\",IF($D$161=\"Profilo standard\",AJ79,AI134)))","v":""},{"$f":"IF($C16=\"\",0,IF(AK153>'2 Descrizione Progetto'!$D$22,\"\",IF($D$161=\"Profilo standard\",AK79,AJ134)))","v":""},{"$f":"IF($C16=\"\",0,IF(AL153>'2 Descrizione Progetto'!$D$22,\"\",IF($D$161=\"Profilo standard\",AL79,AK134)))","v":""},{"$f":"IF($C16=\"\",0,IF(AM153>'2 Descrizione Progetto'!$D$22,\"\",IF($D$161=\"Profilo standard\",AM79,AL134)))","v":""},{"$f":"IF($C16=\"\",0,IF(AN153>'2 Descrizione Progetto'!$D$22,\"\",IF($D$161=\"Profilo standard\",AN79,AM134)))","v":""},{"$f":"IF($C16=\"\",0,IF(AO153>'2 Descrizione Progetto'!$D$22,\"\",IF($D$161=\"Profilo standard\",AO79,AN134)))","v":""},{"$f":"IF($C16=\"\",0,IF(AP153>'2 Descrizione Progetto'!$D$22,\"\",IF($D$161=\"Profilo standard\",AP79,AO134)))","v":""},{"$f":"IF($C16=\"\",0,IF(AQ153>'2 Descrizione Progetto'!$D$22,\"\",IF($D$161=\"Profilo standard\",AQ79,AP134)))","v":""},{"$f":"IF($C16=\"\",0,IF(AR153>'2 Descrizione Progetto'!$D$22,\"\",IF($D$161=\"Profilo standard\",AR79,AQ134)))","v":""},{"$f":"IF($C16=\"\",0,IF(AS153>'2 Descrizione Progetto'!$D$22,\"\",IF($D$161=\"Profilo standard\",AS79,AR134)))","v":""},{"$f":"IF($C16=\"\",0,IF(AT153>'2 Descrizione Progetto'!$D$22,\"\",IF($D$161=\"Profilo standard\",AT79,AS134)))","v":""},{"$f":"IF($C16=\"\",0,IF(AU153>'2 Descrizione Progetto'!$D$22,\"\",IF($D$161=\"Profilo standard\",AU79,AT134)))","v":""},{"$f":"IF($C16=\"\",0,IF(AV153>'2 Descrizione Progetto'!$D$22,\"\",IF($D$161=\"Profilo standard\",AV79,AU134)))","v":""},{"$f":"IF($C16=\"\",0,IF(AW153>'2 Descrizione Progetto'!$D$22,\"\",IF($D$161=\"Profilo standard\",AW79,AV134)))","v":""},{"$f":"IF($C16=\"\",0,IF(AX153>'2 Descrizione Progetto'!$D$22,\"\",IF($D$161=\"Profilo standard\",AX79,AW134)))","v":""},{"$f":"IF($C16=\"\",0,IF(AY153>'2 Descrizione Progetto'!$D$22,\"\",IF($D$161=\"Profilo standard\",AY79,AX134)))","v":""},{"$f":"IF($C16=\"\",0,IF(AZ153>'2 Descrizione Progetto'!$D$22,\"\",IF($D$161=\"Profilo standard\",AZ79,AY134)))","v":""},{"$f":"IF($C16=\"\",0,IF(BA153>'2 Descrizione Progetto'!$D$22,\"\",IF($D$161=\"Profilo standard\",BA79,AZ134)))","v":""},{"$f":"IF($C16=\"\",0,IF(BB153>'2 Descrizione Progetto'!$D$22,\"\",IF($D$161=\"Profilo standard\",BB79,BA134)))","v":""},{"$f":"IF($C16=\"\",0,IF(BC153>'2 Descrizione Progetto'!$D$22,\"\",IF($D$161=\"Profilo standard\",BC79,BB134)))","v":""},{"$f":"IF($C16=\"\",0,IF(BD153>'2 Descrizione Progetto'!$D$22,\"\",IF($D$161=\"Profilo standard\",BD79,BC134)))","v":""},{"$f":"IF($C16=\"\",0,IF(BE153>'2 Descrizione Progetto'!$D$22,\"\",IF($D$161=\"Profilo standard\",BE79,BD134)))","v":""},{"$f":"IF($C16=\"\",0,IF(BF153>'2 Descrizione Progetto'!$D$22,\"\",IF($D$161=\"Profilo standard\",BF79,BE134)))","v":""},{"$f":"IF($C16=\"\",0,IF(BG153>'2 Descrizione Progetto'!$D$22,\"\",IF($D$161=\"Profilo standard\",BG79,BF134)))","v":""},{"$f":"IF($C16=\"\",0,IF(BH153>'2 Descrizione Progetto'!$D$22,\"\",IF($D$161=\"Profilo standard\",BH79,BG134)))","v":""},{"$f":"IF($C16=\"\",0,IF(BI153>'2 Descrizione Progetto'!$D$22,\"\",IF($D$161=\"Profilo standard\",BI79,BH134)))","v":""},{"$f":"IF($C16=\"\",0,IF(BJ153>'2 Descrizione Progetto'!$D$22,\"\",IF($D$161=\"Profilo standard\",BJ79,BI134)))","v":""},{"$f":"IF($C16=\"\",0,IF(BK153>'2 Descrizione Progetto'!$D$22,\"\",IF($D$161=\"Profilo standard\",BK79,BJ134)))","v":""},{"$f":"IF($C16=\"\",0,IF(BL153>'2 Descrizione Progetto'!$D$22,\"\",IF($D$161=\"Profilo standard\",BL79,BK134)))","v":""}]
[null,9,"f","Profilo standard",{"$f":"IF($C17=\"\",0,IF(E153>'2 Descrizione Progetto'!$D$22,\"\",IF($D$162=\"Profilo standard\",E84,D139)))","v":0},{"$f":"IF($C17=\"\",0,IF(F153>'2 Descrizione Progetto'!$D$22,\"\",IF($D$162=\"Profilo standard\",F84,E139)))","v":0},{"$f":"IF($C17=\"\",0,IF(G153>'2 Descrizione Progetto'!$D$22,\"\",IF($D$162=\"Profilo standard\",G84,F139)))","v":0},{"$f":"IF($C17=\"\",0,IF(H153>'2 Descrizione Progetto'!$D$22,\"\",IF($D$162=\"Profilo standard\",H84,G139)))","v":0},{"$f":"IF($C17=\"\",0,IF(I153>'2 Descrizione Progetto'!$D$22,\"\",IF($D$162=\"Profilo standard\",I84,H139)))","v":0},{"$f":"IF($C17=\"\",0,IF(J153>'2 Descrizione Progetto'!$D$22,\"\",IF($D$162=\"Profilo standard\",J84,I139)))","v":0},{"$f":"IF($C17=\"\",0,IF(K153>'2 Descrizione Progetto'!$D$22,\"\",IF($D$162=\"Profilo standard\",K84,J139)))","v":0},{"$f":"IF($C17=\"\",0,IF(L153>'2 Descrizione Progetto'!$D$22,\"\",IF($D$162=\"Profilo standard\",L84,K139)))","v":0},{"$f":"IF($C17=\"\",0,IF(M153>'2 Descrizione Progetto'!$D$22,\"\",IF($D$162=\"Profilo standard\",M84,L139)))","v":0},{"$f":"IF($C17=\"\",0,IF(N153>'2 Descrizione Progetto'!$D$22,\"\",IF($D$162=\"Profilo standard\",N84,M139)))","v":0},{"$f":"IF($C17=\"\",0,IF(O153>'2 Descrizione Progetto'!$D$22,\"\",IF($D$162=\"Profilo standard\",O84,N139)))","v":""},{"$f":"IF($C17=\"\",0,IF(P153>'2 Descrizione Progetto'!$D$22,\"\",IF($D$162=\"Profilo standard\",P84,O139)))","v":""},{"$f":"IF($C17=\"\",0,IF(Q153>'2 Descrizione Progetto'!$D$22,\"\",IF($D$162=\"Profilo standard\",Q84,P139)))","v":""},{"$f":"IF($C17=\"\",0,IF(R153>'2 Descrizione Progetto'!$D$22,\"\",IF($D$162=\"Profilo standard\",R84,Q139)))","v":""},{"$f":"IF($C17=\"\",0,IF(S153>'2 Descrizione Progetto'!$D$22,\"\",IF($D$162=\"Profilo standard\",S84,R139)))","v":""},{"$f":"IF($C17=\"\",0,IF(T153>'2 Descrizione Progetto'!$D$22,\"\",IF($D$162=\"Profilo standard\",T84,S139)))","v":""},{"$f":"IF($C17=\"\",0,IF(U153>'2 Descrizione Progetto'!$D$22,\"\",IF($D$162=\"Profilo standard\",U84,T139)))","v":""},{"$f":"IF($C17=\"\",0,IF(V153>'2 Descrizione Progetto'!$D$22,\"\",IF($D$162=\"Profilo standard\",V84,U139)))","v":""},{"$f":"IF($C17=\"\",0,IF(W153>'2 Descrizione Progetto'!$D$22,\"\",IF($D$162=\"Profilo standard\",W84,V139)))","v":""},{"$f":"IF($C17=\"\",0,IF(X153>'2 Descrizione Progetto'!$D$22,\"\",IF($D$162=\"Profilo standard\",X84,W139)))","v":""},{"$f":"IF($C17=\"\",0,IF(Y153>'2 Descrizione Progetto'!$D$22,\"\",IF($D$162=\"Profilo standard\",Y84,X139)))","v":""},{"$f":"IF($C17=\"\",0,IF(Z153>'2 Descrizione Progetto'!$D$22,\"\",IF($D$162=\"Profilo standard\",Z84,Y139)))","v":""},{"$f":"IF($C17=\"\",0,IF(AA153>'2 Descrizione Progetto'!$D$22,\"\",IF($D$162=\"Profilo standard\",AA84,Z139)))","v":""},{"$f":"IF($C17=\"\",0,IF(AB153>'2 Descrizione Progetto'!$D$22,\"\",IF($D$162=\"Profilo standard\",AB84,AA139)))","v":""},{"$f":"IF($C17=\"\",0,IF(AC153>'2 Descrizione Progetto'!$D$22,\"\",IF($D$162=\"Profilo standard\",AC84,AB139)))","v":""},{"$f":"IF($C17=\"\",0,IF(AD153>'2 Descrizione Progetto'!$D$22,\"\",IF($D$162=\"Profilo standard\",AD84,AC139)))","v":""},{"$f":"IF($C17=\"\",0,IF(AE153>'2 Descrizione Progetto'!$D$22,\"\",IF($D$162=\"Profilo standard\",AE84,AD139)))","v":""},{"$f":"IF($C17=\"\",0,IF(AF153>'2 Descrizione Progetto'!$D$22,\"\",IF($D$162=\"Profilo standard\",AF84,AE139)))","v":""},{"$f":"IF($C17=\"\",0,IF(AG153>'2 Descrizione Progetto'!$D$22,\"\",IF($D$162=\"Profilo standard\",AG84,AF139)))","v":""},{"$f":"IF($C17=\"\",0,IF(AH153>'2 Descrizione Progetto'!$D$22,\"\",IF($D$162=\"Profilo standard\",AH84,AG139)))","v":""},{"$f":"IF($C17=\"\",0,IF(AI153>'2 Descrizione Progetto'!$D$22,\"\",IF($D$162=\"Profilo standard\",AI84,AH139)))","v":""},{"$f":"IF($C17=\"\",0,IF(AJ153>'2 Descrizione Progetto'!$D$22,\"\",IF($D$162=\"Profilo standard\",AJ84,AI139)))","v":""},{"$f":"IF($C17=\"\",0,IF(AK153>'2 Descrizione Progetto'!$D$22,\"\",IF($D$162=\"Profilo standard\",AK84,AJ139)))","v":""},{"$f":"IF($C17=\"\",0,IF(AL153>'2 Descrizione Progetto'!$D$22,\"\",IF($D$162=\"Profilo standard\",AL84,AK139)))","v":""},{"$f":"IF($C17=\"\",0,IF(AM153>'2 Descrizione Progetto'!$D$22,\"\",IF($D$162=\"Profilo standard\",AM84,AL139)))","v":""},{"$f":"IF($C17=\"\",0,IF(AN153>'2 Descrizione Progetto'!$D$22,\"\",IF($D$162=\"Profilo standard\",AN84,AM139)))","v":""},{"$f":"IF($C17=\"\",0,IF(AO153>'2 Descrizione Progetto'!$D$22,\"\",IF($D$162=\"Profilo standard\",AO84,AN139)))","v":""},{"$f":"IF($C17=\"\",0,IF(AP153>'2 Descrizione Progetto'!$D$22,\"\",IF($D$162=\"Profilo standard\",AP84,AO139)))","v":""},{"$f":"IF($C17=\"\",0,IF(AQ153>'2 Descrizione Progetto'!$D$22,\"\",IF($D$162=\"Profilo standard\",AQ84,AP139)))","v":""},{"$f":"IF($C17=\"\",0,IF(AR153>'2 Descrizione Progetto'!$D$22,\"\",IF($D$162=\"Profilo standard\",AR84,AQ139)))","v":""},{"$f":"IF($C17=\"\",0,IF(AS153>'2 Descrizione Progetto'!$D$22,\"\",IF($D$162=\"Profilo standard\",AS84,AR139)))","v":""},{"$f":"IF($C17=\"\",0,IF(AT153>'2 Descrizione Progetto'!$D$22,\"\",IF($D$162=\"Profilo standard\",AT84,AS139)))","v":""},{"$f":"IF($C17=\"\",0,IF(AU153>'2 Descrizione Progetto'!$D$22,\"\",IF($D$162=\"Profilo standard\",AU84,AT139)))","v":""},{"$f":"IF($C17=\"\",0,IF(AV153>'2 Descrizione Progetto'!$D$22,\"\",IF($D$162=\"Profilo standard\",AV84,AU139)))","v":""},{"$f":"IF($C17=\"\",0,IF(AW153>'2 Descrizione Progetto'!$D$22,\"\",IF($D$162=\"Profilo standard\",AW84,AV139)))","v":""},{"$f":"IF($C17=\"\",0,IF(AX153>'2 Descrizione Progetto'!$D$22,\"\",IF($D$162=\"Profilo standard\",AX84,AW139)))","v":""},{"$f":"IF($C17=\"\",0,IF(AY153>'2 Descrizione Progetto'!$D$22,\"\",IF($D$162=\"Profilo standard\",AY84,AX139)))","v":""},{"$f":"IF($C17=\"\",0,IF(AZ153>'2 Descrizione Progetto'!$D$22,\"\",IF($D$162=\"Profilo standard\",AZ84,AY139)))","v":""},{"$f":"IF($C17=\"\",0,IF(BA153>'2 Descrizione Progetto'!$D$22,\"\",IF($D$162=\"Profilo standard\",BA84,AZ139)))","v":""},{"$f":"IF($C17=\"\",0,IF(BB153>'2 Descrizione Progetto'!$D$22,\"\",IF($D$162=\"Profilo standard\",BB84,BA139)))","v":""},{"$f":"IF($C17=\"\",0,IF(BC153>'2 Descrizione Progetto'!$D$22,\"\",IF($D$162=\"Profilo standard\",BC84,BB139)))","v":""},{"$f":"IF($C17=\"\",0,IF(BD153>'2 Descrizione Progetto'!$D$22,\"\",IF($D$162=\"Profilo standard\",BD84,BC139)))","v":""},{"$f":"IF($C17=\"\",0,IF(BE153>'2 Descrizione Progetto'!$D$22,\"\",IF($D$162=\"Profilo standard\",BE84,BD139)))","v":""},{"$f":"IF($C17=\"\",0,IF(BF153>'2 Descrizione Progetto'!$D$22,\"\",IF($D$162=\"Profilo standard\",BF84,BE139)))","v":""},{"$f":"IF($C17=\"\",0,IF(BG153>'2 Descrizione Progetto'!$D$22,\"\",IF($D$162=\"Profilo standard\",BG84,BF139)))","v":""},{"$f":"IF($C17=\"\",0,IF(BH153>'2 Descrizione Progetto'!$D$22,\"\",IF($D$162=\"Profilo standard\",BH84,BG139)))","v":""},{"$f":"IF($C17=\"\",0,IF(BI153>'2 Descrizione Progetto'!$D$22,\"\",IF($D$162=\"Profilo standard\",BI84,BH139)))","v":""},{"$f":"IF($C17=\"\",0,IF(BJ153>'2 Descrizione Progetto'!$D$22,\"\",IF($D$162=\"Profilo standard\",BJ84,BI139)))","v":""},{"$f":"IF($C17=\"\",0,IF(BK153>'2 Descrizione Progetto'!$D$22,\"\",IF($D$162=\"Profilo standard\",BK84,BJ139)))","v":""},{"$f":"IF($C17=\"\",0,IF(BL153>'2 Descrizione Progetto'!$D$22,\"\",IF($D$162=\"Profilo standard\",BL84,BK139)))","v":""}]
[null,10,"g","Profilo standard",{"$f":"IF($C18=\"\",0,IF(E153>'2 Descrizione Progetto'!$D$22,\"\",IF($D$163=\"Profilo standard\",E89,D144)))","v":0},{"$f":"IF($C18=\"\",0,IF(F153>'2 Descrizione Progetto'!$D$22,\"\",IF($D$163=\"Profilo standard\",F89,E144)))","v":0},{"$f":"IF($C18=\"\",0,IF(G153>'2 Descrizione Progetto'!$D$22,\"\",IF($D$163=\"Profilo standard\",G89,F144)))","v":0},{"$f":"IF($C18=\"\",0,IF(H153>'2 Descrizione Progetto'!$D$22,\"\",IF($D$163=\"Profilo standard\",H89,G144)))","v":0},{"$f":"IF($C18=\"\",0,IF(I153>'2 Descrizione Progetto'!$D$22,\"\",IF($D$163=\"Profilo standard\",I89,H144)))","v":0},{"$f":"IF($C18=\"\",0,IF(J153>'2 Descrizione Progetto'!$D$22,\"\",IF($D$163=\"Profilo standard\",J89,I144)))","v":0},{"$f":"IF($C18=\"\",0,IF(K153>'2 Descrizione Progetto'!$D$22,\"\",IF($D$163=\"Profilo standard\",K89,J144)))","v":0},{"$f":"IF($C18=\"\",0,IF(L153>'2 Descrizione Progetto'!$D$22,\"\",IF($D$163=\"Profilo standard\",L89,K144)))","v":0},{"$f":"IF($C18=\"\",0,IF(M153>'2 Descrizione Progetto'!$D$22,\"\",IF($D$163=\"Profilo standard\",M89,L144)))","v":0},{"$f":"IF($C18=\"\",0,IF(N153>'2 Descrizione Progetto'!$D$22,\"\",IF($D$163=\"Profilo standard\",N89,M144)))","v":0},{"$f":"IF($C18=\"\",0,IF(O153>'2 Descrizione Progetto'!$D$22,\"\",IF($D$163=\"Profilo standard\",O89,N144)))","v":""},{"$f":"IF($C18=\"\",0,IF(P153>'2 Descrizione Progetto'!$D$22,\"\",IF($D$163=\"Profilo standard\",P89,O144)))","v":""},{"$f":"IF($C18=\"\",0,IF(Q153>'2 Descrizione Progetto'!$D$22,\"\",IF($D$163=\"Profilo standard\",Q89,P144)))","v":""},{"$f":"IF($C18=\"\",0,IF(R153>'2 Descrizione Progetto'!$D$22,\"\",IF($D$163=\"Profilo standard\",R89,Q144)))","v":""},{"$f":"IF($C18=\"\",0,IF(S153>'2 Descrizione Progetto'!$D$22,\"\",IF($D$163=\"Profilo standard\",S89,R144)))","v":""},{"$f":"IF($C18=\"\",0,IF(T153>'2 Descrizione Progetto'!$D$22,\"\",IF($D$163=\"Profilo standard\",T89,S144)))","v":""},{"$f":"IF($C18=\"\",0,IF(U153>'2 Descrizione Progetto'!$D$22,\"\",IF($D$163=\"Profilo standard\",U89,T144)))","v":""},{"$f":"IF($C18=\"\",0,IF(V153>'2 Descrizione Progetto'!$D$22,\"\",IF($D$163=\"Profilo standard\",V89,U144)))","v":""},{"$f":"IF($C18=\"\",0,IF(W153>'2 Descrizione Progetto'!$D$22,\"\",IF($D$163=\"Profilo standard\",W89,V144)))","v":""},{"$f":"IF($C18=\"\",0,IF(X153>'2 Descrizione Progetto'!$D$22,\"\",IF($D$163=\"Profilo standard\",X89,W144)))","v":""},{"$f":"IF($C18=\"\",0,IF(Y153>'2 Descrizione Progetto'!$D$22,\"\",IF($D$163=\"Profilo standard\",Y89,X144)))","v":""},{"$f":"IF($C18=\"\",0,IF(Z153>'2 Descrizione Progetto'!$D$22,\"\",IF($D$163=\"Profilo standard\",Z89,Y144)))","v":""},{"$f":"IF($C18=\"\",0,IF(AA153>'2 Descrizione Progetto'!$D$22,\"\",IF($D$163=\"Profilo standard\",AA89,Z144)))","v":""},{"$f":"IF($C18=\"\",0,IF(AB153>'2 Descrizione Progetto'!$D$22,\"\",IF($D$163=\"Profilo standard\",AB89,AA144)))","v":""},{"$f":"IF($C18=\"\",0,IF(AC153>'2 Descrizione Progetto'!$D$22,\"\",IF($D$163=\"Profilo standard\",AC89,AB144)))","v":""},{"$f":"IF($C18=\"\",0,IF(AD153>'2 Descrizione Progetto'!$D$22,\"\",IF($D$163=\"Profilo standard\",AD89,AC144)))","v":""},{"$f":"IF($C18=\"\",0,IF(AE153>'2 Descrizione Progetto'!$D$22,\"\",IF($D$163=\"Profilo standard\",AE89,AD144)))","v":""},{"$f":"IF($C18=\"\",0,IF(AF153>'2 Descrizione Progetto'!$D$22,\"\",IF($D$163=\"Profilo standard\",AF89,AE144)))","v":""},{"$f":"IF($C18=\"\",0,IF(AG153>'2 Descrizione Progetto'!$D$22,\"\",IF($D$163=\"Profilo standard\",AG89,AF144)))","v":""},{"$f":"IF($C18=\"\",0,IF(AH153>'2 Descrizione Progetto'!$D$22,\"\",IF($D$163=\"Profilo standard\",AH89,AG144)))","v":""},{"$f":"IF($C18=\"\",0,IF(AI153>'2 Descrizione Progetto'!$D$22,\"\",IF($D$163=\"Profilo standard\",AI89,AH144)))","v":""},{"$f":"IF($C18=\"\",0,IF(AJ153>'2 Descrizione Progetto'!$D$22,\"\",IF($D$163=\"Profilo standard\",AJ89,AI144)))","v":""},{"$f":"IF($C18=\"\",0,IF(AK153>'2 Descrizione Progetto'!$D$22,\"\",IF($D$163=\"Profilo standard\",AK89,AJ144)))","v":""},{"$f":"IF($C18=\"\",0,IF(AL153>'2 Descrizione Progetto'!$D$22,\"\",IF($D$163=\"Profilo standard\",AL89,AK144)))","v":""},{"$f":"IF($C18=\"\",0,IF(AM153>'2 Descrizione Progetto'!$D$22,\"\",IF($D$163=\"Profilo standard\",AM89,AL144)))","v":""},{"$f":"IF($C18=\"\",0,IF(AN153>'2 Descrizione Progetto'!$D$22,\"\",IF($D$163=\"Profilo standard\",AN89,AM144)))","v":""},{"$f":"IF($C18=\"\",0,IF(AO153>'2 Descrizione Progetto'!$D$22,\"\",IF($D$163=\"Profilo standard\",AO89,AN144)))","v":""},{"$f":"IF($C18=\"\",0,IF(AP153>'2 Descrizione Progetto'!$D$22,\"\",IF($D$163=\"Profilo standard\",AP89,AO144)))","v":""},{"$f":"IF($C18=\"\",0,IF(AQ153>'2 Descrizione Progetto'!$D$22,\"\",IF($D$163=\"Profilo standard\",AQ89,AP144)))","v":""},{"$f":"IF($C18=\"\",0,IF(AR153>'2 Descrizione Progetto'!$D$22,\"\",IF($D$163=\"Profilo standard\",AR89,AQ144)))","v":""},{"$f":"IF($C18=\"\",0,IF(AS153>'2 Descrizione Progetto'!$D$22,\"\",IF($D$163=\"Profilo standard\",AS89,AR144)))","v":""},{"$f":"IF($C18=\"\",0,IF(AT153>'2 Descrizione Progetto'!$D$22,\"\",IF($D$163=\"Profilo standard\",AT89,AS144)))","v":""},{"$f":"IF($C18=\"\",0,IF(AU153>'2 Descrizione Progetto'!$D$22,\"\",IF($D$163=\"Profilo standard\",AU89,AT144)))","v":""},{"$f":"IF($C18=\"\",0,IF(AV153>'2 Descrizione Progetto'!$D$22,\"\",IF($D$163=\"Profilo standard\",AV89,AU144)))","v":""},{"$f":"IF($C18=\"\",0,IF(AW153>'2 Descrizione Progetto'!$D$22,\"\",IF($D$163=\"Profilo standard\",AW89,AV144)))","v":""},{"$f":"IF($C18=\"\",0,IF(AX153>'2 Descrizione Progetto'!$D$22,\"\",IF($D$163=\"Profilo standard\",AX89,AW144)))","v":""},{"$f":"IF($C18=\"\",0,IF(AY153>'2 Descrizione Progetto'!$D$22,\"\",IF($D$163=\"Profilo standard\",AY89,AX144)))","v":""},{"$f":"IF($C18=\"\",0,IF(AZ153>'2 Descrizione Progetto'!$D$22,\"\",IF($D$163=\"Profilo standard\",AZ89,AY144)))","v":""},{"$f":"IF($C18=\"\",0,IF(BA153>'2 Descrizione Progetto'!$D$22,\"\",IF($D$163=\"Profilo standard\",BA89,AZ144)))","v":""},{"$f":"IF($C18=\"\",0,IF(BB153>'2 Descrizione Progetto'!$D$22,\"\",IF($D$163=\"Profilo standard\",BB89,BA144)))","v":""},{"$f":"IF($C18=\"\",0,IF(BC153>'2 Descrizione Progetto'!$D$22,\"\",IF($D$163=\"Profilo standard\",BC89,BB144)))","v":""},{"$f":"IF($C18=\"\",0,IF(BD153>'2 Descrizione Progetto'!$D$22,\"\",IF($D$163=\"Profilo standard\",BD89,BC144)))","v":""},{"$f":"IF($C18=\"\",0,IF(BE153>'2 Descrizione Progetto'!$D$22,\"\",IF($D$163=\"Profilo standard\",BE89,BD144)))","v":""},{"$f":"IF($C18=\"\",0,IF(BF153>'2 Descrizione Progetto'!$D$22,\"\",IF($D$163=\"Profilo standard\",BF89,BE144)))","v":""},{"$f":"IF($C18=\"\",0,IF(BG153>'2 Descrizione Progetto'!$D$22,\"\",IF($D$163=\"Profilo standard\",BG89,BF144)))","v":""},{"$f":"IF($C18=\"\",0,IF(BH153>'2 Descrizione Progetto'!$D$22,\"\",IF($D$163=\"Profilo standard\",BH89,BG144)))","v":""},{"$f":"IF($C18=\"\",0,IF(BI153>'2 Descrizione Progetto'!$D$22,\"\",IF($D$163=\"Profilo standard\",BI89,BH144)))","v":""},{"$f":"IF($C18=\"\",0,IF(BJ153>'2 Descrizione Progetto'!$D$22,\"\",IF($D$163=\"Profilo standard\",BJ89,BI144)))","v":""},{"$f":"IF($C18=\"\",0,IF(BK153>'2 Descrizione Progetto'!$D$22,\"\",IF($D$163=\"Profilo standard\",BK89,BJ144)))","v":""},{"$f":"IF($C18=\"\",0,IF(BL153>'2 Descrizione Progetto'!$D$22,\"\",IF($D$163=\"Profilo standard\",BL89,BK144)))","v":""}]
[null,null,"Ricavi tariffari utilizzati nel flusso di cassa   ","TOTALE",{"$f":"IF(E153>'2 Descrizione Progetto'!$D$22,\"\",SUM(E154:E163))","v":345250},{"$f":"IF(F153>'2 Descrizione Progetto'!$D$22,\"\",SUM(F154:F163))","v":389232},{"$f":"IF(G153>'2 Descrizione Progetto'!$D$22,\"\",SUM(G154:G163))","v":441937.99079999997},{"$f":"IF(H153>'2 Descrizione Progetto'!$D$22,\"\",SUM(H154:H163))","v":450776.75061599998},{"$f":"IF(I153>'2 Descrizione Progetto'!$D$22,\"\",SUM(I154:I163))","v":459792.28562831995},{"$f":"IF(J153>'2 Descrizione Progetto'!$D$22,\"\",SUM(J154:J163))","v":468988.13134088635},{"$f":"IF(K153>'2 Descrizione Progetto'!$D$22,\"\",SUM(K154:K163))","v":478367.89396770415},{"$f":"IF(L153>'2 Descrizione Progetto'!$D$22,\"\",SUM(L154:L163))","v":487935.25184705824},{"$f":"IF(M153>'2 Descrizione Progetto'!$D$22,\"\",SUM(M154:M163))","v":497693.95688399946},{"$f":"IF(N153>'2 Descrizione Progetto'!$D$22,\"\",SUM(N154:N163))","v":507647.8360216794},{"$f":"IF(O153>'2 Descrizione Progetto'!$D$22,\"\",SUM(O154:O163))","v":""},{"$f":"IF(P153>'2 Descrizione Progetto'!$D$22,\"\",SUM(P154:P163))","v":""},{"$f":"IF(Q153>'2 Descrizione Progetto'!$D$22,\"\",SUM(Q154:Q163))","v":""},{"$f":"IF(R153>'2 Descrizione Progetto'!$D$22,\"\",SUM(R154:R163))","v":""},{"$f":"IF(S153>'2 Descrizione Progetto'!$D$22,\"\",SUM(S154:S163))","v":""},{"$f":"IF(T153>'2 Descrizione Progetto'!$D$22,\"\",SUM(T154:T163))","v":""},{"$f":"IF(U153>'2 Descrizione Progetto'!$D$22,\"\",SUM(U154:U163))","v":""},{"$f":"IF(V153>'2 Descrizione Progetto'!$D$22,\"\",SUM(V154:V163))","v":""},{"$f":"IF(W153>'2 Descrizione Progetto'!$D$22,\"\",SUM(W154:W163))","v":""},{"$f":"IF(X153>'2 Descrizione Progetto'!$D$22,\"\",SUM(X154:X163))","v":""},{"$f":"IF(Y153>'2 Descrizione Progetto'!$D$22,\"\",SUM(Y154:Y163))","v":""},{"$f":"IF(Z153>'2 Descrizione Progetto'!$D$22,\"\",SUM(Z154:Z163))","v":""},{"$f":"IF(AA153>'2 Descrizione Progetto'!$D$22,\"\",SUM(AA154:AA163))","v":""},{"$f":"IF(AB153>'2 Descrizione Progetto'!$D$22,\"\",SUM(AB154:AB163))","v":""},{"$f":"IF(AC153>'2 Descrizione Progetto'!$D$22,\"\",SUM(AC154:AC163))","v":""},{"$f":"IF(AD153>'2 Descrizione Progetto'!$D$22,\"\",SUM(AD154:AD163))","v":""},{"$f":"IF(AE153>'2 Descrizione Progetto'!$D$22,\"\",SUM(AE154:AE163))","v":""},{"$f":"IF(AF153>'2 Descrizione Progetto'!$D$22,\"\",SUM(AF154:AF163))","v":""},{"$f":"IF(AG153>'2 Descrizione Progetto'!$D$22,\"\",SUM(AG154:AG163))","v":""},{"$f":"IF(AH153>'2 Descrizione Progetto'!$D$22,\"\",SUM(AH154:AH163))","v":""},{"$f":"IF(AI153>'2 Descrizione Progetto'!$D$22,\"\",SUM(AI154:AI163))","v":""},{"$f":"IF(AJ153>'2 Descrizione Progetto'!$D$22,\"\",SUM(AJ154:AJ163))","v":""},{"$f":"IF(AK153>'2 Descrizione Progetto'!$D$22,\"\",SUM(AK154:AK163))","v":""},{"$f":"IF(AL153>'2 Descrizione Progetto'!$D$22,\"\",SUM(AL154:AL163))","v":""},{"$f":"IF(AM153>'2 Descrizione Progetto'!$D$22,\"\",SUM(AM154:AM163))","v":""},{"$f":"IF(AN153>'2 Descrizione Progetto'!$D$22,\"\",SUM(AN154:AN163))","v":""},{"$f":"IF(AO153>'2 Descrizione Progetto'!$D$22,\"\",SUM(AO154:AO163))","v":""},{"$f":"IF(AP153>'2 Descrizione Progetto'!$D$22,\"\",SUM(AP154:AP163))","v":""},{"$f":"IF(AQ153>'2 Descrizione Progetto'!$D$22,\"\",SUM(AQ154:AQ163))","v":""},{"$f":"IF(AR153>'2 Descrizione Progetto'!$D$22,\"\",SUM(AR154:AR163))","v":""},{"$f":"IF(AS153>'2 Descrizione Progetto'!$D$22,\"\",SUM(AS154:AS163))","v":""},{"$f":"IF(AT153>'2 Descrizione Progetto'!$D$22,\"\",SUM(AT154:AT163))","v":""},{"$f":"IF(AU153>'2 Descrizione Progetto'!$D$22,\"\",SUM(AU154:AU163))","v":""},{"$f":"IF(AV153>'2 Descrizione Progetto'!$D$22,\"\",SUM(AV154:AV163))","v":""},{"$f":"IF(AW153>'2 Descrizione Progetto'!$D$22,\"\",SUM(AW154:AW163))","v":""},{"$f":"IF(AX153>'2 Descrizione Progetto'!$D$22,\"\",SUM(AX154:AX163))","v":""},{"$f":"IF(AY153>'2 Descrizione Progetto'!$D$22,\"\",SUM(AY154:AY163))","v":""},{"$f":"IF(AZ153>'2 Descrizione Progetto'!$D$22,\"\",SUM(AZ154:AZ163))","v":""},{"$f":"IF(BA153>'2 Descrizione Progetto'!$D$22,\"\",SUM(BA154:BA163))","v":""},{"$f":"IF(BB153>'2 Descrizione Progetto'!$D$22,\"\",SUM(BB154:BB163))","v":""},{"$f":"IF(BC153>'2 Descrizione Progetto'!$D$22,\"\",SUM(BC154:BC163))","v":""},{"$f":"IF(BD153>'2 Descrizione Progetto'!$D$22,\"\",SUM(BD154:BD163))","v":""},{"$f":"IF(BE153>'2 Descrizione Progetto'!$D$22,\"\",SUM(BE154:BE163))","v":""},{"$f":"IF(BF153>'2 Descrizione Progetto'!$D$22,\"\",SUM(BF154:BF163))","v":""},{"$f":"IF(BG153>'2 Descrizione Progetto'!$D$22,\"\",SUM(BG154:BG163))","v":""},{"$f":"IF(BH153>'2 Descrizione Progetto'!$D$22,\"\",SUM(BH154:BH163))","v":""},{"$f":"IF(BI153>'2 Descrizione Progetto'!$D$22,\"\",SUM(BI154:BI163))","v":""},{"$f":"IF(BJ153>'2 Descrizione Progetto'!$D$22,\"\",SUM(BJ154:BJ163))","v":""},{"$f":"IF(BK153>'2 Descrizione Progetto'!$D$22,\"\",SUM(BK154:BK163))","v":""},{"$f":"IF(BL153>'2 Descrizione Progetto'!$D$22,\"\",SUM(BL154:BL163))","v":""},{"$f":"SUM(E164:BL164)","v":4527622.0971056474}]
[null,null,"dinamica ricavi tariffari  ","var perc","-",{"$f":"IF(ISERROR((F164-E164)/E164),\"\",IF(E164=0,0,(F164-E164)/E164))","v":0.1273917451122375},0.13541022012578607,2.0000000000000014E-2,1.9999999999999945E-2,0.02,2.0000000000000153E-2,2.0000000000000025E-2,2.0000000000000108E-2,1.9999999999999889E-2,"","","","","","","","","","","","","","","","","","","","","","","","","","","","","","","","","","","","","","","","","","","","","","","","","",""]
[]
[]
[null,null,"Profilo Scelto - QUANTITA'","Servizio",{"$f":"'2 Descrizione Progetto'!$D$20","v":1},{"$f":"IF(E168=\"anno esterno\",\"anno esterno\",IF(E168+1<='2 Descrizione Progetto'!$D$22,E168+1,\"anno esterno\"))","v":2},{"$f":"IF(F168=\"anno esterno\",\"anno esterno\",IF(F168+1<='2 Descrizione Progetto'!$D$22,F168+1,\"anno esterno\"))","v":3},{"$f":"IF(G168=\"anno esterno\",\"anno esterno\",IF(G168+1<='2 Descrizione Progetto'!$D$22,G168+1,\"anno esterno\"))","v":4},{"$f":"IF(H168=\"anno esterno\",\"anno esterno\",IF(H168+1<='2 Descrizione Progetto'!$D$22,H168+1,\"anno esterno\"))","v":5},{"$f":"IF(I168=\"anno esterno\",\"anno esterno\",IF(I168+1<='2 Descrizione Progetto'!$D$22,I168+1,\"anno esterno\"))","v":6},{"$f":"IF(J168=\"anno esterno\",\"anno esterno\",IF(J168+1<='2 Descrizione Progetto'!$D$22,J168+1,\"anno esterno\"))","v":7},{"$f":"IF(K168=\"anno esterno\",\"anno esterno\",IF(K168+1<='2 Descrizione Progetto'!$D$22,K168+1,\"anno esterno\"))","v":8},{"$f":"IF(L168=\"anno esterno\",\"anno esterno\",IF(L168+1<='2 Descrizione Progetto'!$D$22,L168+1,\"anno esterno\"))","v":9},{"$f":"IF(M168=\"anno esterno\",\"anno esterno\",IF(M168+1<='2 Descrizione Progetto'!$D$22,M168+1,\"anno esterno\"))","v":10},{"$f":"IF(N168=\"anno esterno\",\"anno esterno\",IF(N168+1<='2 Descrizione Progetto'!$D$22,N168+1,\"anno esterno\"))","v":"anno esterno"},{"$f":"IF(O168=\"anno esterno\",\"anno esterno\",IF(O168+1<='2 Descrizione Progetto'!$D$22,O168+1,\"anno esterno\"))","v":"anno esterno"},{"$f":"IF(P168=\"anno esterno\",\"anno esterno\",IF(P168+1<='2 Descrizione Progetto'!$D$22,P168+1,\"anno esterno\"))","v":"anno esterno"},{"$f":"IF(Q168=\"anno esterno\",\"anno esterno\",IF(Q168+1<='2 Descrizione Progetto'!$D$22,Q168+1,\"anno esterno\"))","v":"anno esterno"},{"$f":"IF(R168=\"anno esterno\",\"anno esterno\",IF(R168+1<='2 Descrizione Progetto'!$D$22,R168+1,\"anno esterno\"))","v":"anno esterno"},{"$f":"IF(S168=\"anno esterno\",\"anno esterno\",IF(S168+1<='2 Descrizione Progetto'!$D$22,S168+1,\"anno esterno\"))","v":"anno esterno"},{"$f":"IF(T168=\"anno esterno\",\"anno esterno\",IF(T168+1<='2 Descrizione Progetto'!$D$22,T168+1,\"anno esterno\"))","v":"anno esterno"},{"$f":"IF(U168=\"anno esterno\",\"anno esterno\",IF(U168+1<='2 Descrizione Progetto'!$D$22,U168+1,\"anno esterno\"))","v":"anno esterno"},{"$f":"IF(V168=\"anno esterno\",\"anno esterno\",IF(V168+1<='2 Descrizione Progetto'!$D$22,V168+1,\"anno esterno\"))","v":"anno esterno"},{"$f":"IF(W168=\"anno esterno\",\"anno esterno\",IF(W168+1<='2 Descrizione Progetto'!$D$22,W168+1,\"anno esterno\"))","v":"anno esterno"},{"$f":"IF(X168=\"anno esterno\",\"anno esterno\",IF(X168+1<='2 Descrizione Progetto'!$D$22,X168+1,\"anno esterno\"))","v":"anno esterno"},{"$f":"IF(Y168=\"anno esterno\",\"anno esterno\",IF(Y168+1<='2 Descrizione Progetto'!$D$22,Y168+1,\"anno esterno\"))","v":"anno esterno"},{"$f":"IF(Z168=\"anno esterno\",\"anno esterno\",IF(Z168+1<='2 Descrizione Progetto'!$D$22,Z168+1,\"anno esterno\"))","v":"anno esterno"},{"$f":"IF(AA168=\"anno esterno\",\"anno esterno\",IF(AA168+1<='2 Descrizione Progetto'!$D$22,AA168+1,\"anno esterno\"))","v":"anno esterno"},{"$f":"IF(AB168=\"anno esterno\",\"anno esterno\",IF(AB168+1<='2 Descrizione Progetto'!$D$22,AB168+1,\"anno esterno\"))","v":"anno esterno"},{"$f":"IF(AC168=\"anno esterno\",\"anno esterno\",IF(AC168+1<='2 Descrizione Progetto'!$D$22,AC168+1,\"anno esterno\"))","v":"anno esterno"},{"$f":"IF(AD168=\"anno esterno\",\"anno esterno\",IF(AD168+1<='2 Descrizione Progetto'!$D$22,AD168+1,\"anno esterno\"))","v":"anno esterno"},{"$f":"IF(AE168=\"anno esterno\",\"anno esterno\",IF(AE168+1<='2 Descrizione Progetto'!$D$22,AE168+1,\"anno esterno\"))","v":"anno esterno"},{"$f":"IF(AF168=\"anno esterno\",\"anno esterno\",IF(AF168+1<='2 Descrizione Progetto'!$D$22,AF168+1,\"anno esterno\"))","v":"anno esterno"},{"$f":"IF(AG168=\"anno esterno\",\"anno esterno\",IF(AG168+1<='2 Descrizione Progetto'!$D$22,AG168+1,\"anno esterno\"))","v":"anno esterno"},{"$f":"IF(AH168=\"anno esterno\",\"anno esterno\",IF(AH168+1<='2 Descrizione Progetto'!$D$22,AH168+1,\"anno esterno\"))","v":"anno esterno"},{"$f":"IF(AI168=\"anno esterno\",\"anno esterno\",IF(AI168+1<='2 Descrizione Progetto'!$D$22,AI168+1,\"anno esterno\"))","v":"anno esterno"},{"$f":"IF(AJ168=\"anno esterno\",\"anno esterno\",IF(AJ168+1<='2 Descrizione Progetto'!$D$22,AJ168+1,\"anno esterno\"))","v":"anno esterno"},{"$f":"IF(AK168=\"anno esterno\",\"anno esterno\",IF(AK168+1<='2 Descrizione Progetto'!$D$22,AK168+1,\"anno esterno\"))","v":"anno esterno"},{"$f":"IF(AL168=\"anno esterno\",\"anno esterno\",IF(AL168+1<='2 Descrizione Progetto'!$D$22,AL168+1,\"anno esterno\"))","v":"anno esterno"},{"$f":"IF(AM168=\"anno esterno\",\"anno esterno\",IF(AM168+1<='2 Descrizione Progetto'!$D$22,AM168+1,\"anno esterno\"))","v":"anno esterno"},{"$f":"IF(AN168=\"anno esterno\",\"anno esterno\",IF(AN168+1<='2 Descrizione Progetto'!$D$22,AN168+1,\"anno esterno\"))","v":"anno esterno"},{"$f":"IF(AO168=\"anno esterno\",\"anno esterno\",IF(AO168+1<='2 Descrizione Progetto'!$D$22,AO168+1,\"anno esterno\"))","v":"anno esterno"},{"$f":"IF(AP168=\"anno esterno\",\"anno esterno\",IF(AP168+1<='2 Descrizione Progetto'!$D$22,AP168+1,\"anno esterno\"))","v":"anno esterno"},{"$f":"IF(AQ168=\"anno esterno\",\"anno esterno\",IF(AQ168+1<='2 Descrizione Progetto'!$D$22,AQ168+1,\"anno esterno\"))","v":"anno esterno"},{"$f":"IF(AR168=\"anno esterno\",\"anno esterno\",IF(AR168+1<='2 Descrizione Progetto'!$D$22,AR168+1,\"anno esterno\"))","v":"anno esterno"},{"$f":"IF(AS168=\"anno esterno\",\"anno esterno\",IF(AS168+1<='2 Descrizione Progetto'!$D$22,AS168+1,\"anno esterno\"))","v":"anno esterno"},{"$f":"IF(AT168=\"anno esterno\",\"anno esterno\",IF(AT168+1<='2 Descrizione Progetto'!$D$22,AT168+1,\"anno esterno\"))","v":"anno esterno"},{"$f":"IF(AU168=\"anno esterno\",\"anno esterno\",IF(AU168+1<='2 Descrizione Progetto'!$D$22,AU168+1,\"anno esterno\"))","v":"anno esterno"},{"$f":"IF(AV168=\"anno esterno\",\"anno esterno\",IF(AV168+1<='2 Descrizione Progetto'!$D$22,AV168+1,\"anno esterno\"))","v":"anno esterno"},{"$f":"IF(AW168=\"anno esterno\",\"anno esterno\",IF(AW168+1<='2 Descrizione Progetto'!$D$22,AW168+1,\"anno esterno\"))","v":"anno esterno"},{"$f":"IF(AX168=\"anno esterno\",\"anno esterno\",IF(AX168+1<='2 Descrizione Progetto'!$D$22,AX168+1,\"anno esterno\"))","v":"anno esterno"},{"$f":"IF(AY168=\"anno esterno\",\"anno esterno\",IF(AY168+1<='2 Descrizione Progetto'!$D$22,AY168+1,\"anno esterno\"))","v":"anno esterno"},{"$f":"IF(AZ168=\"anno esterno\",\"anno esterno\",IF(AZ168+1<='2 Descrizione Progetto'!$D$22,AZ168+1,\"anno esterno\"))","v":"anno esterno"},{"$f":"IF(BA168=\"anno esterno\",\"anno esterno\",IF(BA168+1<='2 Descrizione Progetto'!$D$22,BA168+1,\"anno esterno\"))","v":"anno esterno"},{"$f":"IF(BB168=\"anno esterno\",\"anno esterno\",IF(BB168+1<='2 Descrizione Progetto'!$D$22,BB168+1,\"anno esterno\"))","v":"anno esterno"},{"$f":"IF(BC168=\"anno esterno\",\"anno esterno\",IF(BC168+1<='2 Descrizione Progetto'!$D$22,BC168+1,\"anno esterno\"))","v":"anno esterno"},{"$f":"IF(BD168=\"anno esterno\",\"anno esterno\",IF(BD168+1<='2 Descrizione Progetto'!$D$22,BD168+1,\"anno esterno\"))","v":"anno esterno"},{"$f":"IF(BE168=\"anno esterno\",\"anno esterno\",IF(BE168+1<='2 Descrizione Progetto'!$D$22,BE168+1,\"anno esterno\"))","v":"anno esterno"},{"$f":"IF(BF168=\"anno esterno\",\"anno esterno\",IF(BF168+1<='2 Descrizione Progetto'!$D$22,BF168+1,\"anno esterno\"))","v":"anno esterno"},{"$f":"IF(BG168=\"anno esterno\",\"anno esterno\",IF(BG168+1<='2 Descrizione Progetto'!$D$22,BG168+1,\"anno esterno\"))","v":"anno esterno"},{"$f":"IF(BH168=\"anno esterno\",\"anno esterno\",IF(BH168+1<='2 Descrizione Progetto'!$D$22,BH168+1,\"anno esterno\"))","v":"anno esterno"},{"$f":"IF(BI168=\"anno esterno\",\"anno esterno\",IF(BI168+1<='2 Descrizione Progetto'!$D$22,BI168+1,\"anno esterno\"))","v":"anno esterno"},{"$f":"IF(BJ168=\"anno esterno\",\"anno esterno\",IF(BJ168+1<='2 Descrizione Progetto'!$D$22,BJ168+1,\"anno esterno\"))","v":"anno esterno"},{"$f":"IF(BK168=\"anno esterno\",\"anno esterno\",IF(BK168+1<='2 Descrizione Progetto'!$D$22,BK168+1,\"anno esterno\"))","v":"anno esterno"}]
[null,1,{"$f":"D154","v":"Profilo standard"},"Servizio 1",{"$f":"IF(E168>'2 Descrizione Progetto'!$D$22,\"\",IF($D$154=\"Profilo standard\",E42,D97))","v":265400},{"$f":"IF(F168>'2 Descrizione Progetto'!$D$22,\"\",IF($D$154=\"Profilo standard\",F42,E97))","v":285300},{"$f":"IF(G168>'2 Descrizione Progetto'!$D$22,\"\",IF($D$154=\"Profilo standard\",G42,F97))","v":308481},{"$f":"IF(H168>'2 Descrizione Progetto'!$D$22,\"\",IF($D$154=\"Profilo standard\",H42,G97))","v":308481},{"$f":"IF(I168>'2 Descrizione Progetto'!$D$22,\"\",IF($D$154=\"Profilo standard\",I42,H97))","v":308481},{"$f":"IF(J168>'2 Descrizione Progetto'!$D$22,\"\",IF($D$154=\"Profilo standard\",J42,I97))","v":308481},{"$f":"IF(K168>'2 Descrizione Progetto'!$D$22,\"\",IF($D$154=\"Profilo standard\",K42,J97))","v":308481},{"$f":"IF(L168>'2 Descrizione Progetto'!$D$22,\"\",IF($D$154=\"Profilo standard\",L42,K97))","v":308481},{"$f":"IF(M168>'2 Descrizione Progetto'!$D$22,\"\",IF($D$154=\"Profilo standard\",M42,L97))","v":308481},{"$f":"IF(N168>'2 Descrizione Progetto'!$D$22,\"\",IF($D$154=\"Profilo standard\",N42,M97))","v":308481},{"$f":"IF(O168>'2 Descrizione Progetto'!$D$22,\"\",IF($D$154=\"Profilo standard\",O42,N97))","v":""},{"$f":"IF(P168>'2 Descrizione Progetto'!$D$22,\"\",IF($D$154=\"Profilo standard\",P42,O97))","v":""},{"$f":"IF(Q168>'2 Descrizione Progetto'!$D$22,\"\",IF($D$154=\"Profilo standard\",Q42,P97))","v":""},{"$f":"IF(R168>'2 Descrizione Progetto'!$D$22,\"\",IF($D$154=\"Profilo standard\",R42,Q97))","v":""},{"$f":"IF(S168>'2 Descrizione Progetto'!$D$22,\"\",IF($D$154=\"Profilo standard\",S42,R97))","v":""},{"$f":"IF(T168>'2 Descrizione Progetto'!$D$22,\"\",IF($D$154=\"Profilo standard\",T42,S97))","v":""},{"$f":"IF(U168>'2 Descrizione Progetto'!$D$22,\"\",IF($D$154=\"Profilo standard\",U42,T97))","v":""},{"$f":"IF(V168>'2 Descrizione Progetto'!$D$22,\"\",IF($D$154=\"Profilo standard\",V42,U97))","v":""},{"$f":"IF(W168>'2 Descrizione Progetto'!$D$22,\"\",IF($D$154=\"Profilo standard\",W42,V97))","v":""},{"$f":"IF(X168>'2 Descrizione Progetto'!$D$22,\"\",IF($D$154=\"Profilo standard\",X42,W97))","v":""},{"$f":"IF(Y168>'2 Descrizione Progetto'!$D$22,\"\",IF($D$154=\"Profilo standard\",Y42,X97))","v":""},{"$f":"IF(Z168>'2 Descrizione Progetto'!$D$22,\"\",IF($D$154=\"Profilo standard\",Z42,Y97))","v":""},{"$f":"IF(AA168>'2 Descrizione Progetto'!$D$22,\"\",IF($D$154=\"Profilo standard\",AA42,Z97))","v":""},{"$f":"IF(AB168>'2 Descrizione Progetto'!$D$22,\"\",IF($D$154=\"Profilo standard\",AB42,AA97))","v":""},{"$f":"IF(AC168>'2 Descrizione Progetto'!$D$22,\"\",IF($D$154=\"Profilo standard\",AC42,AB97))","v":""},{"$f":"IF(AD168>'2 Descrizione Progetto'!$D$22,\"\",IF($D$154=\"Profilo standard\",AD42,AC97))","v":""},{"$f":"IF(AE168>'2 Descrizione Progetto'!$D$22,\"\",IF($D$154=\"Profilo standard\",AE42,AD97))","v":""},{"$f":"IF(AF168>'2 Descrizione Progetto'!$D$22,\"\",IF($D$154=\"Profilo standard\",AF42,AE97))","v":""},{"$f":"IF(AG168>'2 Descrizione Progetto'!$D$22,\"\",IF($D$154=\"Profilo standard\",AG42,AF97))","v":""},{"$f":"IF(AH168>'2 Descrizione Progetto'!$D$22,\"\",IF($D$154=\"Profilo standard\",AH42,AG97))","v":""},{"$f":"IF(AI168>'2 Descrizione Progetto'!$D$22,\"\",IF($D$154=\"Profilo standard\",AI42,AH97))","v":""},{"$f":"IF(AJ168>'2 Descrizione Progetto'!$D$22,\"\",IF($D$154=\"Profilo standard\",AJ42,AI97))","v":""},{"$f":"IF(AK168>'2 Descrizione Progetto'!$D$22,\"\",IF($D$154=\"Profilo standard\",AK42,AJ97))","v":""},{"$f":"IF(AL168>'2 Descrizione Progetto'!$D$22,\"\",IF($D$154=\"Profilo standard\",AL42,AK97))","v":""},{"$f":"IF(AM168>'2 Descrizione Progetto'!$D$22,\"\",IF($D$154=\"Profilo standard\",AM42,AL97))","v":""},{"$f":"IF(AN168>'2 Descrizione Progetto'!$D$22,\"\",IF($D$154=\"Profilo standard\",AN42,AM97))","v":""},{"$f":"IF(AO168>'2 Descrizione Progetto'!$D$22,\"\",IF($D$154=\"Profilo standard\",AO42,AN97))","v":""},{"$f":"IF(AP168>'2 Descrizione Progetto'!$D$22,\"\",IF($D$154=\"Profilo standard\",AP42,AO97))","v":""},{"$f":"IF(AQ168>'2 Descrizione Progetto'!$D$22,\"\",IF($D$154=\"Profilo standard\",AQ42,AP97))","v":""},{"$f":"IF(AR168>'2 Descrizione Progetto'!$D$22,\"\",IF($D$154=\"Profilo standard\",AR42,AQ97))","v":""},{"$f":"IF(AS168>'2 Descrizione Progetto'!$D$22,\"\",IF($D$154=\"Profilo standard\",AS42,AR97))","v":""},{"$f":"IF(AT168>'2 Descrizione Progetto'!$D$22,\"\",IF($D$154=\"Profilo standard\",AT42,AS97))","v":""},{"$f":"IF(AU168>'2 Descrizione Progetto'!$D$22,\"\",IF($D$154=\"Profilo standard\",AU42,AT97))","v":""},{"$f":"IF(AV168>'2 Descrizione Progetto'!$D$22,\"\",IF($D$154=\"Profilo standard\",AV42,AU97))","v":""},{"$f":"IF(AW168>'2 Descrizione Progetto'!$D$22,\"\",IF($D$154=\"Profilo standard\",AW42,AV97))","v":""},{"$f":"IF(AX168>'2 Descrizione Progetto'!$D$22,\"\",IF($D$154=\"Profilo standard\",AX42,AW97))","v":""},{"$f":"IF(AY168>'2 Descrizione Progetto'!$D$22,\"\",IF($D$154=\"Profilo standard\",AY42,AX97))","v":""},{"$f":"IF(AZ168>'2 Descrizione Progetto'!$D$22,\"\",IF($D$154=\"Profilo standard\",AZ42,AY97))","v":""},{"$f":"IF(BA168>'2 Descrizione Progetto'!$D$22,\"\",IF($D$154=\"Profilo standard\",BA42,AZ97))","v":""},{"$f":"IF(BB168>'2 Descrizione Progetto'!$D$22,\"\",IF($D$154=\"Profilo standard\",BB42,BA97))","v":""},{"$f":"IF(BC168>'2 Descrizione Progetto'!$D$22,\"\",IF($D$154=\"Profilo standard\",BC42,BB97))","v":""},{"$f":"IF(BD168>'2 Descrizione Progetto'!$D$22,\"\",IF($D$154=\"Profilo standard\",BD42,BC97))","v":""},{"$f":"IF(BE168>'2 Descrizione Progetto'!$D$22,\"\",IF($D$154=\"Profilo standard\",BE42,BD97))","v":""},{"$f":"IF(BF168>'2 Descrizione Progetto'!$D$22,\"\",IF($D$154=\"Profilo standard\",BF42,BE97))","v":""},{"$f":"IF(BG168>'2 Descrizione Progetto'!$D$22,\"\",IF($D$154=\"Profilo standard\",BG42,BF97))","v":""},{"$f":"IF(BH168>'2 Descrizione Progetto'!$D$22,\"\",IF($D$154=\"Profilo standard\",BH42,BG97))","v":""},{"$f":"IF(BI168>'2 Descrizione Progetto'!$D$22,\"\",IF($D$154=\"Profilo standard\",BI42,BH97))","v":""},{"$f":"IF(BJ168>'2 Descrizione Progetto'!$D$22,\"\",IF($D$154=\"Profilo standard\",BJ42,BI97))","v":""},{"$f":"IF(BK168>'2 Descrizione Progetto'!$D$22,\"\",IF($D$154=\"Profilo standard\",BK42,BJ97))","v":""},{"$f":"IF(BL168>'2 Descrizione Progetto'!$D$22,\"\",IF($D$154=\"Profilo standard\",BL42,BK97))","v":""}]
[null,2,"Profilo standard","Servizio 2",{"$f":"IF(E168>'2 Descrizione Progetto'!$D$22,\"\",IF($D$155=\"Profilo standard\",E47,D102))","v":55250},{"$f":"IF(F168>'2 Descrizione Progetto'!$D$22,\"\",IF($D$155=\"Profilo standard\",F47,E102))","v":64300},{"$f":"IF(G168>'2 Descrizione Progetto'!$D$22,\"\",IF($D$155=\"Profilo standard\",G47,F102))","v":77096},{"$f":"IF(H168>'2 Descrizione Progetto'!$D$22,\"\",IF($D$155=\"Profilo standard\",H47,G102))","v":77096},{"$f":"IF(I168>'2 Descrizione Progetto'!$D$22,\"\",IF($D$155=\"Profilo standard\",I47,H102))","v":77096},{"$f":"IF(J168>'2 Descrizione Progetto'!$D$22,\"\",IF($D$155=\"Profilo standard\",J47,I102))","v":77096},{"$f":"IF(K168>'2 Descrizione Progetto'!$D$22,\"\",IF($D$155=\"Profilo standard\",K47,J102))","v":77096},{"$f":"IF(L168>'2 Descrizione Progetto'!$D$22,\"\",IF($D$155=\"Profilo standard\",L47,K102))","v":77096},{"$f":"IF(M168>'2 Descrizione Progetto'!$D$22,\"\",IF($D$155=\"Profilo standard\",M47,L102))","v":77096},{"$f":"IF(N168>'2 Descrizione Progetto'!$D$22,\"\",IF($D$155=\"Profilo standard\",N47,M102))","v":77096},{"$f":"IF(O168>'2 Descrizione Progetto'!$D$22,\"\",IF($D$155=\"Profilo standard\",O47,N102))","v":""},{"$f":"IF(P168>'2 Descrizione Progetto'!$D$22,\"\",IF($D$155=\"Profilo standard\",P47,O102))","v":""},{"$f":"IF(Q168>'2 Descrizione Progetto'!$D$22,\"\",IF($D$155=\"Profilo standard\",Q47,P102))","v":""},{"$f":"IF(R168>'2 Descrizione Progetto'!$D$22,\"\",IF($D$155=\"Profilo standard\",R47,Q102))","v":""},{"$f":"IF(S168>'2 Descrizione Progetto'!$D$22,\"\",IF($D$155=\"Profilo standard\",S47,R102))","v":""},{"$f":"IF(T168>'2 Descrizione Progetto'!$D$22,\"\",IF($D$155=\"Profilo standard\",T47,S102))","v":""},{"$f":"IF(U168>'2 Descrizione Progetto'!$D$22,\"\",IF($D$155=\"Profilo standard\",U47,T102))","v":""},{"$f":"IF(V168>'2 Descrizione Progetto'!$D$22,\"\",IF($D$155=\"Profilo standard\",V47,U102))","v":""},{"$f":"IF(W168>'2 Descrizione Progetto'!$D$22,\"\",IF($D$155=\"Profilo standard\",W47,V102))","v":""},{"$f":"IF(X168>'2 Descrizione Progetto'!$D$22,\"\",IF($D$155=\"Profilo standard\",X47,W102))","v":""},{"$f":"IF(Y168>'2 Descrizione Progetto'!$D$22,\"\",IF($D$155=\"Profilo standard\",Y47,X102))","v":""},{"$f":"IF(Z168>'2 Descrizione Progetto'!$D$22,\"\",IF($D$155=\"Profilo standard\",Z47,Y102))","v":""},{"$f":"IF(AA168>'2 Descrizione Progetto'!$D$22,\"\",IF($D$155=\"Profilo standard\",AA47,Z102))","v":""},{"$f":"IF(AB168>'2 Descrizione Progetto'!$D$22,\"\",IF($D$155=\"Profilo standard\",AB47,AA102))","v":""},{"$f":"IF(AC168>'2 Descrizione Progetto'!$D$22,\"\",IF($D$155=\"Profilo standard\",AC47,AB102))","v":""},{"$f":"IF(AD168>'2 Descrizione Progetto'!$D$22,\"\",IF($D$155=\"Profilo standard\",AD47,AC102))","v":""},{"$f":"IF(AE168>'2 Descrizione Progetto'!$D$22,\"\",IF($D$155=\"Profilo standard\",AE47,AD102))","v":""},{"$f":"IF(AF168>'2 Descrizione Progetto'!$D$22,\"\",IF($D$155=\"Profilo standard\",AF47,AE102))","v":""},{"$f":"IF(AG168>'2 Descrizione Progetto'!$D$22,\"\",IF($D$155=\"Profilo standard\",AG47,AF102))","v":""},{"$f":"IF(AH168>'2 Descrizione Progetto'!$D$22,\"\",IF($D$155=\"Profilo standard\",AH47,AG102))","v":""},{"$f":"IF(AI168>'2 Descrizione Progetto'!$D$22,\"\",IF($D$155=\"Profilo standard\",AI47,AH102))","v":""},{"$f":"IF(AJ168>'2 Descrizione Progetto'!$D$22,\"\",IF($D$155=\"Profilo standard\",AJ47,AI102))","v":""},{"$f":"IF(AK168>'2 Descrizione Progetto'!$D$22,\"\",IF($D$155=\"Profilo standard\",AK47,AJ102))","v":""},{"$f":"IF(AL168>'2 Descrizione Progetto'!$D$22,\"\",IF($D$155=\"Profilo standard\",AL47,AK102))","v":""},{"$f":"IF(AM168>'2 Descrizione Progetto'!$D$22,\"\",IF($D$155=\"Profilo standard\",AM47,AL102))","v":""},{"$f":"IF(AN168>'2 Descrizione Progetto'!$D$22,\"\",IF($D$155=\"Profilo standard\",AN47,AM102))","v":""},{"$f":"IF(AO168>'2 Descrizione Progetto'!$D$22,\"\",IF($D$155=\"Profilo standard\",AO47,AN102))","v":""},{"$f":"IF(AP168>'2 Descrizione Progetto'!$D$22,\"\",IF($D$155=\"Profilo standard\",AP47,AO102))","v":""},{"$f":"IF(AQ168>'2 Descrizione Progetto'!$D$22,\"\",IF($D$155=\"Profilo standard\",AQ47,AP102))","v":""},{"$f":"IF(AR168>'2 Descrizione Progetto'!$D$22,\"\",IF($D$155=\"Profilo standard\",AR47,AQ102))","v":""},{"$f":"IF(AS168>'2 Descrizione Progetto'!$D$22,\"\",IF($D$155=\"Profilo standard\",AS47,AR102))","v":""},{"$f":"IF(AT168>'2 Descrizione Progetto'!$D$22,\"\",IF($D$155=\"Profilo standard\",AT47,AS102))","v":""},{"$f":"IF(AU168>'2 Descrizione Progetto'!$D$22,\"\",IF($D$155=\"Profilo standard\",AU47,AT102))","v":""},{"$f":"IF(AV168>'2 Descrizione Progetto'!$D$22,\"\",IF($D$155=\"Profilo standard\",AV47,AU102))","v":""},{"$f":"IF(AW168>'2 Descrizione Progetto'!$D$22,\"\",IF($D$155=\"Profilo standard\",AW47,AV102))","v":""},{"$f":"IF(AX168>'2 Descrizione Progetto'!$D$22,\"\",IF($D$155=\"Profilo standard\",AX47,AW102))","v":""},{"$f":"IF(AY168>'2 Descrizione Progetto'!$D$22,\"\",IF($D$155=\"Profilo standard\",AY47,AX102))","v":""},{"$f":"IF(AZ168>'2 Descrizione Progetto'!$D$22,\"\",IF($D$155=\"Profilo standard\",AZ47,AY102))","v":""},{"$f":"IF(BA168>'2 Descrizione Progetto'!$D$22,\"\",IF($D$155=\"Profilo standard\",BA47,AZ102))","v":""},{"$f":"IF(BB168>'2 Descrizione Progetto'!$D$22,\"\",IF($D$155=\"Profilo standard\",BB47,BA102))","v":""},{"$f":"IF(BC168>'2 Descrizione Progetto'!$D$22,\"\",IF($D$155=\"Profilo standard\",BC47,BB102))","v":""},{"$f":"IF(BD168>'2 Descrizione Progetto'!$D$22,\"\",IF($D$155=\"Profilo standard\",BD47,BC102))","v":""},{"$f":"IF(BE168>'2 Descrizione Progetto'!$D$22,\"\",IF($D$155=\"Profilo standard\",BE47,BD102))","v":""},{"$f":"IF(BF168>'2 Descrizione Progetto'!$D$22,\"\",IF($D$155=\"Profilo standard\",BF47,BE102))","v":""},{"$f":"IF(BG168>'2 Descrizione Progetto'!$D$22,\"\",IF($D$155=\"Profilo standard\",BG47,BF102))","v":""},{"$f":"IF(BH168>'2 Descrizione Progetto'!$D$22,\"\",IF($D$155=\"Profilo standard\",BH47,BG102))","v":""},{"$f":"IF(BI168>'2 Descrizione Progetto'!$D$22,\"\",IF($D$155=\"Profilo standard\",BI47,BH102))","v":""},{"$f":"IF(BJ168>'2 Descrizione Progetto'!$D$22,\"\",IF($D$155=\"Profilo standard\",BJ47,BI102))","v":""},{"$f":"IF(BK168>'2 Descrizione Progetto'!$D$22,\"\",IF($D$155=\"Profilo standard\",BK47,BJ102))","v":""},{"$f":"IF(BL168>'2 Descrizione Progetto'!$D$22,\"\",IF($D$155=\"Profilo standard\",BL47,BK102))","v":""}]
[null,3,"Profilo standard","Servizio 3",{"$f":"IF(E168>'2 Descrizione Progetto'!$D$22,\"\",IF($D$156=\"Profilo standard\",E52,D107))","v":24600},{"$f":"IF(F168>'2 Descrizione Progetto'!$D$22,\"\",IF($D$156=\"Profilo standard\",F52,E107))","v":29500},{"$f":"IF(G168>'2 Descrizione Progetto'!$D$22,\"\",IF($D$156=\"Profilo standard\",G52,F107))","v":36700},{"$f":"IF(H168>'2 Descrizione Progetto'!$D$22,\"\",IF($D$156=\"Profilo standard\",H52,G107))","v":36700},{"$f":"IF(I168>'2 Descrizione Progetto'!$D$22,\"\",IF($D$156=\"Profilo standard\",I52,H107))","v":36700},{"$f":"IF(J168>'2 Descrizione Progetto'!$D$22,\"\",IF($D$156=\"Profilo standard\",J52,I107))","v":36700},{"$f":"IF(K168>'2 Descrizione Progetto'!$D$22,\"\",IF($D$156=\"Profilo standard\",K52,J107))","v":36700},{"$f":"IF(L168>'2 Descrizione Progetto'!$D$22,\"\",IF($D$156=\"Profilo standard\",L52,K107))","v":36700},{"$f":"IF(M168>'2 Descrizione Progetto'!$D$22,\"\",IF($D$156=\"Profilo standard\",M52,L107))","v":36700},{"$f":"IF(N168>'2 Descrizione Progetto'!$D$22,\"\",IF($D$156=\"Profilo standard\",N52,M107))","v":36700},{"$f":"IF(O168>'2 Descrizione Progetto'!$D$22,\"\",IF($D$156=\"Profilo standard\",O52,N107))","v":""},{"$f":"IF(P168>'2 Descrizione Progetto'!$D$22,\"\",IF($D$156=\"Profilo standard\",P52,O107))","v":""},{"$f":"IF(Q168>'2 Descrizione Progetto'!$D$22,\"\",IF($D$156=\"Profilo standard\",Q52,P107))","v":""},{"$f":"IF(R168>'2 Descrizione Progetto'!$D$22,\"\",IF($D$156=\"Profilo standard\",R52,Q107))","v":""},{"$f":"IF(S168>'2 Descrizione Progetto'!$D$22,\"\",IF($D$156=\"Profilo standard\",S52,R107))","v":""},{"$f":"IF(T168>'2 Descrizione Progetto'!$D$22,\"\",IF($D$156=\"Profilo standard\",T52,S107))","v":""},{"$f":"IF(U168>'2 Descrizione Progetto'!$D$22,\"\",IF($D$156=\"Profilo standard\",U52,T107))","v":""},{"$f":"IF(V168>'2 Descrizione Progetto'!$D$22,\"\",IF($D$156=\"Profilo standard\",V52,U107))","v":""},{"$f":"IF(W168>'2 Descrizione Progetto'!$D$22,\"\",IF($D$156=\"Profilo standard\",W52,V107))","v":""},{"$f":"IF(X168>'2 Descrizione Progetto'!$D$22,\"\",IF($D$156=\"Profilo standard\",X52,W107))","v":""},{"$f":"IF(Y168>'2 Descrizione Progetto'!$D$22,\"\",IF($D$156=\"Profilo standard\",Y52,X107))","v":""},{"$f":"IF(Z168>'2 Descrizione Progetto'!$D$22,\"\",IF($D$156=\"Profilo standard\",Z52,Y107))","v":""},{"$f":"IF(AA168>'2 Descrizione Progetto'!$D$22,\"\",IF($D$156=\"Profilo standard\",AA52,Z107))","v":""},{"$f":"IF(AB168>'2 Descrizione Progetto'!$D$22,\"\",IF($D$156=\"Profilo standard\",AB52,AA107))","v":""},{"$f":"IF(AC168>'2 Descrizione Progetto'!$D$22,\"\",IF($D$156=\"Profilo standard\",AC52,AB107))","v":""},{"$f":"IF(AD168>'2 Descrizione Progetto'!$D$22,\"\",IF($D$156=\"Profilo standard\",AD52,AC107))","v":""},{"$f":"IF(AE168>'2 Descrizione Progetto'!$D$22,\"\",IF($D$156=\"Profilo standard\",AE52,AD107))","v":""},{"$f":"IF(AF168>'2 Descrizione Progetto'!$D$22,\"\",IF($D$156=\"Profilo standard\",AF52,AE107))","v":""},{"$f":"IF(AG168>'2 Descrizione Progetto'!$D$22,\"\",IF($D$156=\"Profilo standard\",AG52,AF107))","v":""},{"$f":"IF(AH168>'2 Descrizione Progetto'!$D$22,\"\",IF($D$156=\"Profilo standard\",AH52,AG107))","v":""},{"$f":"IF(AI168>'2 Descrizione Progetto'!$D$22,\"\",IF($D$156=\"Profilo standard\",AI52,AH107))","v":""},{"$f":"IF(AJ168>'2 Descrizione Progetto'!$D$22,\"\",IF($D$156=\"Profilo standard\",AJ52,AI107))","v":""},{"$f":"IF(AK168>'2 Descrizione Progetto'!$D$22,\"\",IF($D$156=\"Profilo standard\",AK52,AJ107))","v":""},{"$f":"IF(AL168>'2 Descrizione Progetto'!$D$22,\"\",IF($D$156=\"Profilo standard\",AL52,AK107))","v":""},{"$f":"IF(AM168>'2 Descrizione Progetto'!$D$22,\"\",IF($D$156=\"Profilo standard\",AM52,AL107))","v":""},{"$f":"IF(AN168>'2 Descrizione Progetto'!$D$22,\"\",IF($D$156=\"Profilo standard\",AN52,AM107))","v":""},{"$f":"IF(AO168>'2 Descrizione Progetto'!$D$22,\"\",IF($D$156=\"Profilo standard\",AO52,AN107))","v":""},{"$f":"IF(AP168>'2 Descrizione Progetto'!$D$22,\"\",IF($D$156=\"Profilo standard\",AP52,AO107))","v":""},{"$f":"IF(AQ168>'2 Descrizione Progetto'!$D$22,\"\",IF($D$156=\"Profilo standard\",AQ52,AP107))","v":""},{"$f":"IF(AR168>'2 Descrizione Progetto'!$D$22,\"\",IF($D$156=\"Profilo standard\",AR52,AQ107))","v":""},{"$f":"IF(AS168>'2 Descrizione Progetto'!$D$22,\"\",IF($D$156=\"Profilo standard\",AS52,AR107))","v":""},{"$f":"IF(AT168>'2 Descrizione Progetto'!$D$22,\"\",IF($D$156=\"Profilo standard\",AT52,AS107))","v":""},{"$f":"IF(AU168>'2 Descrizione Progetto'!$D$22,\"\",IF($D$156=\"Profilo standard\",AU52,AT107))","v":""},{"$f":"IF(AV168>'2 Descrizione Progetto'!$D$22,\"\",IF($D$156=\"Profilo standard\",AV52,AU107))","v":""},{"$f":"IF(AW168>'2 Descrizione Progetto'!$D$22,\"\",IF($D$156=\"Profilo standard\",AW52,AV107))","v":""},{"$f":"IF(AX168>'2 Descrizione Progetto'!$D$22,\"\",IF($D$156=\"Profilo standard\",AX52,AW107))","v":""},{"$f":"IF(AY168>'2 Descrizione Progetto'!$D$22,\"\",IF($D$156=\"Profilo standard\",AY52,AX107))","v":""},{"$f":"IF(AZ168>'2 Descrizione Progetto'!$D$22,\"\",IF($D$156=\"Profilo standard\",AZ52,AY107))","v":""},{"$f":"IF(BA168>'2 Descrizione Progetto'!$D$22,\"\",IF($D$156=\"Profilo standard\",BA52,AZ107))","v":""},{"$f":"IF(BB168>'2 Descrizione Progetto'!$D$22,\"\",IF($D$156=\"Profilo standard\",BB52,BA107))","v":""},{"$f":"IF(BC168>'2 Descrizione Progetto'!$D$22,\"\",IF($D$156=\"Profilo standard\",BC52,BB107))","v":""},{"$f":"IF(BD168>'2 Descrizione Progetto'!$D$22,\"\",IF($D$156=\"Profilo standard\",BD52,BC107))","v":""},{"$f":"IF(BE168>'2 Descrizione Progetto'!$D$22,\"\",IF($D$156=\"Profilo standard\",BE52,BD107))","v":""},{"$f":"IF(BF168>'2 Descrizione Progetto'!$D$22,\"\",IF($D$156=\"Profilo standard\",BF52,BE107))","v":""},{"$f":"IF(BG168>'2 Descrizione Progetto'!$D$22,\"\",IF($D$156=\"Profilo standard\",BG52,BF107))","v":""},{"$f":"IF(BH168>'2 Descrizione Progetto'!$D$22,\"\",IF($D$156=\"Profilo standard\",BH52,BG107))","v":""},{"$f":"IF(BI168>'2 Descrizione Progetto'!$D$22,\"\",IF($D$156=\"Profilo standard\",BI52,BH107))","v":""},{"$f":"IF(BJ168>'2 Descrizione Progetto'!$D$22,\"\",IF($D$156=\"Profilo standard\",BJ52,BI107))","v":""},{"$f":"IF(BK168>'2 Descrizione Progetto'!$D$22,\"\",IF($D$156=\"Profilo standard\",BK52,BJ107))","v":""},{"$f":"IF(BL168>'2 Descrizione Progetto'!$D$22,\"\",IF($D$156=\"Profilo standard\",BL52,BK107))","v":""}]
[null,4,"Profilo standard","Servizio 4",{"$f":"IF(E168>'2 Descrizione Progetto'!$D$22,\"\",IF($D$157=\"Profilo standard\",E57,D112))","v":0},{"$f":"IF(F168>'2 Descrizione Progetto'!$D$22,\"\",IF($D$157=\"Profilo standard\",F57,E112))","v":2500},{"$f":"IF(G168>'2 Descrizione Progetto'!$D$22,\"\",IF($D$157=\"Profilo standard\",G57,F112))","v":2500},{"$f":"IF(H168>'2 Descrizione Progetto'!$D$22,\"\",IF($D$157=\"Profilo standard\",H57,G112))","v":2500},{"$f":"IF(I168>'2 Descrizione Progetto'!$D$22,\"\",IF($D$157=\"Profilo standard\",I57,H112))","v":2500},{"$f":"IF(J168>'2 Descrizione Progetto'!$D$22,\"\",IF($D$157=\"Profilo standard\",J57,I112))","v":2500},{"$f":"IF(K168>'2 Descrizione Progetto'!$D$22,\"\",IF($D$157=\"Profilo standard\",K57,J112))","v":2500},{"$f":"IF(L168>'2 Descrizione Progetto'!$D$22,\"\",IF($D$157=\"Profilo standard\",L57,K112))","v":2500},{"$f":"IF(M168>'2 Descrizione Progetto'!$D$22,\"\",IF($D$157=\"Profilo standard\",M57,L112))","v":2500},{"$f":"IF(N168>'2 Descrizione Progetto'!$D$22,\"\",IF($D$157=\"Profilo standard\",N57,M112))","v":2500},{"$f":"IF(O168>'2 Descrizione Progetto'!$D$22,\"\",IF($D$157=\"Profilo standard\",O57,N112))","v":""},{"$f":"IF(P168>'2 Descrizione Progetto'!$D$22,\"\",IF($D$157=\"Profilo standard\",P57,O112))","v":""},{"$f":"IF(Q168>'2 Descrizione Progetto'!$D$22,\"\",IF($D$157=\"Profilo standard\",Q57,P112))","v":""},{"$f":"IF(R168>'2 Descrizione Progetto'!$D$22,\"\",IF($D$157=\"Profilo standard\",R57,Q112))","v":""},{"$f":"IF(S168>'2 Descrizione Progetto'!$D$22,\"\",IF($D$157=\"Profilo standard\",S57,R112))","v":""},{"$f":"IF(T168>'2 Descrizione Progetto'!$D$22,\"\",IF($D$157=\"Profilo standard\",T57,S112))","v":""},{"$f":"IF(U168>'2 Descrizione Progetto'!$D$22,\"\",IF($D$157=\"Profilo standard\",U57,T112))","v":""},{"$f":"IF(V168>'2 Descrizione Progetto'!$D$22,\"\",IF($D$157=\"Profilo standard\",V57,U112))","v":""},{"$f":"IF(W168>'2 Descrizione Progetto'!$D$22,\"\",IF($D$157=\"Profilo standard\",W57,V112))","v":""},{"$f":"IF(X168>'2 Descrizione Progetto'!$D$22,\"\",IF($D$157=\"Profilo standard\",X57,W112))","v":""},{"$f":"IF(Y168>'2 Descrizione Progetto'!$D$22,\"\",IF($D$157=\"Profilo standard\",Y57,X112))","v":""},{"$f":"IF(Z168>'2 Descrizione Progetto'!$D$22,\"\",IF($D$157=\"Profilo standard\",Z57,Y112))","v":""},{"$f":"IF(AA168>'2 Descrizione Progetto'!$D$22,\"\",IF($D$157=\"Profilo standard\",AA57,Z112))","v":""},{"$f":"IF(AB168>'2 Descrizione Progetto'!$D$22,\"\",IF($D$157=\"Profilo standard\",AB57,AA112))","v":""},{"$f":"IF(AC168>'2 Descrizione Progetto'!$D$22,\"\",IF($D$157=\"Profilo standard\",AC57,AB112))","v":""},{"$f":"IF(AD168>'2 Descrizione Progetto'!$D$22,\"\",IF($D$157=\"Profilo standard\",AD57,AC112))","v":""},{"$f":"IF(AE168>'2 Descrizione Progetto'!$D$22,\"\",IF($D$157=\"Profilo standard\",AE57,AD112))","v":""},{"$f":"IF(AF168>'2 Descrizione Progetto'!$D$22,\"\",IF($D$157=\"Profilo standard\",AF57,AE112))","v":""},{"$f":"IF(AG168>'2 Descrizione Progetto'!$D$22,\"\",IF($D$157=\"Profilo standard\",AG57,AF112))","v":""},{"$f":"IF(AH168>'2 Descrizione Progetto'!$D$22,\"\",IF($D$157=\"Profilo standard\",AH57,AG112))","v":""},{"$f":"IF(AI168>'2 Descrizione Progetto'!$D$22,\"\",IF($D$157=\"Profilo standard\",AI57,AH112))","v":""},{"$f":"IF(AJ168>'2 Descrizione Progetto'!$D$22,\"\",IF($D$157=\"Profilo standard\",AJ57,AI112))","v":""},{"$f":"IF(AK168>'2 Descrizione Progetto'!$D$22,\"\",IF($D$157=\"Profilo standard\",AK57,AJ112))","v":""},{"$f":"IF(AL168>'2 Descrizione Progetto'!$D$22,\"\",IF($D$157=\"Profilo standard\",AL57,AK112))","v":""},{"$f":"IF(AM168>'2 Descrizione Progetto'!$D$22,\"\",IF($D$157=\"Profilo standard\",AM57,AL112))","v":""},{"$f":"IF(AN168>'2 Descrizione Progetto'!$D$22,\"\",IF($D$157=\"Profilo standard\",AN57,AM112))","v":""},{"$f":"IF(AO168>'2 Descrizione Progetto'!$D$22,\"\",IF($D$157=\"Profilo standard\",AO57,AN112))","v":""},{"$f":"IF(AP168>'2 Descrizione Progetto'!$D$22,\"\",IF($D$157=\"Profilo standard\",AP57,AO112))","v":""},{"$f":"IF(AQ168>'2 Descrizione Progetto'!$D$22,\"\",IF($D$157=\"Profilo standard\",AQ57,AP112))","v":""},{"$f":"IF(AR168>'2 Descrizione Progetto'!$D$22,\"\",IF($D$157=\"Profilo standard\",AR57,AQ112))","v":""},{"$f":"IF(AS168>'2 Descrizione Progetto'!$D$22,\"\",IF($D$157=\"Profilo standard\",AS57,AR112))","v":""},{"$f":"IF(AT168>'2 Descrizione Progetto'!$D$22,\"\",IF($D$157=\"Profilo standard\",AT57,AS112))","v":""},{"$f":"IF(AU168>'2 Descrizione Progetto'!$D$22,\"\",IF($D$157=\"Profilo standard\",AU57,AT112))","v":""},{"$f":"IF(AV168>'2 Descrizione Progetto'!$D$22,\"\",IF($D$157=\"Profilo standard\",AV57,AU112))","v":""},{"$f":"IF(AW168>'2 Descrizione Progetto'!$D$22,\"\",IF($D$157=\"Profilo standard\",AW57,AV112))","v":""},{"$f":"IF(AX168>'2 Descrizione Progetto'!$D$22,\"\",IF($D$157=\"Profilo standard\",AX57,AW112))","v":""},{"$f":"IF(AY168>'2 Descrizione Progetto'!$D$22,\"\",IF($D$157=\"Profilo standard\",AY57,AX112))","v":""},{"$f":"IF(AZ168>'2 Descrizione Progetto'!$D$22,\"\",IF($D$157=\"Profilo standard\",AZ57,AY112))","v":""},{"$f":"IF(BA168>'2 Descrizione Progetto'!$D$22,\"\",IF($D$157=\"Profilo standard\",BA57,AZ112))","v":""},{"$f":"IF(BB168>'2 Descrizione Progetto'!$D$22,\"\",IF($D$157=\"Profilo standard\",BB57,BA112))","v":""},{"$f":"IF(BC168>'2 Descrizione Progetto'!$D$22,\"\",IF($D$157=\"Profilo standard\",BC57,BB112))","v":""},{"$f":"IF(BD168>'2 Descrizione Progetto'!$D$22,\"\",IF($D$157=\"Profilo standard\",BD57,BC112))","v":""},{"$f":"IF(BE168>'2 Descrizione Progetto'!$D$22,\"\",IF($D$157=\"Profilo standard\",BE57,BD112))","v":""},{"$f":"IF(BF168>'2 Descrizione Progetto'!$D$22,\"\",IF($D$157=\"Profilo standard\",BF57,BE112))","v":""},{"$f":"IF(BG168>'2 Descrizione Progetto'!$D$22,\"\",IF($D$157=\"Profilo standard\",BG57,BF112))","v":""},{"$f":"IF(BH168>'2 Descrizione Progetto'!$D$22,\"\",IF($D$157=\"Profilo standard\",BH57,BG112))","v":""},{"$f":"IF(BI168>'2 Descrizione Progetto'!$D$22,\"\",IF($D$157=\"Profilo standard\",BI57,BH112))","v":""},{"$f":"IF(BJ168>'2 Descrizione Progetto'!$D$22,\"\",IF($D$157=\"Profilo standard\",BJ57,BI112))","v":""},{"$f":"IF(BK168>'2 Descrizione Progetto'!$D$22,\"\",IF($D$157=\"Profilo standard\",BK57,BJ112))","v":""},{"$f":"IF(BL168>'2 Descrizione Progetto'!$D$22,\"\",IF($D$157=\"Profilo standard\",BL57,BK112))","v":""}]
[null,5,"Profilo standard","Servizio 5",{"$f":"IF(E168>'2 Descrizione Progetto'!$D$22,\"\",IF($D$158=\"Profilo standard\",E62,D117))","v":0},{"$f":"IF(F168>'2 Descrizione Progetto'!$D$22,\"\",IF($D$158=\"Profilo standard\",F62,E117))","v":0},{"$f":"IF(G168>'2 Descrizione Progetto'!$D$22,\"\",IF($D$158=\"Profilo standard\",G62,F117))","v":0},{"$f":"IF(H168>'2 Descrizione Progetto'!$D$22,\"\",IF($D$158=\"Profilo standard\",H62,G117))","v":0},{"$f":"IF(I168>'2 Descrizione Progetto'!$D$22,\"\",IF($D$158=\"Profilo standard\",I62,H117))","v":0},{"$f":"IF(J168>'2 Descrizione Progetto'!$D$22,\"\",IF($D$158=\"Profilo standard\",J62,I117))","v":0},{"$f":"IF(K168>'2 Descrizione Progetto'!$D$22,\"\",IF($D$158=\"Profilo standard\",K62,J117))","v":0},{"$f":"IF(L168>'2 Descrizione Progetto'!$D$22,\"\",IF($D$158=\"Profilo standard\",L62,K117))","v":0},{"$f":"IF(M168>'2 Descrizione Progetto'!$D$22,\"\",IF($D$158=\"Profilo standard\",M62,L117))","v":0},{"$f":"IF(N168>'2 Descrizione Progetto'!$D$22,\"\",IF($D$158=\"Profilo standard\",N62,M117))","v":0},{"$f":"IF(O168>'2 Descrizione Progetto'!$D$22,\"\",IF($D$158=\"Profilo standard\",O62,N117))","v":""},{"$f":"IF(P168>'2 Descrizione Progetto'!$D$22,\"\",IF($D$158=\"Profilo standard\",P62,O117))","v":""},{"$f":"IF(Q168>'2 Descrizione Progetto'!$D$22,\"\",IF($D$158=\"Profilo standard\",Q62,P117))","v":""},{"$f":"IF(R168>'2 Descrizione Progetto'!$D$22,\"\",IF($D$158=\"Profilo standard\",R62,Q117))","v":""},{"$f":"IF(S168>'2 Descrizione Progetto'!$D$22,\"\",IF($D$158=\"Profilo standard\",S62,R117))","v":""},{"$f":"IF(T168>'2 Descrizione Progetto'!$D$22,\"\",IF($D$158=\"Profilo standard\",T62,S117))","v":""},{"$f":"IF(U168>'2 Descrizione Progetto'!$D$22,\"\",IF($D$158=\"Profilo standard\",U62,T117))","v":""},{"$f":"IF(V168>'2 Descrizione Progetto'!$D$22,\"\",IF($D$158=\"Profilo standard\",V62,U117))","v":""},{"$f":"IF(W168>'2 Descrizione Progetto'!$D$22,\"\",IF($D$158=\"Profilo standard\",W62,V117))","v":""},{"$f":"IF(X168>'2 Descrizione Progetto'!$D$22,\"\",IF($D$158=\"Profilo standard\",X62,W117))","v":""},{"$f":"IF(Y168>'2 Descrizione Progetto'!$D$22,\"\",IF($D$158=\"Profilo standard\",Y62,X117))","v":""},{"$f":"IF(Z168>'2 Descrizione Progetto'!$D$22,\"\",IF($D$158=\"Profilo standard\",Z62,Y117))","v":""},{"$f":"IF(AA168>'2 Descrizione Progetto'!$D$22,\"\",IF($D$158=\"Profilo standard\",AA62,Z117))","v":""},{"$f":"IF(AB168>'2 Descrizione Progetto'!$D$22,\"\",IF($D$158=\"Profilo standard\",AB62,AA117))","v":""},{"$f":"IF(AC168>'2 Descrizione Progetto'!$D$22,\"\",IF($D$158=\"Profilo standard\",AC62,AB117))","v":""},{"$f":"IF(AD168>'2 Descrizione Progetto'!$D$22,\"\",IF($D$158=\"Profilo standard\",AD62,AC117))","v":""},{"$f":"IF(AE168>'2 Descrizione Progetto'!$D$22,\"\",IF($D$158=\"Profilo standard\",AE62,AD117))","v":""},{"$f":"IF(AF168>'2 Descrizione Progetto'!$D$22,\"\",IF($D$158=\"Profilo standard\",AF62,AE117))","v":""},{"$f":"IF(AG168>'2 Descrizione Progetto'!$D$22,\"\",IF($D$158=\"Profilo standard\",AG62,AF117))","v":""},{"$f":"IF(AH168>'2 Descrizione Progetto'!$D$22,\"\",IF($D$158=\"Profilo standard\",AH62,AG117))","v":""},{"$f":"IF(AI168>'2 Descrizione Progetto'!$D$22,\"\",IF($D$158=\"Profilo standard\",AI62,AH117))","v":""},{"$f":"IF(AJ168>'2 Descrizione Progetto'!$D$22,\"\",IF($D$158=\"Profilo standard\",AJ62,AI117))","v":""},{"$f":"IF(AK168>'2 Descrizione Progetto'!$D$22,\"\",IF($D$158=\"Profilo standard\",AK62,AJ117))","v":""},{"$f":"IF(AL168>'2 Descrizione Progetto'!$D$22,\"\",IF($D$158=\"Profilo standard\",AL62,AK117))","v":""},{"$f":"IF(AM168>'2 Descrizione Progetto'!$D$22,\"\",IF($D$158=\"Profilo standard\",AM62,AL117))","v":""},{"$f":"IF(AN168>'2 Descrizione Progetto'!$D$22,\"\",IF($D$158=\"Profilo standard\",AN62,AM117))","v":""},{"$f":"IF(AO168>'2 Descrizione Progetto'!$D$22,\"\",IF($D$158=\"Profilo standard\",AO62,AN117))","v":""},{"$f":"IF(AP168>'2 Descrizione Progetto'!$D$22,\"\",IF($D$158=\"Profilo standard\",AP62,AO117))","v":""},{"$f":"IF(AQ168>'2 Descrizione Progetto'!$D$22,\"\",IF($D$158=\"Profilo standard\",AQ62,AP117))","v":""},{"$f":"IF(AR168>'2 Descrizione Progetto'!$D$22,\"\",IF($D$158=\"Profilo standard\",AR62,AQ117))","v":""},{"$f":"IF(AS168>'2 Descrizione Progetto'!$D$22,\"\",IF($D$158=\"Profilo standard\",AS62,AR117))","v":""},{"$f":"IF(AT168>'2 Descrizione Progetto'!$D$22,\"\",IF($D$158=\"Profilo standard\",AT62,AS117))","v":""},{"$f":"IF(AU168>'2 Descrizione Progetto'!$D$22,\"\",IF($D$158=\"Profilo standard\",AU62,AT117))","v":""},{"$f":"IF(AV168>'2 Descrizione Progetto'!$D$22,\"\",IF($D$158=\"Profilo standard\",AV62,AU117))","v":""},{"$f":"IF(AW168>'2 Descrizione Progetto'!$D$22,\"\",IF($D$158=\"Profilo standard\",AW62,AV117))","v":""},{"$f":"IF(AX168>'2 Descrizione Progetto'!$D$22,\"\",IF($D$158=\"Profilo standard\",AX62,AW117))","v":""},{"$f":"IF(AY168>'2 Descrizione Progetto'!$D$22,\"\",IF($D$158=\"Profilo standard\",AY62,AX117))","v":""},{"$f":"IF(AZ168>'2 Descrizione Progetto'!$D$22,\"\",IF($D$158=\"Profilo standard\",AZ62,AY117))","v":""},{"$f":"IF(BA168>'2 Descrizione Progetto'!$D$22,\"\",IF($D$158=\"Profilo standard\",BA62,AZ117))","v":""},{"$f":"IF(BB168>'2 Descrizione Progetto'!$D$22,\"\",IF($D$158=\"Profilo standard\",BB62,BA117))","v":""},{"$f":"IF(BC168>'2 Descrizione Progetto'!$D$22,\"\",IF($D$158=\"Profilo standard\",BC62,BB117))","v":""},{"$f":"IF(BD168>'2 Descrizione Progetto'!$D$22,\"\",IF($D$158=\"Profilo standard\",BD62,BC117))","v":""},{"$f":"IF(BE168>'2 Descrizione Progetto'!$D$22,\"\",IF($D$158=\"Profilo standard\",BE62,BD117))","v":""},{"$f":"IF(BF168>'2 Descrizione Progetto'!$D$22,\"\",IF($D$158=\"Profilo standard\",BF62,BE117))","v":""},{"$f":"IF(BG168>'2 Descrizione Progetto'!$D$22,\"\",IF($D$158=\"Profilo standard\",BG62,BF117))","v":""},{"$f":"IF(BH168>'2 Descrizione Progetto'!$D$22,\"\",IF($D$158=\"Profilo standard\",BH62,BG117))","v":""},{"$f":"IF(BI168>'2 Descrizione Progetto'!$D$22,\"\",IF($D$158=\"Profilo standard\",BI62,BH117))","v":""},{"$f":"IF(BJ168>'2 Descrizione Progetto'!$D$22,\"\",IF($D$158=\"Profilo standard\",BJ62,BI117))","v":""},{"$f":"IF(BK168>'2 Descrizione Progetto'!$D$22,\"\",IF($D$158=\"Profilo standard\",BK62,BJ117))","v":""},{"$f":"IF(BL168>'2 Descrizione Progetto'!$D$22,\"\",IF($D$158=\"Profilo standard\",BL62,BK117))","v":""}]
[null,6,"Profilo standard","Servizio 6",{"$f":"IF(E168>'2 Descrizione Progetto'!$D$22,\"\",IF($D$159=\"Profilo standard\",E67,D122))","v":0},{"$f":"IF(F168>'2 Descrizione Progetto'!$D$22,\"\",IF($D$159=\"Profilo standard\",F67,E122))","v":0},{"$f":"IF(G168>'2 Descrizione Progetto'!$D$22,\"\",IF($D$159=\"Profilo standard\",G67,F122))","v":0},{"$f":"IF(H168>'2 Descrizione Progetto'!$D$22,\"\",IF($D$159=\"Profilo standard\",H67,G122))","v":0},{"$f":"IF(I168>'2 Descrizione Progetto'!$D$22,\"\",IF($D$159=\"Profilo standard\",I67,H122))","v":0},{"$f":"IF(J168>'2 Descrizione Progetto'!$D$22,\"\",IF($D$159=\"Profilo standard\",J67,I122))","v":0},{"$f":"IF(K168>'2 Descrizione Progetto'!$D$22,\"\",IF($D$159=\"Profilo standard\",K67,J122))","v":0},{"$f":"IF(L168>'2 Descrizione Progetto'!$D$22,\"\",IF($D$159=\"Profilo standard\",L67,K122))","v":0},{"$f":"IF(M168>'2 Descrizione Progetto'!$D$22,\"\",IF($D$159=\"Profilo standard\",M67,L122))","v":0},{"$f":"IF(N168>'2 Descrizione Progetto'!$D$22,\"\",IF($D$159=\"Profilo standard\",N67,M122))","v":0},{"$f":"IF(O168>'2 Descrizione Progetto'!$D$22,\"\",IF($D$159=\"Profilo standard\",O67,N122))","v":""},{"$f":"IF(P168>'2 Descrizione Progetto'!$D$22,\"\",IF($D$159=\"Profilo standard\",P67,O122))","v":""},{"$f":"IF(Q168>'2 Descrizione Progetto'!$D$22,\"\",IF($D$159=\"Profilo standard\",Q67,P122))","v":""},{"$f":"IF(R168>'2 Descrizione Progetto'!$D$22,\"\",IF($D$159=\"Profilo standard\",R67,Q122))","v":""},{"$f":"IF(S168>'2 Descrizione Progetto'!$D$22,\"\",IF($D$159=\"Profilo standard\",S67,R122))","v":""},{"$f":"IF(T168>'2 Descrizione Progetto'!$D$22,\"\",IF($D$159=\"Profilo standard\",T67,S122))","v":""},{"$f":"IF(U168>'2 Descrizione Progetto'!$D$22,\"\",IF($D$159=\"Profilo standard\",U67,T122))","v":""},{"$f":"IF(V168>'2 Descrizione Progetto'!$D$22,\"\",IF($D$159=\"Profilo standard\",V67,U122))","v":""},{"$f":"IF(W168>'2 Descrizione Progetto'!$D$22,\"\",IF($D$159=\"Profilo standard\",W67,V122))","v":""},{"$f":"IF(X168>'2 Descrizione Progetto'!$D$22,\"\",IF($D$159=\"Profilo standard\",X67,W122))","v":""},{"$f":"IF(Y168>'2 Descrizione Progetto'!$D$22,\"\",IF($D$159=\"Profilo standard\",Y67,X122))","v":""},{"$f":"IF(Z168>'2 Descrizione Progetto'!$D$22,\"\",IF($D$159=\"Profilo standard\",Z67,Y122))","v":""},{"$f":"IF(AA168>'2 Descrizione Progetto'!$D$22,\"\",IF($D$159=\"Profilo standard\",AA67,Z122))","v":""},{"$f":"IF(AB168>'2 Descrizione Progetto'!$D$22,\"\",IF($D$159=\"Profilo standard\",AB67,AA122))","v":""},{"$f":"IF(AC168>'2 Descrizione Progetto'!$D$22,\"\",IF($D$159=\"Profilo standard\",AC67,AB122))","v":""},{"$f":"IF(AD168>'2 Descrizione Progetto'!$D$22,\"\",IF($D$159=\"Profilo standard\",AD67,AC122))","v":""},{"$f":"IF(AE168>'2 Descrizione Progetto'!$D$22,\"\",IF($D$159=\"Profilo standard\",AE67,AD122))","v":""},{"$f":"IF(AF168>'2 Descrizione Progetto'!$D$22,\"\",IF($D$159=\"Profilo standard\",AF67,AE122))","v":""},{"$f":"IF(AG168>'2 Descrizione Progetto'!$D$22,\"\",IF($D$159=\"Profilo standard\",AG67,AF122))","v":""},{"$f":"IF(AH168>'2 Descrizione Progetto'!$D$22,\"\",IF($D$159=\"Profilo standard\",AH67,AG122))","v":""},{"$f":"IF(AI168>'2 Descrizione Progetto'!$D$22,\"\",IF($D$159=\"Profilo standard\",AI67,AH122))","v":""},{"$f":"IF(AJ168>'2 Descrizione Progetto'!$D$22,\"\",IF($D$159=\"Profilo standard\",AJ67,AI122))","v":""},{"$f":"IF(AK168>'2 Descrizione Progetto'!$D$22,\"\",IF($D$159=\"Profilo standard\",AK67,AJ122))","v":""},{"$f":"IF(AL168>'2 Descrizione Progetto'!$D$22,\"\",IF($D$159=\"Profilo standard\",AL67,AK122))","v":""},{"$f":"IF(AM168>'2 Descrizione Progetto'!$D$22,\"\",IF($D$159=\"Profilo standard\",AM67,AL122))","v":""},{"$f":"IF(AN168>'2 Descrizione Progetto'!$D$22,\"\",IF($D$159=\"Profilo standard\",AN67,AM122))","v":""},{"$f":"IF(AO168>'2 Descrizione Progetto'!$D$22,\"\",IF($D$159=\"Profilo standard\",AO67,AN122))","v":""},{"$f":"IF(AP168>'2 Descrizione Progetto'!$D$22,\"\",IF($D$159=\"Profilo standard\",AP67,AO122))","v":""},{"$f":"IF(AQ168>'2 Descrizione Progetto'!$D$22,\"\",IF($D$159=\"Profilo standard\",AQ67,AP122))","v":""},{"$f":"IF(AR168>'2 Descrizione Progetto'!$D$22,\"\",IF($D$159=\"Profilo standard\",AR67,AQ122))","v":""},{"$f":"IF(AS168>'2 Descrizione Progetto'!$D$22,\"\",IF($D$159=\"Profilo standard\",AS67,AR122))","v":""},{"$f":"IF(AT168>'2 Descrizione Progetto'!$D$22,\"\",IF($D$159=\"Profilo standard\",AT67,AS122))","v":""},{"$f":"IF(AU168>'2 Descrizione Progetto'!$D$22,\"\",IF($D$159=\"Profilo standard\",AU67,AT122))","v":""},{"$f":"IF(AV168>'2 Descrizione Progetto'!$D$22,\"\",IF($D$159=\"Profilo standard\",AV67,AU122))","v":""},{"$f":"IF(AW168>'2 Descrizione Progetto'!$D$22,\"\",IF($D$159=\"Profilo standard\",AW67,AV122))","v":""},{"$f":"IF(AX168>'2 Descrizione Progetto'!$D$22,\"\",IF($D$159=\"Profilo standard\",AX67,AW122))","v":""},{"$f":"IF(AY168>'2 Descrizione Progetto'!$D$22,\"\",IF($D$159=\"Profilo standard\",AY67,AX122))","v":""},{"$f":"IF(AZ168>'2 Descrizione Progetto'!$D$22,\"\",IF($D$159=\"Profilo standard\",AZ67,AY122))","v":""},{"$f":"IF(BA168>'2 Descrizione Progetto'!$D$22,\"\",IF($D$159=\"Profilo standard\",BA67,AZ122))","v":""},{"$f":"IF(BB168>'2 Descrizione Progetto'!$D$22,\"\",IF($D$159=\"Profilo standard\",BB67,BA122))","v":""},{"$f":"IF(BC168>'2 Descrizione Progetto'!$D$22,\"\",IF($D$159=\"Profilo standard\",BC67,BB122))","v":""},{"$f":"IF(BD168>'2 Descrizione Progetto'!$D$22,\"\",IF($D$159=\"Profilo standard\",BD67,BC122))","v":""},{"$f":"IF(BE168>'2 Descrizione Progetto'!$D$22,\"\",IF($D$159=\"Profilo standard\",BE67,BD122))","v":""},{"$f":"IF(BF168>'2 Descrizione Progetto'!$D$22,\"\",IF($D$159=\"Profilo standard\",BF67,BE122))","v":""},{"$f":"IF(BG168>'2 Descrizione Progetto'!$D$22,\"\",IF($D$159=\"Profilo standard\",BG67,BF122))","v":""},{"$f":"IF(BH168>'2 Descrizione Progetto'!$D$22,\"\",IF($D$159=\"Profilo standard\",BH67,BG122))","v":""},{"$f":"IF(BI168>'2 Descrizione Progetto'!$D$22,\"\",IF($D$159=\"Profilo standard\",BI67,BH122))","v":""},{"$f":"IF(BJ168>'2 Descrizione Progetto'!$D$22,\"\",IF($D$159=\"Profilo standard\",BJ67,BI122))","v":""},{"$f":"IF(BK168>'2 Descrizione Progetto'!$D$22,\"\",IF($D$159=\"Profilo standard\",BK67,BJ122))","v":""},{"$f":"IF(BL168>'2 Descrizione Progetto'!$D$22,\"\",IF($D$159=\"Profilo standard\",BL67,BK122))","v":""}]
[null,7,"Profilo standard","Servizio 7",{"$f":"IF(E168>'2 Descrizione Progetto'!$D$22,\"\",IF($D$160=\"Profilo standard\",E72,D127))","v":0},{"$f":"IF(F168>'2 Descrizione Progetto'!$D$22,\"\",IF($D$160=\"Profilo standard\",F72,E127))","v":0},{"$f":"IF(G168>'2 Descrizione Progetto'!$D$22,\"\",IF($D$160=\"Profilo standard\",G72,F127))","v":0},{"$f":"IF(H168>'2 Descrizione Progetto'!$D$22,\"\",IF($D$160=\"Profilo standard\",H72,G127))","v":0},{"$f":"IF(I168>'2 Descrizione Progetto'!$D$22,\"\",IF($D$160=\"Profilo standard\",I72,H127))","v":0},{"$f":"IF(J168>'2 Descrizione Progetto'!$D$22,\"\",IF($D$160=\"Profilo standard\",J72,I127))","v":0},{"$f":"IF(K168>'2 Descrizione Progetto'!$D$22,\"\",IF($D$160=\"Profilo standard\",K72,J127))","v":0},{"$f":"IF(L168>'2 Descrizione Progetto'!$D$22,\"\",IF($D$160=\"Profilo standard\",L72,K127))","v":0},{"$f":"IF(M168>'2 Descrizione Progetto'!$D$22,\"\",IF($D$160=\"Profilo standard\",M72,L127))","v":0},{"$f":"IF(N168>'2 Descrizione Progetto'!$D$22,\"\",IF($D$160=\"Profilo standard\",N72,M127))","v":0},{"$f":"IF(O168>'2 Descrizione Progetto'!$D$22,\"\",IF($D$160=\"Profilo standard\",O72,N127))","v":""},{"$f":"IF(P168>'2 Descrizione Progetto'!$D$22,\"\",IF($D$160=\"Profilo standard\",P72,O127))","v":""},{"$f":"IF(Q168>'2 Descrizione Progetto'!$D$22,\"\",IF($D$160=\"Profilo standard\",Q72,P127))","v":""},{"$f":"IF(R168>'2 Descrizione Progetto'!$D$22,\"\",IF($D$160=\"Profilo standard\",R72,Q127))","v":""},{"$f":"IF(S168>'2 Descrizione Progetto'!$D$22,\"\",IF($D$160=\"Profilo standard\",S72,R127))","v":""},{"$f":"IF(T168>'2 Descrizione Progetto'!$D$22,\"\",IF($D$160=\"Profilo standard\",T72,S127))","v":""},{"$f":"IF(U168>'2 Descrizione Progetto'!$D$22,\"\",IF($D$160=\"Profilo standard\",U72,T127))","v":""},{"$f":"IF(V168>'2 Descrizione Progetto'!$D$22,\"\",IF($D$160=\"Profilo standard\",V72,U127))","v":""},{"$f":"IF(W168>'2 Descrizione Progetto'!$D$22,\"\",IF($D$160=\"Profilo standard\",W72,V127))","v":""},{"$f":"IF(X168>'2 Descrizione Progetto'!$D$22,\"\",IF($D$160=\"Profilo standard\",X72,W127))","v":""},{"$f":"IF(Y168>'2 Descrizione Progetto'!$D$22,\"\",IF($D$160=\"Profilo standard\",Y72,X127))","v":""},{"$f":"IF(Z168>'2 Descrizione Progetto'!$D$22,\"\",IF($D$160=\"Profilo standard\",Z72,Y127))","v":""},{"$f":"IF(AA168>'2 Descrizione Progetto'!$D$22,\"\",IF($D$160=\"Profilo standard\",AA72,Z127))","v":""},{"$f":"IF(AB168>'2 Descrizione Progetto'!$D$22,\"\",IF($D$160=\"Profilo standard\",AB72,AA127))","v":""},{"$f":"IF(AC168>'2 Descrizione Progetto'!$D$22,\"\",IF($D$160=\"Profilo standard\",AC72,AB127))","v":""},{"$f":"IF(AD168>'2 Descrizione Progetto'!$D$22,\"\",IF($D$160=\"Profilo standard\",AD72,AC127))","v":""},{"$f":"IF(AE168>'2 Descrizione Progetto'!$D$22,\"\",IF($D$160=\"Profilo standard\",AE72,AD127))","v":""},{"$f":"IF(AF168>'2 Descrizione Progetto'!$D$22,\"\",IF($D$160=\"Profilo standard\",AF72,AE127))","v":""},{"$f":"IF(AG168>'2 Descrizione Progetto'!$D$22,\"\",IF($D$160=\"Profilo standard\",AG72,AF127))","v":""},{"$f":"IF(AH168>'2 Descrizione Progetto'!$D$22,\"\",IF($D$160=\"Profilo standard\",AH72,AG127))","v":""},{"$f":"IF(AI168>'2 Descrizione Progetto'!$D$22,\"\",IF($D$160=\"Profilo standard\",AI72,AH127))","v":""},{"$f":"IF(AJ168>'2 Descrizione Progetto'!$D$22,\"\",IF($D$160=\"Profilo standard\",AJ72,AI127))","v":""},{"$f":"IF(AK168>'2 Descrizione Progetto'!$D$22,\"\",IF($D$160=\"Profilo standard\",AK72,AJ127))","v":""},{"$f":"IF(AL168>'2 Descrizione Progetto'!$D$22,\"\",IF($D$160=\"Profilo standard\",AL72,AK127))","v":""},{"$f":"IF(AM168>'2 Descrizione Progetto'!$D$22,\"\",IF($D$160=\"Profilo standard\",AM72,AL127))","v":""},{"$f":"IF(AN168>'2 Descrizione Progetto'!$D$22,\"\",IF($D$160=\"Profilo standard\",AN72,AM127))","v":""},{"$f":"IF(AO168>'2 Descrizione Progetto'!$D$22,\"\",IF($D$160=\"Profilo standard\",AO72,AN127))","v":""},{"$f":"IF(AP168>'2 Descrizione Progetto'!$D$22,\"\",IF($D$160=\"Profilo standard\",AP72,AO127))","v":""},{"$f":"IF(AQ168>'2 Descrizione Progetto'!$D$22,\"\",IF($D$160=\"Profilo standard\",AQ72,AP127))","v":""},{"$f":"IF(AR168>'2 Descrizione Progetto'!$D$22,\"\",IF($D$160=\"Profilo standard\",AR72,AQ127))","v":""},{"$f":"IF(AS168>'2 Descrizione Progetto'!$D$22,\"\",IF($D$160=\"Profilo standard\",AS72,AR127))","v":""},{"$f":"IF(AT168>'2 Descrizione Progetto'!$D$22,\"\",IF($D$160=\"Profilo standard\",AT72,AS127))","v":""},{"$f":"IF(AU168>'2 Descrizione Progetto'!$D$22,\"\",IF($D$160=\"Profilo standard\",AU72,AT127))","v":""},{"$f":"IF(AV168>'2 Descrizione Progetto'!$D$22,\"\",IF($D$160=\"Profilo standard\",AV72,AU127))","v":""},{"$f":"IF(AW168>'2 Descrizione Progetto'!$D$22,\"\",IF($D$160=\"Profilo standard\",AW72,AV127))","v":""},{"$f":"IF(AX168>'2 Descrizione Progetto'!$D$22,\"\",IF($D$160=\"Profilo standard\",AX72,AW127))","v":""},{"$f":"IF(AY168>'2 Descrizione Progetto'!$D$22,\"\",IF($D$160=\"Profilo standard\",AY72,AX127))","v":""},{"$f":"IF(AZ168>'2 Descrizione Progetto'!$D$22,\"\",IF($D$160=\"Profilo standard\",AZ72,AY127))","v":""},{"$f":"IF(BA168>'2 Descrizione Progetto'!$D$22,\"\",IF($D$160=\"Profilo standard\",BA72,AZ127))","v":""},{"$f":"IF(BB168>'2 Descrizione Progetto'!$D$22,\"\",IF($D$160=\"Profilo standard\",BB72,BA127))","v":""},{"$f":"IF(BC168>'2 Descrizione Progetto'!$D$22,\"\",IF($D$160=\"Profilo standard\",BC72,BB127))","v":""},{"$f":"IF(BD168>'2 Descrizione Progetto'!$D$22,\"\",IF($D$160=\"Profilo standard\",BD72,BC127))","v":""},{"$f":"IF(BE168>'2 Descrizione Progetto'!$D$22,\"\",IF($D$160=\"Profilo standard\",BE72,BD127))","v":""},{"$f":"IF(BF168>'2 Descrizione Progetto'!$D$22,\"\",IF($D$160=\"Profilo standard\",BF72,BE127))","v":""},{"$f":"IF(BG168>'2 Descrizione Progetto'!$D$22,\"\",IF($D$160=\"Profilo standard\",BG72,BF127))","v":""},{"$f":"IF(BH168>'2 Descrizione Progetto'!$D$22,\"\",IF($D$160=\"Profilo standard\",BH72,BG127))","v":""},{"$f":"IF(BI168>'2 Descrizione Progetto'!$D$22,\"\",IF($D$160=\"Profilo standard\",BI72,BH127))","v":""},{"$f":"IF(BJ168>'2 Descrizione Progetto'!$D$22,\"\",IF($D$160=\"Profilo standard\",BJ72,BI127))","v":""},{"$f":"IF(BK168>'2 Descrizione Progetto'!$D$22,\"\",IF($D$160=\"Profilo standard\",BK72,BJ127))","v":""},{"$f":"IF(BL168>'2 Descrizione Progetto'!$D$22,\"\",IF($D$160=\"Profilo standard\",BL72,BK127))","v":""}]
[null,8,"Profilo standard","Servizio 8",{"$f":"IF(E168>'2 Descrizione Progetto'!$D$22,\"\",IF($D$161=\"Profilo standard\",E77,D132))","v":0},{"$f":"IF(F168>'2 Descrizione Progetto'!$D$22,\"\",IF($D$161=\"Profilo standard\",F77,E132))","v":0},{"$f":"IF(G168>'2 Descrizione Progetto'!$D$22,\"\",IF($D$161=\"Profilo standard\",G77,F132))","v":0},{"$f":"IF(H168>'2 Descrizione Progetto'!$D$22,\"\",IF($D$161=\"Profilo standard\",H77,G132))","v":0},{"$f":"IF(I168>'2 Descrizione Progetto'!$D$22,\"\",IF($D$161=\"Profilo standard\",I77,H132))","v":0},{"$f":"IF(J168>'2 Descrizione Progetto'!$D$22,\"\",IF($D$161=\"Profilo standard\",J77,I132))","v":0},{"$f":"IF(K168>'2 Descrizione Progetto'!$D$22,\"\",IF($D$161=\"Profilo standard\",K77,J132))","v":0},{"$f":"IF(L168>'2 Descrizione Progetto'!$D$22,\"\",IF($D$161=\"Profilo standard\",L77,K132))","v":0},{"$f":"IF(M168>'2 Descrizione Progetto'!$D$22,\"\",IF($D$161=\"Profilo standard\",M77,L132))","v":0},{"$f":"IF(N168>'2 Descrizione Progetto'!$D$22,\"\",IF($D$161=\"Profilo standard\",N77,M132))","v":0},{"$f":"IF(O168>'2 Descrizione Progetto'!$D$22,\"\",IF($D$161=\"Profilo standard\",O77,N132))","v":""},{"$f":"IF(P168>'2 Descrizione Progetto'!$D$22,\"\",IF($D$161=\"Profilo standard\",P77,O132))","v":""},{"$f":"IF(Q168>'2 Descrizione Progetto'!$D$22,\"\",IF($D$161=\"Profilo standard\",Q77,P132))","v":""},{"$f":"IF(R168>'2 Descrizione Progetto'!$D$22,\"\",IF($D$161=\"Profilo standard\",R77,Q132))","v":""},{"$f":"IF(S168>'2 Descrizione Progetto'!$D$22,\"\",IF($D$161=\"Profilo standard\",S77,R132))","v":""},{"$f":"IF(T168>'2 Descrizione Progetto'!$D$22,\"\",IF($D$161=\"Profilo standard\",T77,S132))","v":""},{"$f":"IF(U168>'2 Descrizione Progetto'!$D$22,\"\",IF($D$161=\"Profilo standard\",U77,T132))","v":""},{"$f":"IF(V168>'2 Descrizione Progetto'!$D$22,\"\",IF($D$161=\"Profilo standard\",V77,U132))","v":""},{"$f":"IF(W168>'2 Descrizione Progetto'!$D$22,\"\",IF($D$161=\"Profilo standard\",W77,V132))","v":""},{"$f":"IF(X168>'2 Descrizione Progetto'!$D$22,\"\",IF($D$161=\"Profilo standard\",X77,W132))","v":""},{"$f":"IF(Y168>'2 Descrizione Progetto'!$D$22,\"\",IF($D$161=\"Profilo standard\",Y77,X132))","v":""},{"$f":"IF(Z168>'2 Descrizione Progetto'!$D$22,\"\",IF($D$161=\"Profilo standard\",Z77,Y132))","v":""},{"$f":"IF(AA168>'2 Descrizione Progetto'!$D$22,\"\",IF($D$161=\"Profilo standard\",AA77,Z132))","v":""},{"$f":"IF(AB168>'2 Descrizione Progetto'!$D$22,\"\",IF($D$161=\"Profilo standard\",AB77,AA132))","v":""},{"$f":"IF(AC168>'2 Descrizione Progetto'!$D$22,\"\",IF($D$161=\"Profilo standard\",AC77,AB132))","v":""},{"$f":"IF(AD168>'2 Descrizione Progetto'!$D$22,\"\",IF($D$161=\"Profilo standard\",AD77,AC132))","v":""},{"$f":"IF(AE168>'2 Descrizione Progetto'!$D$22,\"\",IF($D$161=\"Profilo standard\",AE77,AD132))","v":""},{"$f":"IF(AF168>'2 Descrizione Progetto'!$D$22,\"\",IF($D$161=\"Profilo standard\",AF77,AE132))","v":""},{"$f":"IF(AG168>'2 Descrizione Progetto'!$D$22,\"\",IF($D$161=\"Profilo standard\",AG77,AF132))","v":""},{"$f":"IF(AH168>'2 Descrizione Progetto'!$D$22,\"\",IF($D$161=\"Profilo standard\",AH77,AG132))","v":""},{"$f":"IF(AI168>'2 Descrizione Progetto'!$D$22,\"\",IF($D$161=\"Profilo standard\",AI77,AH132))","v":""},{"$f":"IF(AJ168>'2 Descrizione Progetto'!$D$22,\"\",IF($D$161=\"Profilo standard\",AJ77,AI132))","v":""},{"$f":"IF(AK168>'2 Descrizione Progetto'!$D$22,\"\",IF($D$161=\"Profilo standard\",AK77,AJ132))","v":""},{"$f":"IF(AL168>'2 Descrizione Progetto'!$D$22,\"\",IF($D$161=\"Profilo standard\",AL77,AK132))","v":""},{"$f":"IF(AM168>'2 Descrizione Progetto'!$D$22,\"\",IF($D$161=\"Profilo standard\",AM77,AL132))","v":""},{"$f":"IF(AN168>'2 Descrizione Progetto'!$D$22,\"\",IF($D$161=\"Profilo standard\",AN77,AM132))","v":""},{"$f":"IF(AO168>'2 Descrizione Progetto'!$D$22,\"\",IF($D$161=\"Profilo standard\",AO77,AN132))","v":""},{"$f":"IF(AP168>'2 Descrizione Progetto'!$D$22,\"\",IF($D$161=\"Profilo standard\",AP77,AO132))","v":""},{"$f":"IF(AQ168>'2 Descrizione Progetto'!$D$22,\"\",IF($D$161=\"Profilo standard\",AQ77,AP132))","v":""},{"$f":"IF(AR168>'2 Descrizione Progetto'!$D$22,\"\",IF($D$161=\"Profilo standard\",AR77,AQ132))","v":""},{"$f":"IF(AS168>'2 Descrizione Progetto'!$D$22,\"\",IF($D$161=\"Profilo standard\",AS77,AR132))","v":""},{"$f":"IF(AT168>'2 Descrizione Progetto'!$D$22,\"\",IF($D$161=\"Profilo standard\",AT77,AS132))","v":""},{"$f":"IF(AU168>'2 Descrizione Progetto'!$D$22,\"\",IF($D$161=\"Profilo standard\",AU77,AT132))","v":""},{"$f":"IF(AV168>'2 Descrizione Progetto'!$D$22,\"\",IF($D$161=\"Profilo standard\",AV77,AU132))","v":""},{"$f":"IF(AW168>'2 Descrizione Progetto'!$D$22,\"\",IF($D$161=\"Profilo standard\",AW77,AV132))","v":""},{"$f":"IF(AX168>'2 Descrizione Progetto'!$D$22,\"\",IF($D$161=\"Profilo standard\",AX77,AW132))","v":""},{"$f":"IF(AY168>'2 Descrizione Progetto'!$D$22,\"\",IF($D$161=\"Profilo standard\",AY77,AX132))","v":""},{"$f":"IF(AZ168>'2 Descrizione Progetto'!$D$22,\"\",IF($D$161=\"Profilo standard\",AZ77,AY132))","v":""},{"$f":"IF(BA168>'2 Descrizione Progetto'!$D$22,\"\",IF($D$161=\"Profilo standard\",BA77,AZ132))","v":""},{"$f":"IF(BB168>'2 Descrizione Progetto'!$D$22,\"\",IF($D$161=\"Profilo standard\",BB77,BA132))","v":""},{"$f":"IF(BC168>'2 Descrizione Progetto'!$D$22,\"\",IF($D$161=\"Profilo standard\",BC77,BB132))","v":""},{"$f":"IF(BD168>'2 Descrizione Progetto'!$D$22,\"\",IF($D$161=\"Profilo standard\",BD77,BC132))","v":""},{"$f":"IF(BE168>'2 Descrizione Progetto'!$D$22,\"\",IF($D$161=\"Profilo standard\",BE77,BD132))","v":""},{"$f":"IF(BF168>'2 Descrizione Progetto'!$D$22,\"\",IF($D$161=\"Profilo standard\",BF77,BE132))","v":""},{"$f":"IF(BG168>'2 Descrizione Progetto'!$D$22,\"\",IF($D$161=\"Profilo standard\",BG77,BF132))","v":""},{"$f":"IF(BH168>'2 Descrizione Progetto'!$D$22,\"\",IF($D$161=\"Profilo standard\",BH77,BG132))","v":""},{"$f":"IF(BI168>'2 Descrizione Progetto'!$D$22,\"\",IF($D$161=\"Profilo standard\",BI77,BH132))","v":""},{"$f":"IF(BJ168>'2 Descrizione Progetto'!$D$22,\"\",IF($D$161=\"Profilo standard\",BJ77,BI132))","v":""},{"$f":"IF(BK168>'2 Descrizione Progetto'!$D$22,\"\",IF($D$161=\"Profilo standard\",BK77,BJ132))","v":""},{"$f":"IF(BL168>'2 Descrizione Progetto'!$D$22,\"\",IF($D$161=\"Profilo standard\",BL77,BK132))","v":""}]
[null,9,"Profilo standard","Servizio 9",{"$f":"IF(E168>'2 Descrizione Progetto'!$D$22,\"\",IF($D$162=\"Profilo standard\",E82,D137))","v":0},{"$f":"IF(F168>'2 Descrizione Progetto'!$D$22,\"\",IF($D$162=\"Profilo standard\",F82,E137))","v":0},{"$f":"IF(G168>'2 Descrizione Progetto'!$D$22,\"\",IF($D$162=\"Profilo standard\",G82,F137))","v":0},{"$f":"IF(H168>'2 Descrizione Progetto'!$D$22,\"\",IF($D$162=\"Profilo standard\",H82,G137))","v":0},{"$f":"IF(I168>'2 Descrizione Progetto'!$D$22,\"\",IF($D$162=\"Profilo standard\",I82,H137))","v":0},{"$f":"IF(J168>'2 Descrizione Progetto'!$D$22,\"\",IF($D$162=\"Profilo standard\",J82,I137))","v":0},{"$f":"IF(K168>'2 Descrizione Progetto'!$D$22,\"\",IF($D$162=\"Profilo standard\",K82,J137))","v":0},{"$f":"IF(L168>'2 Descrizione Progetto'!$D$22,\"\",IF($D$162=\"Profilo standard\",L82,K137))","v":0},{"$f":"IF(M168>'2 Descrizione Progetto'!$D$22,\"\",IF($D$162=\"Profilo standard\",M82,L137))","v":0},{"$f":"IF(N168>'2 Descrizione Progetto'!$D$22,\"\",IF($D$162=\"Profilo standard\",N82,M137))","v":0},{"$f":"IF(O168>'2 Descrizione Progetto'!$D$22,\"\",IF($D$162=\"Profilo standard\",O82,N137))","v":""},{"$f":"IF(P168>'2 Descrizione Progetto'!$D$22,\"\",IF($D$162=\"Profilo standard\",P82,O137))","v":""},{"$f":"IF(Q168>'2 Descrizione Progetto'!$D$22,\"\",IF($D$162=\"Profilo standard\",Q82,P137))","v":""},{"$f":"IF(R168>'2 Descrizione Progetto'!$D$22,\"\",IF($D$162=\"Profilo standard\",R82,Q137))","v":""},{"$f":"IF(S168>'2 Descrizione Progetto'!$D$22,\"\",IF($D$162=\"Profilo standard\",S82,R137))","v":""},{"$f":"IF(T168>'2 Descrizione Progetto'!$D$22,\"\",IF($D$162=\"Profilo standard\",T82,S137))","v":""},{"$f":"IF(U168>'2 Descrizione Progetto'!$D$22,\"\",IF($D$162=\"Profilo standard\",U82,T137))","v":""},{"$f":"IF(V168>'2 Descrizione Progetto'!$D$22,\"\",IF($D$162=\"Profilo standard\",V82,U137))","v":""},{"$f":"IF(W168>'2 Descrizione Progetto'!$D$22,\"\",IF($D$162=\"Profilo standard\",W82,V137))","v":""},{"$f":"IF(X168>'2 Descrizione Progetto'!$D$22,\"\",IF($D$162=\"Profilo standard\",X82,W137))","v":""},{"$f":"IF(Y168>'2 Descrizione Progetto'!$D$22,\"\",IF($D$162=\"Profilo standard\",Y82,X137))","v":""},{"$f":"IF(Z168>'2 Descrizione Progetto'!$D$22,\"\",IF($D$162=\"Profilo standard\",Z82,Y137))","v":""},{"$f":"IF(AA168>'2 Descrizione Progetto'!$D$22,\"\",IF($D$162=\"Profilo standard\",AA82,Z137))","v":""},{"$f":"IF(AB168>'2 Descrizione Progetto'!$D$22,\"\",IF($D$162=\"Profilo standard\",AB82,AA137))","v":""},{"$f":"IF(AC168>'2 Descrizione Progetto'!$D$22,\"\",IF($D$162=\"Profilo standard\",AC82,AB137))","v":""},{"$f":"IF(AD168>'2 Descrizione Progetto'!$D$22,\"\",IF($D$162=\"Profilo standard\",AD82,AC137))","v":""},{"$f":"IF(AE168>'2 Descrizione Progetto'!$D$22,\"\",IF($D$162=\"Profilo standard\",AE82,AD137))","v":""},{"$f":"IF(AF168>'2 Descrizione Progetto'!$D$22,\"\",IF($D$162=\"Profilo standard\",AF82,AE137))","v":""},{"$f":"IF(AG168>'2 Descrizione Progetto'!$D$22,\"\",IF($D$162=\"Profilo standard\",AG82,AF137))","v":""},{"$f":"IF(AH168>'2 Descrizione Progetto'!$D$22,\"\",IF($D$162=\"Profilo standard\",AH82,AG137))","v":""},{"$f":"IF(AI168>'2 Descrizione Progetto'!$D$22,\"\",IF($D$162=\"Profilo standard\",AI82,AH137))","v":""},{"$f":"IF(AJ168>'2 Descrizione Progetto'!$D$22,\"\",IF($D$162=\"Profilo standard\",AJ82,AI137))","v":""},{"$f":"IF(AK168>'2 Descrizione Progetto'!$D$22,\"\",IF($D$162=\"Profilo standard\",AK82,AJ137))","v":""},{"$f":"IF(AL168>'2 Descrizione Progetto'!$D$22,\"\",IF($D$162=\"Profilo standard\",AL82,AK137))","v":""},{"$f":"IF(AM168>'2 Descrizione Progetto'!$D$22,\"\",IF($D$162=\"Profilo standard\",AM82,AL137))","v":""},{"$f":"IF(AN168>'2 Descrizione Progetto'!$D$22,\"\",IF($D$162=\"Profilo standard\",AN82,AM137))","v":""},{"$f":"IF(AO168>'2 Descrizione Progetto'!$D$22,\"\",IF($D$162=\"Profilo standard\",AO82,AN137))","v":""},{"$f":"IF(AP168>'2 Descrizione Progetto'!$D$22,\"\",IF($D$162=\"Profilo standard\",AP82,AO137))","v":""},{"$f":"IF(AQ168>'2 Descrizione Progetto'!$D$22,\"\",IF($D$162=\"Profilo standard\",AQ82,AP137))","v":""},{"$f":"IF(AR168>'2 Descrizione Progetto'!$D$22,\"\",IF($D$162=\"Profilo standard\",AR82,AQ137))","v":""},{"$f":"IF(AS168>'2 Descrizione Progetto'!$D$22,\"\",IF($D$162=\"Profilo standard\",AS82,AR137))","v":""},{"$f":"IF(AT168>'2 Descrizione Progetto'!$D$22,\"\",IF($D$162=\"Profilo standard\",AT82,AS137))","v":""},{"$f":"IF(AU168>'2 Descrizione Progetto'!$D$22,\"\",IF($D$162=\"Profilo standard\",AU82,AT137))","v":""},{"$f":"IF(AV168>'2 Descrizione Progetto'!$D$22,\"\",IF($D$162=\"Profilo standard\",AV82,AU137))","v":""},{"$f":"IF(AW168>'2 Descrizione Progetto'!$D$22,\"\",IF($D$162=\"Profilo standard\",AW82,AV137))","v":""},{"$f":"IF(AX168>'2 Descrizione Progetto'!$D$22,\"\",IF($D$162=\"Profilo standard\",AX82,AW137))","v":""},{"$f":"IF(AY168>'2 Descrizione Progetto'!$D$22,\"\",IF($D$162=\"Profilo standard\",AY82,AX137))","v":""},{"$f":"IF(AZ168>'2 Descrizione Progetto'!$D$22,\"\",IF($D$162=\"Profilo standard\",AZ82,AY137))","v":""},{"$f":"IF(BA168>'2 Descrizione Progetto'!$D$22,\"\",IF($D$162=\"Profilo standard\",BA82,AZ137))","v":""},{"$f":"IF(BB168>'2 Descrizione Progetto'!$D$22,\"\",IF($D$162=\"Profilo standard\",BB82,BA137))","v":""},{"$f":"IF(BC168>'2 Descrizione Progetto'!$D$22,\"\",IF($D$162=\"Profilo standard\",BC82,BB137))","v":""},{"$f":"IF(BD168>'2 Descrizione Progetto'!$D$22,\"\",IF($D$162=\"Profilo standard\",BD82,BC137))","v":""},{"$f":"IF(BE168>'2 Descrizione Progetto'!$D$22,\"\",IF($D$162=\"Profilo standard\",BE82,BD137))","v":""},{"$f":"IF(BF168>'2 Descrizione Progetto'!$D$22,\"\",IF($D$162=\"Profilo standard\",BF82,BE137))","v":""},{"$f":"IF(BG168>'2 Descrizione Progetto'!$D$22,\"\",IF($D$162=\"Profilo standard\",BG82,BF137))","v":""},{"$f":"IF(BH168>'2 Descrizione Progetto'!$D$22,\"\",IF($D$162=\"Profilo standard\",BH82,BG137))","v":""},{"$f":"IF(BI168>'2 Descrizione Progetto'!$D$22,\"\",IF($D$162=\"Profilo standard\",BI82,BH137))","v":""},{"$f":"IF(BJ168>'2 Descrizione Progetto'!$D$22,\"\",IF($D$162=\"Profilo standard\",BJ82,BI137))","v":""},{"$f":"IF(BK168>'2 Descrizione Progetto'!$D$22,\"\",IF($D$162=\"Profilo standard\",BK82,BJ137))","v":""},{"$f":"IF(BL168>'2 Descrizione Progetto'!$D$22,\"\",IF($D$162=\"Profilo standard\",BL82,BK137))","v":""}]
[null,10,"Profilo standard","Servizio 10",{"$f":"IF(E168>'2 Descrizione Progetto'!$D$22,\"\",IF($D$163=\"Profilo standard\",E87,D142))","v":0},{"$f":"IF(F168>'2 Descrizione Progetto'!$D$22,\"\",IF($D$163=\"Profilo standard\",F87,E142))","v":0},{"$f":"IF(G168>'2 Descrizione Progetto'!$D$22,\"\",IF($D$163=\"Profilo standard\",G87,F142))","v":0},{"$f":"IF(H168>'2 Descrizione Progetto'!$D$22,\"\",IF($D$163=\"Profilo standard\",H87,G142))","v":0},{"$f":"IF(I168>'2 Descrizione Progetto'!$D$22,\"\",IF($D$163=\"Profilo standard\",I87,H142))","v":0},{"$f":"IF(J168>'2 Descrizione Progetto'!$D$22,\"\",IF($D$163=\"Profilo standard\",J87,I142))","v":0},{"$f":"IF(K168>'2 Descrizione Progetto'!$D$22,\"\",IF($D$163=\"Profilo standard\",K87,J142))","v":0},{"$f":"IF(L168>'2 Descrizione Progetto'!$D$22,\"\",IF($D$163=\"Profilo standard\",L87,K142))","v":0},{"$f":"IF(M168>'2 Descrizione Progetto'!$D$22,\"\",IF($D$163=\"Profilo standard\",M87,L142))","v":0},{"$f":"IF(N168>'2 Descrizione Progetto'!$D$22,\"\",IF($D$163=\"Profilo standard\",N87,M142))","v":0},{"$f":"IF(O168>'2 Descrizione Progetto'!$D$22,\"\",IF($D$163=\"Profilo standard\",O87,N142))","v":""},{"$f":"IF(P168>'2 Descrizione Progetto'!$D$22,\"\",IF($D$163=\"Profilo standard\",P87,O142))","v":""},{"$f":"IF(Q168>'2 Descrizione Progetto'!$D$22,\"\",IF($D$163=\"Profilo standard\",Q87,P142))","v":""},{"$f":"IF(R168>'2 Descrizione Progetto'!$D$22,\"\",IF($D$163=\"Profilo standard\",R87,Q142))","v":""},{"$f":"IF(S168>'2 Descrizione Progetto'!$D$22,\"\",IF($D$163=\"Profilo standard\",S87,R142))","v":""},{"$f":"IF(T168>'2 Descrizione Progetto'!$D$22,\"\",IF($D$163=\"Profilo standard\",T87,S142))","v":""},{"$f":"IF(U168>'2 Descrizione Progetto'!$D$22,\"\",IF($D$163=\"Profilo standard\",U87,T142))","v":""},{"$f":"IF(V168>'2 Descrizione Progetto'!$D$22,\"\",IF($D$163=\"Profilo standard\",V87,U142))","v":""},{"$f":"IF(W168>'2 Descrizione Progetto'!$D$22,\"\",IF($D$163=\"Profilo standard\",W87,V142))","v":""},{"$f":"IF(X168>'2 Descrizione Progetto'!$D$22,\"\",IF($D$163=\"Profilo standard\",X87,W142))","v":""},{"$f":"IF(Y168>'2 Descrizione Progetto'!$D$22,\"\",IF($D$163=\"Profilo standard\",Y87,X142))","v":""},{"$f":"IF(Z168>'2 Descrizione Progetto'!$D$22,\"\",IF($D$163=\"Profilo standard\",Z87,Y142))","v":""},{"$f":"IF(AA168>'2 Descrizione Progetto'!$D$22,\"\",IF($D$163=\"Profilo standard\",AA87,Z142))","v":""},{"$f":"IF(AB168>'2 Descrizione Progetto'!$D$22,\"\",IF($D$163=\"Profilo standard\",AB87,AA142))","v":""},{"$f":"IF(AC168>'2 Descrizione Progetto'!$D$22,\"\",IF($D$163=\"Profilo standard\",AC87,AB142))","v":""},{"$f":"IF(AD168>'2 Descrizione Progetto'!$D$22,\"\",IF($D$163=\"Profilo standard\",AD87,AC142))","v":""},{"$f":"IF(AE168>'2 Descrizione Progetto'!$D$22,\"\",IF($D$163=\"Profilo standard\",AE87,AD142))","v":""},{"$f":"IF(AF168>'2 Descrizione Progetto'!$D$22,\"\",IF($D$163=\"Profilo standard\",AF87,AE142))","v":""},{"$f":"IF(AG168>'2 Descrizione Progetto'!$D$22,\"\",IF($D$163=\"Profilo standard\",AG87,AF142))","v":""},{"$f":"IF(AH168>'2 Descrizione Progetto'!$D$22,\"\",IF($D$163=\"Profilo standard\",AH87,AG142))","v":""},{"$f":"IF(AI168>'2 Descrizione Progetto'!$D$22,\"\",IF($D$163=\"Profilo standard\",AI87,AH142))","v":""},{"$f":"IF(AJ168>'2 Descrizione Progetto'!$D$22,\"\",IF($D$163=\"Profilo standard\",AJ87,AI142))","v":""},{"$f":"IF(AK168>'2 Descrizione Progetto'!$D$22,\"\",IF($D$163=\"Profilo standard\",AK87,AJ142))","v":""},{"$f":"IF(AL168>'2 Descrizione Progetto'!$D$22,\"\",IF($D$163=\"Profilo standard\",AL87,AK142))","v":""},{"$f":"IF(AM168>'2 Descrizione Progetto'!$D$22,\"\",IF($D$163=\"Profilo standard\",AM87,AL142))","v":""},{"$f":"IF(AN168>'2 Descrizione Progetto'!$D$22,\"\",IF($D$163=\"Profilo standard\",AN87,AM142))","v":""},{"$f":"IF(AO168>'2 Descrizione Progetto'!$D$22,\"\",IF($D$163=\"Profilo standard\",AO87,AN142))","v":""},{"$f":"IF(AP168>'2 Descrizione Progetto'!$D$22,\"\",IF($D$163=\"Profilo standard\",AP87,AO142))","v":""},{"$f":"IF(AQ168>'2 Descrizione Progetto'!$D$22,\"\",IF($D$163=\"Profilo standard\",AQ87,AP142))","v":""},{"$f":"IF(AR168>'2 Descrizione Progetto'!$D$22,\"\",IF($D$163=\"Profilo standard\",AR87,AQ142))","v":""},{"$f":"IF(AS168>'2 Descrizione Progetto'!$D$22,\"\",IF($D$163=\"Profilo standard\",AS87,AR142))","v":""},{"$f":"IF(AT168>'2 Descrizione Progetto'!$D$22,\"\",IF($D$163=\"Profilo standard\",AT87,AS142))","v":""},{"$f":"IF(AU168>'2 Descrizione Progetto'!$D$22,\"\",IF($D$163=\"Profilo standard\",AU87,AT142))","v":""},{"$f":"IF(AV168>'2 Descrizione Progetto'!$D$22,\"\",IF($D$163=\"Profilo standard\",AV87,AU142))","v":""},{"$f":"IF(AW168>'2 Descrizione Progetto'!$D$22,\"\",IF($D$163=\"Profilo standard\",AW87,AV142))","v":""},{"$f":"IF(AX168>'2 Descrizione Progetto'!$D$22,\"\",IF($D$163=\"Profilo standard\",AX87,AW142))","v":""},{"$f":"IF(AY168>'2 Descrizione Progetto'!$D$22,\"\",IF($D$163=\"Profilo standard\",AY87,AX142))","v":""},{"$f":"IF(AZ168>'2 Descrizione Progetto'!$D$22,\"\",IF($D$163=\"Profilo standard\",AZ87,AY142))","v":""},{"$f":"IF(BA168>'2 Descrizione Progetto'!$D$22,\"\",IF($D$163=\"Profilo standard\",BA87,AZ142))","v":""},{"$f":"IF(BB168>'2 Descrizione Progetto'!$D$22,\"\",IF($D$163=\"Profilo standard\",BB87,BA142))","v":""},{"$f":"IF(BC168>'2 Descrizione Progetto'!$D$22,\"\",IF($D$163=\"Profilo standard\",BC87,BB142))","v":""},{"$f":"IF(BD168>'2 Descrizione Progetto'!$D$22,\"\",IF($D$163=\"Profilo standard\",BD87,BC142))","v":""},{"$f":"IF(BE168>'2 Descrizione Progetto'!$D$22,\"\",IF($D$163=\"Profilo standard\",BE87,BD142))","v":""},{"$f":"IF(BF168>'2 Descrizione Progetto'!$D$22,\"\",IF($D$163=\"Profilo standard\",BF87,BE142))","v":""},{"$f":"IF(BG168>'2 Descrizione Progetto'!$D$22,\"\",IF($D$163=\"Profilo standard\",BG87,BF142))","v":""},{"$f":"IF(BH168>'2 Descrizione Progetto'!$D$22,\"\",IF($D$163=\"Profilo standard\",BH87,BG142))","v":""},{"$f":"IF(BI168>'2 Descrizione Progetto'!$D$22,\"\",IF($D$163=\"Profilo standard\",BI87,BH142))","v":""},{"$f":"IF(BJ168>'2 Descrizione Progetto'!$D$22,\"\",IF($D$163=\"Profilo standard\",BJ87,BI142))","v":""},{"$f":"IF(BK168>'2 Descrizione Progetto'!$D$22,\"\",IF($D$163=\"Profilo standard\",BK87,BJ142))","v":""},{"$f":"IF(BL168>'2 Descrizione Progetto'!$D$22,\"\",IF($D$163=\"Profilo standard\",BL87,BK142))","v":""}]
[]
[null,null,"Profilo Scelto - TARIFFA","Servizio",{"$f":"'2 Descrizione Progetto'!$D$20","v":1},{"$f":"IF(E180=\"anno esterno\",\"anno esterno\",IF(E180+1<='2 Descrizione Progetto'!$D$22,E180+1,\"anno esterno\"))","v":2},{"$f":"IF(F180=\"anno esterno\",\"anno esterno\",IF(F180+1<='2 Descrizione Progetto'!$D$22,F180+1,\"anno esterno\"))","v":3},{"$f":"IF(G180=\"anno esterno\",\"anno esterno\",IF(G180+1<='2 Descrizione Progetto'!$D$22,G180+1,\"anno esterno\"))","v":4},{"$f":"IF(H180=\"anno esterno\",\"anno esterno\",IF(H180+1<='2 Descrizione Progetto'!$D$22,H180+1,\"anno esterno\"))","v":5},{"$f":"IF(I180=\"anno esterno\",\"anno esterno\",IF(I180+1<='2 Descrizione Progetto'!$D$22,I180+1,\"anno esterno\"))","v":6},{"$f":"IF(J180=\"anno esterno\",\"anno esterno\",IF(J180+1<='2 Descrizione Progetto'!$D$22,J180+1,\"anno esterno\"))","v":7},{"$f":"IF(K180=\"anno esterno\",\"anno esterno\",IF(K180+1<='2 Descrizione Progetto'!$D$22,K180+1,\"anno esterno\"))","v":8},{"$f":"IF(L180=\"anno esterno\",\"anno esterno\",IF(L180+1<='2 Descrizione Progetto'!$D$22,L180+1,\"anno esterno\"))","v":9},{"$f":"IF(M180=\"anno esterno\",\"anno esterno\",IF(M180+1<='2 Descrizione Progetto'!$D$22,M180+1,\"anno esterno\"))","v":10},{"$f":"IF(N180=\"anno esterno\",\"anno esterno\",IF(N180+1<='2 Descrizione Progetto'!$D$22,N180+1,\"anno esterno\"))","v":"anno esterno"},{"$f":"IF(O180=\"anno esterno\",\"anno esterno\",IF(O180+1<='2 Descrizione Progetto'!$D$22,O180+1,\"anno esterno\"))","v":"anno esterno"},{"$f":"IF(P180=\"anno esterno\",\"anno esterno\",IF(P180+1<='2 Descrizione Progetto'!$D$22,P180+1,\"anno esterno\"))","v":"anno esterno"},{"$f":"IF(Q180=\"anno esterno\",\"anno esterno\",IF(Q180+1<='2 Descrizione Progetto'!$D$22,Q180+1,\"anno esterno\"))","v":"anno esterno"},{"$f":"IF(R180=\"anno esterno\",\"anno esterno\",IF(R180+1<='2 Descrizione Progetto'!$D$22,R180+1,\"anno esterno\"))","v":"anno esterno"},{"$f":"IF(S180=\"anno esterno\",\"anno esterno\",IF(S180+1<='2 Descrizione Progetto'!$D$22,S180+1,\"anno esterno\"))","v":"anno esterno"},{"$f":"IF(T180=\"anno esterno\",\"anno esterno\",IF(T180+1<='2 Descrizione Progetto'!$D$22,T180+1,\"anno esterno\"))","v":"anno esterno"},{"$f":"IF(U180=\"anno esterno\",\"anno esterno\",IF(U180+1<='2 Descrizione Progetto'!$D$22,U180+1,\"anno esterno\"))","v":"anno esterno"},{"$f":"IF(V180=\"anno esterno\",\"anno esterno\",IF(V180+1<='2 Descrizione Progetto'!$D$22,V180+1,\"anno esterno\"))","v":"anno esterno"},{"$f":"IF(W180=\"anno esterno\",\"anno esterno\",IF(W180+1<='2 Descrizione Progetto'!$D$22,W180+1,\"anno esterno\"))","v":"anno esterno"},{"$f":"IF(X180=\"anno esterno\",\"anno esterno\",IF(X180+1<='2 Descrizione Progetto'!$D$22,X180+1,\"anno esterno\"))","v":"anno esterno"},{"$f":"IF(Y180=\"anno esterno\",\"anno esterno\",IF(Y180+1<='2 Descrizione Progetto'!$D$22,Y180+1,\"anno esterno\"))","v":"anno esterno"},{"$f":"IF(Z180=\"anno esterno\",\"anno esterno\",IF(Z180+1<='2 Descrizione Progetto'!$D$22,Z180+1,\"anno esterno\"))","v":"anno esterno"},{"$f":"IF(AA180=\"anno esterno\",\"anno esterno\",IF(AA180+1<='2 Descrizione Progetto'!$D$22,AA180+1,\"anno esterno\"))","v":"anno esterno"},{"$f":"IF(AB180=\"anno esterno\",\"anno esterno\",IF(AB180+1<='2 Descrizione Progetto'!$D$22,AB180+1,\"anno esterno\"))","v":"anno esterno"},{"$f":"IF(AC180=\"anno esterno\",\"anno esterno\",IF(AC180+1<='2 Descrizione Progetto'!$D$22,AC180+1,\"anno esterno\"))","v":"anno esterno"},{"$f":"IF(AD180=\"anno esterno\",\"anno esterno\",IF(AD180+1<='2 Descrizione Progetto'!$D$22,AD180+1,\"anno esterno\"))","v":"anno esterno"},{"$f":"IF(AE180=\"anno esterno\",\"anno esterno\",IF(AE180+1<='2 Descrizione Progetto'!$D$22,AE180+1,\"anno esterno\"))","v":"anno esterno"},{"$f":"IF(AF180=\"anno esterno\",\"anno esterno\",IF(AF180+1<='2 Descrizione Progetto'!$D$22,AF180+1,\"anno esterno\"))","v":"anno esterno"},{"$f":"IF(AG180=\"anno esterno\",\"anno esterno\",IF(AG180+1<='2 Descrizione Progetto'!$D$22,AG180+1,\"anno esterno\"))","v":"anno esterno"},{"$f":"IF(AH180=\"anno esterno\",\"anno esterno\",IF(AH180+1<='2 Descrizione Progetto'!$D$22,AH180+1,\"anno esterno\"))","v":"anno esterno"},{"$f":"IF(AI180=\"anno esterno\",\"anno esterno\",IF(AI180+1<='2 Descrizione Progetto'!$D$22,AI180+1,\"anno esterno\"))","v":"anno esterno"},{"$f":"IF(AJ180=\"anno esterno\",\"anno esterno\",IF(AJ180+1<='2 Descrizione Progetto'!$D$22,AJ180+1,\"anno esterno\"))","v":"anno esterno"},{"$f":"IF(AK180=\"anno esterno\",\"anno esterno\",IF(AK180+1<='2 Descrizione Progetto'!$D$22,AK180+1,\"anno esterno\"))","v":"anno esterno"},{"$f":"IF(AL180=\"anno esterno\",\"anno esterno\",IF(AL180+1<='2 Descrizione Progetto'!$D$22,AL180+1,\"anno esterno\"))","v":"anno esterno"},{"$f":"IF(AM180=\"anno esterno\",\"anno esterno\",IF(AM180+1<='2 Descrizione Progetto'!$D$22,AM180+1,\"anno esterno\"))","v":"anno esterno"},{"$f":"IF(AN180=\"anno esterno\",\"anno esterno\",IF(AN180+1<='2 Descrizione Progetto'!$D$22,AN180+1,\"anno esterno\"))","v":"anno esterno"},{"$f":"IF(AO180=\"anno esterno\",\"anno esterno\",IF(AO180+1<='2 Descrizione Progetto'!$D$22,AO180+1,\"anno esterno\"))","v":"anno esterno"},{"$f":"IF(AP180=\"anno esterno\",\"anno esterno\",IF(AP180+1<='2 Descrizione Progetto'!$D$22,AP180+1,\"anno esterno\"))","v":"anno esterno"},{"$f":"IF(AQ180=\"anno esterno\",\"anno esterno\",IF(AQ180+1<='2 Descrizione Progetto'!$D$22,AQ180+1,\"anno esterno\"))","v":"anno esterno"},{"$f":"IF(AR180=\"anno esterno\",\"anno esterno\",IF(AR180+1<='2 Descrizione Progetto'!$D$22,AR180+1,\"anno esterno\"))","v":"anno esterno"},{"$f":"IF(AS180=\"anno esterno\",\"anno esterno\",IF(AS180+1<='2 Descrizione Progetto'!$D$22,AS180+1,\"anno esterno\"))","v":"anno esterno"},{"$f":"IF(AT180=\"anno esterno\",\"anno esterno\",IF(AT180+1<='2 Descrizione Progetto'!$D$22,AT180+1,\"anno esterno\"))","v":"anno esterno"},{"$f":"IF(AU180=\"anno esterno\",\"anno esterno\",IF(AU180+1<='2 Descrizione Progetto'!$D$22,AU180+1,\"anno esterno\"))","v":"anno esterno"},{"$f":"IF(AV180=\"anno esterno\",\"anno esterno\",IF(AV180+1<='2 Descrizione Progetto'!$D$22,AV180+1,\"anno esterno\"))","v":"anno esterno"},{"$f":"IF(AW180=\"anno esterno\",\"anno esterno\",IF(AW180+1<='2 Descrizione Progetto'!$D$22,AW180+1,\"anno esterno\"))","v":"anno esterno"},{"$f":"IF(AX180=\"anno esterno\",\"anno esterno\",IF(AX180+1<='2 Descrizione Progetto'!$D$22,AX180+1,\"anno esterno\"))","v":"anno esterno"},{"$f":"IF(AY180=\"anno esterno\",\"anno esterno\",IF(AY180+1<='2 Descrizione Progetto'!$D$22,AY180+1,\"anno esterno\"))","v":"anno esterno"},{"$f":"IF(AZ180=\"anno esterno\",\"anno esterno\",IF(AZ180+1<='2 Descrizione Progetto'!$D$22,AZ180+1,\"anno esterno\"))","v":"anno esterno"},{"$f":"IF(BA180=\"anno esterno\",\"anno esterno\",IF(BA180+1<='2 Descrizione Progetto'!$D$22,BA180+1,\"anno esterno\"))","v":"anno esterno"},{"$f":"IF(BB180=\"anno esterno\",\"anno esterno\",IF(BB180+1<='2 Descrizione Progetto'!$D$22,BB180+1,\"anno esterno\"))","v":"anno esterno"},{"$f":"IF(BC180=\"anno esterno\",\"anno esterno\",IF(BC180+1<='2 Descrizione Progetto'!$D$22,BC180+1,\"anno esterno\"))","v":"anno esterno"},{"$f":"IF(BD180=\"anno esterno\",\"anno esterno\",IF(BD180+1<='2 Descrizione Progetto'!$D$22,BD180+1,\"anno esterno\"))","v":"anno esterno"},{"$f":"IF(BE180=\"anno esterno\",\"anno esterno\",IF(BE180+1<='2 Descrizione Progetto'!$D$22,BE180+1,\"anno esterno\"))","v":"anno esterno"},{"$f":"IF(BF180=\"anno esterno\",\"anno esterno\",IF(BF180+1<='2 Descrizione Progetto'!$D$22,BF180+1,\"anno esterno\"))","v":"anno esterno"},{"$f":"IF(BG180=\"anno esterno\",\"anno esterno\",IF(BG180+1<='2 Descrizione Progetto'!$D$22,BG180+1,\"anno esterno\"))","v":"anno esterno"},{"$f":"IF(BH180=\"anno esterno\",\"anno esterno\",IF(BH180+1<='2 Descrizione Progetto'!$D$22,BH180+1,\"anno esterno\"))","v":"anno esterno"},{"$f":"IF(BI180=\"anno esterno\",\"anno esterno\",IF(BI180+1<='2 Descrizione Progetto'!$D$22,BI180+1,\"anno esterno\"))","v":"anno esterno"},{"$f":"IF(BJ180=\"anno esterno\",\"anno esterno\",IF(BJ180+1<='2 Descrizione Progetto'!$D$22,BJ180+1,\"anno esterno\"))","v":"anno esterno"},{"$f":"IF(BK180=\"anno esterno\",\"anno esterno\",IF(BK180+1<='2 Descrizione Progetto'!$D$22,BK180+1,\"anno esterno\"))","v":"anno esterno"}]
[null,1,{"$f":"D154","v":"Profilo standard"},"Servizio 1",{"$f":"IF(E180>'2 Descrizione Progetto'!$D$22,\"\",IF($D$154=\"Profilo standard\",E43,D98))","v":1},{"$f":"IF(F180>'2 Descrizione Progetto'!$D$22,\"\",IF($D$154=\"Profilo standard\",F43,E98))","v":1.02},{"$f":"IF(G180>'2 Descrizione Progetto'!$D$22,\"\",IF($D$154=\"Profilo standard\",G43,F98))","v":1.0404},{"$f":"IF(H180>'2 Descrizione Progetto'!$D$22,\"\",IF($D$154=\"Profilo standard\",H43,G98))","v":1.0612079999999999},{"$f":"IF(I180>'2 Descrizione Progetto'!$D$22,\"\",IF($D$154=\"Profilo standard\",I43,H98))","v":1.08243216},{"$f":"IF(J180>'2 Descrizione Progetto'!$D$22,\"\",IF($D$154=\"Profilo standard\",J43,I98))","v":1.1040808032},{"$f":"IF(K180>'2 Descrizione Progetto'!$D$22,\"\",IF($D$154=\"Profilo standard\",K43,J98))","v":1.1261624192640001},{"$f":"IF(L180>'2 Descrizione Progetto'!$D$22,\"\",IF($D$154=\"Profilo standard\",L43,K98))","v":1.14868566764928},{"$f":"IF(M180>'2 Descrizione Progetto'!$D$22,\"\",IF($D$154=\"Profilo standard\",M43,L98))","v":1.1716593810022657},{"$f":"IF(N180>'2 Descrizione Progetto'!$D$22,\"\",IF($D$154=\"Profilo standard\",N43,M98))","v":1.1950925686223111},{"$f":"IF(O180>'2 Descrizione Progetto'!$D$22,\"\",IF($D$154=\"Profilo standard\",O43,N98))","v":""},{"$f":"IF(P180>'2 Descrizione Progetto'!$D$22,\"\",IF($D$154=\"Profilo standard\",P43,O98))","v":""},{"$f":"IF(Q180>'2 Descrizione Progetto'!$D$22,\"\",IF($D$154=\"Profilo standard\",Q43,P98))","v":""},{"$f":"IF(R180>'2 Descrizione Progetto'!$D$22,\"\",IF($D$154=\"Profilo standard\",R43,Q98))","v":""},{"$f":"IF(S180>'2 Descrizione Progetto'!$D$22,\"\",IF($D$154=\"Profilo standard\",S43,R98))","v":""},{"$f":"IF(T180>'2 Descrizione Progetto'!$D$22,\"\",IF($D$154=\"Profilo standard\",T43,S98))","v":""},{"$f":"IF(U180>'2 Descrizione Progetto'!$D$22,\"\",IF($D$154=\"Profilo standard\",U43,T98))","v":""},{"$f":"IF(V180>'2 Descrizione Progetto'!$D$22,\"\",IF($D$154=\"Profilo standard\",V43,U98))","v":""},{"$f":"IF(W180>'2 Descrizione Progetto'!$D$22,\"\",IF($D$154=\"Profilo standard\",W43,V98))","v":""},{"$f":"IF(X180>'2 Descrizione Progetto'!$D$22,\"\",IF($D$154=\"Profilo standard\",X43,W98))","v":""},{"$f":"IF(Y180>'2 Descrizione Progetto'!$D$22,\"\",IF($D$154=\"Profilo standard\",Y43,X98))","v":""},{"$f":"IF(Z180>'2 Descrizione Progetto'!$D$22,\"\",IF($D$154=\"Profilo standard\",Z43,Y98))","v":""},{"$f":"IF(AA180>'2 Descrizione Progetto'!$D$22,\"\",IF($D$154=\"Profilo standard\",AA43,Z98))","v":""},{"$f":"IF(AB180>'2 Descrizione Progetto'!$D$22,\"\",IF($D$154=\"Profilo standard\",AB43,AA98))","v":""},{"$f":"IF(AC180>'2 Descrizione Progetto'!$D$22,\"\",IF($D$154=\"Profilo standard\",AC43,AB98))","v":""},{"$f":"IF(AD180>'2 Descrizione Progetto'!$D$22,\"\",IF($D$154=\"Profilo standard\",AD43,AC98))","v":""},{"$f":"IF(AE180>'2 Descrizione Progetto'!$D$22,\"\",IF($D$154=\"Profilo standard\",AE43,AD98))","v":""},{"$f":"IF(AF180>'2 Descrizione Progetto'!$D$22,\"\",IF($D$154=\"Profilo standard\",AF43,AE98))","v":""},{"$f":"IF(AG180>'2 Descrizione Progetto'!$D$22,\"\",IF($D$154=\"Profilo standard\",AG43,AF98))","v":""},{"$f":"IF(AH180>'2 Descrizione Progetto'!$D$22,\"\",IF($D$154=\"Profilo standard\",AH43,AG98))","v":""},{"$f":"IF(AI180>'2 Descrizione Progetto'!$D$22,\"\",IF($D$154=\"Profilo standard\",AI43,AH98))","v":""},{"$f":"IF(AJ180>'2 Descrizione Progetto'!$D$22,\"\",IF($D$154=\"Profilo standard\",AJ43,AI98))","v":""},{"$f":"IF(AK180>'2 Descrizione Progetto'!$D$22,\"\",IF($D$154=\"Profilo standard\",AK43,AJ98))","v":""},{"$f":"IF(AL180>'2 Descrizione Progetto'!$D$22,\"\",IF($D$154=\"Profilo standard\",AL43,AK98))","v":""},{"$f":"IF(AM180>'2 Descrizione Progetto'!$D$22,\"\",IF($D$154=\"Profilo standard\",AM43,AL98))","v":""},{"$f":"IF(AN180>'2 Descrizione Progetto'!$D$22,\"\",IF($D$154=\"Profilo standard\",AN43,AM98))","v":""},{"$f":"IF(AO180>'2 Descrizione Progetto'!$D$22,\"\",IF($D$154=\"Profilo standard\",AO43,AN98))","v":""},{"$f":"IF(AP180>'2 Descrizione Progetto'!$D$22,\"\",IF($D$154=\"Profilo standard\",AP43,AO98))","v":""},{"$f":"IF(AQ180>'2 Descrizione Progetto'!$D$22,\"\",IF($D$154=\"Profilo standard\",AQ43,AP98))","v":""},{"$f":"IF(AR180>'2 Descrizione Progetto'!$D$22,\"\",IF($D$154=\"Profilo standard\",AR43,AQ98))","v":""},{"$f":"IF(AS180>'2 Descrizione Progetto'!$D$22,\"\",IF($D$154=\"Profilo standard\",AS43,AR98))","v":""},{"$f":"IF(AT180>'2 Descrizione Progetto'!$D$22,\"\",IF($D$154=\"Profilo standard\",AT43,AS98))","v":""},{"$f":"IF(AU180>'2 Descrizione Progetto'!$D$22,\"\",IF($D$154=\"Profilo standard\",AU43,AT98))","v":""},{"$f":"IF(AV180>'2 Descrizione Progetto'!$D$22,\"\",IF($D$154=\"Profilo standard\",AV43,AU98))","v":""},{"$f":"IF(AW180>'2 Descrizione Progetto'!$D$22,\"\",IF($D$154=\"Profilo standard\",AW43,AV98))","v":""},{"$f":"IF(AX180>'2 Descrizione Progetto'!$D$22,\"\",IF($D$154=\"Profilo standard\",AX43,AW98))","v":""},{"$f":"IF(AY180>'2 Descrizione Progetto'!$D$22,\"\",IF($D$154=\"Profilo standard\",AY43,AX98))","v":""},{"$f":"IF(AZ180>'2 Descrizione Progetto'!$D$22,\"\",IF($D$154=\"Profilo standard\",AZ43,AY98))","v":""},{"$f":"IF(BA180>'2 Descrizione Progetto'!$D$22,\"\",IF($D$154=\"Profilo standard\",BA43,AZ98))","v":""},{"$f":"IF(BB180>'2 Descrizione Progetto'!$D$22,\"\",IF($D$154=\"Profilo standard\",BB43,BA98))","v":""},{"$f":"IF(BC180>'2 Descrizione Progetto'!$D$22,\"\",IF($D$154=\"Profilo standard\",BC43,BB98))","v":""},{"$f":"IF(BD180>'2 Descrizione Progetto'!$D$22,\"\",IF($D$154=\"Profilo standard\",BD43,BC98))","v":""},{"$f":"IF(BE180>'2 Descrizione Progetto'!$D$22,\"\",IF($D$154=\"Profilo standard\",BE43,BD98))","v":""},{"$f":"IF(BF180>'2 Descrizione Progetto'!$D$22,\"\",IF($D$154=\"Profilo standard\",BF43,BE98))","v":""},{"$f":"IF(BG180>'2 Descrizione Progetto'!$D$22,\"\",IF($D$154=\"Profilo standard\",BG43,BF98))","v":""},{"$f":"IF(BH180>'2 Descrizione Progetto'!$D$22,\"\",IF($D$154=\"Profilo standard\",BH43,BG98))","v":""},{"$f":"IF(BI180>'2 Descrizione Progetto'!$D$22,\"\",IF($D$154=\"Profilo standard\",BI43,BH98))","v":""},{"$f":"IF(BJ180>'2 Descrizione Progetto'!$D$22,\"\",IF($D$154=\"Profilo standard\",BJ43,BI98))","v":""},{"$f":"IF(BK180>'2 Descrizione Progetto'!$D$22,\"\",IF($D$154=\"Profilo standard\",BK43,BJ98))","v":""},{"$f":"IF(BL180>'2 Descrizione Progetto'!$D$22,\"\",IF($D$154=\"Profilo standard\",BL43,BK98))","v":""}]
[null,2,"Profilo standard","Servizio 2",{"$f":"IF(E180>'2 Descrizione Progetto'!$D$22,\"\",IF($D$155=\"Profilo standard\",E48,D103))","v":1},{"$f":"IF(F180>'2 Descrizione Progetto'!$D$22,\"\",IF($D$155=\"Profilo standard\",F48,E103))","v":1.02},{"$f":"IF(G180>'2 Descrizione Progetto'!$D$22,\"\",IF($D$155=\"Profilo standard\",G48,F103))","v":1.0404},{"$f":"IF(H180>'2 Descrizione Progetto'!$D$22,\"\",IF($D$155=\"Profilo standard\",H48,G103))","v":1.0612079999999999},{"$f":"IF(I180>'2 Descrizione Progetto'!$D$22,\"\",IF($D$155=\"Profilo standard\",I48,H103))","v":1.08243216},{"$f":"IF(J180>'2 Descrizione Progetto'!$D$22,\"\",IF($D$155=\"Profilo standard\",J48,I103))","v":1.1040808032},{"$f":"IF(K180>'2 Descrizione Progetto'!$D$22,\"\",IF($D$155=\"Profilo standard\",K48,J103))","v":1.1261624192640001},{"$f":"IF(L180>'2 Descrizione Progetto'!$D$22,\"\",IF($D$155=\"Profilo standard\",L48,K103))","v":1.14868566764928},{"$f":"IF(M180>'2 Descrizione Progetto'!$D$22,\"\",IF($D$155=\"Profilo standard\",M48,L103))","v":1.1716593810022657},{"$f":"IF(N180>'2 Descrizione Progetto'!$D$22,\"\",IF($D$155=\"Profilo standard\",N48,M103))","v":1.1950925686223111},{"$f":"IF(O180>'2 Descrizione Progetto'!$D$22,\"\",IF($D$155=\"Profilo standard\",O48,N103))","v":""},{"$f":"IF(P180>'2 Descrizione Progetto'!$D$22,\"\",IF($D$155=\"Profilo standard\",P48,O103))","v":""},{"$f":"IF(Q180>'2 Descrizione Progetto'!$D$22,\"\",IF($D$155=\"Profilo standard\",Q48,P103))","v":""},{"$f":"IF(R180>'2 Descrizione Progetto'!$D$22,\"\",IF($D$155=\"Profilo standard\",R48,Q103))","v":""},{"$f":"IF(S180>'2 Descrizione Progetto'!$D$22,\"\",IF($D$155=\"Profilo standard\",S48,R103))","v":""},{"$f":"IF(T180>'2 Descrizione Progetto'!$D$22,\"\",IF($D$155=\"Profilo standard\",T48,S103))","v":""},{"$f":"IF(U180>'2 Descrizione Progetto'!$D$22,\"\",IF($D$155=\"Profilo standard\",U48,T103))","v":""},{"$f":"IF(V180>'2 Descrizione Progetto'!$D$22,\"\",IF($D$155=\"Profilo standard\",V48,U103))","v":""},{"$f":"IF(W180>'2 Descrizione Progetto'!$D$22,\"\",IF($D$155=\"Profilo standard\",W48,V103))","v":""},{"$f":"IF(X180>'2 Descrizione Progetto'!$D$22,\"\",IF($D$155=\"Profilo standard\",X48,W103))","v":""},{"$f":"IF(Y180>'2 Descrizione Progetto'!$D$22,\"\",IF($D$155=\"Profilo standard\",Y48,X103))","v":""},{"$f":"IF(Z180>'2 Descrizione Progetto'!$D$22,\"\",IF($D$155=\"Profilo standard\",Z48,Y103))","v":""},{"$f":"IF(AA180>'2 Descrizione Progetto'!$D$22,\"\",IF($D$155=\"Profilo standard\",AA48,Z103))","v":""},{"$f":"IF(AB180>'2 Descrizione Progetto'!$D$22,\"\",IF($D$155=\"Profilo standard\",AB48,AA103))","v":""},{"$f":"IF(AC180>'2 Descrizione Progetto'!$D$22,\"\",IF($D$155=\"Profilo standard\",AC48,AB103))","v":""},{"$f":"IF(AD180>'2 Descrizione Progetto'!$D$22,\"\",IF($D$155=\"Profilo standard\",AD48,AC103))","v":""},{"$f":"IF(AE180>'2 Descrizione Progetto'!$D$22,\"\",IF($D$155=\"Profilo standard\",AE48,AD103))","v":""},{"$f":"IF(AF180>'2 Descrizione Progetto'!$D$22,\"\",IF($D$155=\"Profilo standard\",AF48,AE103))","v":""},{"$f":"IF(AG180>'2 Descrizione Progetto'!$D$22,\"\",IF($D$155=\"Profilo standard\",AG48,AF103))","v":""},{"$f":"IF(AH180>'2 Descrizione Progetto'!$D$22,\"\",IF($D$155=\"Profilo standard\",AH48,AG103))","v":""},{"$f":"IF(AI180>'2 Descrizione Progetto'!$D$22,\"\",IF($D$155=\"Profilo standard\",AI48,AH103))","v":""},{"$f":"IF(AJ180>'2 Descrizione Progetto'!$D$22,\"\",IF($D$155=\"Profilo standard\",AJ48,AI103))","v":""},{"$f":"IF(AK180>'2 Descrizione Progetto'!$D$22,\"\",IF($D$155=\"Profilo standard\",AK48,AJ103))","v":""},{"$f":"IF(AL180>'2 Descrizione Progetto'!$D$22,\"\",IF($D$155=\"Profilo standard\",AL48,AK103))","v":""},{"$f":"IF(AM180>'2 Descrizione Progetto'!$D$22,\"\",IF($D$155=\"Profilo standard\",AM48,AL103))","v":""},{"$f":"IF(AN180>'2 Descrizione Progetto'!$D$22,\"\",IF($D$155=\"Profilo standard\",AN48,AM103))","v":""},{"$f":"IF(AO180>'2 Descrizione Progetto'!$D$22,\"\",IF($D$155=\"Profilo standard\",AO48,AN103))","v":""},{"$f":"IF(AP180>'2 Descrizione Progetto'!$D$22,\"\",IF($D$155=\"Profilo standard\",AP48,AO103))","v":""},{"$f":"IF(AQ180>'2 Descrizione Progetto'!$D$22,\"\",IF($D$155=\"Profilo standard\",AQ48,AP103))","v":""},{"$f":"IF(AR180>'2 Descrizione Progetto'!$D$22,\"\",IF($D$155=\"Profilo standard\",AR48,AQ103))","v":""},{"$f":"IF(AS180>'2 Descrizione Progetto'!$D$22,\"\",IF($D$155=\"Profilo standard\",AS48,AR103))","v":""},{"$f":"IF(AT180>'2 Descrizione Progetto'!$D$22,\"\",IF($D$155=\"Profilo standard\",AT48,AS103))","v":""},{"$f":"IF(AU180>'2 Descrizione Progetto'!$D$22,\"\",IF($D$155=\"Profilo standard\",AU48,AT103))","v":""},{"$f":"IF(AV180>'2 Descrizione Progetto'!$D$22,\"\",IF($D$155=\"Profilo standard\",AV48,AU103))","v":""},{"$f":"IF(AW180>'2 Descrizione Progetto'!$D$22,\"\",IF($D$155=\"Profilo standard\",AW48,AV103))","v":""},{"$f":"IF(AX180>'2 Descrizione Progetto'!$D$22,\"\",IF($D$155=\"Profilo standard\",AX48,AW103))","v":""},{"$f":"IF(AY180>'2 Descrizione Progetto'!$D$22,\"\",IF($D$155=\"Profilo standard\",AY48,AX103))","v":""},{"$f":"IF(AZ180>'2 Descrizione Progetto'!$D$22,\"\",IF($D$155=\"Profilo standard\",AZ48,AY103))","v":""},{"$f":"IF(BA180>'2 Descrizione Progetto'!$D$22,\"\",IF($D$155=\"Profilo standard\",BA48,AZ103))","v":""},{"$f":"IF(BB180>'2 Descrizione Progetto'!$D$22,\"\",IF($D$155=\"Profilo standard\",BB48,BA103))","v":""},{"$f":"IF(BC180>'2 Descrizione Progetto'!$D$22,\"\",IF($D$155=\"Profilo standard\",BC48,BB103))","v":""},{"$f":"IF(BD180>'2 Descrizione Progetto'!$D$22,\"\",IF($D$155=\"Profilo standard\",BD48,BC103))","v":""},{"$f":"IF(BE180>'2 Descrizione Progetto'!$D$22,\"\",IF($D$155=\"Profilo standard\",BE48,BD103))","v":""},{"$f":"IF(BF180>'2 Descrizione Progetto'!$D$22,\"\",IF($D$155=\"Profilo standard\",BF48,BE103))","v":""},{"$f":"IF(BG180>'2 Descrizione Progetto'!$D$22,\"\",IF($D$155=\"Profilo standard\",BG48,BF103))","v":""},{"$f":"IF(BH180>'2 Descrizione Progetto'!$D$22,\"\",IF($D$155=\"Profilo standard\",BH48,BG103))","v":""},{"$f":"IF(BI180>'2 Descrizione Progetto'!$D$22,\"\",IF($D$155=\"Profilo standard\",BI48,BH103))","v":""},{"$f":"IF(BJ180>'2 Descrizione Progetto'!$D$22,\"\",IF($D$155=\"Profilo standard\",BJ48,BI103))","v":""},{"$f":"IF(BK180>'2 Descrizione Progetto'!$D$22,\"\",IF($D$155=\"Profilo standard\",BK48,BJ103))","v":""},{"$f":"IF(BL180>'2 Descrizione Progetto'!$D$22,\"\",IF($D$155=\"Profilo standard\",BL48,BK103))","v":""}]
[null,3,"Profilo standard","Servizio 3",{"$f":"IF(E180>'2 Descrizione Progetto'!$D$22,\"\",IF($D$156=\"Profilo standard\",E53,D108))","v":1},{"$f":"IF(F180>'2 Descrizione Progetto'!$D$22,\"\",IF($D$156=\"Profilo standard\",F53,E108))","v":1.02},{"$f":"IF(G180>'2 Descrizione Progetto'!$D$22,\"\",IF($D$156=\"Profilo standard\",G53,F108))","v":1.0404},{"$f":"IF(H180>'2 Descrizione Progetto'!$D$22,\"\",IF($D$156=\"Profilo standard\",H53,G108))","v":1.0612079999999999},{"$f":"IF(I180>'2 Descrizione Progetto'!$D$22,\"\",IF($D$156=\"Profilo standard\",I53,H108))","v":1.08243216},{"$f":"IF(J180>'2 Descrizione Progetto'!$D$22,\"\",IF($D$156=\"Profilo standard\",J53,I108))","v":1.1040808032},{"$f":"IF(K180>'2 Descrizione Progetto'!$D$22,\"\",IF($D$156=\"Profilo standard\",K53,J108))","v":1.1261624192640001},{"$f":"IF(L180>'2 Descrizione Progetto'!$D$22,\"\",IF($D$156=\"Profilo standard\",L53,K108))","v":1.14868566764928},{"$f":"IF(M180>'2 Descrizione Progetto'!$D$22,\"\",IF($D$156=\"Profilo standard\",M53,L108))","v":1.1716593810022657},{"$f":"IF(N180>'2 Descrizione Progetto'!$D$22,\"\",IF($D$156=\"Profilo standard\",N53,M108))","v":1.1950925686223111},{"$f":"IF(O180>'2 Descrizione Progetto'!$D$22,\"\",IF($D$156=\"Profilo standard\",O53,N108))","v":""},{"$f":"IF(P180>'2 Descrizione Progetto'!$D$22,\"\",IF($D$156=\"Profilo standard\",P53,O108))","v":""},{"$f":"IF(Q180>'2 Descrizione Progetto'!$D$22,\"\",IF($D$156=\"Profilo standard\",Q53,P108))","v":""},{"$f":"IF(R180>'2 Descrizione Progetto'!$D$22,\"\",IF($D$156=\"Profilo standard\",R53,Q108))","v":""},{"$f":"IF(S180>'2 Descrizione Progetto'!$D$22,\"\",IF($D$156=\"Profilo standard\",S53,R108))","v":""},{"$f":"IF(T180>'2 Descrizione Progetto'!$D$22,\"\",IF($D$156=\"Profilo standard\",T53,S108))","v":""},{"$f":"IF(U180>'2 Descrizione Progetto'!$D$22,\"\",IF($D$156=\"Profilo standard\",U53,T108))","v":""},{"$f":"IF(V180>'2 Descrizione Progetto'!$D$22,\"\",IF($D$156=\"Profilo standard\",V53,U108))","v":""},{"$f":"IF(W180>'2 Descrizione Progetto'!$D$22,\"\",IF($D$156=\"Profilo standard\",W53,V108))","v":""},{"$f":"IF(X180>'2 Descrizione Progetto'!$D$22,\"\",IF($D$156=\"Profilo standard\",X53,W108))","v":""},{"$f":"IF(Y180>'2 Descrizione Progetto'!$D$22,\"\",IF($D$156=\"Profilo standard\",Y53,X108))","v":""},{"$f":"IF(Z180>'2 Descrizione Progetto'!$D$22,\"\",IF($D$156=\"Profilo standard\",Z53,Y108))","v":""},{"$f":"IF(AA180>'2 Descrizione Progetto'!$D$22,\"\",IF($D$156=\"Profilo standard\",AA53,Z108))","v":""},{"$f":"IF(AB180>'2 Descrizione Progetto'!$D$22,\"\",IF($D$156=\"Profilo standard\",AB53,AA108))","v":""},{"$f":"IF(AC180>'2 Descrizione Progetto'!$D$22,\"\",IF($D$156=\"Profilo standard\",AC53,AB108))","v":""},{"$f":"IF(AD180>'2 Descrizione Progetto'!$D$22,\"\",IF($D$156=\"Profilo standard\",AD53,AC108))","v":""},{"$f":"IF(AE180>'2 Descrizione Progetto'!$D$22,\"\",IF($D$156=\"Profilo standard\",AE53,AD108))","v":""},{"$f":"IF(AF180>'2 Descrizione Progetto'!$D$22,\"\",IF($D$156=\"Profilo standard\",AF53,AE108))","v":""},{"$f":"IF(AG180>'2 Descrizione Progetto'!$D$22,\"\",IF($D$156=\"Profilo standard\",AG53,AF108))","v":""},{"$f":"IF(AH180>'2 Descrizione Progetto'!$D$22,\"\",IF($D$156=\"Profilo standard\",AH53,AG108))","v":""},{"$f":"IF(AI180>'2 Descrizione Progetto'!$D$22,\"\",IF($D$156=\"Profilo standard\",AI53,AH108))","v":""},{"$f":"IF(AJ180>'2 Descrizione Progetto'!$D$22,\"\",IF($D$156=\"Profilo standard\",AJ53,AI108))","v":""},{"$f":"IF(AK180>'2 Descrizione Progetto'!$D$22,\"\",IF($D$156=\"Profilo standard\",AK53,AJ108))","v":""},{"$f":"IF(AL180>'2 Descrizione Progetto'!$D$22,\"\",IF($D$156=\"Profilo standard\",AL53,AK108))","v":""},{"$f":"IF(AM180>'2 Descrizione Progetto'!$D$22,\"\",IF($D$156=\"Profilo standard\",AM53,AL108))","v":""},{"$f":"IF(AN180>'2 Descrizione Progetto'!$D$22,\"\",IF($D$156=\"Profilo standard\",AN53,AM108))","v":""},{"$f":"IF(AO180>'2 Descrizione Progetto'!$D$22,\"\",IF($D$156=\"Profilo standard\",AO53,AN108))","v":""},{"$f":"IF(AP180>'2 Descrizione Progetto'!$D$22,\"\",IF($D$156=\"Profilo standard\",AP53,AO108))","v":""},{"$f":"IF(AQ180>'2 Descrizione Progetto'!$D$22,\"\",IF($D$156=\"Profilo standard\",AQ53,AP108))","v":""},{"$f":"IF(AR180>'2 Descrizione Progetto'!$D$22,\"\",IF($D$156=\"Profilo standard\",AR53,AQ108))","v":""},{"$f":"IF(AS180>'2 Descrizione Progetto'!$D$22,\"\",IF($D$156=\"Profilo standard\",AS53,AR108))","v":""},{"$f":"IF(AT180>'2 Descrizione Progetto'!$D$22,\"\",IF($D$156=\"Profilo standard\",AT53,AS108))","v":""},{"$f":"IF(AU180>'2 Descrizione Progetto'!$D$22,\"\",IF($D$156=\"Profilo standard\",AU53,AT108))","v":""},{"$f":"IF(AV180>'2 Descrizione Progetto'!$D$22,\"\",IF($D$156=\"Profilo standard\",AV53,AU108))","v":""},{"$f":"IF(AW180>'2 Descrizione Progetto'!$D$22,\"\",IF($D$156=\"Profilo standard\",AW53,AV108))","v":""},{"$f":"IF(AX180>'2 Descrizione Progetto'!$D$22,\"\",IF($D$156=\"Profilo standard\",AX53,AW108))","v":""},{"$f":"IF(AY180>'2 Descrizione Progetto'!$D$22,\"\",IF($D$156=\"Profilo standard\",AY53,AX108))","v":""},{"$f":"IF(AZ180>'2 Descrizione Progetto'!$D$22,\"\",IF($D$156=\"Profilo standard\",AZ53,AY108))","v":""},{"$f":"IF(BA180>'2 Descrizione Progetto'!$D$22,\"\",IF($D$156=\"Profilo standard\",BA53,AZ108))","v":""},{"$f":"IF(BB180>'2 Descrizione Progetto'!$D$22,\"\",IF($D$156=\"Profilo standard\",BB53,BA108))","v":""},{"$f":"IF(BC180>'2 Descrizione Progetto'!$D$22,\"\",IF($D$156=\"Profilo standard\",BC53,BB108))","v":""},{"$f":"IF(BD180>'2 Descrizione Progetto'!$D$22,\"\",IF($D$156=\"Profilo standard\",BD53,BC108))","v":""},{"$f":"IF(BE180>'2 Descrizione Progetto'!$D$22,\"\",IF($D$156=\"Profilo standard\",BE53,BD108))","v":""},{"$f":"IF(BF180>'2 Descrizione Progetto'!$D$22,\"\",IF($D$156=\"Profilo standard\",BF53,BE108))","v":""},{"$f":"IF(BG180>'2 Descrizione Progetto'!$D$22,\"\",IF($D$156=\"Profilo standard\",BG53,BF108))","v":""},{"$f":"IF(BH180>'2 Descrizione Progetto'!$D$22,\"\",IF($D$156=\"Profilo standard\",BH53,BG108))","v":""},{"$f":"IF(BI180>'2 Descrizione Progetto'!$D$22,\"\",IF($D$156=\"Profilo standard\",BI53,BH108))","v":""},{"$f":"IF(BJ180>'2 Descrizione Progetto'!$D$22,\"\",IF($D$156=\"Profilo standard\",BJ53,BI108))","v":""},{"$f":"IF(BK180>'2 Descrizione Progetto'!$D$22,\"\",IF($D$156=\"Profilo standard\",BK53,BJ108))","v":""},{"$f":"IF(BL180>'2 Descrizione Progetto'!$D$22,\"\",IF($D$156=\"Profilo standard\",BL53,BK108))","v":""}]
[null,4,"Profilo standard","Servizio 4",{"$f":"IF(E180>'2 Descrizione Progetto'!$D$22,\"\",IF($D$157=\"Profilo standard\",E58,D113))","v":1},{"$f":"IF(F180>'2 Descrizione Progetto'!$D$22,\"\",IF($D$157=\"Profilo standard\",F58,E113))","v":1.02},{"$f":"IF(G180>'2 Descrizione Progetto'!$D$22,\"\",IF($D$157=\"Profilo standard\",G58,F113))","v":1.0404},{"$f":"IF(H180>'2 Descrizione Progetto'!$D$22,\"\",IF($D$157=\"Profilo standard\",H58,G113))","v":1.0612079999999999},{"$f":"IF(I180>'2 Descrizione Progetto'!$D$22,\"\",IF($D$157=\"Profilo standard\",I58,H113))","v":1.08243216},{"$f":"IF(J180>'2 Descrizione Progetto'!$D$22,\"\",IF($D$157=\"Profilo standard\",J58,I113))","v":1.1040808032},{"$f":"IF(K180>'2 Descrizione Progetto'!$D$22,\"\",IF($D$157=\"Profilo standard\",K58,J113))","v":1.1261624192640001},{"$f":"IF(L180>'2 Descrizione Progetto'!$D$22,\"\",IF($D$157=\"Profilo standard\",L58,K113))","v":1.14868566764928},{"$f":"IF(M180>'2 Descrizione Progetto'!$D$22,\"\",IF($D$157=\"Profilo standard\",M58,L113))","v":1.1716593810022657},{"$f":"IF(N180>'2 Descrizione Progetto'!$D$22,\"\",IF($D$157=\"Profilo standard\",N58,M113))","v":1.1950925686223111},{"$f":"IF(O180>'2 Descrizione Progetto'!$D$22,\"\",IF($D$157=\"Profilo standard\",O58,N113))","v":""},{"$f":"IF(P180>'2 Descrizione Progetto'!$D$22,\"\",IF($D$157=\"Profilo standard\",P58,O113))","v":""},{"$f":"IF(Q180>'2 Descrizione Progetto'!$D$22,\"\",IF($D$157=\"Profilo standard\",Q58,P113))","v":""},{"$f":"IF(R180>'2 Descrizione Progetto'!$D$22,\"\",IF($D$157=\"Profilo standard\",R58,Q113))","v":""},{"$f":"IF(S180>'2 Descrizione Progetto'!$D$22,\"\",IF($D$157=\"Profilo standard\",S58,R113))","v":""},{"$f":"IF(T180>'2 Descrizione Progetto'!$D$22,\"\",IF($D$157=\"Profilo standard\",T58,S113))","v":""},{"$f":"IF(U180>'2 Descrizione Progetto'!$D$22,\"\",IF($D$157=\"Profilo standard\",U58,T113))","v":""},{"$f":"IF(V180>'2 Descrizione Progetto'!$D$22,\"\",IF($D$157=\"Profilo standard\",V58,U113))","v":""},{"$f":"IF(W180>'2 Descrizione Progetto'!$D$22,\"\",IF($D$157=\"Profilo standard\",W58,V113))","v":""},{"$f":"IF(X180>'2 Descrizione Progetto'!$D$22,\"\",IF($D$157=\"Profilo standard\",X58,W113))","v":""},{"$f":"IF(Y180>'2 Descrizione Progetto'!$D$22,\"\",IF($D$157=\"Profilo standard\",Y58,X113))","v":""},{"$f":"IF(Z180>'2 Descrizione Progetto'!$D$22,\"\",IF($D$157=\"Profilo standard\",Z58,Y113))","v":""},{"$f":"IF(AA180>'2 Descrizione Progetto'!$D$22,\"\",IF($D$157=\"Profilo standard\",AA58,Z113))","v":""},{"$f":"IF(AB180>'2 Descrizione Progetto'!$D$22,\"\",IF($D$157=\"Profilo standard\",AB58,AA113))","v":""},{"$f":"IF(AC180>'2 Descrizione Progetto'!$D$22,\"\",IF($D$157=\"Profilo standard\",AC58,AB113))","v":""},{"$f":"IF(AD180>'2 Descrizione Progetto'!$D$22,\"\",IF($D$157=\"Profilo standard\",AD58,AC113))","v":""},{"$f":"IF(AE180>'2 Descrizione Progetto'!$D$22,\"\",IF($D$157=\"Profilo standard\",AE58,AD113))","v":""},{"$f":"IF(AF180>'2 Descrizione Progetto'!$D$22,\"\",IF($D$157=\"Profilo standard\",AF58,AE113))","v":""},{"$f":"IF(AG180>'2 Descrizione Progetto'!$D$22,\"\",IF($D$157=\"Profilo standard\",AG58,AF113))","v":""},{"$f":"IF(AH180>'2 Descrizione Progetto'!$D$22,\"\",IF($D$157=\"Profilo standard\",AH58,AG113))","v":""},{"$f":"IF(AI180>'2 Descrizione Progetto'!$D$22,\"\",IF($D$157=\"Profilo standard\",AI58,AH113))","v":""},{"$f":"IF(AJ180>'2 Descrizione Progetto'!$D$22,\"\",IF($D$157=\"Profilo standard\",AJ58,AI113))","v":""},{"$f":"IF(AK180>'2 Descrizione Progetto'!$D$22,\"\",IF($D$157=\"Profilo standard\",AK58,AJ113))","v":""},{"$f":"IF(AL180>'2 Descrizione Progetto'!$D$22,\"\",IF($D$157=\"Profilo standard\",AL58,AK113))","v":""},{"$f":"IF(AM180>'2 Descrizione Progetto'!$D$22,\"\",IF($D$157=\"Profilo standard\",AM58,AL113))","v":""},{"$f":"IF(AN180>'2 Descrizione Progetto'!$D$22,\"\",IF($D$157=\"Profilo standard\",AN58,AM113))","v":""},{"$f":"IF(AO180>'2 Descrizione Progetto'!$D$22,\"\",IF($D$157=\"Profilo standard\",AO58,AN113))","v":""},{"$f":"IF(AP180>'2 Descrizione Progetto'!$D$22,\"\",IF($D$157=\"Profilo standard\",AP58,AO113))","v":""},{"$f":"IF(AQ180>'2 Descrizione Progetto'!$D$22,\"\",IF($D$157=\"Profilo standard\",AQ58,AP113))","v":""},{"$f":"IF(AR180>'2 Descrizione Progetto'!$D$22,\"\",IF($D$157=\"Profilo standard\",AR58,AQ113))","v":""},{"$f":"IF(AS180>'2 Descrizione Progetto'!$D$22,\"\",IF($D$157=\"Profilo standard\",AS58,AR113))","v":""},{"$f":"IF(AT180>'2 Descrizione Progetto'!$D$22,\"\",IF($D$157=\"Profilo standard\",AT58,AS113))","v":""},{"$f":"IF(AU180>'2 Descrizione Progetto'!$D$22,\"\",IF($D$157=\"Profilo standard\",AU58,AT113))","v":""},{"$f":"IF(AV180>'2 Descrizione Progetto'!$D$22,\"\",IF($D$157=\"Profilo standard\",AV58,AU113))","v":""},{"$f":"IF(AW180>'2 Descrizione Progetto'!$D$22,\"\",IF($D$157=\"Profilo standard\",AW58,AV113))","v":""},{"$f":"IF(AX180>'2 Descrizione Progetto'!$D$22,\"\",IF($D$157=\"Profilo standard\",AX58,AW113))","v":""},{"$f":"IF(AY180>'2 Descrizione Progetto'!$D$22,\"\",IF($D$157=\"Profilo standard\",AY58,AX113))","v":""},{"$f":"IF(AZ180>'2 Descrizione Progetto'!$D$22,\"\",IF($D$157=\"Profilo standard\",AZ58,AY113))","v":""},{"$f":"IF(BA180>'2 Descrizione Progetto'!$D$22,\"\",IF($D$157=\"Profilo standard\",BA58,AZ113))","v":""},{"$f":"IF(BB180>'2 Descrizione Progetto'!$D$22,\"\",IF($D$157=\"Profilo standard\",BB58,BA113))","v":""},{"$f":"IF(BC180>'2 Descrizione Progetto'!$D$22,\"\",IF($D$157=\"Profilo standard\",BC58,BB113))","v":""},{"$f":"IF(BD180>'2 Descrizione Progetto'!$D$22,\"\",IF($D$157=\"Profilo standard\",BD58,BC113))","v":""},{"$f":"IF(BE180>'2 Descrizione Progetto'!$D$22,\"\",IF($D$157=\"Profilo standard\",BE58,BD113))","v":""},{"$f":"IF(BF180>'2 Descrizione Progetto'!$D$22,\"\",IF($D$157=\"Profilo standard\",BF58,BE113))","v":""},{"$f":"IF(BG180>'2 Descrizione Progetto'!$D$22,\"\",IF($D$157=\"Profilo standard\",BG58,BF113))","v":""},{"$f":"IF(BH180>'2 Descrizione Progetto'!$D$22,\"\",IF($D$157=\"Profilo standard\",BH58,BG113))","v":""},{"$f":"IF(BI180>'2 Descrizione Progetto'!$D$22,\"\",IF($D$157=\"Profilo standard\",BI58,BH113))","v":""},{"$f":"IF(BJ180>'2 Descrizione Progetto'!$D$22,\"\",IF($D$157=\"Profilo standard\",BJ58,BI113))","v":""},{"$f":"IF(BK180>'2 Descrizione Progetto'!$D$22,\"\",IF($D$157=\"Profilo standard\",BK58,BJ113))","v":""},{"$f":"IF(BL180>'2 Descrizione Progetto'!$D$22,\"\",IF($D$157=\"Profilo standard\",BL58,BK113))","v":""}]
[null,5,"Profilo standard","Servizio 5",{"$f":"IF(E180>'2 Descrizione Progetto'!$D$22,\"\",IF($D$158=\"Profilo standard\",E63,D118))","v":1},{"$f":"IF(F180>'2 Descrizione Progetto'!$D$22,\"\",IF($D$158=\"Profilo standard\",F63,E118))","v":1.02},{"$f":"IF(G180>'2 Descrizione Progetto'!$D$22,\"\",IF($D$158=\"Profilo standard\",G63,F118))","v":1.0404},{"$f":"IF(H180>'2 Descrizione Progetto'!$D$22,\"\",IF($D$158=\"Profilo standard\",H63,G118))","v":1.0612079999999999},{"$f":"IF(I180>'2 Descrizione Progetto'!$D$22,\"\",IF($D$158=\"Profilo standard\",I63,H118))","v":1.08243216},{"$f":"IF(J180>'2 Descrizione Progetto'!$D$22,\"\",IF($D$158=\"Profilo standard\",J63,I118))","v":1.1040808032},{"$f":"IF(K180>'2 Descrizione Progetto'!$D$22,\"\",IF($D$158=\"Profilo standard\",K63,J118))","v":1.1261624192640001},{"$f":"IF(L180>'2 Descrizione Progetto'!$D$22,\"\",IF($D$158=\"Profilo standard\",L63,K118))","v":1.14868566764928},{"$f":"IF(M180>'2 Descrizione Progetto'!$D$22,\"\",IF($D$158=\"Profilo standard\",M63,L118))","v":1.1716593810022657},{"$f":"IF(N180>'2 Descrizione Progetto'!$D$22,\"\",IF($D$158=\"Profilo standard\",N63,M118))","v":1.1950925686223111},{"$f":"IF(O180>'2 Descrizione Progetto'!$D$22,\"\",IF($D$158=\"Profilo standard\",O63,N118))","v":""},{"$f":"IF(P180>'2 Descrizione Progetto'!$D$22,\"\",IF($D$158=\"Profilo standard\",P63,O118))","v":""},{"$f":"IF(Q180>'2 Descrizione Progetto'!$D$22,\"\",IF($D$158=\"Profilo standard\",Q63,P118))","v":""},{"$f":"IF(R180>'2 Descrizione Progetto'!$D$22,\"\",IF($D$158=\"Profilo standard\",R63,Q118))","v":""},{"$f":"IF(S180>'2 Descrizione Progetto'!$D$22,\"\",IF($D$158=\"Profilo standard\",S63,R118))","v":""},{"$f":"IF(T180>'2 Descrizione Progetto'!$D$22,\"\",IF($D$158=\"Profilo standard\",T63,S118))","v":""},{"$f":"IF(U180>'2 Descrizione Progetto'!$D$22,\"\",IF($D$158=\"Profilo standard\",U63,T118))","v":""},{"$f":"IF(V180>'2 Descrizione Progetto'!$D$22,\"\",IF($D$158=\"Profilo standard\",V63,U118))","v":""},{"$f":"IF(W180>'2 Descrizione Progetto'!$D$22,\"\",IF($D$158=\"Profilo standard\",W63,V118))","v":""},{"$f":"IF(X180>'2 Descrizione Progetto'!$D$22,\"\",IF($D$158=\"Profilo standard\",X63,W118))","v":""},{"$f":"IF(Y180>'2 Descrizione Progetto'!$D$22,\"\",IF($D$158=\"Profilo standard\",Y63,X118))","v":""},{"$f":"IF(Z180>'2 Descrizione Progetto'!$D$22,\"\",IF($D$158=\"Profilo standard\",Z63,Y118))","v":""},{"$f":"IF(AA180>'2 Descrizione Progetto'!$D$22,\"\",IF($D$158=\"Profilo standard\",AA63,Z118))","v":""},{"$f":"IF(AB180>'2 Descrizione Progetto'!$D$22,\"\",IF($D$158=\"Profilo standard\",AB63,AA118))","v":""},{"$f":"IF(AC180>'2 Descrizione Progetto'!$D$22,\"\",IF($D$158=\"Profilo standard\",AC63,AB118))","v":""},{"$f":"IF(AD180>'2 Descrizione Progetto'!$D$22,\"\",IF($D$158=\"Profilo standard\",AD63,AC118))","v":""},{"$f":"IF(AE180>'2 Descrizione Progetto'!$D$22,\"\",IF($D$158=\"Profilo standard\",AE63,AD118))","v":""},{"$f":"IF(AF180>'2 Descrizione Progetto'!$D$22,\"\",IF($D$158=\"Profilo standard\",AF63,AE118))","v":""},{"$f":"IF(AG180>'2 Descrizione Progetto'!$D$22,\"\",IF($D$158=\"Profilo standard\",AG63,AF118))","v":""},{"$f":"IF(AH180>'2 Descrizione Progetto'!$D$22,\"\",IF($D$158=\"Profilo standard\",AH63,AG118))","v":""},{"$f":"IF(AI180>'2 Descrizione Progetto'!$D$22,\"\",IF($D$158=\"Profilo standard\",AI63,AH118))","v":""},{"$f":"IF(AJ180>'2 Descrizione Progetto'!$D$22,\"\",IF($D$158=\"Profilo standard\",AJ63,AI118))","v":""},{"$f":"IF(AK180>'2 Descrizione Progetto'!$D$22,\"\",IF($D$158=\"Profilo standard\",AK63,AJ118))","v":""},{"$f":"IF(AL180>'2 Descrizione Progetto'!$D$22,\"\",IF($D$158=\"Profilo standard\",AL63,AK118))","v":""},{"$f":"IF(AM180>'2 Descrizione Progetto'!$D$22,\"\",IF($D$158=\"Profilo standard\",AM63,AL118))","v":""},{"$f":"IF(AN180>'2 Descrizione Progetto'!$D$22,\"\",IF($D$158=\"Profilo standard\",AN63,AM118))","v":""},{"$f":"IF(AO180>'2 Descrizione Progetto'!$D$22,\"\",IF($D$158=\"Profilo standard\",AO63,AN118))","v":""},{"$f":"IF(AP180>'2 Descrizione Progetto'!$D$22,\"\",IF($D$158=\"Profilo standard\",AP63,AO118))","v":""},{"$f":"IF(AQ180>'2 Descrizione Progetto'!$D$22,\"\",IF($D$158=\"Profilo standard\",AQ63,AP118))","v":""},{"$f":"IF(AR180>'2 Descrizione Progetto'!$D$22,\"\",IF($D$158=\"Profilo standard\",AR63,AQ118))","v":""},{"$f":"IF(AS180>'2 Descrizione Progetto'!$D$22,\"\",IF($D$158=\"Profilo standard\",AS63,AR118))","v":""},{"$f":"IF(AT180>'2 Descrizione Progetto'!$D$22,\"\",IF($D$158=\"Profilo standard\",AT63,AS118))","v":""},{"$f":"IF(AU180>'2 Descrizione Progetto'!$D$22,\"\",IF($D$158=\"Profilo standard\",AU63,AT118))","v":""},{"$f":"IF(AV180>'2 Descrizione Progetto'!$D$22,\"\",IF($D$158=\"Profilo standard\",AV63,AU118))","v":""},{"$f":"IF(AW180>'2 Descrizione Progetto'!$D$22,\"\",IF($D$158=\"Profilo standard\",AW63,AV118))","v":""},{"$f":"IF(AX180>'2 Descrizione Progetto'!$D$22,\"\",IF($D$158=\"Profilo standard\",AX63,AW118))","v":""},{"$f":"IF(AY180>'2 Descrizione Progetto'!$D$22,\"\",IF($D$158=\"Profilo standard\",AY63,AX118))","v":""},{"$f":"IF(AZ180>'2 Descrizione Progetto'!$D$22,\"\",IF($D$158=\"Profilo standard\",AZ63,AY118))","v":""},{"$f":"IF(BA180>'2 Descrizione Progetto'!$D$22,\"\",IF($D$158=\"Profilo standard\",BA63,AZ118))","v":""},{"$f":"IF(BB180>'2 Descrizione Progetto'!$D$22,\"\",IF($D$158=\"Profilo standard\",BB63,BA118))","v":""},{"$f":"IF(BC180>'2 Descrizione Progetto'!$D$22,\"\",IF($D$158=\"Profilo standard\",BC63,BB118))","v":""},{"$f":"IF(BD180>'2 Descrizione Progetto'!$D$22,\"\",IF($D$158=\"Profilo standard\",BD63,BC118))","v":""},{"$f":"IF(BE180>'2 Descrizione Progetto'!$D$22,\"\",IF($D$158=\"Profilo standard\",BE63,BD118))","v":""},{"$f":"IF(BF180>'2 Descrizione Progetto'!$D$22,\"\",IF($D$158=\"Profilo standard\",BF63,BE118))","v":""},{"$f":"IF(BG180>'2 Descrizione Progetto'!$D$22,\"\",IF($D$158=\"Profilo standard\",BG63,BF118))","v":""},{"$f":"IF(BH180>'2 Descrizione Progetto'!$D$22,\"\",IF($D$158=\"Profilo standard\",BH63,BG118))","v":""},{"$f":"IF(BI180>'2 Descrizione Progetto'!$D$22,\"\",IF($D$158=\"Profilo standard\",BI63,BH118))","v":""},{"$f":"IF(BJ180>'2 Descrizione Progetto'!$D$22,\"\",IF($D$158=\"Profilo standard\",BJ63,BI118))","v":""},{"$f":"IF(BK180>'2 Descrizione Progetto'!$D$22,\"\",IF($D$158=\"Profilo standard\",BK63,BJ118))","v":""},{"$f":"IF(BL180>'2 Descrizione Progetto'!$D$22,\"\",IF($D$158=\"Profilo standard\",BL63,BK118))","v":""}]
[null,6,"Profilo standard","Servizio 6",{"$f":"IF(E180>'2 Descrizione Progetto'!$D$22,\"\",IF($D$159=\"Profilo standard\",E68,D123))","v":1},{"$f":"IF(F180>'2 Descrizione Progetto'!$D$22,\"\",IF($D$159=\"Profilo standard\",F68,E123))","v":1.02},{"$f":"IF(G180>'2 Descrizione Progetto'!$D$22,\"\",IF($D$159=\"Profilo standard\",G68,F123))","v":1.0404},{"$f":"IF(H180>'2 Descrizione Progetto'!$D$22,\"\",IF($D$159=\"Profilo standard\",H68,G123))","v":1.0612079999999999},{"$f":"IF(I180>'2 Descrizione Progetto'!$D$22,\"\",IF($D$159=\"Profilo standard\",I68,H123))","v":1.08243216},{"$f":"IF(J180>'2 Descrizione Progetto'!$D$22,\"\",IF($D$159=\"Profilo standard\",J68,I123))","v":1.1040808032},{"$f":"IF(K180>'2 Descrizione Progetto'!$D$22,\"\",IF($D$159=\"Profilo standard\",K68,J123))","v":1.1261624192640001},{"$f":"IF(L180>'2 Descrizione Progetto'!$D$22,\"\",IF($D$159=\"Profilo standard\",L68,K123))","v":1.14868566764928},{"$f":"IF(M180>'2 Descrizione Progetto'!$D$22,\"\",IF($D$159=\"Profilo standard\",M68,L123))","v":1.1716593810022657},{"$f":"IF(N180>'2 Descrizione Progetto'!$D$22,\"\",IF($D$159=\"Profilo standard\",N68,M123))","v":1.1950925686223111},{"$f":"IF(O180>'2 Descrizione Progetto'!$D$22,\"\",IF($D$159=\"Profilo standard\",O68,N123))","v":""},{"$f":"IF(P180>'2 Descrizione Progetto'!$D$22,\"\",IF($D$159=\"Profilo standard\",P68,O123))","v":""},{"$f":"IF(Q180>'2 Descrizione Progetto'!$D$22,\"\",IF($D$159=\"Profilo standard\",Q68,P123))","v":""},{"$f":"IF(R180>'2 Descrizione Progetto'!$D$22,\"\",IF($D$159=\"Profilo standard\",R68,Q123))","v":""},{"$f":"IF(S180>'2 Descrizione Progetto'!$D$22,\"\",IF($D$159=\"Profilo standard\",S68,R123))","v":""},{"$f":"IF(T180>'2 Descrizione Progetto'!$D$22,\"\",IF($D$159=\"Profilo standard\",T68,S123))","v":""},{"$f":"IF(U180>'2 Descrizione Progetto'!$D$22,\"\",IF($D$159=\"Profilo standard\",U68,T123))","v":""},{"$f":"IF(V180>'2 Descrizione Progetto'!$D$22,\"\",IF($D$159=\"Profilo standard\",V68,U123))","v":""},{"$f":"IF(W180>'2 Descrizione Progetto'!$D$22,\"\",IF($D$159=\"Profilo standard\",W68,V123))","v":""},{"$f":"IF(X180>'2 Descrizione Progetto'!$D$22,\"\",IF($D$159=\"Profilo standard\",X68,W123))","v":""},{"$f":"IF(Y180>'2 Descrizione Progetto'!$D$22,\"\",IF($D$159=\"Profilo standard\",Y68,X123))","v":""},{"$f":"IF(Z180>'2 Descrizione Progetto'!$D$22,\"\",IF($D$159=\"Profilo standard\",Z68,Y123))","v":""},{"$f":"IF(AA180>'2 Descrizione Progetto'!$D$22,\"\",IF($D$159=\"Profilo standard\",AA68,Z123))","v":""},{"$f":"IF(AB180>'2 Descrizione Progetto'!$D$22,\"\",IF($D$159=\"Profilo standard\",AB68,AA123))","v":""},{"$f":"IF(AC180>'2 Descrizione Progetto'!$D$22,\"\",IF($D$159=\"Profilo standard\",AC68,AB123))","v":""},{"$f":"IF(AD180>'2 Descrizione Progetto'!$D$22,\"\",IF($D$159=\"Profilo standard\",AD68,AC123))","v":""},{"$f":"IF(AE180>'2 Descrizione Progetto'!$D$22,\"\",IF($D$159=\"Profilo standard\",AE68,AD123))","v":""},{"$f":"IF(AF180>'2 Descrizione Progetto'!$D$22,\"\",IF($D$159=\"Profilo standard\",AF68,AE123))","v":""},{"$f":"IF(AG180>'2 Descrizione Progetto'!$D$22,\"\",IF($D$159=\"Profilo standard\",AG68,AF123))","v":""},{"$f":"IF(AH180>'2 Descrizione Progetto'!$D$22,\"\",IF($D$159=\"Profilo standard\",AH68,AG123))","v":""},{"$f":"IF(AI180>'2 Descrizione Progetto'!$D$22,\"\",IF($D$159=\"Profilo standard\",AI68,AH123))","v":""},{"$f":"IF(AJ180>'2 Descrizione Progetto'!$D$22,\"\",IF($D$159=\"Profilo standard\",AJ68,AI123))","v":""},{"$f":"IF(AK180>'2 Descrizione Progetto'!$D$22,\"\",IF($D$159=\"Profilo standard\",AK68,AJ123))","v":""},{"$f":"IF(AL180>'2 Descrizione Progetto'!$D$22,\"\",IF($D$159=\"Profilo standard\",AL68,AK123))","v":""},{"$f":"IF(AM180>'2 Descrizione Progetto'!$D$22,\"\",IF($D$159=\"Profilo standard\",AM68,AL123))","v":""},{"$f":"IF(AN180>'2 Descrizione Progetto'!$D$22,\"\",IF($D$159=\"Profilo standard\",AN68,AM123))","v":""},{"$f":"IF(AO180>'2 Descrizione Progetto'!$D$22,\"\",IF($D$159=\"Profilo standard\",AO68,AN123))","v":""},{"$f":"IF(AP180>'2 Descrizione Progetto'!$D$22,\"\",IF($D$159=\"Profilo standard\",AP68,AO123))","v":""},{"$f":"IF(AQ180>'2 Descrizione Progetto'!$D$22,\"\",IF($D$159=\"Profilo standard\",AQ68,AP123))","v":""},{"$f":"IF(AR180>'2 Descrizione Progetto'!$D$22,\"\",IF($D$159=\"Profilo standard\",AR68,AQ123))","v":""},{"$f":"IF(AS180>'2 Descrizione Progetto'!$D$22,\"\",IF($D$159=\"Profilo standard\",AS68,AR123))","v":""},{"$f":"IF(AT180>'2 Descrizione Progetto'!$D$22,\"\",IF($D$159=\"Profilo standard\",AT68,AS123))","v":""},{"$f":"IF(AU180>'2 Descrizione Progetto'!$D$22,\"\",IF($D$159=\"Profilo standard\",AU68,AT123))","v":""},{"$f":"IF(AV180>'2 Descrizione Progetto'!$D$22,\"\",IF($D$159=\"Profilo standard\",AV68,AU123))","v":""},{"$f":"IF(AW180>'2 Descrizione Progetto'!$D$22,\"\",IF($D$159=\"Profilo standard\",AW68,AV123))","v":""},{"$f":"IF(AX180>'2 Descrizione Progetto'!$D$22,\"\",IF($D$159=\"Profilo standard\",AX68,AW123))","v":""},{"$f":"IF(AY180>'2 Descrizione Progetto'!$D$22,\"\",IF($D$159=\"Profilo standard\",AY68,AX123))","v":""},{"$f":"IF(AZ180>'2 Descrizione Progetto'!$D$22,\"\",IF($D$159=\"Profilo standard\",AZ68,AY123))","v":""},{"$f":"IF(BA180>'2 Descrizione Progetto'!$D$22,\"\",IF($D$159=\"Profilo standard\",BA68,AZ123))","v":""},{"$f":"IF(BB180>'2 Descrizione Progetto'!$D$22,\"\",IF($D$159=\"Profilo standard\",BB68,BA123))","v":""},{"$f":"IF(BC180>'2 Descrizione Progetto'!$D$22,\"\",IF($D$159=\"Profilo standard\",BC68,BB123))","v":""},{"$f":"IF(BD180>'2 Descrizione Progetto'!$D$22,\"\",IF($D$159=\"Profilo standard\",BD68,BC123))","v":""},{"$f":"IF(BE180>'2 Descrizione Progetto'!$D$22,\"\",IF($D$159=\"Profilo standard\",BE68,BD123))","v":""},{"$f":"IF(BF180>'2 Descrizione Progetto'!$D$22,\"\",IF($D$159=\"Profilo standard\",BF68,BE123))","v":""},{"$f":"IF(BG180>'2 Descrizione Progetto'!$D$22,\"\",IF($D$159=\"Profilo standard\",BG68,BF123))","v":""},{"$f":"IF(BH180>'2 Descrizione Progetto'!$D$22,\"\",IF($D$159=\"Profilo standard\",BH68,BG123))","v":""},{"$f":"IF(BI180>'2 Descrizione Progetto'!$D$22,\"\",IF($D$159=\"Profilo standard\",BI68,BH123))","v":""},{"$f":"IF(BJ180>'2 Descrizione Progetto'!$D$22,\"\",IF($D$159=\"Profilo standard\",BJ68,BI123))","v":""},{"$f":"IF(BK180>'2 Descrizione Progetto'!$D$22,\"\",IF($D$159=\"Profilo standard\",BK68,BJ123))","v":""},{"$f":"IF(BL180>'2 Descrizione Progetto'!$D$22,\"\",IF($D$159=\"Profilo standard\",BL68,BK123))","v":""}]
[null,7,"Profilo standard","Servizio 7",{"$f":"IF(E180>'2 Descrizione Progetto'!$D$22,\"\",IF($D$160=\"Profilo standard\",E73,D128))","v":1},{"$f":"IF(F180>'2 Descrizione Progetto'!$D$22,\"\",IF($D$160=\"Profilo standard\",F73,E128))","v":1.02},{"$f":"IF(G180>'2 Descrizione Progetto'!$D$22,\"\",IF($D$160=\"Profilo standard\",G73,F128))","v":1.0404},{"$f":"IF(H180>'2 Descrizione Progetto'!$D$22,\"\",IF($D$160=\"Profilo standard\",H73,G128))","v":1.0612079999999999},{"$f":"IF(I180>'2 Descrizione Progetto'!$D$22,\"\",IF($D$160=\"Profilo standard\",I73,H128))","v":1.08243216},{"$f":"IF(J180>'2 Descrizione Progetto'!$D$22,\"\",IF($D$160=\"Profilo standard\",J73,I128))","v":1.1040808032},{"$f":"IF(K180>'2 Descrizione Progetto'!$D$22,\"\",IF($D$160=\"Profilo standard\",K73,J128))","v":1.1261624192640001},{"$f":"IF(L180>'2 Descrizione Progetto'!$D$22,\"\",IF($D$160=\"Profilo standard\",L73,K128))","v":1.14868566764928},{"$f":"IF(M180>'2 Descrizione Progetto'!$D$22,\"\",IF($D$160=\"Profilo standard\",M73,L128))","v":1.1716593810022657},{"$f":"IF(N180>'2 Descrizione Progetto'!$D$22,\"\",IF($D$160=\"Profilo standard\",N73,M128))","v":1.1950925686223111},{"$f":"IF(O180>'2 Descrizione Progetto'!$D$22,\"\",IF($D$160=\"Profilo standard\",O73,N128))","v":""},{"$f":"IF(P180>'2 Descrizione Progetto'!$D$22,\"\",IF($D$160=\"Profilo standard\",P73,O128))","v":""},{"$f":"IF(Q180>'2 Descrizione Progetto'!$D$22,\"\",IF($D$160=\"Profilo standard\",Q73,P128))","v":""},{"$f":"IF(R180>'2 Descrizione Progetto'!$D$22,\"\",IF($D$160=\"Profilo standard\",R73,Q128))","v":""},{"$f":"IF(S180>'2 Descrizione Progetto'!$D$22,\"\",IF($D$160=\"Profilo standard\",S73,R128))","v":""},{"$f":"IF(T180>'2 Descrizione Progetto'!$D$22,\"\",IF($D$160=\"Profilo standard\",T73,S128))","v":""},{"$f":"IF(U180>'2 Descrizione Progetto'!$D$22,\"\",IF($D$160=\"Profilo standard\",U73,T128))","v":""},{"$f":"IF(V180>'2 Descrizione Progetto'!$D$22,\"\",IF($D$160=\"Profilo standard\",V73,U128))","v":""},{"$f":"IF(W180>'2 Descrizione Progetto'!$D$22,\"\",IF($D$160=\"Profilo standard\",W73,V128))","v":""},{"$f":"IF(X180>'2 Descrizione Progetto'!$D$22,\"\",IF($D$160=\"Profilo standard\",X73,W128))","v":""},{"$f":"IF(Y180>'2 Descrizione Progetto'!$D$22,\"\",IF($D$160=\"Profilo standard\",Y73,X128))","v":""},{"$f":"IF(Z180>'2 Descrizione Progetto'!$D$22,\"\",IF($D$160=\"Profilo standard\",Z73,Y128))","v":""},{"$f":"IF(AA180>'2 Descrizione Progetto'!$D$22,\"\",IF($D$160=\"Profilo standard\",AA73,Z128))","v":""},{"$f":"IF(AB180>'2 Descrizione Progetto'!$D$22,\"\",IF($D$160=\"Profilo standard\",AB73,AA128))","v":""},{"$f":"IF(AC180>'2 Descrizione Progetto'!$D$22,\"\",IF($D$160=\"Profilo standard\",AC73,AB128))","v":""},{"$f":"IF(AD180>'2 Descrizione Progetto'!$D$22,\"\",IF($D$160=\"Profilo standard\",AD73,AC128))","v":""},{"$f":"IF(AE180>'2 Descrizione Progetto'!$D$22,\"\",IF($D$160=\"Profilo standard\",AE73,AD128))","v":""},{"$f":"IF(AF180>'2 Descrizione Progetto'!$D$22,\"\",IF($D$160=\"Profilo standard\",AF73,AE128))","v":""},{"$f":"IF(AG180>'2 Descrizione Progetto'!$D$22,\"\",IF($D$160=\"Profilo standard\",AG73,AF128))","v":""},{"$f":"IF(AH180>'2 Descrizione Progetto'!$D$22,\"\",IF($D$160=\"Profilo standard\",AH73,AG128))","v":""},{"$f":"IF(AI180>'2 Descrizione Progetto'!$D$22,\"\",IF($D$160=\"Profilo standard\",AI73,AH128))","v":""},{"$f":"IF(AJ180>'2 Descrizione Progetto'!$D$22,\"\",IF($D$160=\"Profilo standard\",AJ73,AI128))","v":""},{"$f":"IF(AK180>'2 Descrizione Progetto'!$D$22,\"\",IF($D$160=\"Profilo standard\",AK73,AJ128))","v":""},{"$f":"IF(AL180>'2 Descrizione Progetto'!$D$22,\"\",IF($D$160=\"Profilo standard\",AL73,AK128))","v":""},{"$f":"IF(AM180>'2 Descrizione Progetto'!$D$22,\"\",IF($D$160=\"Profilo standard\",AM73,AL128))","v":""},{"$f":"IF(AN180>'2 Descrizione Progetto'!$D$22,\"\",IF($D$160=\"Profilo standard\",AN73,AM128))","v":""},{"$f":"IF(AO180>'2 Descrizione Progetto'!$D$22,\"\",IF($D$160=\"Profilo standard\",AO73,AN128))","v":""},{"$f":"IF(AP180>'2 Descrizione Progetto'!$D$22,\"\",IF($D$160=\"Profilo standard\",AP73,AO128))","v":""},{"$f":"IF(AQ180>'2 Descrizione Progetto'!$D$22,\"\",IF($D$160=\"Profilo standard\",AQ73,AP128))","v":""},{"$f":"IF(AR180>'2 Descrizione Progetto'!$D$22,\"\",IF($D$160=\"Profilo standard\",AR73,AQ128))","v":""},{"$f":"IF(AS180>'2 Descrizione Progetto'!$D$22,\"\",IF($D$160=\"Profilo standard\",AS73,AR128))","v":""},{"$f":"IF(AT180>'2 Descrizione Progetto'!$D$22,\"\",IF($D$160=\"Profilo standard\",AT73,AS128))","v":""},{"$f":"IF(AU180>'2 Descrizione Progetto'!$D$22,\"\",IF($D$160=\"Profilo standard\",AU73,AT128))","v":""},{"$f":"IF(AV180>'2 Descrizione Progetto'!$D$22,\"\",IF($D$160=\"Profilo standard\",AV73,AU128))","v":""},{"$f":"IF(AW180>'2 Descrizione Progetto'!$D$22,\"\",IF($D$160=\"Profilo standard\",AW73,AV128))","v":""},{"$f":"IF(AX180>'2 Descrizione Progetto'!$D$22,\"\",IF($D$160=\"Profilo standard\",AX73,AW128))","v":""},{"$f":"IF(AY180>'2 Descrizione Progetto'!$D$22,\"\",IF($D$160=\"Profilo standard\",AY73,AX128))","v":""},{"$f":"IF(AZ180>'2 Descrizione Progetto'!$D$22,\"\",IF($D$160=\"Profilo standard\",AZ73,AY128))","v":""},{"$f":"IF(BA180>'2 Descrizione Progetto'!$D$22,\"\",IF($D$160=\"Profilo standard\",BA73,AZ128))","v":""},{"$f":"IF(BB180>'2 Descrizione Progetto'!$D$22,\"\",IF($D$160=\"Profilo standard\",BB73,BA128))","v":""},{"$f":"IF(BC180>'2 Descrizione Progetto'!$D$22,\"\",IF($D$160=\"Profilo standard\",BC73,BB128))","v":""},{"$f":"IF(BD180>'2 Descrizione Progetto'!$D$22,\"\",IF($D$160=\"Profilo standard\",BD73,BC128))","v":""},{"$f":"IF(BE180>'2 Descrizione Progetto'!$D$22,\"\",IF($D$160=\"Profilo standard\",BE73,BD128))","v":""},{"$f":"IF(BF180>'2 Descrizione Progetto'!$D$22,\"\",IF($D$160=\"Profilo standard\",BF73,BE128))","v":""},{"$f":"IF(BG180>'2 Descrizione Progetto'!$D$22,\"\",IF($D$160=\"Profilo standard\",BG73,BF128))","v":""},{"$f":"IF(BH180>'2 Descrizione Progetto'!$D$22,\"\",IF($D$160=\"Profilo standard\",BH73,BG128))","v":""},{"$f":"IF(BI180>'2 Descrizione Progetto'!$D$22,\"\",IF($D$160=\"Profilo standard\",BI73,BH128))","v":""},{"$f":"IF(BJ180>'2 Descrizione Progetto'!$D$22,\"\",IF($D$160=\"Profilo standard\",BJ73,BI128))","v":""},{"$f":"IF(BK180>'2 Descrizione Progetto'!$D$22,\"\",IF($D$160=\"Profilo standard\",BK73,BJ128))","v":""},{"$f":"IF(BL180>'2 Descrizione Progetto'!$D$22,\"\",IF($D$160=\"Profilo standard\",BL73,BK128))","v":""}]
[null,8,"Profilo standard","Servizio 8",{"$f":"IF(E180>'2 Descrizione Progetto'!$D$22,\"\",IF($D$161=\"Profilo standard\",E78,D133))","v":1},{"$f":"IF(F180>'2 Descrizione Progetto'!$D$22,\"\",IF($D$161=\"Profilo standard\",F78,E133))","v":1.02},{"$f":"IF(G180>'2 Descrizione Progetto'!$D$22,\"\",IF($D$161=\"Profilo standard\",G78,F133))","v":1.0404},{"$f":"IF(H180>'2 Descrizione Progetto'!$D$22,\"\",IF($D$161=\"Profilo standard\",H78,G133))","v":1.0612079999999999},{"$f":"IF(I180>'2 Descrizione Progetto'!$D$22,\"\",IF($D$161=\"Profilo standard\",I78,H133))","v":1.08243216},{"$f":"IF(J180>'2 Descrizione Progetto'!$D$22,\"\",IF($D$161=\"Profilo standard\",J78,I133))","v":1.1040808032},{"$f":"IF(K180>'2 Descrizione Progetto'!$D$22,\"\",IF($D$161=\"Profilo standard\",K78,J133))","v":1.1261624192640001},{"$f":"IF(L180>'2 Descrizione Progetto'!$D$22,\"\",IF($D$161=\"Profilo standard\",L78,K133))","v":1.14868566764928},{"$f":"IF(M180>'2 Descrizione Progetto'!$D$22,\"\",IF($D$161=\"Profilo standard\",M78,L133))","v":1.1716593810022657},{"$f":"IF(N180>'2 Descrizione Progetto'!$D$22,\"\",IF($D$161=\"Profilo standard\",N78,M133))","v":1.1950925686223111},{"$f":"IF(O180>'2 Descrizione Progetto'!$D$22,\"\",IF($D$161=\"Profilo standard\",O78,N133))","v":""},{"$f":"IF(P180>'2 Descrizione Progetto'!$D$22,\"\",IF($D$161=\"Profilo standard\",P78,O133))","v":""},{"$f":"IF(Q180>'2 Descrizione Progetto'!$D$22,\"\",IF($D$161=\"Profilo standard\",Q78,P133))","v":""},{"$f":"IF(R180>'2 Descrizione Progetto'!$D$22,\"\",IF($D$161=\"Profilo standard\",R78,Q133))","v":""},{"$f":"IF(S180>'2 Descrizione Progetto'!$D$22,\"\",IF($D$161=\"Profilo standard\",S78,R133))","v":""},{"$f":"IF(T180>'2 Descrizione Progetto'!$D$22,\"\",IF($D$161=\"Profilo standard\",T78,S133))","v":""},{"$f":"IF(U180>'2 Descrizione Progetto'!$D$22,\"\",IF($D$161=\"Profilo standard\",U78,T133))","v":""},{"$f":"IF(V180>'2 Descrizione Progetto'!$D$22,\"\",IF($D$161=\"Profilo standard\",V78,U133))","v":""},{"$f":"IF(W180>'2 Descrizione Progetto'!$D$22,\"\",IF($D$161=\"Profilo standard\",W78,V133))","v":""},{"$f":"IF(X180>'2 Descrizione Progetto'!$D$22,\"\",IF($D$161=\"Profilo standard\",X78,W133))","v":""},{"$f":"IF(Y180>'2 Descrizione Progetto'!$D$22,\"\",IF($D$161=\"Profilo standard\",Y78,X133))","v":""},{"$f":"IF(Z180>'2 Descrizione Progetto'!$D$22,\"\",IF($D$161=\"Profilo standard\",Z78,Y133))","v":""},{"$f":"IF(AA180>'2 Descrizione Progetto'!$D$22,\"\",IF($D$161=\"Profilo standard\",AA78,Z133))","v":""},{"$f":"IF(AB180>'2 Descrizione Progetto'!$D$22,\"\",IF($D$161=\"Profilo standard\",AB78,AA133))","v":""},{"$f":"IF(AC180>'2 Descrizione Progetto'!$D$22,\"\",IF($D$161=\"Profilo standard\",AC78,AB133))","v":""},{"$f":"IF(AD180>'2 Descrizione Progetto'!$D$22,\"\",IF($D$161=\"Profilo standard\",AD78,AC133))","v":""},{"$f":"IF(AE180>'2 Descrizione Progetto'!$D$22,\"\",IF($D$161=\"Profilo standard\",AE78,AD133))","v":""},{"$f":"IF(AF180>'2 Descrizione Progetto'!$D$22,\"\",IF($D$161=\"Profilo standard\",AF78,AE133))","v":""},{"$f":"IF(AG180>'2 Descrizione Progetto'!$D$22,\"\",IF($D$161=\"Profilo standard\",AG78,AF133))","v":""},{"$f":"IF(AH180>'2 Descrizione Progetto'!$D$22,\"\",IF($D$161=\"Profilo standard\",AH78,AG133))","v":""},{"$f":"IF(AI180>'2 Descrizione Progetto'!$D$22,\"\",IF($D$161=\"Profilo standard\",AI78,AH133))","v":""},{"$f":"IF(AJ180>'2 Descrizione Progetto'!$D$22,\"\",IF($D$161=\"Profilo standard\",AJ78,AI133))","v":""},{"$f":"IF(AK180>'2 Descrizione Progetto'!$D$22,\"\",IF($D$161=\"Profilo standard\",AK78,AJ133))","v":""},{"$f":"IF(AL180>'2 Descrizione Progetto'!$D$22,\"\",IF($D$161=\"Profilo standard\",AL78,AK133))","v":""},{"$f":"IF(AM180>'2 Descrizione Progetto'!$D$22,\"\",IF($D$161=\"Profilo standard\",AM78,AL133))","v":""},{"$f":"IF(AN180>'2 Descrizione Progetto'!$D$22,\"\",IF($D$161=\"Profilo standard\",AN78,AM133))","v":""},{"$f":"IF(AO180>'2 Descrizione Progetto'!$D$22,\"\",IF($D$161=\"Profilo standard\",AO78,AN133))","v":""},{"$f":"IF(AP180>'2 Descrizione Progetto'!$D$22,\"\",IF($D$161=\"Profilo standard\",AP78,AO133))","v":""},{"$f":"IF(AQ180>'2 Descrizione Progetto'!$D$22,\"\",IF($D$161=\"Profilo standard\",AQ78,AP133))","v":""},{"$f":"IF(AR180>'2 Descrizione Progetto'!$D$22,\"\",IF($D$161=\"Profilo standard\",AR78,AQ133))","v":""},{"$f":"IF(AS180>'2 Descrizione Progetto'!$D$22,\"\",IF($D$161=\"Profilo standard\",AS78,AR133))","v":""},{"$f":"IF(AT180>'2 Descrizione Progetto'!$D$22,\"\",IF($D$161=\"Profilo standard\",AT78,AS133))","v":""},{"$f":"IF(AU180>'2 Descrizione Progetto'!$D$22,\"\",IF($D$161=\"Profilo standard\",AU78,AT133))","v":""},{"$f":"IF(AV180>'2 Descrizione Progetto'!$D$22,\"\",IF($D$161=\"Profilo standard\",AV78,AU133))","v":""},{"$f":"IF(AW180>'2 Descrizione Progetto'!$D$22,\"\",IF($D$161=\"Profilo standard\",AW78,AV133))","v":""},{"$f":"IF(AX180>'2 Descrizione Progetto'!$D$22,\"\",IF($D$161=\"Profilo standard\",AX78,AW133))","v":""},{"$f":"IF(AY180>'2 Descrizione Progetto'!$D$22,\"\",IF($D$161=\"Profilo standard\",AY78,AX133))","v":""},{"$f":"IF(AZ180>'2 Descrizione Progetto'!$D$22,\"\",IF($D$161=\"Profilo standard\",AZ78,AY133))","v":""},{"$f":"IF(BA180>'2 Descrizione Progetto'!$D$22,\"\",IF($D$161=\"Profilo standard\",BA78,AZ133))","v":""},{"$f":"IF(BB180>'2 Descrizione Progetto'!$D$22,\"\",IF($D$161=\"Profilo standard\",BB78,BA133))","v":""},{"$f":"IF(BC180>'2 Descrizione Progetto'!$D$22,\"\",IF($D$161=\"Profilo standard\",BC78,BB133))","v":""},{"$f":"IF(BD180>'2 Descrizione Progetto'!$D$22,\"\",IF($D$161=\"Profilo standard\",BD78,BC133))","v":""},{"$f":"IF(BE180>'2 Descrizione Progetto'!$D$22,\"\",IF($D$161=\"Profilo standard\",BE78,BD133))","v":""},{"$f":"IF(BF180>'2 Descrizione Progetto'!$D$22,\"\",IF($D$161=\"Profilo standard\",BF78,BE133))","v":""},{"$f":"IF(BG180>'2 Descrizione Progetto'!$D$22,\"\",IF($D$161=\"Profilo standard\",BG78,BF133))","v":""},{"$f":"IF(BH180>'2 Descrizione Progetto'!$D$22,\"\",IF($D$161=\"Profilo standard\",BH78,BG133))","v":""},{"$f":"IF(BI180>'2 Descrizione Progetto'!$D$22,\"\",IF($D$161=\"Profilo standard\",BI78,BH133))","v":""},{"$f":"IF(BJ180>'2 Descrizione Progetto'!$D$22,\"\",IF($D$161=\"Profilo standard\",BJ78,BI133))","v":""},{"$f":"IF(BK180>'2 Descrizione Progetto'!$D$22,\"\",IF($D$161=\"Profilo standard\",BK78,BJ133))","v":""},{"$f":"IF(BL180>'2 Descrizione Progetto'!$D$22,\"\",IF($D$161=\"Profilo standard\",BL78,BK133))","v":""}]
[null,9,"Profilo standard","Servizio 9",{"$f":"IF(E180>'2 Descrizione Progetto'!$D$22,\"\",IF($D$162=\"Profilo standard\",E83,D138))","v":1},{"$f":"IF(F180>'2 Descrizione Progetto'!$D$22,\"\",IF($D$162=\"Profilo standard\",F83,E138))","v":1.02},{"$f":"IF(G180>'2 Descrizione Progetto'!$D$22,\"\",IF($D$162=\"Profilo standard\",G83,F138))","v":1.0404},{"$f":"IF(H180>'2 Descrizione Progetto'!$D$22,\"\",IF($D$162=\"Profilo standard\",H83,G138))","v":1.0612079999999999},{"$f":"IF(I180>'2 Descrizione Progetto'!$D$22,\"\",IF($D$162=\"Profilo standard\",I83,H138))","v":1.08243216},{"$f":"IF(J180>'2 Descrizione Progetto'!$D$22,\"\",IF($D$162=\"Profilo standard\",J83,I138))","v":1.1040808032},{"$f":"IF(K180>'2 Descrizione Progetto'!$D$22,\"\",IF($D$162=\"Profilo standard\",K83,J138))","v":1.1261624192640001},{"$f":"IF(L180>'2 Descrizione Progetto'!$D$22,\"\",IF($D$162=\"Profilo standard\",L83,K138))","v":1.14868566764928},{"$f":"IF(M180>'2 Descrizione Progetto'!$D$22,\"\",IF($D$162=\"Profilo standard\",M83,L138))","v":1.1716593810022657},{"$f":"IF(N180>'2 Descrizione Progetto'!$D$22,\"\",IF($D$162=\"Profilo standard\",N83,M138))","v":1.1950925686223111},{"$f":"IF(O180>'2 Descrizione Progetto'!$D$22,\"\",IF($D$162=\"Profilo standard\",O83,N138))","v":""},{"$f":"IF(P180>'2 Descrizione Progetto'!$D$22,\"\",IF($D$162=\"Profilo standard\",P83,O138))","v":""},{"$f":"IF(Q180>'2 Descrizione Progetto'!$D$22,\"\",IF($D$162=\"Profilo standard\",Q83,P138))","v":""},{"$f":"IF(R180>'2 Descrizione Progetto'!$D$22,\"\",IF($D$162=\"Profilo standard\",R83,Q138))","v":""},{"$f":"IF(S180>'2 Descrizione Progetto'!$D$22,\"\",IF($D$162=\"Profilo standard\",S83,R138))","v":""},{"$f":"IF(T180>'2 Descrizione Progetto'!$D$22,\"\",IF($D$162=\"Profilo standard\",T83,S138))","v":""},{"$f":"IF(U180>'2 Descrizione Progetto'!$D$22,\"\",IF($D$162=\"Profilo standard\",U83,T138))","v":""},{"$f":"IF(V180>'2 Descrizione Progetto'!$D$22,\"\",IF($D$162=\"Profilo standard\",V83,U138))","v":""},{"$f":"IF(W180>'2 Descrizione Progetto'!$D$22,\"\",IF($D$162=\"Profilo standard\",W83,V138))","v":""},{"$f":"IF(X180>'2 Descrizione Progetto'!$D$22,\"\",IF($D$162=\"Profilo standard\",X83,W138))","v":""},{"$f":"IF(Y180>'2 Descrizione Progetto'!$D$22,\"\",IF($D$162=\"Profilo standard\",Y83,X138))","v":""},{"$f":"IF(Z180>'2 Descrizione Progetto'!$D$22,\"\",IF($D$162=\"Profilo standard\",Z83,Y138))","v":""},{"$f":"IF(AA180>'2 Descrizione Progetto'!$D$22,\"\",IF($D$162=\"Profilo standard\",AA83,Z138))","v":""},{"$f":"IF(AB180>'2 Descrizione Progetto'!$D$22,\"\",IF($D$162=\"Profilo standard\",AB83,AA138))","v":""},{"$f":"IF(AC180>'2 Descrizione Progetto'!$D$22,\"\",IF($D$162=\"Profilo standard\",AC83,AB138))","v":""},{"$f":"IF(AD180>'2 Descrizione Progetto'!$D$22,\"\",IF($D$162=\"Profilo standard\",AD83,AC138))","v":""},{"$f":"IF(AE180>'2 Descrizione Progetto'!$D$22,\"\",IF($D$162=\"Profilo standard\",AE83,AD138))","v":""},{"$f":"IF(AF180>'2 Descrizione Progetto'!$D$22,\"\",IF($D$162=\"Profilo standard\",AF83,AE138))","v":""},{"$f":"IF(AG180>'2 Descrizione Progetto'!$D$22,\"\",IF($D$162=\"Profilo standard\",AG83,AF138))","v":""},{"$f":"IF(AH180>'2 Descrizione Progetto'!$D$22,\"\",IF($D$162=\"Profilo standard\",AH83,AG138))","v":""},{"$f":"IF(AI180>'2 Descrizione Progetto'!$D$22,\"\",IF($D$162=\"Profilo standard\",AI83,AH138))","v":""},{"$f":"IF(AJ180>'2 Descrizione Progetto'!$D$22,\"\",IF($D$162=\"Profilo standard\",AJ83,AI138))","v":""},{"$f":"IF(AK180>'2 Descrizione Progetto'!$D$22,\"\",IF($D$162=\"Profilo standard\",AK83,AJ138))","v":""},{"$f":"IF(AL180>'2 Descrizione Progetto'!$D$22,\"\",IF($D$162=\"Profilo standard\",AL83,AK138))","v":""},{"$f":"IF(AM180>'2 Descrizione Progetto'!$D$22,\"\",IF($D$162=\"Profilo standard\",AM83,AL138))","v":""},{"$f":"IF(AN180>'2 Descrizione Progetto'!$D$22,\"\",IF($D$162=\"Profilo standard\",AN83,AM138))","v":""},{"$f":"IF(AO180>'2 Descrizione Progetto'!$D$22,\"\",IF($D$162=\"Profilo standard\",AO83,AN138))","v":""},{"$f":"IF(AP180>'2 Descrizione Progetto'!$D$22,\"\",IF($D$162=\"Profilo standard\",AP83,AO138))","v":""},{"$f":"IF(AQ180>'2 Descrizione Progetto'!$D$22,\"\",IF($D$162=\"Profilo standard\",AQ83,AP138))","v":""},{"$f":"IF(AR180>'2 Descrizione Progetto'!$D$22,\"\",IF($D$162=\"Profilo standard\",AR83,AQ138))","v":""},{"$f":"IF(AS180>'2 Descrizione Progetto'!$D$22,\"\",IF($D$162=\"Profilo standard\",AS83,AR138))","v":""},{"$f":"IF(AT180>'2 Descrizione Progetto'!$D$22,\"\",IF($D$162=\"Profilo standard\",AT83,AS138))","v":""},{"$f":"IF(AU180>'2 Descrizione Progetto'!$D$22,\"\",IF($D$162=\"Profilo standard\",AU83,AT138))","v":""},{"$f":"IF(AV180>'2 Descrizione Progetto'!$D$22,\"\",IF($D$162=\"Profilo standard\",AV83,AU138))","v":""},{"$f":"IF(AW180>'2 Descrizione Progetto'!$D$22,\"\",IF($D$162=\"Profilo standard\",AW83,AV138))","v":""},{"$f":"IF(AX180>'2 Descrizione Progetto'!$D$22,\"\",IF($D$162=\"Profilo standard\",AX83,AW138))","v":""},{"$f":"IF(AY180>'2 Descrizione Progetto'!$D$22,\"\",IF($D$162=\"Profilo standard\",AY83,AX138))","v":""},{"$f":"IF(AZ180>'2 Descrizione Progetto'!$D$22,\"\",IF($D$162=\"Profilo standard\",AZ83,AY138))","v":""},{"$f":"IF(BA180>'2 Descrizione Progetto'!$D$22,\"\",IF($D$162=\"Profilo standard\",BA83,AZ138))","v":""},{"$f":"IF(BB180>'2 Descrizione Progetto'!$D$22,\"\",IF($D$162=\"Profilo standard\",BB83,BA138))","v":""},{"$f":"IF(BC180>'2 Descrizione Progetto'!$D$22,\"\",IF($D$162=\"Profilo standard\",BC83,BB138))","v":""},{"$f":"IF(BD180>'2 Descrizione Progetto'!$D$22,\"\",IF($D$162=\"Profilo standard\",BD83,BC138))","v":""},{"$f":"IF(BE180>'2 Descrizione Progetto'!$D$22,\"\",IF($D$162=\"Profilo standard\",BE83,BD138))","v":""},{"$f":"IF(BF180>'2 Descrizione Progetto'!$D$22,\"\",IF($D$162=\"Profilo standard\",BF83,BE138))","v":""},{"$f":"IF(BG180>'2 Descrizione Progetto'!$D$22,\"\",IF($D$162=\"Profilo standard\",BG83,BF138))","v":""},{"$f":"IF(BH180>'2 Descrizione Progetto'!$D$22,\"\",IF($D$162=\"Profilo standard\",BH83,BG138))","v":""},{"$f":"IF(BI180>'2 Descrizione Progetto'!$D$22,\"\",IF($D$162=\"Profilo standard\",BI83,BH138))","v":""},{"$f":"IF(BJ180>'2 Descrizione Progetto'!$D$22,\"\",IF($D$162=\"Profilo standard\",BJ83,BI138))","v":""},{"$f":"IF(BK180>'2 Descrizione Progetto'!$D$22,\"\",IF($D$162=\"Profilo standard\",BK83,BJ138))","v":""},{"$f":"IF(BL180>'2 Descrizione Progetto'!$D$22,\"\",IF($D$162=\"Profilo standard\",BL83,BK138))","v":""}]
[null,10,"Profilo standard","Servizio 10",{"$f":"IF(E180>'2 Descrizione Progetto'!$D$22,\"\",IF($D$163=\"Profilo standard\",E88,D143))","v":1},{"$f":"IF(F180>'2 Descrizione Progetto'!$D$22,\"\",IF($D$163=\"Profilo standard\",F88,E143))","v":1.02},{"$f":"IF(G180>'2 Descrizione Progetto'!$D$22,\"\",IF($D$163=\"Profilo standard\",G88,F143))","v":1.0404},{"$f":"IF(H180>'2 Descrizione Progetto'!$D$22,\"\",IF($D$163=\"Profilo standard\",H88,G143))","v":1.0612079999999999},{"$f":"IF(I180>'2 Descrizione Progetto'!$D$22,\"\",IF($D$163=\"Profilo standard\",I88,H143))","v":1.08243216},{"$f":"IF(J180>'2 Descrizione Progetto'!$D$22,\"\",IF($D$163=\"Profilo standard\",J88,I143))","v":1.1040808032},{"$f":"IF(K180>'2 Descrizione Progetto'!$D$22,\"\",IF($D$163=\"Profilo standard\",K88,J143))","v":1.1261624192640001},{"$f":"IF(L180>'2 Descrizione Progetto'!$D$22,\"\",IF($D$163=\"Profilo standard\",L88,K143))","v":1.14868566764928},{"$f":"IF(M180>'2 Descrizione Progetto'!$D$22,\"\",IF($D$163=\"Profilo standard\",M88,L143))","v":1.1716593810022657},{"$f":"IF(N180>'2 Descrizione Progetto'!$D$22,\"\",IF($D$163=\"Profilo standard\",N88,M143))","v":1.1950925686223111},{"$f":"IF(O180>'2 Descrizione Progetto'!$D$22,\"\",IF($D$163=\"Profilo standard\",O88,N143))","v":""},{"$f":"IF(P180>'2 Descrizione Progetto'!$D$22,\"\",IF($D$163=\"Profilo standard\",P88,O143))","v":""},{"$f":"IF(Q180>'2 Descrizione Progetto'!$D$22,\"\",IF($D$163=\"Profilo standard\",Q88,P143))","v":""},{"$f":"IF(R180>'2 Descrizione Progetto'!$D$22,\"\",IF($D$163=\"Profilo standard\",R88,Q143))","v":""},{"$f":"IF(S180>'2 Descrizione Progetto'!$D$22,\"\",IF($D$163=\"Profilo standard\",S88,R143))","v":""},{"$f":"IF(T180>'2 Descrizione Progetto'!$D$22,\"\",IF($D$163=\"Profilo standard\",T88,S143))","v":""},{"$f":"IF(U180>'2 Descrizione Progetto'!$D$22,\"\",IF($D$163=\"Profilo standard\",U88,T143))","v":""},{"$f":"IF(V180>'2 Descrizione Progetto'!$D$22,\"\",IF($D$163=\"Profilo standard\",V88,U143))","v":""},{"$f":"IF(W180>'2 Descrizione Progetto'!$D$22,\"\",IF($D$163=\"Profilo standard\",W88,V143))","v":""},{"$f":"IF(X180>'2 Descrizione Progetto'!$D$22,\"\",IF($D$163=\"Profilo standard\",X88,W143))","v":""},{"$f":"IF(Y180>'2 Descrizione Progetto'!$D$22,\"\",IF($D$163=\"Profilo standard\",Y88,X143))","v":""},{"$f":"IF(Z180>'2 Descrizione Progetto'!$D$22,\"\",IF($D$163=\"Profilo standard\",Z88,Y143))","v":""},{"$f":"IF(AA180>'2 Descrizione Progetto'!$D$22,\"\",IF($D$163=\"Profilo standard\",AA88,Z143))","v":""},{"$f":"IF(AB180>'2 Descrizione Progetto'!$D$22,\"\",IF($D$163=\"Profilo standard\",AB88,AA143))","v":""},{"$f":"IF(AC180>'2 Descrizione Progetto'!$D$22,\"\",IF($D$163=\"Profilo standard\",AC88,AB143))","v":""},{"$f":"IF(AD180>'2 Descrizione Progetto'!$D$22,\"\",IF($D$163=\"Profilo standard\",AD88,AC143))","v":""},{"$f":"IF(AE180>'2 Descrizione Progetto'!$D$22,\"\",IF($D$163=\"Profilo standard\",AE88,AD143))","v":""},{"$f":"IF(AF180>'2 Descrizione Progetto'!$D$22,\"\",IF($D$163=\"Profilo standard\",AF88,AE143))","v":""},{"$f":"IF(AG180>'2 Descrizione Progetto'!$D$22,\"\",IF($D$163=\"Profilo standard\",AG88,AF143))","v":""},{"$f":"IF(AH180>'2 Descrizione Progetto'!$D$22,\"\",IF($D$163=\"Profilo standard\",AH88,AG143))","v":""},{"$f":"IF(AI180>'2 Descrizione Progetto'!$D$22,\"\",IF($D$163=\"Profilo standard\",AI88,AH143))","v":""},{"$f":"IF(AJ180>'2 Descrizione Progetto'!$D$22,\"\",IF($D$163=\"Profilo standard\",AJ88,AI143))","v":""},{"$f":"IF(AK180>'2 Descrizione Progetto'!$D$22,\"\",IF($D$163=\"Profilo standard\",AK88,AJ143))","v":""},{"$f":"IF(AL180>'2 Descrizione Progetto'!$D$22,\"\",IF($D$163=\"Profilo standard\",AL88,AK143))","v":""},{"$f":"IF(AM180>'2 Descrizione Progetto'!$D$22,\"\",IF($D$163=\"Profilo standard\",AM88,AL143))","v":""},{"$f":"IF(AN180>'2 Descrizione Progetto'!$D$22,\"\",IF($D$163=\"Profilo standard\",AN88,AM143))","v":""},{"$f":"IF(AO180>'2 Descrizione Progetto'!$D$22,\"\",IF($D$163=\"Profilo standard\",AO88,AN143))","v":""},{"$f":"IF(AP180>'2 Descrizione Progetto'!$D$22,\"\",IF($D$163=\"Profilo standard\",AP88,AO143))","v":""},{"$f":"IF(AQ180>'2 Descrizione Progetto'!$D$22,\"\",IF($D$163=\"Profilo standard\",AQ88,AP143))","v":""},{"$f":"IF(AR180>'2 Descrizione Progetto'!$D$22,\"\",IF($D$163=\"Profilo standard\",AR88,AQ143))","v":""},{"$f":"IF(AS180>'2 Descrizione Progetto'!$D$22,\"\",IF($D$163=\"Profilo standard\",AS88,AR143))","v":""},{"$f":"IF(AT180>'2 Descrizione Progetto'!$D$22,\"\",IF($D$163=\"Profilo standard\",AT88,AS143))","v":""},{"$f":"IF(AU180>'2 Descrizione Progetto'!$D$22,\"\",IF($D$163=\"Profilo standard\",AU88,AT143))","v":""},{"$f":"IF(AV180>'2 Descrizione Progetto'!$D$22,\"\",IF($D$163=\"Profilo standard\",AV88,AU143))","v":""},{"$f":"IF(AW180>'2 Descrizione Progetto'!$D$22,\"\",IF($D$163=\"Profilo standard\",AW88,AV143))","v":""},{"$f":"IF(AX180>'2 Descrizione Progetto'!$D$22,\"\",IF($D$163=\"Profilo standard\",AX88,AW143))","v":""},{"$f":"IF(AY180>'2 Descrizione Progetto'!$D$22,\"\",IF($D$163=\"Profilo standard\",AY88,AX143))","v":""},{"$f":"IF(AZ180>'2 Descrizione Progetto'!$D$22,\"\",IF($D$163=\"Profilo standard\",AZ88,AY143))","v":""},{"$f":"IF(BA180>'2 Descrizione Progetto'!$D$22,\"\",IF($D$163=\"Profilo standard\",BA88,AZ143))","v":""},{"$f":"IF(BB180>'2 Descrizione Progetto'!$D$22,\"\",IF($D$163=\"Profilo standard\",BB88,BA143))","v":""},{"$f":"IF(BC180>'2 Descrizione Progetto'!$D$22,\"\",IF($D$163=\"Profilo standard\",BC88,BB143))","v":""},{"$f":"IF(BD180>'2 Descrizione Progetto'!$D$22,\"\",IF($D$163=\"Profilo standard\",BD88,BC143))","v":""},{"$f":"IF(BE180>'2 Descrizione Progetto'!$D$22,\"\",IF($D$163=\"Profilo standard\",BE88,BD143))","v":""},{"$f":"IF(BF180>'2 Descrizione Progetto'!$D$22,\"\",IF($D$163=\"Profilo standard\",BF88,BE143))","v":""},{"$f":"IF(BG180>'2 Descrizione Progetto'!$D$22,\"\",IF($D$163=\"Profilo standard\",BG88,BF143))","v":""},{"$f":"IF(BH180>'2 Descrizione Progetto'!$D$22,\"\",IF($D$163=\"Profilo standard\",BH88,BG143))","v":""},{"$f":"IF(BI180>'2 Descrizione Progetto'!$D$22,\"\",IF($D$163=\"Profilo standard\",BI88,BH143))","v":""},{"$f":"IF(BJ180>'2 Descrizione Progetto'!$D$22,\"\",IF($D$163=\"Profilo standard\",BJ88,BI143))","v":""},{"$f":"IF(BK180>'2 Descrizione Progetto'!$D$22,\"\",IF($D$163=\"Profilo standard\",BK88,BJ143))","v":""},{"$f":"IF(BL180>'2 Descrizione Progetto'!$D$22,\"\",IF($D$163=\"Profilo standard\",BL88,BK143))","v":""}]
[]
[null,null,"CHECK: domanda rivolta all'infrastruttura positiva"]
[null,1,{"$f":"IF(C9=\"\",\"\",C9)","v":"Ricavi Istituzionali"},{"$f":"IF(AND(D27=\"\",COUNTIF(D97:BL97,\"!= \")=0),IF(AND(D27<=0,COUNTIF(D97:BL97,\">0\")=0),\"\",\"OK\"),\"OK\")","v":"OK"},{"$f":"IF(AND(D27=\"\",COUNTIF(D97:BL97,\"!= \")=0,COUNTIF(D194:D202,\"=OK\")>0),IF(AND(D27<=0,COUNTIF(D97:BL97,\">0\")=0,COUNTIF(D194:D202,\"=OK\")>0),\"ERRORE\",\"\"),\"\")","v":""}]
[null,2,"Ricavi Commerciali",{"$f":"IF(AND(D28=\"\",COUNTIF(D102:BL102,\"!= \")=0),IF(AND(D28<=0,COUNTIF(D102:BL102,\">0\")=0),\"\",\"OK\"),\"OK\")","v":"OK"},{"$f":"IF(AND(D28=\"\",COUNTIF(D102:BL102,\"!= \")=0,COUNTIF(D195:D202,\"=OK\")>0),IF(AND(D28<=0,COUNTIF(D102:BL102,\">0\")=0,COUNTIF(D195:D202,\"=OK\")>0),\"ERRORE\",\"\"),\"\")","v":""}]
[null,3,{"$f":"IF(C11=\"\",\"\",C11)","v":"Ricavi Bar"},{"$f":"IF(AND(D29=\"\",COUNTIF(D107:BL107,\"!= \")=0),IF(AND(D29<=0,COUNTIF(D107:BL107,\">0\")=0),\"\",\"OK\"),\"OK\")","v":"OK"},{"$f":"IF(AND(D29=\"\",COUNTIF(D107:BL107,\"!= \")=0,COUNTIF(D196:D202,\"=OK\")>0),IF(AND(D29<=0,COUNTIF(D107:BL107,\">0\")=0,COUNTIF(D196:D202,\"=OK\")>0),\"ERRORE\",\"\"),\"\")","v":""}]
[null,4,{"$f":"IF(C12=\"\",\"\",C12)","v":"Proventi diversi/pubblicità"},{"$f":"IF(AND(D30=\"\",COUNTIF(D112:BL112,\"!= \")=0),IF(AND(D30<=0,COUNTIF(D112:BL112,\">0\")=0),\"\",\"OK\"),\"OK\")","v":"OK"},{"$f":"IF(AND(D30=\"\",COUNTIF(D112:BL112,\"!= \")=0,COUNTIF(D197:D202,\"=OK\")>0),IF(AND(D30<=0,COUNTIF(D112:BL112,\">0\")=0,COUNTIF(D197:D202,\"=OK\")>0),\"ERRORE\",\"\"),\"\")","v":""}]
[null,5,{"$f":"IF(C13=\"\",\"\",C13)","v":"b"},{"$f":"IF(AND(D31=\"\",COUNTIF(D117:BL117,\"!= \")=0),IF(AND(D31<=0,COUNTIF(D117:BL117,\">0\")=0),\"\",\"OK\"),\"OK\")","v":"OK"},{"$f":"IF(AND(D31=\"\",COUNTIF(D117:BL117,\"!= \")=0,COUNTIF(D198:D202,\"=OK\")>0),IF(AND(D31<=0,COUNTIF(D117:BL117,\">0\")=0,COUNTIF(D198:D202,\"=OK\")>0),\"ERRORE\",\"\"),\"\")","v":""}]
[null,6,"c",{"$f":"IF(AND(D32=\"\",COUNTIF(D122:BL122,\"!= \")=0),IF(AND(D32<=0,COUNTIF(D122:BL122,\">0\")=0),\"\",\"OK\"),\"OK\")","v":"OK"},{"$f":"IF(AND(D32=\"\",COUNTIF(D122:BL122,\"!= \")=0,COUNTIF(D199:D202,\"=OK\")>0),IF(AND(D32<=0,COUNTIF(D122:BL122,\">0\")=0,COUNTIF(D199:D202,\"=OK\")>0),\"ERRORE\",\"\"),\"\")","v":""}]
[null,7,"d",{"$f":"IF(AND(D33=\"\",COUNTIF(D127:BL127,\"!= \")=0),IF(AND(D33<=0,COUNTIF(D127:BL127,\">0\")=0),\"\",\"OK\"),\"OK\")","v":"OK"},{"$f":"IF(AND(D33=\"\",COUNTIF(D122:BL122,\"!= \")=0,COUNTIF(D199:D202,\"=OK\")>0),IF(AND(D33<=0,COUNTIF(D122:BL122,\">0\")=0,COUNTIF(D199:D202,\"=OK\")>0),\"ERRORE\",\"\"),\"\")","v":""}]
[null,8,"e",{"$f":"IF(AND(D34=\"\",COUNTIF(D132:BL132,\"!= \")=0),IF(AND(D34<=0,COUNTIF(D132:BL132,\">0\")=0),\"\",\"OK\"),\"OK\")","v":"OK"},{"$f":"IF(AND(D34=\"\",COUNTIF(D127:BL127,\"!= \")=0,COUNTIF(D200:D202,\"=OK\")>0),IF(AND(D34<=0,COUNTIF(D127:BL127,\">0\")=0,COUNTIF(D200:D202,\"=OK\")>0),\"ERRORE\",\"\"),\"\")","v":""}]
[null,9,"f",{"$f":"IF(AND(D35=\"\",COUNTIF(D137:BL137,\"!= \")=0),IF(AND(D35<=0,COUNTIF(D137:BL137,\">0\")=0),\"\",\"OK\"),\"OK\")","v":"OK"},{"$f":"IF(AND(D35=\"\",COUNTIF(D132:BL132,\"!= \")=0,COUNTIF(D202,\"=OK\")>0),IF(AND(D35<=0,COUNTIF(D132:BL132,\">0\")=0,COUNTIF(D202,\"=OK\")>0),\"ERRORE\",\"\"),\"\")","v":""}]
[null,10,"g",{"$f":"IF(AND(D36=\"\",COUNTIF(D142:BL142,\"!= \")=0),IF(AND(D36<=0,COUNTIF(D142:BL142,\">0\")=0),\"\",\"OK\"),\"OK\")","v":"OK"}]
[]
[]
[]
[]
[]
[]
[]
[]
[]
[]
[null,null,"Costi Operativi Rivalutati Istat",null,{"$f":"'2 Descrizione Progetto'!$D$20","v":1},{"$f":"IF(E213=\"0\",\"0\",IF(E213+1<='2 Descrizione Progetto'!$D$22,E213+1,\"0\"))","v":2},{"$f":"IF(F213=\"0\",\"0\",IF(F213+1<='2 Descrizione Progetto'!$D$22,F213+1,\"0\"))","v":3},{"$f":"IF(G213=\"0\",\"0\",IF(G213+1<='2 Descrizione Progetto'!$D$22,G213+1,\"0\"))","v":4},{"$f":"IF(H213=\"0\",\"0\",IF(H213+1<='2 Descrizione Progetto'!$D$22,H213+1,\"0\"))","v":5},{"$f":"IF(I213=\"0\",\"0\",IF(I213+1<='2 Descrizione Progetto'!$D$22,I213+1,\"0\"))","v":6},{"$f":"IF(J213=\"0\",\"0\",IF(J213+1<='2 Descrizione Progetto'!$D$22,J213+1,\"0\"))","v":7},{"$f":"IF(K213=\"0\",\"0\",IF(K213+1<='2 Descrizione Progetto'!$D$22,K213+1,\"0\"))","v":8},{"$f":"IF(L213=\"0\",\"0\",IF(L213+1<='2 Descrizione Progetto'!$D$22,L213+1,\"0\"))","v":9},{"$f":"IF(M213=\"0\",\"0\",IF(M213+1<='2 Descrizione Progetto'!$D$22,M213+1,\"0\"))","v":10},{"$f":"IF(N213=\"0\",\"0\",IF(N213+1<='2 Descrizione Progetto'!$D$22,N213+1,\"0\"))","v":"0"},{"$f":"IF(O213=\"0\",\"0\",IF(O213+1<='2 Descrizione Progetto'!$D$22,O213+1,\"0\"))","v":"0"},{"$f":"IF(P213=\"0\",\"0\",IF(P213+1<='2 Descrizione Progetto'!$D$22,P213+1,\"0\"))","v":"0"},{"$f":"IF(Q213=\"0\",\"0\",IF(Q213+1<='2 Descrizione Progetto'!$D$22,Q213+1,\"0\"))","v":"0"},{"$f":"IF(R213=\"0\",\"0\",IF(R213+1<='2 Descrizione Progetto'!$D$22,R213+1,\"0\"))","v":"0"},{"$f":"IF(S213=\"0\",\"0\",IF(S213+1<='2 Descrizione Progetto'!$D$22,S213+1,\"0\"))","v":"0"},{"$f":"IF(T213=\"0\",\"0\",IF(T213+1<='2 Descrizione Progetto'!$D$22,T213+1,\"0\"))","v":"0"},{"$f":"IF(U213=\"0\",\"0\",IF(U213+1<='2 Descrizione Progetto'!$D$22,U213+1,\"0\"))","v":"0"},{"$f":"IF(V213=\"0\",\"0\",IF(V213+1<='2 Descrizione Progetto'!$D$22,V213+1,\"0\"))","v":"0"},{"$f":"IF(W213=\"0\",\"0\",IF(W213+1<='2 Descrizione Progetto'!$D$22,W213+1,\"0\"))","v":"0"},{"$f":"IF(X213=\"0\",\"0\",IF(X213+1<='2 Descrizione Progetto'!$D$22,X213+1,\"0\"))","v":"0"},{"$f":"IF(Y213=\"0\",\"0\",IF(Y213+1<='2 Descrizione Progetto'!$D$22,Y213+1,\"0\"))","v":"0"},{"$f":"IF(Z213=\"0\",\"0\",IF(Z213+1<='2 Descrizione Progetto'!$D$22,Z213+1,\"0\"))","v":"0"},{"$f":"IF(AA213=\"0\",\"0\",IF(AA213+1<='2 Descrizione Progetto'!$D$22,AA213+1,\"0\"))","v":"0"},{"$f":"IF(AB213=\"0\",\"0\",IF(AB213+1<='2 Descrizione Progetto'!$D$22,AB213+1,\"0\"))","v":"0"},{"$f":"IF(AC213=\"0\",\"0\",IF(AC213+1<='2 Descrizione Progetto'!$D$22,AC213+1,\"0\"))","v":"0"},{"$f":"IF(AD213=\"0\",\"0\",IF(AD213+1<='2 Descrizione Progetto'!$D$22,AD213+1,\"0\"))","v":"0"},{"$f":"IF(AE213=\"0\",\"0\",IF(AE213+1<='2 Descrizione Progetto'!$D$22,AE213+1,\"0\"))","v":"0"},{"$f":"IF(AF213=\"0\",\"0\",IF(AF213+1<='2 Descrizione Progetto'!$D$22,AF213+1,\"0\"))","v":"0"},{"$f":"IF(AG213=\"0\",\"0\",IF(AG213+1<='2 Descrizione Progetto'!$D$22,AG213+1,\"0\"))","v":"0"},{"$f":"IF(AH213=\"0\",\"0\",IF(AH213+1<='2 Descrizione Progetto'!$D$22,AH213+1,\"0\"))","v":"0"},{"$f":"IF(AI213=\"0\",\"0\",IF(AI213+1<='2 Descrizione Progetto'!$D$22,AI213+1,\"0\"))","v":"0"},{"$f":"IF(AJ213=\"0\",\"0\",IF(AJ213+1<='2 Descrizione Progetto'!$D$22,AJ213+1,\"0\"))","v":"0"},{"$f":"IF(AK213=\"0\",\"0\",IF(AK213+1<='2 Descrizione Progetto'!$D$22,AK213+1,\"0\"))","v":"0"},{"$f":"IF(AL213=\"0\",\"0\",IF(AL213+1<='2 Descrizione Progetto'!$D$22,AL213+1,\"0\"))","v":"0"},{"$f":"IF(AM213=\"0\",\"0\",IF(AM213+1<='2 Descrizione Progetto'!$D$22,AM213+1,\"0\"))","v":"0"},{"$f":"IF(AN213=\"0\",\"0\",IF(AN213+1<='2 Descrizione Progetto'!$D$22,AN213+1,\"0\"))","v":"0"},{"$f":"IF(AO213=\"0\",\"0\",IF(AO213+1<='2 Descrizione Progetto'!$D$22,AO213+1,\"0\"))","v":"0"},{"$f":"IF(AP213=\"0\",\"0\",IF(AP213+1<='2 Descrizione Progetto'!$D$22,AP213+1,\"0\"))","v":"0"},{"$f":"IF(AQ213=\"0\",\"0\",IF(AQ213+1<='2 Descrizione Progetto'!$D$22,AQ213+1,\"0\"))","v":"0"},{"$f":"IF(AR213=\"0\",\"0\",IF(AR213+1<='2 Descrizione Progetto'!$D$22,AR213+1,\"0\"))","v":"0"},{"$f":"IF(AS213=\"0\",\"0\",IF(AS213+1<='2 Descrizione Progetto'!$D$22,AS213+1,\"0\"))","v":"0"},{"$f":"IF(AT213=\"0\",\"0\",IF(AT213+1<='2 Descrizione Progetto'!$D$22,AT213+1,\"0\"))","v":"0"},{"$f":"IF(AU213=\"0\",\"0\",IF(AU213+1<='2 Descrizione Progetto'!$D$22,AU213+1,\"0\"))","v":"0"},{"$f":"IF(AV213=\"0\",\"0\",IF(AV213+1<='2 Descrizione Progetto'!$D$22,AV213+1,\"0\"))","v":"0"},{"$f":"IF(AW213=\"0\",\"0\",IF(AW213+1<='2 Descrizione Progetto'!$D$22,AW213+1,\"0\"))","v":"0"},{"$f":"IF(AX213=\"0\",\"0\",IF(AX213+1<='2 Descrizione Progetto'!$D$22,AX213+1,\"0\"))","v":"0"},{"$f":"IF(AY213=\"0\",\"0\",IF(AY213+1<='2 Descrizione Progetto'!$D$22,AY213+1,\"0\"))","v":"0"},{"$f":"IF(AZ213=\"0\",\"0\",IF(AZ213+1<='2 Descrizione Progetto'!$D$22,AZ213+1,\"0\"))","v":"0"},{"$f":"IF(BA213=\"0\",\"0\",IF(BA213+1<='2 Descrizione Progetto'!$D$22,BA213+1,\"0\"))","v":"0"},{"$f":"IF(BB213=\"0\",\"0\",IF(BB213+1<='2 Descrizione Progetto'!$D$22,BB213+1,\"0\"))","v":"0"},{"$f":"IF(BC213=\"0\",\"0\",IF(BC213+1<='2 Descrizione Progetto'!$D$22,BC213+1,\"0\"))","v":"0"},{"$f":"IF(BD213=\"0\",\"0\",IF(BD213+1<='2 Descrizione Progetto'!$D$22,BD213+1,\"0\"))","v":"0"},{"$f":"IF(BE213=\"0\",\"0\",IF(BE213+1<='2 Descrizione Progetto'!$D$22,BE213+1,\"0\"))","v":"0"},{"$f":"IF(BF213=\"0\",\"0\",IF(BF213+1<='2 Descrizione Progetto'!$D$22,BF213+1,\"0\"))","v":"0"},{"$f":"IF(BG213=\"0\",\"0\",IF(BG213+1<='2 Descrizione Progetto'!$D$22,BG213+1,\"0\"))","v":"0"},{"$f":"IF(BH213=\"0\",\"0\",IF(BH213+1<='2 Descrizione Progetto'!$D$22,BH213+1,\"0\"))","v":"0"},{"$f":"IF(BI213=\"0\",\"0\",IF(BI213+1<='2 Descrizione Progetto'!$D$22,BI213+1,\"0\"))","v":"0"},{"$f":"IF(BJ213=\"0\",\"0\",IF(BJ213+1<='2 Descrizione Progetto'!$D$22,BJ213+1,\"0\"))","v":"0"},{"$f":"IF(BK213=\"0\",\"0\",IF(BK213+1<='2 Descrizione Progetto'!$D$22,BK213+1,\"0\"))","v":"0"}]
[null,null,"Costi per servizi",null,{"$f":"SUM(E289,E296,E303,E310,E317,E324,E331,E338,E345,E352)","v":200833.76499999998},207249.4803,214990.09230599998,219289.89415211996,223675.69203516238,228149.20587586562,232712.18999338296,237366.43379325062,242113.76246911564,246956.03771849794,0,0,0,0,0,0,0,0,0,0,0,0,0,0,0,0,0,0,0,0,0,0,0,0,0,0,0,0,0,0,0,0,0,0,0,0,0,0,0,0,0,0,0,0,0,0,0,0,0,0]
[null,null,"Costi del personale e Oneri Sicurezza*",null,{"$f":"SUM(E290,E297,E304,E311,E318,E325,E332,E339,E346,E353)","v":151645.389},154678.29678,157771.8627156,160927.29996991198,164145.84596931023,167428.76288869645,170777.33814647037,174192.88490939979,177676.7426075878,181230.27745973956,0,0,0,0,0,0,0,0,0,0,0,0,0,0,0,0,0,0,0,0,0,0,0,0,0,0,0,0,0,0,0,0,0,0,0,0,0,0,0,0,0,0,0,0,0,0,0,0,0,0]
[null,null,"Canone Concessione",null,{"$f":"SUM(E291,E298,E305,E312,E319,E326,E333,E340,E347,E354)","v":6000},6120,6242.4,6367.2479999999996,6494.5929599999999,6624.4848191999999,6756.9745155840001,6892.1140058956798,7029.9562860135948,7170.5554117338661,0,0,0,0,0,0,0,0,0,0,0,0,0,0,0,0,0,0,0,0,0,0,0,0,0,0,0,0,0,0,0,0,0,0,0,0,0,0,0,0,0,0,0,0,0,0,0,0,0,0]
[null,null,"Manutenzioni ordinarie",null,{"$f":"SUM(E292,E299,E306,E313,E320,E327,E334,E341,E348,E355)","v":16141.526},16464.356520000001,16793.643650400001,17129.516523407998,17472.106853876161,17821.548990953685,18177.979970772758,18541.539570188212,18912.370361591977,19290.617768823817,0,0,0,0,0,0,0,0,0,0,0,0,0,0,0,0,0,0,0,0,0,0,0,0,0,0,0,0,0,0,0,0,0,0,0,0,0,0,0,0,0,0,0,0,0,0,0,0,0,0]
[null,null,"Totale costi operativi",null,{"$f":"SUM(E293,E300,E307,E314,E321,E328,E335,E342,E349,E356)","v":374620.68},384512.13360000006,395797.99867200002,403713.95864543994,411788.23781834875,420024.00257471576,428424.48262621008,436992.97227873426,445732.83172430901,454647.48835879518,0,0,0,0,0,0,0,0,0,0,0,0,0,0,0,0,0,0,0,0,0,0,0,0,0,0,0,0,0,0,0,0,0,0,0,0,0,0,0,0,0,0,0,0,0,0,0,0,0,0]
[null,null,"dinamica costi operativi","var perc","-",{"$f":"IF(ISERROR((F218-E218)/E218),\"\",IF(E218=0,0,(F218-E218)/E218))","v":2.6403917690822797E-2},2.9351128575152863E-2,1.9999999999999806E-2,2.0000000000000018E-2,2.0000000000000104E-2,2.0000000000000011E-2,1.9999999999999945E-2,2.0000000000000153E-2,1.9999999999999962E-2,-1,"","","","","","","","","","","","","","","","","","","","","","","","","","","","","","","","","","","","","","","","","","","","","","","","",""]
[]
[null,null,"Costi per nuove attrezzature e migliorie (rivalutate)",0,{"$f":"'3 Costi-Ricavi'!D36*E363*(1+'10 Schema Sintesi'!$E$202)","v":0},{"$f":"'3 Costi-Ricavi'!E36*F363*(1+'10 Schema Sintesi'!$E$202)","v":0},{"$f":"'3 Costi-Ricavi'!F36*G363*(1+'10 Schema Sintesi'!$E$202)","v":0},{"$f":"'3 Costi-Ricavi'!G36*H363*(1+'10 Schema Sintesi'!$E$202)","v":0},{"$f":"'3 Costi-Ricavi'!H36*I363*(1+'10 Schema Sintesi'!$E$202)","v":0},{"$f":"'3 Costi-Ricavi'!I36*J363*(1+'10 Schema Sintesi'!$E$202)","v":0},{"$f":"'3 Costi-Ricavi'!J36*K363*(1+'10 Schema Sintesi'!$E$202)","v":0},{"$f":"'3 Costi-Ricavi'!K36*L363*(1+'10 Schema Sintesi'!$E$202)","v":0},{"$f":"'3 Costi-Ricavi'!L36*M363*(1+'10 Schema Sintesi'!$E$202)","v":0},{"$f":"'3 Costi-Ricavi'!M36*N363*(1+'10 Schema Sintesi'!$E$202)","v":0},{"$f":"'3 Costi-Ricavi'!N36*O363*(1+'10 Schema Sintesi'!$E$202)","v":0},{"$f":"'3 Costi-Ricavi'!O36*P363*(1+'10 Schema Sintesi'!$E$202)","v":0},{"$f":"'3 Costi-Ricavi'!P36*Q363*(1+'10 Schema Sintesi'!$E$202)","v":0},{"$f":"'3 Costi-Ricavi'!Q36*R363*(1+'10 Schema Sintesi'!$E$202)","v":0},{"$f":"'3 Costi-Ricavi'!R36*S363*(1+'10 Schema Sintesi'!$E$202)","v":0},{"$f":"'3 Costi-Ricavi'!S36*T363*(1+'10 Schema Sintesi'!$E$202)","v":0},{"$f":"'3 Costi-Ricavi'!T36*U363*(1+'10 Schema Sintesi'!$E$202)","v":0},{"$f":"'3 Costi-Ricavi'!U36*V363*(1+'10 Schema Sintesi'!$E$202)","v":0},{"$f":"'3 Costi-Ricavi'!V36*W363*(1+'10 Schema Sintesi'!$E$202)","v":0},{"$f":"'3 Costi-Ricavi'!W36*X363*(1+'10 Schema Sintesi'!$E$202)","v":0},{"$f":"'3 Costi-Ricavi'!X36*Y363*(1+'10 Schema Sintesi'!$E$202)","v":0},{"$f":"'3 Costi-Ricavi'!Y36*Z363*(1+'10 Schema Sintesi'!$E$202)","v":0},{"$f":"'3 Costi-Ricavi'!Z36*AA363*(1+'10 Schema Sintesi'!$E$202)","v":0},{"$f":"'3 Costi-Ricavi'!AA36*AB363*(1+'10 Schema Sintesi'!$E$202)","v":0},{"$f":"'3 Costi-Ricavi'!AB36*AC363*(1+'10 Schema Sintesi'!$E$202)","v":0},{"$f":"'3 Costi-Ricavi'!AC36*AD363*(1+'10 Schema Sintesi'!$E$202)","v":0},{"$f":"'3 Costi-Ricavi'!AD36*AE363*(1+'10 Schema Sintesi'!$E$202)","v":0},{"$f":"'3 Costi-Ricavi'!AE36*AF363*(1+'10 Schema Sintesi'!$E$202)","v":0},{"$f":"'3 Costi-Ricavi'!AF36*AG363*(1+'10 Schema Sintesi'!$E$202)","v":0},{"$f":"'3 Costi-Ricavi'!AG36*AH363*(1+'10 Schema Sintesi'!$E$202)","v":0},{"$f":"'3 Costi-Ricavi'!AH36*AI363*(1+'10 Schema Sintesi'!$E$202)","v":0},{"$f":"'3 Costi-Ricavi'!AI36*AJ363*(1+'10 Schema Sintesi'!$E$202)","v":0},{"$f":"'3 Costi-Ricavi'!AJ36*AK363*(1+'10 Schema Sintesi'!$E$202)","v":0},{"$f":"'3 Costi-Ricavi'!AK36*AL363*(1+'10 Schema Sintesi'!$E$202)","v":0},{"$f":"'3 Costi-Ricavi'!AL36*AM363*(1+'10 Schema Sintesi'!$E$202)","v":0},{"$f":"'3 Costi-Ricavi'!AM36*AN363*(1+'10 Schema Sintesi'!$E$202)","v":0},{"$f":"'3 Costi-Ricavi'!AN36*AO363*(1+'10 Schema Sintesi'!$E$202)","v":0},{"$f":"'3 Costi-Ricavi'!AO36*AP363*(1+'10 Schema Sintesi'!$E$202)","v":0},{"$f":"'3 Costi-Ricavi'!AP36*AQ363*(1+'10 Schema Sintesi'!$E$202)","v":0},{"$f":"'3 Costi-Ricavi'!AQ36*AR363*(1+'10 Schema Sintesi'!$E$202)","v":0},{"$f":"'3 Costi-Ricavi'!AR36*AS363*(1+'10 Schema Sintesi'!$E$202)","v":0},{"$f":"'3 Costi-Ricavi'!AS36*AT363*(1+'10 Schema Sintesi'!$E$202)","v":0},{"$f":"'3 Costi-Ricavi'!AT36*AU363*(1+'10 Schema Sintesi'!$E$202)","v":0},{"$f":"'3 Costi-Ricavi'!AU36*AV363*(1+'10 Schema Sintesi'!$E$202)","v":0},{"$f":"'3 Costi-Ricavi'!AV36*AW363*(1+'10 Schema Sintesi'!$E$202)","v":0},{"$f":"'3 Costi-Ricavi'!AW36*AX363*(1+'10 Schema Sintesi'!$E$202)","v":0},{"$f":"'3 Costi-Ricavi'!AX36*AY363*(1+'10 Schema Sintesi'!$E$202)","v":0},{"$f":"'3 Costi-Ricavi'!AY36*AZ363*(1+'10 Schema Sintesi'!$E$202)","v":0},{"$f":"'3 Costi-Ricavi'!AZ36*BA363*(1+'10 Schema Sintesi'!$E$202)","v":0},{"$f":"'3 Costi-Ricavi'!BA36*BB363*(1+'10 Schema Sintesi'!$E$202)","v":0},{"$f":"'3 Costi-Ricavi'!BB36*BC363*(1+'10 Schema Sintesi'!$E$202)","v":0},{"$f":"'3 Costi-Ricavi'!BC36*BD363*(1+'10 Schema Sintesi'!$E$202)","v":0},{"$f":"'3 Costi-Ricavi'!BD36*BE363*(1+'10 Schema Sintesi'!$E$202)","v":0},{"$f":"'3 Costi-Ricavi'!BE36*BF363*(1+'10 Schema Sintesi'!$E$202)","v":0},{"$f":"'3 Costi-Ricavi'!BF36*BG363*(1+'10 Schema Sintesi'!$E$202)","v":0},{"$f":"'3 Costi-Ricavi'!BG36*BH363*(1+'10 Schema Sintesi'!$E$202)","v":0},{"$f":"'3 Costi-Ricavi'!BH36*BI363*(1+'10 Schema Sintesi'!$E$202)","v":0},{"$f":"'3 Costi-Ricavi'!BI36*BJ363*(1+'10 Schema Sintesi'!$E$202)","v":0},{"$f":"'3 Costi-Ricavi'!BJ36*BK363*(1+'10 Schema Sintesi'!$E$202)","v":0},{"$f":"'3 Costi-Ricavi'!BK36*BL363*(1+'10 Schema Sintesi'!$E$202)","v":0}]
[]
[null,null,"Manutenzioni straordinarie non capitalizzate (da rivalutare)",0,{"$f":"'3 Costi-Ricavi'!D36","v":0},{"$f":"'3 Costi-Ricavi'!E36","v":0},{"$f":"'3 Costi-Ricavi'!F36","v":0},{"$f":"'3 Costi-Ricavi'!G36","v":0},{"$f":"'3 Costi-Ricavi'!H36","v":0},{"$f":"'3 Costi-Ricavi'!I36","v":0},{"$f":"'3 Costi-Ricavi'!J36","v":0},{"$f":"'3 Costi-Ricavi'!K36","v":0},{"$f":"'3 Costi-Ricavi'!L36","v":0},{"$f":"'3 Costi-Ricavi'!M36","v":0},{"$f":"'3 Costi-Ricavi'!N36","v":0},{"$f":"'3 Costi-Ricavi'!O36","v":0},{"$f":"'3 Costi-Ricavi'!P36","v":0},{"$f":"'3 Costi-Ricavi'!Q36","v":0},{"$f":"'3 Costi-Ricavi'!R36","v":0},{"$f":"'3 Costi-Ricavi'!S36","v":0},{"$f":"'3 Costi-Ricavi'!T36","v":0},{"$f":"'3 Costi-Ricavi'!U36","v":0},{"$f":"'3 Costi-Ricavi'!V36","v":0},{"$f":"'3 Costi-Ricavi'!W36","v":0},{"$f":"'3 Costi-Ricavi'!X36","v":0},{"$f":"'3 Costi-Ricavi'!Y36","v":0},{"$f":"'3 Costi-Ricavi'!Z36","v":0},{"$f":"'3 Costi-Ricavi'!AA36","v":0},{"$f":"'3 Costi-Ricavi'!AB36","v":0},{"$f":"'3 Costi-Ricavi'!AC36","v":0},{"$f":"'3 Costi-Ricavi'!AD36","v":0},{"$f":"'3 Costi-Ricavi'!AE36","v":0},{"$f":"'3 Costi-Ricavi'!AF36","v":0},{"$f":"'3 Costi-Ricavi'!AG36","v":0},{"$f":"'3 Costi-Ricavi'!AH36","v":0},{"$f":"'3 Costi-Ricavi'!AI36","v":0},{"$f":"'3 Costi-Ricavi'!AJ36","v":0},{"$f":"'3 Costi-Ricavi'!AK36","v":0},{"$f":"'3 Costi-Ricavi'!AL36","v":0},{"$f":"'3 Costi-Ricavi'!AM36","v":0},{"$f":"'3 Costi-Ricavi'!AN36","v":0},{"$f":"'3 Costi-Ricavi'!AO36","v":0},{"$f":"'3 Costi-Ricavi'!AP36","v":0},{"$f":"'3 Costi-Ricavi'!AQ36","v":0},{"$f":"'3 Costi-Ricavi'!AR36","v":0},{"$f":"'3 Costi-Ricavi'!AS36","v":0},{"$f":"'3 Costi-Ricavi'!AT36","v":0},{"$f":"'3 Costi-Ricavi'!AU36","v":0},{"$f":"'3 Costi-Ricavi'!AV36","v":0},{"$f":"'3 Costi-Ricavi'!AW36","v":0},{"$f":"'3 Costi-Ricavi'!AX36","v":0},{"$f":"'3 Costi-Ricavi'!AY36","v":0},{"$f":"'3 Costi-Ricavi'!AZ36","v":0},{"$f":"'3 Costi-Ricavi'!BA36","v":0},{"$f":"'3 Costi-Ricavi'!BB36","v":0},{"$f":"'3 Costi-Ricavi'!BC36","v":0},{"$f":"'3 Costi-Ricavi'!BD36","v":0},{"$f":"'3 Costi-Ricavi'!BE36","v":0},{"$f":"'3 Costi-Ricavi'!BF36","v":0},{"$f":"'3 Costi-Ricavi'!BG36","v":0},{"$f":"'3 Costi-Ricavi'!BH36","v":0},{"$f":"'3 Costi-Ricavi'!BI36","v":0},{"$f":"'3 Costi-Ricavi'!BJ36","v":0},{"$f":"'3 Costi-Ricavi'!BK36","v":0}]
[]
[null,null,"Analisi della domanda"]
[]
[]
[]
[]
[]
[]
[]
[]
[]
[]
[]
[]
[]
[]
[]
[]
[]
[]
[]
[]
[]
[]
[]
[]
[]
[]
[]
[]
[]
[]
[null,null,"Costi di gestione"]
[]
[null,null,null,"AZZERARE % PER CALCOLO PERSONALIZZATO DEI COSTI"]
[null,null,"Descrizione servizio erogato","Costi per servizi","Costi del personale (al lordo degli oneri sociali)","Oneri diversi di gestione","Manutenzioni ordinarie (valore suggerito: min 0,5%, max 2%)","Totale costi operativi / Ricavi tariffari"]
[null,1,{"$f":"IF(C9=\"\",\"\",C9)","v":"Ricavi Istituzionali"},0,0,0,0,{"$f":"IF($C9=\"\",\"\",IF(SUM(D260:G260)>=0,SUM(D260:G260),\"\"))","v":0}]
[null,2,"Ricavi Commerciali",0,0,0,0,0]
[null,3,{"$f":"IF(C11=\"\",\"\",C11)","v":"Ricavi Bar"},0,0,0,0,{"$f":"IF($C11=\"\",\"\",IF(SUM(D262:G262)>=0,SUM(D262:G262),\"\"))","v":0}]
[null,4,{"$f":"IF(C12=\"\",\"\",C12)","v":"Proventi diversi/pubblicità"},0,0,0,0,{"$f":"IF($C12=\"\",\"\",IF(SUM(D263:G263)>=0,SUM(D263:G263),\"\"))","v":0}]
[null,5,{"$f":"IF(C13=\"\",\"\",C13)","v":"b"},null,null,null,null,{"$f":"IF($C13=\"\",\"\",IF(SUM(D264:G264)>=0,SUM(D264:G264),\"\"))","v":0}]
[null,6,"c",null,null,null,null,0]
[null,7,"d",null,null,null,null,0]
[null,8,"e",null,null,null,null,0]
[null,9,"f",null,null,null,null,0]
[null,10,"g",null,null,null,null,0]
[]
[null,null,"Altri Costi e Ricavi"]
[]
[null,null,null,null,null,null," "]
[null,null,"Descrizione servizio erogato","Canone di concessione","CHECK: Scelta canone e importo da corrispondere","Tasso di crescita percentuale annuo della tariffa",{"$f":"G27","v":0.02},"IVA SU CANONE"]
[null,1,{"$f":"IF(C9=\"\",\"\",C9)","v":"Ricavi Istituzionali"},0,{"$f":"IF(C9=\"\",\"\",IF(D275>=0,\"OK\",\"ERRORE\"))","v":"OK"},null," ",0.22]
[null,2,"Ricavi Commerciali",0,"OK",null,null,0.22]
[null,3,{"$f":"IF(C11=\"\",\"\",C11)","v":"Ricavi Bar"},0,{"$f":"IF(C11=\"\",\"\",IF(D277>=0,\"OK\",\"ERRORE\"))","v":"OK"},null,null,0.22]
[null,4,{"$f":"IF(C12=\"\",\"\",C12)","v":"Proventi diversi/pubblicità"},0,{"$f":"IF(C12=\"\",\"\",IF(D278>=0,\"OK\",\"ERRORE\"))","v":"OK"},null,null,0.22]
[null,5,{"$f":"IF(C13=\"\",\"\",C13)","v":"b"},0,{"$f":"IF(C13=\"\",\"\",IF(D279>=0,\"OK\",\"ERRORE\"))","v":"OK"},null,null,0.22]
[null,6,"c",0,"OK",null,null,0.22]
[null,7,"d",0,"OK",null,null,0.22]
[null,8,"e",0,"OK"]
[null,9,"f",0,"OK",null," "]
[null,10,"g",0,"OK"]
[]
[null,null,null,null,null,{"$f":"IF(D274=\"Canone di disponibilità\",SUM(D275:D284),-SUM(D275:D284))","v":0},"Canone"]
[null,"DETTAGLIO COSTI OPERATIVI PER SERVIZIO"]
[null,null," ",null,{"$f":"'2 Descrizione Progetto'!$D$20","v":1},{"$f":"IF(E288=\"anno esterno\",\"anno esterno\",IF(E288+1<='2 Descrizione Progetto'!$D$22,E288+1,\"anno esterno\"))","v":2},{"$f":"IF(F288=\"anno esterno\",\"anno esterno\",IF(F288+1<='2 Descrizione Progetto'!$D$22,F288+1,\"anno esterno\"))","v":3},{"$f":"IF(G288=\"anno esterno\",\"anno esterno\",IF(G288+1<='2 Descrizione Progetto'!$D$22,G288+1,\"anno esterno\"))","v":4},{"$f":"IF(H288=\"anno esterno\",\"anno esterno\",IF(H288+1<='2 Descrizione Progetto'!$D$22,H288+1,\"anno esterno\"))","v":5},{"$f":"IF(I288=\"anno esterno\",\"anno esterno\",IF(I288+1<='2 Descrizione Progetto'!$D$22,I288+1,\"anno esterno\"))","v":6},{"$f":"IF(J288=\"anno esterno\",\"anno esterno\",IF(J288+1<='2 Descrizione Progetto'!$D$22,J288+1,\"anno esterno\"))","v":7},{"$f":"IF(K288=\"anno esterno\",\"anno esterno\",IF(K288+1<='2 Descrizione Progetto'!$D$22,K288+1,\"anno esterno\"))","v":8},{"$f":"IF(L288=\"anno esterno\",\"anno esterno\",IF(L288+1<='2 Descrizione Progetto'!$D$22,L288+1,\"anno esterno\"))","v":9},{"$f":"IF(M288=\"anno esterno\",\"anno esterno\",IF(M288+1<='2 Descrizione Progetto'!$D$22,M288+1,\"anno esterno\"))","v":10},{"$f":"IF(N288=\"anno esterno\",\"anno esterno\",IF(N288+1<='2 Descrizione Progetto'!$D$22,N288+1,\"anno esterno\"))","v":"anno esterno"},{"$f":"IF(O288=\"anno esterno\",\"anno esterno\",IF(O288+1<='2 Descrizione Progetto'!$D$22,O288+1,\"anno esterno\"))","v":"anno esterno"},{"$f":"IF(P288=\"anno esterno\",\"anno esterno\",IF(P288+1<='2 Descrizione Progetto'!$D$22,P288+1,\"anno esterno\"))","v":"anno esterno"},{"$f":"IF(Q288=\"anno esterno\",\"anno esterno\",IF(Q288+1<='2 Descrizione Progetto'!$D$22,Q288+1,\"anno esterno\"))","v":"anno esterno"},{"$f":"IF(R288=\"anno esterno\",\"anno esterno\",IF(R288+1<='2 Descrizione Progetto'!$D$22,R288+1,\"anno esterno\"))","v":"anno esterno"},{"$f":"IF(S288=\"anno esterno\",\"anno esterno\",IF(S288+1<='2 Descrizione Progetto'!$D$22,S288+1,\"anno esterno\"))","v":"anno esterno"},{"$f":"IF(T288=\"anno esterno\",\"anno esterno\",IF(T288+1<='2 Descrizione Progetto'!$D$22,T288+1,\"anno esterno\"))","v":"anno esterno"},{"$f":"IF(U288=\"anno esterno\",\"anno esterno\",IF(U288+1<='2 Descrizione Progetto'!$D$22,U288+1,\"anno esterno\"))","v":"anno esterno"},{"$f":"IF(V288=\"anno esterno\",\"anno esterno\",IF(V288+1<='2 Descrizione Progetto'!$D$22,V288+1,\"anno esterno\"))","v":"anno esterno"},{"$f":"IF(W288=\"anno esterno\",\"anno esterno\",IF(W288+1<='2 Descrizione Progetto'!$D$22,W288+1,\"anno esterno\"))","v":"anno esterno"},{"$f":"IF(X288=\"anno esterno\",\"anno esterno\",IF(X288+1<='2 Descrizione Progetto'!$D$22,X288+1,\"anno esterno\"))","v":"anno esterno"},{"$f":"IF(Y288=\"anno esterno\",\"anno esterno\",IF(Y288+1<='2 Descrizione Progetto'!$D$22,Y288+1,\"anno esterno\"))","v":"anno esterno"},{"$f":"IF(Z288=\"anno esterno\",\"anno esterno\",IF(Z288+1<='2 Descrizione Progetto'!$D$22,Z288+1,\"anno esterno\"))","v":"anno esterno"},{"$f":"IF(AA288=\"anno esterno\",\"anno esterno\",IF(AA288+1<='2 Descrizione Progetto'!$D$22,AA288+1,\"anno esterno\"))","v":"anno esterno"},{"$f":"IF(AB288=\"anno esterno\",\"anno esterno\",IF(AB288+1<='2 Descrizione Progetto'!$D$22,AB288+1,\"anno esterno\"))","v":"anno esterno"},{"$f":"IF(AC288=\"anno esterno\",\"anno esterno\",IF(AC288+1<='2 Descrizione Progetto'!$D$22,AC288+1,\"anno esterno\"))","v":"anno esterno"},{"$f":"IF(AD288=\"anno esterno\",\"anno esterno\",IF(AD288+1<='2 Descrizione Progetto'!$D$22,AD288+1,\"anno esterno\"))","v":"anno esterno"},{"$f":"IF(AE288=\"anno esterno\",\"anno esterno\",IF(AE288+1<='2 Descrizione Progetto'!$D$22,AE288+1,\"anno esterno\"))","v":"anno esterno"},{"$f":"IF(AF288=\"anno esterno\",\"anno esterno\",IF(AF288+1<='2 Descrizione Progetto'!$D$22,AF288+1,\"anno esterno\"))","v":"anno esterno"},{"$f":"IF(AG288=\"anno esterno\",\"anno esterno\",IF(AG288+1<='2 Descrizione Progetto'!$D$22,AG288+1,\"anno esterno\"))","v":"anno esterno"},{"$f":"IF(AH288=\"anno esterno\",\"anno esterno\",IF(AH288+1<='2 Descrizione Progetto'!$D$22,AH288+1,\"anno esterno\"))","v":"anno esterno"},{"$f":"IF(AI288=\"anno esterno\",\"anno esterno\",IF(AI288+1<='2 Descrizione Progetto'!$D$22,AI288+1,\"anno esterno\"))","v":"anno esterno"},{"$f":"IF(AJ288=\"anno esterno\",\"anno esterno\",IF(AJ288+1<='2 Descrizione Progetto'!$D$22,AJ288+1,\"anno esterno\"))","v":"anno esterno"},{"$f":"IF(AK288=\"anno esterno\",\"anno esterno\",IF(AK288+1<='2 Descrizione Progetto'!$D$22,AK288+1,\"anno esterno\"))","v":"anno esterno"},{"$f":"IF(AL288=\"anno esterno\",\"anno esterno\",IF(AL288+1<='2 Descrizione Progetto'!$D$22,AL288+1,\"anno esterno\"))","v":"anno esterno"},{"$f":"IF(AM288=\"anno esterno\",\"anno esterno\",IF(AM288+1<='2 Descrizione Progetto'!$D$22,AM288+1,\"anno esterno\"))","v":"anno esterno"},{"$f":"IF(AN288=\"anno esterno\",\"anno esterno\",IF(AN288+1<='2 Descrizione Progetto'!$D$22,AN288+1,\"anno esterno\"))","v":"anno esterno"},{"$f":"IF(AO288=\"anno esterno\",\"anno esterno\",IF(AO288+1<='2 Descrizione Progetto'!$D$22,AO288+1,\"anno esterno\"))","v":"anno esterno"},{"$f":"IF(AP288=\"anno esterno\",\"anno esterno\",IF(AP288+1<='2 Descrizione Progetto'!$D$22,AP288+1,\"anno esterno\"))","v":"anno esterno"},{"$f":"IF(AQ288=\"anno esterno\",\"anno esterno\",IF(AQ288+1<='2 Descrizione Progetto'!$D$22,AQ288+1,\"anno esterno\"))","v":"anno esterno"},{"$f":"IF(AR288=\"anno esterno\",\"anno esterno\",IF(AR288+1<='2 Descrizione Progetto'!$D$22,AR288+1,\"anno esterno\"))","v":"anno esterno"},{"$f":"IF(AS288=\"anno esterno\",\"anno esterno\",IF(AS288+1<='2 Descrizione Progetto'!$D$22,AS288+1,\"anno esterno\"))","v":"anno esterno"},{"$f":"IF(AT288=\"anno esterno\",\"anno esterno\",IF(AT288+1<='2 Descrizione Progetto'!$D$22,AT288+1,\"anno esterno\"))","v":"anno esterno"},{"$f":"IF(AU288=\"anno esterno\",\"anno esterno\",IF(AU288+1<='2 Descrizione Progetto'!$D$22,AU288+1,\"anno esterno\"))","v":"anno esterno"},{"$f":"IF(AV288=\"anno esterno\",\"anno esterno\",IF(AV288+1<='2 Descrizione Progetto'!$D$22,AV288+1,\"anno esterno\"))","v":"anno esterno"},{"$f":"IF(AW288=\"anno esterno\",\"anno esterno\",IF(AW288+1<='2 Descrizione Progetto'!$D$22,AW288+1,\"anno esterno\"))","v":"anno esterno"},{"$f":"IF(AX288=\"anno esterno\",\"anno esterno\",IF(AX288+1<='2 Descrizione Progetto'!$D$22,AX288+1,\"anno esterno\"))","v":"anno esterno"},{"$f":"IF(AY288=\"anno esterno\",\"anno esterno\",IF(AY288+1<='2 Descrizione Progetto'!$D$22,AY288+1,\"anno esterno\"))","v":"anno esterno"},{"$f":"IF(AZ288=\"anno esterno\",\"anno esterno\",IF(AZ288+1<='2 Descrizione Progetto'!$D$22,AZ288+1,\"anno esterno\"))","v":"anno esterno"},{"$f":"IF(BA288=\"anno esterno\",\"anno esterno\",IF(BA288+1<='2 Descrizione Progetto'!$D$22,BA288+1,\"anno esterno\"))","v":"anno esterno"},{"$f":"IF(BB288=\"anno esterno\",\"anno esterno\",IF(BB288+1<='2 Descrizione Progetto'!$D$22,BB288+1,\"anno esterno\"))","v":"anno esterno"},{"$f":"IF(BC288=\"anno esterno\",\"anno esterno\",IF(BC288+1<='2 Descrizione Progetto'!$D$22,BC288+1,\"anno esterno\"))","v":"anno esterno"},{"$f":"IF(BD288=\"anno esterno\",\"anno esterno\",IF(BD288+1<='2 Descrizione Progetto'!$D$22,BD288+1,\"anno esterno\"))","v":"anno esterno"},{"$f":"IF(BE288=\"anno esterno\",\"anno esterno\",IF(BE288+1<='2 Descrizione Progetto'!$D$22,BE288+1,\"anno esterno\"))","v":"anno esterno"},{"$f":"IF(BF288=\"anno esterno\",\"anno esterno\",IF(BF288+1<='2 Descrizione Progetto'!$D$22,BF288+1,\"anno esterno\"))","v":"anno esterno"},{"$f":"IF(BG288=\"anno esterno\",\"anno esterno\",IF(BG288+1<='2 Descrizione Progetto'!$D$22,BG288+1,\"anno esterno\"))","v":"anno esterno"},{"$f":"IF(BH288=\"anno esterno\",\"anno esterno\",IF(BH288+1<='2 Descrizione Progetto'!$D$22,BH288+1,\"anno esterno\"))","v":"anno esterno"},{"$f":"IF(BI288=\"anno esterno\",\"anno esterno\",IF(BI288+1<='2 Descrizione Progetto'!$D$22,BI288+1,\"anno esterno\"))","v":"anno esterno"},{"$f":"IF(BJ288=\"anno esterno\",\"anno esterno\",IF(BJ288+1<='2 Descrizione Progetto'!$D$22,BJ288+1,\"anno esterno\"))","v":"anno esterno"},{"$f":"IF(BK288=\"anno esterno\",\"anno esterno\",IF(BK288+1<='2 Descrizione Progetto'!$D$22,BK288+1,\"anno esterno\"))","v":"anno esterno"}]
[null,null,"Costi per servizi",{"$f":"D260","v":0},{"$f":"SUM(('3 Costi-Ricavi'!D25+'3 Costi-Ricavi'!D26+'3 Costi-Ricavi'!D27+'3 Costi-Ricavi'!D28+'3 Costi-Ricavi'!D29)*E363)","v":200833.76499999998},{"$f":"SUM(('3 Costi-Ricavi'!E25+'3 Costi-Ricavi'!E26+'3 Costi-Ricavi'!E27+'3 Costi-Ricavi'!E28+'3 Costi-Ricavi'!E29)*F363)","v":207249.4803},{"$f":"SUM(('3 Costi-Ricavi'!F25+'3 Costi-Ricavi'!F26+'3 Costi-Ricavi'!F27+'3 Costi-Ricavi'!F28+'3 Costi-Ricavi'!F29)*G363)","v":214990.09230599998},{"$f":"SUM(('3 Costi-Ricavi'!G25+'3 Costi-Ricavi'!G26+'3 Costi-Ricavi'!G27+'3 Costi-Ricavi'!G28+'3 Costi-Ricavi'!G29)*H363)","v":219289.89415211996},{"$f":"SUM(('3 Costi-Ricavi'!H25+'3 Costi-Ricavi'!H26+'3 Costi-Ricavi'!H27+'3 Costi-Ricavi'!H28+'3 Costi-Ricavi'!H29)*I363)","v":223675.69203516238},{"$f":"SUM(('3 Costi-Ricavi'!I25+'3 Costi-Ricavi'!I26+'3 Costi-Ricavi'!I27+'3 Costi-Ricavi'!I28+'3 Costi-Ricavi'!I29)*J363)","v":228149.20587586562},{"$f":"SUM(('3 Costi-Ricavi'!J25+'3 Costi-Ricavi'!J26+'3 Costi-Ricavi'!J27+'3 Costi-Ricavi'!J28+'3 Costi-Ricavi'!J29)*K363)","v":232712.18999338296},{"$f":"SUM(('3 Costi-Ricavi'!K25+'3 Costi-Ricavi'!K26+'3 Costi-Ricavi'!K27+'3 Costi-Ricavi'!K28+'3 Costi-Ricavi'!K29)*L363)","v":237366.43379325062},{"$f":"SUM(('3 Costi-Ricavi'!L25+'3 Costi-Ricavi'!L26+'3 Costi-Ricavi'!L27+'3 Costi-Ricavi'!L28+'3 Costi-Ricavi'!L29)*M363)","v":242113.76246911564},{"$f":"SUM(('3 Costi-Ricavi'!M25+'3 Costi-Ricavi'!M26+'3 Costi-Ricavi'!M27+'3 Costi-Ricavi'!M28+'3 Costi-Ricavi'!M29)*N363)","v":246956.03771849794},{"$f":"SUM(('3 Costi-Ricavi'!N25+'3 Costi-Ricavi'!N26+'3 Costi-Ricavi'!N27+'3 Costi-Ricavi'!N28+'3 Costi-Ricavi'!N29)*O363)","v":0},{"$f":"SUM(('3 Costi-Ricavi'!O25+'3 Costi-Ricavi'!O26+'3 Costi-Ricavi'!O27+'3 Costi-Ricavi'!O28+'3 Costi-Ricavi'!O29)*P363)","v":0},{"$f":"SUM(('3 Costi-Ricavi'!P25+'3 Costi-Ricavi'!P26+'3 Costi-Ricavi'!P27+'3 Costi-Ricavi'!P28+'3 Costi-Ricavi'!P29)*Q363)","v":0},{"$f":"SUM(('3 Costi-Ricavi'!Q25+'3 Costi-Ricavi'!Q26+'3 Costi-Ricavi'!Q27+'3 Costi-Ricavi'!Q28+'3 Costi-Ricavi'!Q29)*R363)","v":0},{"$f":"SUM(('3 Costi-Ricavi'!R25+'3 Costi-Ricavi'!R26+'3 Costi-Ricavi'!R27+'3 Costi-Ricavi'!R28+'3 Costi-Ricavi'!R29)*S363)","v":0},{"$f":"SUM(('3 Costi-Ricavi'!S25+'3 Costi-Ricavi'!S26+'3 Costi-Ricavi'!S27+'3 Costi-Ricavi'!S28+'3 Costi-Ricavi'!S29)*T363)","v":0},{"$f":"SUM(('3 Costi-Ricavi'!T25+'3 Costi-Ricavi'!T26+'3 Costi-Ricavi'!T27+'3 Costi-Ricavi'!T28+'3 Costi-Ricavi'!T29)*U363)","v":0},{"$f":"SUM(('3 Costi-Ricavi'!U25+'3 Costi-Ricavi'!U26+'3 Costi-Ricavi'!U27+'3 Costi-Ricavi'!U28+'3 Costi-Ricavi'!U29)*V363)","v":0},{"$f":"SUM(('3 Costi-Ricavi'!V25+'3 Costi-Ricavi'!V26+'3 Costi-Ricavi'!V27+'3 Costi-Ricavi'!V28+'3 Costi-Ricavi'!V29)*W363)","v":0},{"$f":"SUM(('3 Costi-Ricavi'!W25+'3 Costi-Ricavi'!W26+'3 Costi-Ricavi'!W27+'3 Costi-Ricavi'!W28+'3 Costi-Ricavi'!W29)*X363)","v":0},{"$f":"SUM(('3 Costi-Ricavi'!X25+'3 Costi-Ricavi'!X26+'3 Costi-Ricavi'!X27+'3 Costi-Ricavi'!X28+'3 Costi-Ricavi'!X29)*Y363)","v":0},{"$f":"SUM(('3 Costi-Ricavi'!Y25+'3 Costi-Ricavi'!Y26+'3 Costi-Ricavi'!Y27+'3 Costi-Ricavi'!Y28+'3 Costi-Ricavi'!Y29)*Z363)","v":0},{"$f":"SUM(('3 Costi-Ricavi'!Z25+'3 Costi-Ricavi'!Z26+'3 Costi-Ricavi'!Z27+'3 Costi-Ricavi'!Z28+'3 Costi-Ricavi'!Z29)*AA363)","v":0},{"$f":"SUM(('3 Costi-Ricavi'!AA25+'3 Costi-Ricavi'!AA26+'3 Costi-Ricavi'!AA27+'3 Costi-Ricavi'!AA28+'3 Costi-Ricavi'!AA29)*AB363)","v":0},{"$f":"SUM(('3 Costi-Ricavi'!AB25+'3 Costi-Ricavi'!AB26+'3 Costi-Ricavi'!AB27+'3 Costi-Ricavi'!AB28+'3 Costi-Ricavi'!AB29)*AC363)","v":0},{"$f":"SUM(('3 Costi-Ricavi'!AC25+'3 Costi-Ricavi'!AC26+'3 Costi-Ricavi'!AC27+'3 Costi-Ricavi'!AC28+'3 Costi-Ricavi'!AC29)*AD363)","v":0},{"$f":"SUM(('3 Costi-Ricavi'!AD25+'3 Costi-Ricavi'!AD26+'3 Costi-Ricavi'!AD27+'3 Costi-Ricavi'!AD28+'3 Costi-Ricavi'!AD29)*AE363)","v":0},{"$f":"SUM(('3 Costi-Ricavi'!AE25+'3 Costi-Ricavi'!AE26+'3 Costi-Ricavi'!AE27+'3 Costi-Ricavi'!AE28+'3 Costi-Ricavi'!AE29)*AF363)","v":0},{"$f":"SUM(('3 Costi-Ricavi'!AF25+'3 Costi-Ricavi'!AF26+'3 Costi-Ricavi'!AF27+'3 Costi-Ricavi'!AF28+'3 Costi-Ricavi'!AF29)*AG363)","v":0},{"$f":"SUM(('3 Costi-Ricavi'!AG25+'3 Costi-Ricavi'!AG26+'3 Costi-Ricavi'!AG27+'3 Costi-Ricavi'!AG28+'3 Costi-Ricavi'!AG29)*AH363)","v":0},{"$f":"SUM(('3 Costi-Ricavi'!AH25+'3 Costi-Ricavi'!AH26+'3 Costi-Ricavi'!AH27+'3 Costi-Ricavi'!AH28+'3 Costi-Ricavi'!AH29)*AI363)","v":0},{"$f":"SUM(('3 Costi-Ricavi'!AI25+'3 Costi-Ricavi'!AI26+'3 Costi-Ricavi'!AI27+'3 Costi-Ricavi'!AI28+'3 Costi-Ricavi'!AI29)*AJ363)","v":0},{"$f":"SUM(('3 Costi-Ricavi'!AJ25+'3 Costi-Ricavi'!AJ26+'3 Costi-Ricavi'!AJ27+'3 Costi-Ricavi'!AJ28+'3 Costi-Ricavi'!AJ29)*AK363)","v":0},{"$f":"SUM(('3 Costi-Ricavi'!AK25+'3 Costi-Ricavi'!AK26+'3 Costi-Ricavi'!AK27+'3 Costi-Ricavi'!AK28+'3 Costi-Ricavi'!AK29)*AL363)","v":0},{"$f":"SUM(('3 Costi-Ricavi'!AL25+'3 Costi-Ricavi'!AL26+'3 Costi-Ricavi'!AL27+'3 Costi-Ricavi'!AL28+'3 Costi-Ricavi'!AL29)*AM363)","v":0},{"$f":"SUM(('3 Costi-Ricavi'!AM25+'3 Costi-Ricavi'!AM26+'3 Costi-Ricavi'!AM27+'3 Costi-Ricavi'!AM28+'3 Costi-Ricavi'!AM29)*AN363)","v":0},{"$f":"SUM(('3 Costi-Ricavi'!AN25+'3 Costi-Ricavi'!AN26+'3 Costi-Ricavi'!AN27+'3 Costi-Ricavi'!AN28+'3 Costi-Ricavi'!AN29)*AO363)","v":0},{"$f":"SUM(('3 Costi-Ricavi'!AO25+'3 Costi-Ricavi'!AO26+'3 Costi-Ricavi'!AO27+'3 Costi-Ricavi'!AO28+'3 Costi-Ricavi'!AO29)*AP363)","v":0},{"$f":"SUM(('3 Costi-Ricavi'!AP25+'3 Costi-Ricavi'!AP26+'3 Costi-Ricavi'!AP27+'3 Costi-Ricavi'!AP28+'3 Costi-Ricavi'!AP29)*AQ363)","v":0},{"$f":"SUM(('3 Costi-Ricavi'!AQ25+'3 Costi-Ricavi'!AQ26+'3 Costi-Ricavi'!AQ27+'3 Costi-Ricavi'!AQ28+'3 Costi-Ricavi'!AQ29)*AR363)","v":0},{"$f":"SUM(('3 Costi-Ricavi'!AR25+'3 Costi-Ricavi'!AR26+'3 Costi-Ricavi'!AR27+'3 Costi-Ricavi'!AR28+'3 Costi-Ricavi'!AR29)*AS363)","v":0},{"$f":"SUM(('3 Costi-Ricavi'!AS25+'3 Costi-Ricavi'!AS26+'3 Costi-Ricavi'!AS27+'3 Costi-Ricavi'!AS28+'3 Costi-Ricavi'!AS29)*AT363)","v":0},{"$f":"SUM(('3 Costi-Ricavi'!AT25+'3 Costi-Ricavi'!AT26+'3 Costi-Ricavi'!AT27+'3 Costi-Ricavi'!AT28+'3 Costi-Ricavi'!AT29)*AU363)","v":0},{"$f":"SUM(('3 Costi-Ricavi'!AU25+'3 Costi-Ricavi'!AU26+'3 Costi-Ricavi'!AU27+'3 Costi-Ricavi'!AU28+'3 Costi-Ricavi'!AU29)*AV363)","v":0},{"$f":"SUM(('3 Costi-Ricavi'!AV25+'3 Costi-Ricavi'!AV26+'3 Costi-Ricavi'!AV27+'3 Costi-Ricavi'!AV28+'3 Costi-Ricavi'!AV29)*AW363)","v":0},{"$f":"SUM(('3 Costi-Ricavi'!AW25+'3 Costi-Ricavi'!AW26+'3 Costi-Ricavi'!AW27+'3 Costi-Ricavi'!AW28+'3 Costi-Ricavi'!AW29)*AX363)","v":0},{"$f":"SUM(('3 Costi-Ricavi'!AX25+'3 Costi-Ricavi'!AX26+'3 Costi-Ricavi'!AX27+'3 Costi-Ricavi'!AX28+'3 Costi-Ricavi'!AX29)*AY363)","v":0},{"$f":"SUM(('3 Costi-Ricavi'!AY25+'3 Costi-Ricavi'!AY26+'3 Costi-Ricavi'!AY27+'3 Costi-Ricavi'!AY28+'3 Costi-Ricavi'!AY29)*AZ363)","v":0},{"$f":"SUM(('3 Costi-Ricavi'!AZ25+'3 Costi-Ricavi'!AZ26+'3 Costi-Ricavi'!AZ27+'3 Costi-Ricavi'!AZ28+'3 Costi-Ricavi'!AZ29)*BA363)","v":0},{"$f":"SUM(('3 Costi-Ricavi'!BA25+'3 Costi-Ricavi'!BA26+'3 Costi-Ricavi'!BA27+'3 Costi-Ricavi'!BA28+'3 Costi-Ricavi'!BA29)*BB363)","v":0},{"$f":"SUM(('3 Costi-Ricavi'!BB25+'3 Costi-Ricavi'!BB26+'3 Costi-Ricavi'!BB27+'3 Costi-Ricavi'!BB28+'3 Costi-Ricavi'!BB29)*BC363)","v":0},{"$f":"SUM(('3 Costi-Ricavi'!BC25+'3 Costi-Ricavi'!BC26+'3 Costi-Ricavi'!BC27+'3 Costi-Ricavi'!BC28+'3 Costi-Ricavi'!BC29)*BD363)","v":0},{"$f":"SUM(('3 Costi-Ricavi'!BD25+'3 Costi-Ricavi'!BD26+'3 Costi-Ricavi'!BD27+'3 Costi-Ricavi'!BD28+'3 Costi-Ricavi'!BD29)*BE363)","v":0},{"$f":"SUM(('3 Costi-Ricavi'!BE25+'3 Costi-Ricavi'!BE26+'3 Costi-Ricavi'!BE27+'3 Costi-Ricavi'!BE28+'3 Costi-Ricavi'!BE29)*BF363)","v":0},{"$f":"SUM(('3 Costi-Ricavi'!BF25+'3 Costi-Ricavi'!BF26+'3 Costi-Ricavi'!BF27+'3 Costi-Ricavi'!BF28+'3 Costi-Ricavi'!BF29)*BG363)","v":0},{"$f":"SUM(('3 Costi-Ricavi'!BG25+'3 Costi-Ricavi'!BG26+'3 Costi-Ricavi'!BG27+'3 Costi-Ricavi'!BG28+'3 Costi-Ricavi'!BG29)*BH363)","v":0},{"$f":"SUM(('3 Costi-Ricavi'!BH25+'3 Costi-Ricavi'!BH26+'3 Costi-Ricavi'!BH27+'3 Costi-Ricavi'!BH28+'3 Costi-Ricavi'!BH29)*BI363)","v":0},{"$f":"SUM(('3 Costi-Ricavi'!BI25+'3 Costi-Ricavi'!BI26+'3 Costi-Ricavi'!BI27+'3 Costi-Ricavi'!BI28+'3 Costi-Ricavi'!BI29)*BJ363)","v":0},{"$f":"SUM(('3 Costi-Ricavi'!BJ25+'3 Costi-Ricavi'!BJ26+'3 Costi-Ricavi'!BJ27+'3 Costi-Ricavi'!BJ28+'3 Costi-Ricavi'!BJ29)*BK363)","v":0},{"$f":"SUM(('3 Costi-Ricavi'!BK25+'3 Costi-Ricavi'!BK26+'3 Costi-Ricavi'!BK27+'3 Costi-Ricavi'!BK28+'3 Costi-Ricavi'!BK29)*BL363)","v":0}]
[null,null,"Costi del personale e Oneri Sicurezza*",{"$f":"E260","v":0},{"$f":"SUM(('3 Costi-Ricavi'!D23+'3 Costi-Ricavi'!D30)*'4 Sviluppo Domanda e Gestione'!E363)","v":151645.389},{"$f":"SUM(('3 Costi-Ricavi'!E23+'3 Costi-Ricavi'!E30)*'4 Sviluppo Domanda e Gestione'!F363)","v":154678.29678},{"$f":"SUM(('3 Costi-Ricavi'!F23+'3 Costi-Ricavi'!F30)*'4 Sviluppo Domanda e Gestione'!G363)","v":157771.8627156},{"$f":"SUM(('3 Costi-Ricavi'!G23+'3 Costi-Ricavi'!G30)*'4 Sviluppo Domanda e Gestione'!H363)","v":160927.29996991198},{"$f":"SUM(('3 Costi-Ricavi'!H23+'3 Costi-Ricavi'!H30)*'4 Sviluppo Domanda e Gestione'!I363)","v":164145.84596931023},{"$f":"SUM(('3 Costi-Ricavi'!I23+'3 Costi-Ricavi'!I30)*'4 Sviluppo Domanda e Gestione'!J363)","v":167428.76288869645},{"$f":"SUM(('3 Costi-Ricavi'!J23+'3 Costi-Ricavi'!J30)*'4 Sviluppo Domanda e Gestione'!K363)","v":170777.33814647037},{"$f":"SUM(('3 Costi-Ricavi'!K23+'3 Costi-Ricavi'!K30)*'4 Sviluppo Domanda e Gestione'!L363)","v":174192.88490939979},{"$f":"SUM(('3 Costi-Ricavi'!L23+'3 Costi-Ricavi'!L30)*'4 Sviluppo Domanda e Gestione'!M363)","v":177676.7426075878},{"$f":"SUM(('3 Costi-Ricavi'!M23+'3 Costi-Ricavi'!M30)*'4 Sviluppo Domanda e Gestione'!N363)","v":181230.27745973956},{"$f":"SUM(('3 Costi-Ricavi'!N23+'3 Costi-Ricavi'!N30)*'4 Sviluppo Domanda e Gestione'!O363)","v":0},{"$f":"SUM(('3 Costi-Ricavi'!O23+'3 Costi-Ricavi'!O30)*'4 Sviluppo Domanda e Gestione'!P363)","v":0},{"$f":"SUM(('3 Costi-Ricavi'!P23+'3 Costi-Ricavi'!P30)*'4 Sviluppo Domanda e Gestione'!Q363)","v":0},{"$f":"SUM(('3 Costi-Ricavi'!Q23+'3 Costi-Ricavi'!Q30)*'4 Sviluppo Domanda e Gestione'!R363)","v":0},{"$f":"SUM(('3 Costi-Ricavi'!R23+'3 Costi-Ricavi'!R30)*'4 Sviluppo Domanda e Gestione'!S363)","v":0},{"$f":"SUM(('3 Costi-Ricavi'!S23+'3 Costi-Ricavi'!S30)*'4 Sviluppo Domanda e Gestione'!T363)","v":0},{"$f":"SUM(('3 Costi-Ricavi'!T23+'3 Costi-Ricavi'!T30)*'4 Sviluppo Domanda e Gestione'!U363)","v":0},{"$f":"SUM(('3 Costi-Ricavi'!U23+'3 Costi-Ricavi'!U30)*'4 Sviluppo Domanda e Gestione'!V363)","v":0},{"$f":"SUM(('3 Costi-Ricavi'!V23+'3 Costi-Ricavi'!V30)*'4 Sviluppo Domanda e Gestione'!W363)","v":0},{"$f":"SUM(('3 Costi-Ricavi'!W23+'3 Costi-Ricavi'!W30)*'4 Sviluppo Domanda e Gestione'!X363)","v":0},{"$f":"SUM(('3 Costi-Ricavi'!X23+'3 Costi-Ricavi'!X30)*'4 Sviluppo Domanda e Gestione'!Y363)","v":0},{"$f":"SUM(('3 Costi-Ricavi'!Y23+'3 Costi-Ricavi'!Y30)*'4 Sviluppo Domanda e Gestione'!Z363)","v":0},{"$f":"SUM(('3 Costi-Ricavi'!Z23+'3 Costi-Ricavi'!Z30)*'4 Sviluppo Domanda e Gestione'!AA363)","v":0},{"$f":"SUM(('3 Costi-Ricavi'!AA23+'3 Costi-Ricavi'!AA30)*'4 Sviluppo Domanda e Gestione'!AB363)","v":0},{"$f":"SUM(('3 Costi-Ricavi'!AB23+'3 Costi-Ricavi'!AB30)*'4 Sviluppo Domanda e Gestione'!AC363)","v":0},{"$f":"SUM(('3 Costi-Ricavi'!AC23+'3 Costi-Ricavi'!AC30)*'4 Sviluppo Domanda e Gestione'!AD363)","v":0},{"$f":"SUM(('3 Costi-Ricavi'!AD23+'3 Costi-Ricavi'!AD30)*'4 Sviluppo Domanda e Gestione'!AE363)","v":0},{"$f":"SUM(('3 Costi-Ricavi'!AE23+'3 Costi-Ricavi'!AE30)*'4 Sviluppo Domanda e Gestione'!AF363)","v":0},{"$f":"SUM(('3 Costi-Ricavi'!AF23+'3 Costi-Ricavi'!AF30)*'4 Sviluppo Domanda e Gestione'!AG363)","v":0},{"$f":"SUM(('3 Costi-Ricavi'!AG23+'3 Costi-Ricavi'!AG30)*'4 Sviluppo Domanda e Gestione'!AH363)","v":0},{"$f":"SUM(('3 Costi-Ricavi'!AH23+'3 Costi-Ricavi'!AH30)*'4 Sviluppo Domanda e Gestione'!AI363)","v":0},{"$f":"SUM(('3 Costi-Ricavi'!AI23+'3 Costi-Ricavi'!AI30)*'4 Sviluppo Domanda e Gestione'!AJ363)","v":0},{"$f":"SUM(('3 Costi-Ricavi'!AJ23+'3 Costi-Ricavi'!AJ30)*'4 Sviluppo Domanda e Gestione'!AK363)","v":0},{"$f":"SUM(('3 Costi-Ricavi'!AK23+'3 Costi-Ricavi'!AK30)*'4 Sviluppo Domanda e Gestione'!AL363)","v":0},{"$f":"SUM(('3 Costi-Ricavi'!AL23+'3 Costi-Ricavi'!AL30)*'4 Sviluppo Domanda e Gestione'!AM363)","v":0},{"$f":"SUM(('3 Costi-Ricavi'!AM23+'3 Costi-Ricavi'!AM30)*'4 Sviluppo Domanda e Gestione'!AN363)","v":0},{"$f":"SUM(('3 Costi-Ricavi'!AN23+'3 Costi-Ricavi'!AN30)*'4 Sviluppo Domanda e Gestione'!AO363)","v":0},{"$f":"SUM(('3 Costi-Ricavi'!AO23+'3 Costi-Ricavi'!AO30)*'4 Sviluppo Domanda e Gestione'!AP363)","v":0},{"$f":"SUM(('3 Costi-Ricavi'!AP23+'3 Costi-Ricavi'!AP30)*'4 Sviluppo Domanda e Gestione'!AQ363)","v":0},{"$f":"SUM(('3 Costi-Ricavi'!AQ23+'3 Costi-Ricavi'!AQ30)*'4 Sviluppo Domanda e Gestione'!AR363)","v":0},{"$f":"SUM(('3 Costi-Ricavi'!AR23+'3 Costi-Ricavi'!AR30)*'4 Sviluppo Domanda e Gestione'!AS363)","v":0},{"$f":"SUM(('3 Costi-Ricavi'!AS23+'3 Costi-Ricavi'!AS30)*'4 Sviluppo Domanda e Gestione'!AT363)","v":0},{"$f":"SUM(('3 Costi-Ricavi'!AT23+'3 Costi-Ricavi'!AT30)*'4 Sviluppo Domanda e Gestione'!AU363)","v":0},{"$f":"SUM(('3 Costi-Ricavi'!AU23+'3 Costi-Ricavi'!AU30)*'4 Sviluppo Domanda e Gestione'!AV363)","v":0},{"$f":"SUM(('3 Costi-Ricavi'!AV23+'3 Costi-Ricavi'!AV30)*'4 Sviluppo Domanda e Gestione'!AW363)","v":0},{"$f":"SUM(('3 Costi-Ricavi'!AW23+'3 Costi-Ricavi'!AW30)*'4 Sviluppo Domanda e Gestione'!AX363)","v":0},{"$f":"SUM(('3 Costi-Ricavi'!AX23+'3 Costi-Ricavi'!AX30)*'4 Sviluppo Domanda e Gestione'!AY363)","v":0},{"$f":"SUM(('3 Costi-Ricavi'!AY23+'3 Costi-Ricavi'!AY30)*'4 Sviluppo Domanda e Gestione'!AZ363)","v":0},{"$f":"SUM(('3 Costi-Ricavi'!AZ23+'3 Costi-Ricavi'!AZ30)*'4 Sviluppo Domanda e Gestione'!BA363)","v":0},{"$f":"SUM(('3 Costi-Ricavi'!BA23+'3 Costi-Ricavi'!BA30)*'4 Sviluppo Domanda e Gestione'!BB363)","v":0},{"$f":"SUM(('3 Costi-Ricavi'!BB23+'3 Costi-Ricavi'!BB30)*'4 Sviluppo Domanda e Gestione'!BC363)","v":0},{"$f":"SUM(('3 Costi-Ricavi'!BC23+'3 Costi-Ricavi'!BC30)*'4 Sviluppo Domanda e Gestione'!BD363)","v":0},{"$f":"SUM(('3 Costi-Ricavi'!BD23+'3 Costi-Ricavi'!BD30)*'4 Sviluppo Domanda e Gestione'!BE363)","v":0},{"$f":"SUM(('3 Costi-Ricavi'!BE23+'3 Costi-Ricavi'!BE30)*'4 Sviluppo Domanda e Gestione'!BF363)","v":0},{"$f":"SUM(('3 Costi-Ricavi'!BF23+'3 Costi-Ricavi'!BF30)*'4 Sviluppo Domanda e Gestione'!BG363)","v":0},{"$f":"SUM(('3 Costi-Ricavi'!BG23+'3 Costi-Ricavi'!BG30)*'4 Sviluppo Domanda e Gestione'!BH363)","v":0},{"$f":"SUM(('3 Costi-Ricavi'!BH23+'3 Costi-Ricavi'!BH30)*'4 Sviluppo Domanda e Gestione'!BI363)","v":0},{"$f":"SUM(('3 Costi-Ricavi'!BI23+'3 Costi-Ricavi'!BI30)*'4 Sviluppo Domanda e Gestione'!BJ363)","v":0},{"$f":"SUM(('3 Costi-Ricavi'!BJ23+'3 Costi-Ricavi'!BJ30)*'4 Sviluppo Domanda e Gestione'!BK363)","v":0},{"$f":"SUM(('3 Costi-Ricavi'!BK23+'3 Costi-Ricavi'!BK30)*'4 Sviluppo Domanda e Gestione'!BL363)","v":0}]
[null,null,"Canone Concessione",{"$f":"F260","v":0},{"$f":"SUM('3 Costi-Ricavi'!D31*'4 Sviluppo Domanda e Gestione'!E363)","v":6000},{"$f":"SUM('3 Costi-Ricavi'!E31*'4 Sviluppo Domanda e Gestione'!F363)","v":6120},{"$f":"SUM('3 Costi-Ricavi'!F31*'4 Sviluppo Domanda e Gestione'!G363)","v":6242.4},{"$f":"SUM('3 Costi-Ricavi'!G31*'4 Sviluppo Domanda e Gestione'!H363)","v":6367.2479999999996},{"$f":"SUM('3 Costi-Ricavi'!H31*'4 Sviluppo Domanda e Gestione'!I363)","v":6494.5929599999999},{"$f":"SUM('3 Costi-Ricavi'!I31*'4 Sviluppo Domanda e Gestione'!J363)","v":6624.4848191999999},{"$f":"SUM('3 Costi-Ricavi'!J31*'4 Sviluppo Domanda e Gestione'!K363)","v":6756.9745155840001},{"$f":"SUM('3 Costi-Ricavi'!K31*'4 Sviluppo Domanda e Gestione'!L363)","v":6892.1140058956798},{"$f":"SUM('3 Costi-Ricavi'!L31*'4 Sviluppo Domanda e Gestione'!M363)","v":7029.9562860135948},{"$f":"SUM('3 Costi-Ricavi'!M31*'4 Sviluppo Domanda e Gestione'!N363)","v":7170.5554117338661},{"$f":"SUM('3 Costi-Ricavi'!N31*'4 Sviluppo Domanda e Gestione'!O363)","v":0},{"$f":"SUM('3 Costi-Ricavi'!O31*'4 Sviluppo Domanda e Gestione'!P363)","v":0},{"$f":"SUM('3 Costi-Ricavi'!P31*'4 Sviluppo Domanda e Gestione'!Q363)","v":0},{"$f":"SUM('3 Costi-Ricavi'!Q31*'4 Sviluppo Domanda e Gestione'!R363)","v":0},{"$f":"SUM('3 Costi-Ricavi'!R31*'4 Sviluppo Domanda e Gestione'!S363)","v":0},{"$f":"SUM('3 Costi-Ricavi'!S31*'4 Sviluppo Domanda e Gestione'!T363)","v":0},{"$f":"SUM('3 Costi-Ricavi'!T31*'4 Sviluppo Domanda e Gestione'!U363)","v":0},{"$f":"SUM('3 Costi-Ricavi'!U31*'4 Sviluppo Domanda e Gestione'!V363)","v":0},{"$f":"SUM('3 Costi-Ricavi'!V31*'4 Sviluppo Domanda e Gestione'!W363)","v":0},{"$f":"SUM('3 Costi-Ricavi'!W31*'4 Sviluppo Domanda e Gestione'!X363)","v":0},{"$f":"SUM('3 Costi-Ricavi'!X31*'4 Sviluppo Domanda e Gestione'!Y363)","v":0},{"$f":"SUM('3 Costi-Ricavi'!Y31*'4 Sviluppo Domanda e Gestione'!Z363)","v":0},{"$f":"SUM('3 Costi-Ricavi'!Z31*'4 Sviluppo Domanda e Gestione'!AA363)","v":0},{"$f":"SUM('3 Costi-Ricavi'!AA31*'4 Sviluppo Domanda e Gestione'!AB363)","v":0},{"$f":"SUM('3 Costi-Ricavi'!AB31*'4 Sviluppo Domanda e Gestione'!AC363)","v":0},{"$f":"SUM('3 Costi-Ricavi'!AC31*'4 Sviluppo Domanda e Gestione'!AD363)","v":0},{"$f":"SUM('3 Costi-Ricavi'!AD31*'4 Sviluppo Domanda e Gestione'!AE363)","v":0},{"$f":"SUM('3 Costi-Ricavi'!AE31*'4 Sviluppo Domanda e Gestione'!AF363)","v":0},{"$f":"SUM('3 Costi-Ricavi'!AF31*'4 Sviluppo Domanda e Gestione'!AG363)","v":0},{"$f":"SUM('3 Costi-Ricavi'!AG31*'4 Sviluppo Domanda e Gestione'!AH363)","v":0},{"$f":"SUM('3 Costi-Ricavi'!AH31*'4 Sviluppo Domanda e Gestione'!AI363)","v":0},{"$f":"SUM('3 Costi-Ricavi'!AI31*'4 Sviluppo Domanda e Gestione'!AJ363)","v":0},{"$f":"SUM('3 Costi-Ricavi'!AJ31*'4 Sviluppo Domanda e Gestione'!AK363)","v":0},{"$f":"SUM('3 Costi-Ricavi'!AK31*'4 Sviluppo Domanda e Gestione'!AL363)","v":0},{"$f":"SUM('3 Costi-Ricavi'!AL31*'4 Sviluppo Domanda e Gestione'!AM363)","v":0},{"$f":"SUM('3 Costi-Ricavi'!AM31*'4 Sviluppo Domanda e Gestione'!AN363)","v":0},{"$f":"SUM('3 Costi-Ricavi'!AN31*'4 Sviluppo Domanda e Gestione'!AO363)","v":0},{"$f":"SUM('3 Costi-Ricavi'!AO31*'4 Sviluppo Domanda e Gestione'!AP363)","v":0},{"$f":"SUM('3 Costi-Ricavi'!AP31*'4 Sviluppo Domanda e Gestione'!AQ363)","v":0},{"$f":"SUM('3 Costi-Ricavi'!AQ31*'4 Sviluppo Domanda e Gestione'!AR363)","v":0},{"$f":"SUM('3 Costi-Ricavi'!AR31*'4 Sviluppo Domanda e Gestione'!AS363)","v":0},{"$f":"SUM('3 Costi-Ricavi'!AS31*'4 Sviluppo Domanda e Gestione'!AT363)","v":0},{"$f":"SUM('3 Costi-Ricavi'!AT31*'4 Sviluppo Domanda e Gestione'!AU363)","v":0},{"$f":"SUM('3 Costi-Ricavi'!AU31*'4 Sviluppo Domanda e Gestione'!AV363)","v":0},{"$f":"SUM('3 Costi-Ricavi'!AV31*'4 Sviluppo Domanda e Gestione'!AW363)","v":0},{"$f":"SUM('3 Costi-Ricavi'!AW31*'4 Sviluppo Domanda e Gestione'!AX363)","v":0},{"$f":"SUM('3 Costi-Ricavi'!AX31*'4 Sviluppo Domanda e Gestione'!AY363)","v":0},{"$f":"SUM('3 Costi-Ricavi'!AY31*'4 Sviluppo Domanda e Gestione'!AZ363)","v":0},{"$f":"SUM('3 Costi-Ricavi'!AZ31*'4 Sviluppo Domanda e Gestione'!BA363)","v":0},{"$f":"SUM('3 Costi-Ricavi'!BA31*'4 Sviluppo Domanda e Gestione'!BB363)","v":0},{"$f":"SUM('3 Costi-Ricavi'!BB31*'4 Sviluppo Domanda e Gestione'!BC363)","v":0},{"$f":"SUM('3 Costi-Ricavi'!BC31*'4 Sviluppo Domanda e Gestione'!BD363)","v":0},{"$f":"SUM('3 Costi-Ricavi'!BD31*'4 Sviluppo Domanda e Gestione'!BE363)","v":0},{"$f":"SUM('3 Costi-Ricavi'!BE31*'4 Sviluppo Domanda e Gestione'!BF363)","v":0},{"$f":"SUM('3 Costi-Ricavi'!BF31*'4 Sviluppo Domanda e Gestione'!BG363)","v":0},{"$f":"SUM('3 Costi-Ricavi'!BG31*'4 Sviluppo Domanda e Gestione'!BH363)","v":0},{"$f":"SUM('3 Costi-Ricavi'!BH31*'4 Sviluppo Domanda e Gestione'!BI363)","v":0},{"$f":"SUM('3 Costi-Ricavi'!BI31*'4 Sviluppo Domanda e Gestione'!BJ363)","v":0},{"$f":"SUM('3 Costi-Ricavi'!BJ31*'4 Sviluppo Domanda e Gestione'!BK363)","v":0},{"$f":"SUM('3 Costi-Ricavi'!BK31*'4 Sviluppo Domanda e Gestione'!BL363)","v":0}]
[null,null,"Manutenzioni ordinarie",{"$f":"G260","v":0},{"$f":"'3 Costi-Ricavi'!D24*'4 Sviluppo Domanda e Gestione'!E363","v":16141.526},{"$f":"'3 Costi-Ricavi'!E24*'4 Sviluppo Domanda e Gestione'!F363","v":16464.356520000001},{"$f":"'3 Costi-Ricavi'!F24*'4 Sviluppo Domanda e Gestione'!G363","v":16793.643650400001},{"$f":"'3 Costi-Ricavi'!G24*'4 Sviluppo Domanda e Gestione'!H363","v":17129.516523407998},{"$f":"'3 Costi-Ricavi'!H24*'4 Sviluppo Domanda e Gestione'!I363","v":17472.106853876161},{"$f":"'3 Costi-Ricavi'!I24*'4 Sviluppo Domanda e Gestione'!J363","v":17821.548990953685},{"$f":"'3 Costi-Ricavi'!J24*'4 Sviluppo Domanda e Gestione'!K363","v":18177.979970772758},{"$f":"'3 Costi-Ricavi'!K24*'4 Sviluppo Domanda e Gestione'!L363","v":18541.539570188212},{"$f":"'3 Costi-Ricavi'!L24*'4 Sviluppo Domanda e Gestione'!M363","v":18912.370361591977},{"$f":"'3 Costi-Ricavi'!M24*'4 Sviluppo Domanda e Gestione'!N363","v":19290.617768823817},{"$f":"'3 Costi-Ricavi'!N24*'4 Sviluppo Domanda e Gestione'!O363","v":0},{"$f":"'3 Costi-Ricavi'!O24*'4 Sviluppo Domanda e Gestione'!P363","v":0},{"$f":"'3 Costi-Ricavi'!P24*'4 Sviluppo Domanda e Gestione'!Q363","v":0},{"$f":"'3 Costi-Ricavi'!Q24*'4 Sviluppo Domanda e Gestione'!R363","v":0},{"$f":"'3 Costi-Ricavi'!R24*'4 Sviluppo Domanda e Gestione'!S363","v":0},{"$f":"'3 Costi-Ricavi'!S24*'4 Sviluppo Domanda e Gestione'!T363","v":0},{"$f":"'3 Costi-Ricavi'!T24*'4 Sviluppo Domanda e Gestione'!U363","v":0},{"$f":"'3 Costi-Ricavi'!U24*'4 Sviluppo Domanda e Gestione'!V363","v":0},{"$f":"'3 Costi-Ricavi'!V24*'4 Sviluppo Domanda e Gestione'!W363","v":0},{"$f":"'3 Costi-Ricavi'!W24*'4 Sviluppo Domanda e Gestione'!X363","v":0},{"$f":"'3 Costi-Ricavi'!X24*'4 Sviluppo Domanda e Gestione'!Y363","v":0},{"$f":"'3 Costi-Ricavi'!Y24*'4 Sviluppo Domanda e Gestione'!Z363","v":0},{"$f":"'3 Costi-Ricavi'!Z24*'4 Sviluppo Domanda e Gestione'!AA363","v":0},{"$f":"'3 Costi-Ricavi'!AA24*'4 Sviluppo Domanda e Gestione'!AB363","v":0},{"$f":"'3 Costi-Ricavi'!AB24*'4 Sviluppo Domanda e Gestione'!AC363","v":0},{"$f":"'3 Costi-Ricavi'!AC24*'4 Sviluppo Domanda e Gestione'!AD363","v":0},{"$f":"'3 Costi-Ricavi'!AD24*'4 Sviluppo Domanda e Gestione'!AE363","v":0},{"$f":"'3 Costi-Ricavi'!AE24*'4 Sviluppo Domanda e Gestione'!AF363","v":0},{"$f":"'3 Costi-Ricavi'!AF24*'4 Sviluppo Domanda e Gestione'!AG363","v":0},{"$f":"'3 Costi-Ricavi'!AG24*'4 Sviluppo Domanda e Gestione'!AH363","v":0},{"$f":"'3 Costi-Ricavi'!AH24*'4 Sviluppo Domanda e Gestione'!AI363","v":0},{"$f":"'3 Costi-Ricavi'!AI24*'4 Sviluppo Domanda e Gestione'!AJ363","v":0},{"$f":"'3 Costi-Ricavi'!AJ24*'4 Sviluppo Domanda e Gestione'!AK363","v":0},{"$f":"'3 Costi-Ricavi'!AK24*'4 Sviluppo Domanda e Gestione'!AL363","v":0},{"$f":"'3 Costi-Ricavi'!AL24*'4 Sviluppo Domanda e Gestione'!AM363","v":0},{"$f":"'3 Costi-Ricavi'!AM24*'4 Sviluppo Domanda e Gestione'!AN363","v":0},{"$f":"'3 Costi-Ricavi'!AN24*'4 Sviluppo Domanda e Gestione'!AO363","v":0},{"$f":"'3 Costi-Ricavi'!AO24*'4 Sviluppo Domanda e Gestione'!AP363","v":0},{"$f":"'3 Costi-Ricavi'!AP24*'4 Sviluppo Domanda e Gestione'!AQ363","v":0},{"$f":"'3 Costi-Ricavi'!AQ24*'4 Sviluppo Domanda e Gestione'!AR363","v":0},{"$f":"'3 Costi-Ricavi'!AR24*'4 Sviluppo Domanda e Gestione'!AS363","v":0},{"$f":"'3 Costi-Ricavi'!AS24*'4 Sviluppo Domanda e Gestione'!AT363","v":0},{"$f":"'3 Costi-Ricavi'!AT24*'4 Sviluppo Domanda e Gestione'!AU363","v":0},{"$f":"'3 Costi-Ricavi'!AU24*'4 Sviluppo Domanda e Gestione'!AV363","v":0},{"$f":"'3 Costi-Ricavi'!AV24*'4 Sviluppo Domanda e Gestione'!AW363","v":0},{"$f":"'3 Costi-Ricavi'!AW24*'4 Sviluppo Domanda e Gestione'!AX363","v":0},{"$f":"'3 Costi-Ricavi'!AX24*'4 Sviluppo Domanda e Gestione'!AY363","v":0},{"$f":"'3 Costi-Ricavi'!AY24*'4 Sviluppo Domanda e Gestione'!AZ363","v":0},{"$f":"'3 Costi-Ricavi'!AZ24*'4 Sviluppo Domanda e Gestione'!BA363","v":0},{"$f":"'3 Costi-Ricavi'!BA24*'4 Sviluppo Domanda e Gestione'!BB363","v":0},{"$f":"'3 Costi-Ricavi'!BB24*'4 Sviluppo Domanda e Gestione'!BC363","v":0},{"$f":"'3 Costi-Ricavi'!BC24*'4 Sviluppo Domanda e Gestione'!BD363","v":0},{"$f":"'3 Costi-Ricavi'!BD24*'4 Sviluppo Domanda e Gestione'!BE363","v":0},{"$f":"'3 Costi-Ricavi'!BE24*'4 Sviluppo Domanda e Gestione'!BF363","v":0},{"$f":"'3 Costi-Ricavi'!BF24*'4 Sviluppo Domanda e Gestione'!BG363","v":0},{"$f":"'3 Costi-Ricavi'!BG24*'4 Sviluppo Domanda e Gestione'!BH363","v":0},{"$f":"'3 Costi-Ricavi'!BH24*'4 Sviluppo Domanda e Gestione'!BI363","v":0},{"$f":"'3 Costi-Ricavi'!BI24*'4 Sviluppo Domanda e Gestione'!BJ363","v":0},{"$f":"'3 Costi-Ricavi'!BJ24*'4 Sviluppo Domanda e Gestione'!BK363","v":0},{"$f":"'3 Costi-Ricavi'!BK24*'4 Sviluppo Domanda e Gestione'!BL363","v":0},"Totale Costi","Media Costi"]
[null,null,"per memoria: Totale costi operativi",{"$f":"SUM(D289:D292)","v":0},374620.68,384512.13360000006,395797.99867200002,403713.95864543994,411788.23781834875,420024.00257471576,428424.48262621008,436992.97227873426,445732.83172430901,454647.48835879518,0,0,0,0,0,0,0,0,0,0,0,0,0,0,0,0,0,0,0,0,0,0,0,0,0,0,0,0,0,0,0,0,0,0,0,0,0,0,0,0,0,0,0,0,0,0,0,0,0,0,{"$f":"SUM(E293:BL293)","v":4156254.786298553},{"$f":"SUM(BM293/'2 Descrizione Progetto'!D21)","v":415625.47862985532}]
[]
[null,null,{"$f":"IF(C10=\"\",\"\",C10)","v":"Ricavi Commerciali"},null,{"$f":"'2 Descrizione Progetto'!$D$20","v":1},{"$f":"IF(E295=\"anno esterno\",\"anno esterno\",IF(E295+1<='2 Descrizione Progetto'!$D$22,E295+1,\"anno esterno\"))","v":2},{"$f":"IF(F295=\"anno esterno\",\"anno esterno\",IF(F295+1<='2 Descrizione Progetto'!$D$22,F295+1,\"anno esterno\"))","v":3},{"$f":"IF(G295=\"anno esterno\",\"anno esterno\",IF(G295+1<='2 Descrizione Progetto'!$D$22,G295+1,\"anno esterno\"))","v":4},{"$f":"IF(H295=\"anno esterno\",\"anno esterno\",IF(H295+1<='2 Descrizione Progetto'!$D$22,H295+1,\"anno esterno\"))","v":5},{"$f":"IF(I295=\"anno esterno\",\"anno esterno\",IF(I295+1<='2 Descrizione Progetto'!$D$22,I295+1,\"anno esterno\"))","v":6},{"$f":"IF(J295=\"anno esterno\",\"anno esterno\",IF(J295+1<='2 Descrizione Progetto'!$D$22,J295+1,\"anno esterno\"))","v":7},{"$f":"IF(K295=\"anno esterno\",\"anno esterno\",IF(K295+1<='2 Descrizione Progetto'!$D$22,K295+1,\"anno esterno\"))","v":8},{"$f":"IF(L295=\"anno esterno\",\"anno esterno\",IF(L295+1<='2 Descrizione Progetto'!$D$22,L295+1,\"anno esterno\"))","v":9},{"$f":"IF(M295=\"anno esterno\",\"anno esterno\",IF(M295+1<='2 Descrizione Progetto'!$D$22,M295+1,\"anno esterno\"))","v":10},{"$f":"IF(N295=\"anno esterno\",\"anno esterno\",IF(N295+1<='2 Descrizione Progetto'!$D$22,N295+1,\"anno esterno\"))","v":"anno esterno"},{"$f":"IF(O295=\"anno esterno\",\"anno esterno\",IF(O295+1<='2 Descrizione Progetto'!$D$22,O295+1,\"anno esterno\"))","v":"anno esterno"},{"$f":"IF(P295=\"anno esterno\",\"anno esterno\",IF(P295+1<='2 Descrizione Progetto'!$D$22,P295+1,\"anno esterno\"))","v":"anno esterno"},{"$f":"IF(Q295=\"anno esterno\",\"anno esterno\",IF(Q295+1<='2 Descrizione Progetto'!$D$22,Q295+1,\"anno esterno\"))","v":"anno esterno"},{"$f":"IF(R295=\"anno esterno\",\"anno esterno\",IF(R295+1<='2 Descrizione Progetto'!$D$22,R295+1,\"anno esterno\"))","v":"anno esterno"},{"$f":"IF(S295=\"anno esterno\",\"anno esterno\",IF(S295+1<='2 Descrizione Progetto'!$D$22,S295+1,\"anno esterno\"))","v":"anno esterno"},{"$f":"IF(T295=\"anno esterno\",\"anno esterno\",IF(T295+1<='2 Descrizione Progetto'!$D$22,T295+1,\"anno esterno\"))","v":"anno esterno"},{"$f":"IF(U295=\"anno esterno\",\"anno esterno\",IF(U295+1<='2 Descrizione Progetto'!$D$22,U295+1,\"anno esterno\"))","v":"anno esterno"},{"$f":"IF(V295=\"anno esterno\",\"anno esterno\",IF(V295+1<='2 Descrizione Progetto'!$D$22,V295+1,\"anno esterno\"))","v":"anno esterno"},{"$f":"IF(W295=\"anno esterno\",\"anno esterno\",IF(W295+1<='2 Descrizione Progetto'!$D$22,W295+1,\"anno esterno\"))","v":"anno esterno"},{"$f":"IF(X295=\"anno esterno\",\"anno esterno\",IF(X295+1<='2 Descrizione Progetto'!$D$22,X295+1,\"anno esterno\"))","v":"anno esterno"},{"$f":"IF(Y295=\"anno esterno\",\"anno esterno\",IF(Y295+1<='2 Descrizione Progetto'!$D$22,Y295+1,\"anno esterno\"))","v":"anno esterno"},{"$f":"IF(Z295=\"anno esterno\",\"anno esterno\",IF(Z295+1<='2 Descrizione Progetto'!$D$22,Z295+1,\"anno esterno\"))","v":"anno esterno"},{"$f":"IF(AA295=\"anno esterno\",\"anno esterno\",IF(AA295+1<='2 Descrizione Progetto'!$D$22,AA295+1,\"anno esterno\"))","v":"anno esterno"},{"$f":"IF(AB295=\"anno esterno\",\"anno esterno\",IF(AB295+1<='2 Descrizione Progetto'!$D$22,AB295+1,\"anno esterno\"))","v":"anno esterno"},{"$f":"IF(AC295=\"anno esterno\",\"anno esterno\",IF(AC295+1<='2 Descrizione Progetto'!$D$22,AC295+1,\"anno esterno\"))","v":"anno esterno"},{"$f":"IF(AD295=\"anno esterno\",\"anno esterno\",IF(AD295+1<='2 Descrizione Progetto'!$D$22,AD295+1,\"anno esterno\"))","v":"anno esterno"},{"$f":"IF(AE295=\"anno esterno\",\"anno esterno\",IF(AE295+1<='2 Descrizione Progetto'!$D$22,AE295+1,\"anno esterno\"))","v":"anno esterno"},{"$f":"IF(AF295=\"anno esterno\",\"anno esterno\",IF(AF295+1<='2 Descrizione Progetto'!$D$22,AF295+1,\"anno esterno\"))","v":"anno esterno"},{"$f":"IF(AG295=\"anno esterno\",\"anno esterno\",IF(AG295+1<='2 Descrizione Progetto'!$D$22,AG295+1,\"anno esterno\"))","v":"anno esterno"},{"$f":"IF(AH295=\"anno esterno\",\"anno esterno\",IF(AH295+1<='2 Descrizione Progetto'!$D$22,AH295+1,\"anno esterno\"))","v":"anno esterno"},{"$f":"IF(AI295=\"anno esterno\",\"anno esterno\",IF(AI295+1<='2 Descrizione Progetto'!$D$22,AI295+1,\"anno esterno\"))","v":"anno esterno"},{"$f":"IF(AJ295=\"anno esterno\",\"anno esterno\",IF(AJ295+1<='2 Descrizione Progetto'!$D$22,AJ295+1,\"anno esterno\"))","v":"anno esterno"},{"$f":"IF(AK295=\"anno esterno\",\"anno esterno\",IF(AK295+1<='2 Descrizione Progetto'!$D$22,AK295+1,\"anno esterno\"))","v":"anno esterno"},{"$f":"IF(AL295=\"anno esterno\",\"anno esterno\",IF(AL295+1<='2 Descrizione Progetto'!$D$22,AL295+1,\"anno esterno\"))","v":"anno esterno"},{"$f":"IF(AM295=\"anno esterno\",\"anno esterno\",IF(AM295+1<='2 Descrizione Progetto'!$D$22,AM295+1,\"anno esterno\"))","v":"anno esterno"},{"$f":"IF(AN295=\"anno esterno\",\"anno esterno\",IF(AN295+1<='2 Descrizione Progetto'!$D$22,AN295+1,\"anno esterno\"))","v":"anno esterno"},{"$f":"IF(AO295=\"anno esterno\",\"anno esterno\",IF(AO295+1<='2 Descrizione Progetto'!$D$22,AO295+1,\"anno esterno\"))","v":"anno esterno"},{"$f":"IF(AP295=\"anno esterno\",\"anno esterno\",IF(AP295+1<='2 Descrizione Progetto'!$D$22,AP295+1,\"anno esterno\"))","v":"anno esterno"},{"$f":"IF(AQ295=\"anno esterno\",\"anno esterno\",IF(AQ295+1<='2 Descrizione Progetto'!$D$22,AQ295+1,\"anno esterno\"))","v":"anno esterno"},{"$f":"IF(AR295=\"anno esterno\",\"anno esterno\",IF(AR295+1<='2 Descrizione Progetto'!$D$22,AR295+1,\"anno esterno\"))","v":"anno esterno"},{"$f":"IF(AS295=\"anno esterno\",\"anno esterno\",IF(AS295+1<='2 Descrizione Progetto'!$D$22,AS295+1,\"anno esterno\"))","v":"anno esterno"},{"$f":"IF(AT295=\"anno esterno\",\"anno esterno\",IF(AT295+1<='2 Descrizione Progetto'!$D$22,AT295+1,\"anno esterno\"))","v":"anno esterno"},{"$f":"IF(AU295=\"anno esterno\",\"anno esterno\",IF(AU295+1<='2 Descrizione Progetto'!$D$22,AU295+1,\"anno esterno\"))","v":"anno esterno"},{"$f":"IF(AV295=\"anno esterno\",\"anno esterno\",IF(AV295+1<='2 Descrizione Progetto'!$D$22,AV295+1,\"anno esterno\"))","v":"anno esterno"},{"$f":"IF(AW295=\"anno esterno\",\"anno esterno\",IF(AW295+1<='2 Descrizione Progetto'!$D$22,AW295+1,\"anno esterno\"))","v":"anno esterno"},{"$f":"IF(AX295=\"anno esterno\",\"anno esterno\",IF(AX295+1<='2 Descrizione Progetto'!$D$22,AX295+1,\"anno esterno\"))","v":"anno esterno"},{"$f":"IF(AY295=\"anno esterno\",\"anno esterno\",IF(AY295+1<='2 Descrizione Progetto'!$D$22,AY295+1,\"anno esterno\"))","v":"anno esterno"},{"$f":"IF(AZ295=\"anno esterno\",\"anno esterno\",IF(AZ295+1<='2 Descrizione Progetto'!$D$22,AZ295+1,\"anno esterno\"))","v":"anno esterno"},{"$f":"IF(BA295=\"anno esterno\",\"anno esterno\",IF(BA295+1<='2 Descrizione Progetto'!$D$22,BA295+1,\"anno esterno\"))","v":"anno esterno"},{"$f":"IF(BB295=\"anno esterno\",\"anno esterno\",IF(BB295+1<='2 Descrizione Progetto'!$D$22,BB295+1,\"anno esterno\"))","v":"anno esterno"},{"$f":"IF(BC295=\"anno esterno\",\"anno esterno\",IF(BC295+1<='2 Descrizione Progetto'!$D$22,BC295+1,\"anno esterno\"))","v":"anno esterno"},{"$f":"IF(BD295=\"anno esterno\",\"anno esterno\",IF(BD295+1<='2 Descrizione Progetto'!$D$22,BD295+1,\"anno esterno\"))","v":"anno esterno"},{"$f":"IF(BE295=\"anno esterno\",\"anno esterno\",IF(BE295+1<='2 Descrizione Progetto'!$D$22,BE295+1,\"anno esterno\"))","v":"anno esterno"},{"$f":"IF(BF295=\"anno esterno\",\"anno esterno\",IF(BF295+1<='2 Descrizione Progetto'!$D$22,BF295+1,\"anno esterno\"))","v":"anno esterno"},{"$f":"IF(BG295=\"anno esterno\",\"anno esterno\",IF(BG295+1<='2 Descrizione Progetto'!$D$22,BG295+1,\"anno esterno\"))","v":"anno esterno"},{"$f":"IF(BH295=\"anno esterno\",\"anno esterno\",IF(BH295+1<='2 Descrizione Progetto'!$D$22,BH295+1,\"anno esterno\"))","v":"anno esterno"},{"$f":"IF(BI295=\"anno esterno\",\"anno esterno\",IF(BI295+1<='2 Descrizione Progetto'!$D$22,BI295+1,\"anno esterno\"))","v":"anno esterno"},{"$f":"IF(BJ295=\"anno esterno\",\"anno esterno\",IF(BJ295+1<='2 Descrizione Progetto'!$D$22,BJ295+1,\"anno esterno\"))","v":"anno esterno"},{"$f":"IF(BK295=\"anno esterno\",\"anno esterno\",IF(BK295+1<='2 Descrizione Progetto'!$D$22,BK295+1,\"anno esterno\"))","v":"anno esterno"}]
[null,null,"Costi per servizi",{"$f":"D261","v":0},{"$f":"IF(ISERROR(E$155*$D296),\"\",E$155*$D296)","v":0},0,0,0,0,0,0,0,0,0,"","","","","","","","","","","","","","","","","","","","","","","","","","","","","","","","","","","","","","","","","","","","","","","","","",""]
[null,null,"Costi del personale (al lordo degli oneri sociali)",{"$f":"E261","v":0},{"$f":"IF(ISERROR(E$155*$D297),\"\",E$155*$D297)","v":0},0,0,0,0,0,0,0,0,0,"","","","","","","","","","","","","","","","","","","","","","","","","","","","","","","","","","","","","","","","","","","","","","","","","",""]
[null,null,"Oneri diversi di gestione",{"$f":"F261","v":0},{"$f":"IF(ISERROR(E$155*$D298),\"\",E$155*$D298)","v":0},0,0,0,0,0,0,0,0,0,"","","","","","","","","","","","","","","","","","","","","","","","","","","","","","","","","","","","","","","","","","","","","","","","","",""]
[null,null,"Manutenzioni ordinarie",{"$f":"G261","v":0},{"$f":"IF(ISERROR(E$155*$D299),\"\",E$155*$D299)","v":0},0,0,0,0,0,0,0,0,0,"","","","","","","","","","","","","","","","","","","","","","","","","","","","","","","","","","","","","","","","","","","","","","","","","",""]
[null,null,"per memoria: Totale costi operativi",{"$f":"SUM(D296:D299)","v":0},{"$f":"IF(ISERROR(E$155*$D300),\"\",E$155*$D300)","v":0},0,0,0,0,0,0,0,0,0,"","","","","","","","","","","","","","","","","","","","","","","","","","","","","","","","","","","","","","","","","","","","","","","","","",""]
[]
[null,3,{"$f":"IF(C11=\"\",\"\",C11)","v":"Ricavi Bar"},null,{"$f":"'2 Descrizione Progetto'!$D$20","v":1},{"$f":"IF(E302=\"anno esterno\",\"anno esterno\",IF(E302+1<='2 Descrizione Progetto'!$D$22,E302+1,\"anno esterno\"))","v":2},{"$f":"IF(F302=\"anno esterno\",\"anno esterno\",IF(F302+1<='2 Descrizione Progetto'!$D$22,F302+1,\"anno esterno\"))","v":3},{"$f":"IF(G302=\"anno esterno\",\"anno esterno\",IF(G302+1<='2 Descrizione Progetto'!$D$22,G302+1,\"anno esterno\"))","v":4},{"$f":"IF(H302=\"anno esterno\",\"anno esterno\",IF(H302+1<='2 Descrizione Progetto'!$D$22,H302+1,\"anno esterno\"))","v":5},{"$f":"IF(I302=\"anno esterno\",\"anno esterno\",IF(I302+1<='2 Descrizione Progetto'!$D$22,I302+1,\"anno esterno\"))","v":6},{"$f":"IF(J302=\"anno esterno\",\"anno esterno\",IF(J302+1<='2 Descrizione Progetto'!$D$22,J302+1,\"anno esterno\"))","v":7},{"$f":"IF(K302=\"anno esterno\",\"anno esterno\",IF(K302+1<='2 Descrizione Progetto'!$D$22,K302+1,\"anno esterno\"))","v":8},{"$f":"IF(L302=\"anno esterno\",\"anno esterno\",IF(L302+1<='2 Descrizione Progetto'!$D$22,L302+1,\"anno esterno\"))","v":9},{"$f":"IF(M302=\"anno esterno\",\"anno esterno\",IF(M302+1<='2 Descrizione Progetto'!$D$22,M302+1,\"anno esterno\"))","v":10},{"$f":"IF(N302=\"anno esterno\",\"anno esterno\",IF(N302+1<='2 Descrizione Progetto'!$D$22,N302+1,\"anno esterno\"))","v":"anno esterno"},{"$f":"IF(O302=\"anno esterno\",\"anno esterno\",IF(O302+1<='2 Descrizione Progetto'!$D$22,O302+1,\"anno esterno\"))","v":"anno esterno"},{"$f":"IF(P302=\"anno esterno\",\"anno esterno\",IF(P302+1<='2 Descrizione Progetto'!$D$22,P302+1,\"anno esterno\"))","v":"anno esterno"},{"$f":"IF(Q302=\"anno esterno\",\"anno esterno\",IF(Q302+1<='2 Descrizione Progetto'!$D$22,Q302+1,\"anno esterno\"))","v":"anno esterno"},{"$f":"IF(R302=\"anno esterno\",\"anno esterno\",IF(R302+1<='2 Descrizione Progetto'!$D$22,R302+1,\"anno esterno\"))","v":"anno esterno"},{"$f":"IF(S302=\"anno esterno\",\"anno esterno\",IF(S302+1<='2 Descrizione Progetto'!$D$22,S302+1,\"anno esterno\"))","v":"anno esterno"},{"$f":"IF(T302=\"anno esterno\",\"anno esterno\",IF(T302+1<='2 Descrizione Progetto'!$D$22,T302+1,\"anno esterno\"))","v":"anno esterno"},{"$f":"IF(U302=\"anno esterno\",\"anno esterno\",IF(U302+1<='2 Descrizione Progetto'!$D$22,U302+1,\"anno esterno\"))","v":"anno esterno"},{"$f":"IF(V302=\"anno esterno\",\"anno esterno\",IF(V302+1<='2 Descrizione Progetto'!$D$22,V302+1,\"anno esterno\"))","v":"anno esterno"},{"$f":"IF(W302=\"anno esterno\",\"anno esterno\",IF(W302+1<='2 Descrizione Progetto'!$D$22,W302+1,\"anno esterno\"))","v":"anno esterno"},{"$f":"IF(X302=\"anno esterno\",\"anno esterno\",IF(X302+1<='2 Descrizione Progetto'!$D$22,X302+1,\"anno esterno\"))","v":"anno esterno"},{"$f":"IF(Y302=\"anno esterno\",\"anno esterno\",IF(Y302+1<='2 Descrizione Progetto'!$D$22,Y302+1,\"anno esterno\"))","v":"anno esterno"},{"$f":"IF(Z302=\"anno esterno\",\"anno esterno\",IF(Z302+1<='2 Descrizione Progetto'!$D$22,Z302+1,\"anno esterno\"))","v":"anno esterno"},{"$f":"IF(AA302=\"anno esterno\",\"anno esterno\",IF(AA302+1<='2 Descrizione Progetto'!$D$22,AA302+1,\"anno esterno\"))","v":"anno esterno"},{"$f":"IF(AB302=\"anno esterno\",\"anno esterno\",IF(AB302+1<='2 Descrizione Progetto'!$D$22,AB302+1,\"anno esterno\"))","v":"anno esterno"},{"$f":"IF(AC302=\"anno esterno\",\"anno esterno\",IF(AC302+1<='2 Descrizione Progetto'!$D$22,AC302+1,\"anno esterno\"))","v":"anno esterno"},{"$f":"IF(AD302=\"anno esterno\",\"anno esterno\",IF(AD302+1<='2 Descrizione Progetto'!$D$22,AD302+1,\"anno esterno\"))","v":"anno esterno"},{"$f":"IF(AE302=\"anno esterno\",\"anno esterno\",IF(AE302+1<='2 Descrizione Progetto'!$D$22,AE302+1,\"anno esterno\"))","v":"anno esterno"},{"$f":"IF(AF302=\"anno esterno\",\"anno esterno\",IF(AF302+1<='2 Descrizione Progetto'!$D$22,AF302+1,\"anno esterno\"))","v":"anno esterno"},{"$f":"IF(AG302=\"anno esterno\",\"anno esterno\",IF(AG302+1<='2 Descrizione Progetto'!$D$22,AG302+1,\"anno esterno\"))","v":"anno esterno"},{"$f":"IF(AH302=\"anno esterno\",\"anno esterno\",IF(AH302+1<='2 Descrizione Progetto'!$D$22,AH302+1,\"anno esterno\"))","v":"anno esterno"},{"$f":"IF(AI302=\"anno esterno\",\"anno esterno\",IF(AI302+1<='2 Descrizione Progetto'!$D$22,AI302+1,\"anno esterno\"))","v":"anno esterno"},{"$f":"IF(AJ302=\"anno esterno\",\"anno esterno\",IF(AJ302+1<='2 Descrizione Progetto'!$D$22,AJ302+1,\"anno esterno\"))","v":"anno esterno"},{"$f":"IF(AK302=\"anno esterno\",\"anno esterno\",IF(AK302+1<='2 Descrizione Progetto'!$D$22,AK302+1,\"anno esterno\"))","v":"anno esterno"},{"$f":"IF(AL302=\"anno esterno\",\"anno esterno\",IF(AL302+1<='2 Descrizione Progetto'!$D$22,AL302+1,\"anno esterno\"))","v":"anno esterno"},{"$f":"IF(AM302=\"anno esterno\",\"anno esterno\",IF(AM302+1<='2 Descrizione Progetto'!$D$22,AM302+1,\"anno esterno\"))","v":"anno esterno"},{"$f":"IF(AN302=\"anno esterno\",\"anno esterno\",IF(AN302+1<='2 Descrizione Progetto'!$D$22,AN302+1,\"anno esterno\"))","v":"anno esterno"},{"$f":"IF(AO302=\"anno esterno\",\"anno esterno\",IF(AO302+1<='2 Descrizione Progetto'!$D$22,AO302+1,\"anno esterno\"))","v":"anno esterno"},{"$f":"IF(AP302=\"anno esterno\",\"anno esterno\",IF(AP302+1<='2 Descrizione Progetto'!$D$22,AP302+1,\"anno esterno\"))","v":"anno esterno"},{"$f":"IF(AQ302=\"anno esterno\",\"anno esterno\",IF(AQ302+1<='2 Descrizione Progetto'!$D$22,AQ302+1,\"anno esterno\"))","v":"anno esterno"},{"$f":"IF(AR302=\"anno esterno\",\"anno esterno\",IF(AR302+1<='2 Descrizione Progetto'!$D$22,AR302+1,\"anno esterno\"))","v":"anno esterno"},{"$f":"IF(AS302=\"anno esterno\",\"anno esterno\",IF(AS302+1<='2 Descrizione Progetto'!$D$22,AS302+1,\"anno esterno\"))","v":"anno esterno"},{"$f":"IF(AT302=\"anno esterno\",\"anno esterno\",IF(AT302+1<='2 Descrizione Progetto'!$D$22,AT302+1,\"anno esterno\"))","v":"anno esterno"},{"$f":"IF(AU302=\"anno esterno\",\"anno esterno\",IF(AU302+1<='2 Descrizione Progetto'!$D$22,AU302+1,\"anno esterno\"))","v":"anno esterno"},{"$f":"IF(AV302=\"anno esterno\",\"anno esterno\",IF(AV302+1<='2 Descrizione Progetto'!$D$22,AV302+1,\"anno esterno\"))","v":"anno esterno"},{"$f":"IF(AW302=\"anno esterno\",\"anno esterno\",IF(AW302+1<='2 Descrizione Progetto'!$D$22,AW302+1,\"anno esterno\"))","v":"anno esterno"},{"$f":"IF(AX302=\"anno esterno\",\"anno esterno\",IF(AX302+1<='2 Descrizione Progetto'!$D$22,AX302+1,\"anno esterno\"))","v":"anno esterno"},{"$f":"IF(AY302=\"anno esterno\",\"anno esterno\",IF(AY302+1<='2 Descrizione Progetto'!$D$22,AY302+1,\"anno esterno\"))","v":"anno esterno"},{"$f":"IF(AZ302=\"anno esterno\",\"anno esterno\",IF(AZ302+1<='2 Descrizione Progetto'!$D$22,AZ302+1,\"anno esterno\"))","v":"anno esterno"},{"$f":"IF(BA302=\"anno esterno\",\"anno esterno\",IF(BA302+1<='2 Descrizione Progetto'!$D$22,BA302+1,\"anno esterno\"))","v":"anno esterno"},{"$f":"IF(BB302=\"anno esterno\",\"anno esterno\",IF(BB302+1<='2 Descrizione Progetto'!$D$22,BB302+1,\"anno esterno\"))","v":"anno esterno"},{"$f":"IF(BC302=\"anno esterno\",\"anno esterno\",IF(BC302+1<='2 Descrizione Progetto'!$D$22,BC302+1,\"anno esterno\"))","v":"anno esterno"},{"$f":"IF(BD302=\"anno esterno\",\"anno esterno\",IF(BD302+1<='2 Descrizione Progetto'!$D$22,BD302+1,\"anno esterno\"))","v":"anno esterno"},{"$f":"IF(BE302=\"anno esterno\",\"anno esterno\",IF(BE302+1<='2 Descrizione Progetto'!$D$22,BE302+1,\"anno esterno\"))","v":"anno esterno"},{"$f":"IF(BF302=\"anno esterno\",\"anno esterno\",IF(BF302+1<='2 Descrizione Progetto'!$D$22,BF302+1,\"anno esterno\"))","v":"anno esterno"},{"$f":"IF(BG302=\"anno esterno\",\"anno esterno\",IF(BG302+1<='2 Descrizione Progetto'!$D$22,BG302+1,\"anno esterno\"))","v":"anno esterno"},{"$f":"IF(BH302=\"anno esterno\",\"anno esterno\",IF(BH302+1<='2 Descrizione Progetto'!$D$22,BH302+1,\"anno esterno\"))","v":"anno esterno"},{"$f":"IF(BI302=\"anno esterno\",\"anno esterno\",IF(BI302+1<='2 Descrizione Progetto'!$D$22,BI302+1,\"anno esterno\"))","v":"anno esterno"},{"$f":"IF(BJ302=\"anno esterno\",\"anno esterno\",IF(BJ302+1<='2 Descrizione Progetto'!$D$22,BJ302+1,\"anno esterno\"))","v":"anno esterno"},{"$f":"IF(BK302=\"anno esterno\",\"anno esterno\",IF(BK302+1<='2 Descrizione Progetto'!$D$22,BK302+1,\"anno esterno\"))","v":"anno esterno"}]
[null,null,"Costi per servizi",{"$f":"D262","v":0},{"$f":"IF(ISERROR(E$156*$D303),\"\",E$156*$D303)","v":0},0,0,0,0,0,0,0,0,0,"","","","","","","","","","","","","","","","","","","","","","","","","","","","","","","","","","","","","","","","","","","","","","","","","",""]
[null,null,"Costi del personale (al lordo degli oneri sociali)",{"$f":"E262","v":0},{"$f":"IF(ISERROR(E$156*$D304),\"\",E$156*$D304)","v":0},0,0,0,0,0,0,0,0,0,"","","","","","","","","","","","","","","","","","","","","","","","","","","","","","","","","","","","","","","","","","","","","","","","","",""]
[null,null,"Oneri diversi di gestione",{"$f":"F262","v":0},{"$f":"IF(ISERROR(E$156*$D305),\"\",E$156*$D305)","v":0},0,0,0,0,0,0,0,0,0,"","","","","","","","","","","","","","","","","","","","","","","","","","","","","","","","","","","","","","","","","","","","","","","","","",""]
[null,null,"Manutenzioni ordinarie",{"$f":"G262","v":0},{"$f":"IF(ISERROR(E$156*$D306),\"\",E$156*$D306)","v":0},0,0,0,0,0,0,0,0,0,"","","","","","","","","","","","","","","","","","","","","","","","","","","","","","","","","","","","","","","","","","","","","","","","","",""]
[null,null,"per memoria: Totale costi operativi",{"$f":"SUM(D303:D306)","v":0},{"$f":"IF(ISERROR(E$156*$D307),\"\",E$156*$D307)","v":0},0,0,0,0,0,0,0,0,0,"","","","","","","","","","","","","","","","","","","","","","","","","","","","","","","","","","","","","","","","","","","","","","","","","",""]
[]
[null,4,{"$f":"IF(C12=\"\",\"\",C12)","v":"Proventi diversi/pubblicità"},null,{"$f":"'2 Descrizione Progetto'!$D$20","v":1},{"$f":"IF(E309=\"anno esterno\",\"anno esterno\",IF(E309+1<='2 Descrizione Progetto'!$D$22,E309+1,\"anno esterno\"))","v":2},{"$f":"IF(F309=\"anno esterno\",\"anno esterno\",IF(F309+1<='2 Descrizione Progetto'!$D$22,F309+1,\"anno esterno\"))","v":3},{"$f":"IF(G309=\"anno esterno\",\"anno esterno\",IF(G309+1<='2 Descrizione Progetto'!$D$22,G309+1,\"anno esterno\"))","v":4},{"$f":"IF(H309=\"anno esterno\",\"anno esterno\",IF(H309+1<='2 Descrizione Progetto'!$D$22,H309+1,\"anno esterno\"))","v":5},{"$f":"IF(I309=\"anno esterno\",\"anno esterno\",IF(I309+1<='2 Descrizione Progetto'!$D$22,I309+1,\"anno esterno\"))","v":6},{"$f":"IF(J309=\"anno esterno\",\"anno esterno\",IF(J309+1<='2 Descrizione Progetto'!$D$22,J309+1,\"anno esterno\"))","v":7},{"$f":"IF(K309=\"anno esterno\",\"anno esterno\",IF(K309+1<='2 Descrizione Progetto'!$D$22,K309+1,\"anno esterno\"))","v":8},{"$f":"IF(L309=\"anno esterno\",\"anno esterno\",IF(L309+1<='2 Descrizione Progetto'!$D$22,L309+1,\"anno esterno\"))","v":9},{"$f":"IF(M309=\"anno esterno\",\"anno esterno\",IF(M309+1<='2 Descrizione Progetto'!$D$22,M309+1,\"anno esterno\"))","v":10},{"$f":"IF(N309=\"anno esterno\",\"anno esterno\",IF(N309+1<='2 Descrizione Progetto'!$D$22,N309+1,\"anno esterno\"))","v":"anno esterno"},{"$f":"IF(O309=\"anno esterno\",\"anno esterno\",IF(O309+1<='2 Descrizione Progetto'!$D$22,O309+1,\"anno esterno\"))","v":"anno esterno"},{"$f":"IF(P309=\"anno esterno\",\"anno esterno\",IF(P309+1<='2 Descrizione Progetto'!$D$22,P309+1,\"anno esterno\"))","v":"anno esterno"},{"$f":"IF(Q309=\"anno esterno\",\"anno esterno\",IF(Q309+1<='2 Descrizione Progetto'!$D$22,Q309+1,\"anno esterno\"))","v":"anno esterno"},{"$f":"IF(R309=\"anno esterno\",\"anno esterno\",IF(R309+1<='2 Descrizione Progetto'!$D$22,R309+1,\"anno esterno\"))","v":"anno esterno"},{"$f":"IF(S309=\"anno esterno\",\"anno esterno\",IF(S309+1<='2 Descrizione Progetto'!$D$22,S309+1,\"anno esterno\"))","v":"anno esterno"},{"$f":"IF(T309=\"anno esterno\",\"anno esterno\",IF(T309+1<='2 Descrizione Progetto'!$D$22,T309+1,\"anno esterno\"))","v":"anno esterno"},{"$f":"IF(U309=\"anno esterno\",\"anno esterno\",IF(U309+1<='2 Descrizione Progetto'!$D$22,U309+1,\"anno esterno\"))","v":"anno esterno"},{"$f":"IF(V309=\"anno esterno\",\"anno esterno\",IF(V309+1<='2 Descrizione Progetto'!$D$22,V309+1,\"anno esterno\"))","v":"anno esterno"},{"$f":"IF(W309=\"anno esterno\",\"anno esterno\",IF(W309+1<='2 Descrizione Progetto'!$D$22,W309+1,\"anno esterno\"))","v":"anno esterno"},{"$f":"IF(X309=\"anno esterno\",\"anno esterno\",IF(X309+1<='2 Descrizione Progetto'!$D$22,X309+1,\"anno esterno\"))","v":"anno esterno"},{"$f":"IF(Y309=\"anno esterno\",\"anno esterno\",IF(Y309+1<='2 Descrizione Progetto'!$D$22,Y309+1,\"anno esterno\"))","v":"anno esterno"},{"$f":"IF(Z309=\"anno esterno\",\"anno esterno\",IF(Z309+1<='2 Descrizione Progetto'!$D$22,Z309+1,\"anno esterno\"))","v":"anno esterno"},{"$f":"IF(AA309=\"anno esterno\",\"anno esterno\",IF(AA309+1<='2 Descrizione Progetto'!$D$22,AA309+1,\"anno esterno\"))","v":"anno esterno"},{"$f":"IF(AB309=\"anno esterno\",\"anno esterno\",IF(AB309+1<='2 Descrizione Progetto'!$D$22,AB309+1,\"anno esterno\"))","v":"anno esterno"},{"$f":"IF(AC309=\"anno esterno\",\"anno esterno\",IF(AC309+1<='2 Descrizione Progetto'!$D$22,AC309+1,\"anno esterno\"))","v":"anno esterno"},{"$f":"IF(AD309=\"anno esterno\",\"anno esterno\",IF(AD309+1<='2 Descrizione Progetto'!$D$22,AD309+1,\"anno esterno\"))","v":"anno esterno"},{"$f":"IF(AE309=\"anno esterno\",\"anno esterno\",IF(AE309+1<='2 Descrizione Progetto'!$D$22,AE309+1,\"anno esterno\"))","v":"anno esterno"},{"$f":"IF(AF309=\"anno esterno\",\"anno esterno\",IF(AF309+1<='2 Descrizione Progetto'!$D$22,AF309+1,\"anno esterno\"))","v":"anno esterno"},{"$f":"IF(AG309=\"anno esterno\",\"anno esterno\",IF(AG309+1<='2 Descrizione Progetto'!$D$22,AG309+1,\"anno esterno\"))","v":"anno esterno"},{"$f":"IF(AH309=\"anno esterno\",\"anno esterno\",IF(AH309+1<='2 Descrizione Progetto'!$D$22,AH309+1,\"anno esterno\"))","v":"anno esterno"},{"$f":"IF(AI309=\"anno esterno\",\"anno esterno\",IF(AI309+1<='2 Descrizione Progetto'!$D$22,AI309+1,\"anno esterno\"))","v":"anno esterno"},{"$f":"IF(AJ309=\"anno esterno\",\"anno esterno\",IF(AJ309+1<='2 Descrizione Progetto'!$D$22,AJ309+1,\"anno esterno\"))","v":"anno esterno"},{"$f":"IF(AK309=\"anno esterno\",\"anno esterno\",IF(AK309+1<='2 Descrizione Progetto'!$D$22,AK309+1,\"anno esterno\"))","v":"anno esterno"},{"$f":"IF(AL309=\"anno esterno\",\"anno esterno\",IF(AL309+1<='2 Descrizione Progetto'!$D$22,AL309+1,\"anno esterno\"))","v":"anno esterno"},{"$f":"IF(AM309=\"anno esterno\",\"anno esterno\",IF(AM309+1<='2 Descrizione Progetto'!$D$22,AM309+1,\"anno esterno\"))","v":"anno esterno"},{"$f":"IF(AN309=\"anno esterno\",\"anno esterno\",IF(AN309+1<='2 Descrizione Progetto'!$D$22,AN309+1,\"anno esterno\"))","v":"anno esterno"},{"$f":"IF(AO309=\"anno esterno\",\"anno esterno\",IF(AO309+1<='2 Descrizione Progetto'!$D$22,AO309+1,\"anno esterno\"))","v":"anno esterno"},{"$f":"IF(AP309=\"anno esterno\",\"anno esterno\",IF(AP309+1<='2 Descrizione Progetto'!$D$22,AP309+1,\"anno esterno\"))","v":"anno esterno"},{"$f":"IF(AQ309=\"anno esterno\",\"anno esterno\",IF(AQ309+1<='2 Descrizione Progetto'!$D$22,AQ309+1,\"anno esterno\"))","v":"anno esterno"},{"$f":"IF(AR309=\"anno esterno\",\"anno esterno\",IF(AR309+1<='2 Descrizione Progetto'!$D$22,AR309+1,\"anno esterno\"))","v":"anno esterno"},{"$f":"IF(AS309=\"anno esterno\",\"anno esterno\",IF(AS309+1<='2 Descrizione Progetto'!$D$22,AS309+1,\"anno esterno\"))","v":"anno esterno"},{"$f":"IF(AT309=\"anno esterno\",\"anno esterno\",IF(AT309+1<='2 Descrizione Progetto'!$D$22,AT309+1,\"anno esterno\"))","v":"anno esterno"},{"$f":"IF(AU309=\"anno esterno\",\"anno esterno\",IF(AU309+1<='2 Descrizione Progetto'!$D$22,AU309+1,\"anno esterno\"))","v":"anno esterno"},{"$f":"IF(AV309=\"anno esterno\",\"anno esterno\",IF(AV309+1<='2 Descrizione Progetto'!$D$22,AV309+1,\"anno esterno\"))","v":"anno esterno"},{"$f":"IF(AW309=\"anno esterno\",\"anno esterno\",IF(AW309+1<='2 Descrizione Progetto'!$D$22,AW309+1,\"anno esterno\"))","v":"anno esterno"},{"$f":"IF(AX309=\"anno esterno\",\"anno esterno\",IF(AX309+1<='2 Descrizione Progetto'!$D$22,AX309+1,\"anno esterno\"))","v":"anno esterno"},{"$f":"IF(AY309=\"anno esterno\",\"anno esterno\",IF(AY309+1<='2 Descrizione Progetto'!$D$22,AY309+1,\"anno esterno\"))","v":"anno esterno"},{"$f":"IF(AZ309=\"anno esterno\",\"anno esterno\",IF(AZ309+1<='2 Descrizione Progetto'!$D$22,AZ309+1,\"anno esterno\"))","v":"anno esterno"},{"$f":"IF(BA309=\"anno esterno\",\"anno esterno\",IF(BA309+1<='2 Descrizione Progetto'!$D$22,BA309+1,\"anno esterno\"))","v":"anno esterno"},{"$f":"IF(BB309=\"anno esterno\",\"anno esterno\",IF(BB309+1<='2 Descrizione Progetto'!$D$22,BB309+1,\"anno esterno\"))","v":"anno esterno"},{"$f":"IF(BC309=\"anno esterno\",\"anno esterno\",IF(BC309+1<='2 Descrizione Progetto'!$D$22,BC309+1,\"anno esterno\"))","v":"anno esterno"},{"$f":"IF(BD309=\"anno esterno\",\"anno esterno\",IF(BD309+1<='2 Descrizione Progetto'!$D$22,BD309+1,\"anno esterno\"))","v":"anno esterno"},{"$f":"IF(BE309=\"anno esterno\",\"anno esterno\",IF(BE309+1<='2 Descrizione Progetto'!$D$22,BE309+1,\"anno esterno\"))","v":"anno esterno"},{"$f":"IF(BF309=\"anno esterno\",\"anno esterno\",IF(BF309+1<='2 Descrizione Progetto'!$D$22,BF309+1,\"anno esterno\"))","v":"anno esterno"},{"$f":"IF(BG309=\"anno esterno\",\"anno esterno\",IF(BG309+1<='2 Descrizione Progetto'!$D$22,BG309+1,\"anno esterno\"))","v":"anno esterno"},{"$f":"IF(BH309=\"anno esterno\",\"anno esterno\",IF(BH309+1<='2 Descrizione Progetto'!$D$22,BH309+1,\"anno esterno\"))","v":"anno esterno"},{"$f":"IF(BI309=\"anno esterno\",\"anno esterno\",IF(BI309+1<='2 Descrizione Progetto'!$D$22,BI309+1,\"anno esterno\"))","v":"anno esterno"},{"$f":"IF(BJ309=\"anno esterno\",\"anno esterno\",IF(BJ309+1<='2 Descrizione Progetto'!$D$22,BJ309+1,\"anno esterno\"))","v":"anno esterno"},{"$f":"IF(BK309=\"anno esterno\",\"anno esterno\",IF(BK309+1<='2 Descrizione Progetto'!$D$22,BK309+1,\"anno esterno\"))","v":"anno esterno"}]
[null,null,"Costi per servizi",{"$f":"D263","v":0},{"$f":"IF(ISERROR(E$157*$D310),\"\",E$157*$D310)","v":0},0,0,0,0,0,0,0,0,0,"","","","","","","","","","","","","","","","","","","","","","","","","","","","","","","","","","","","","","","","","","","","","","","","","",""]
[null,null,"Costi del personale (al lordo degli oneri sociali)",{"$f":"E263","v":0},{"$f":"IF(ISERROR(E$157*$D311),\"\",E$157*$D311)","v":0},0,0,0,0,0,0,0,0,0,"","","","","","","","","","","","","","","","","","","","","","","","","","","","","","","","","","","","","","","","","","","","","","","","","",""]
[null,null,"Oneri diversi di gestione",{"$f":"F263","v":0},{"$f":"IF(ISERROR(E$157*$D312),\"\",E$157*$D312)","v":0},0,0,0,0,0,0,0,0,0,"","","","","","","","","","","","","","","","","","","","","","","","","","","","","","","","","","","","","","","","","","","","","","","","","",""]
[null,null,"Manutenzioni ordinarie",{"$f":"G263","v":0},{"$f":"IF(ISERROR(E$157*$D313),\"\",E$157*$D313)","v":0},0,0,0,0,0,0,0,0,0,"","","","","","","","","","","","","","","","","","","","","","","","","","","","","","","","","","","","","","","","","","","","","","","","","",""]
[null,null,"per memoria: Totale costi operativi",{"$f":"SUM(D310:D313)","v":0},{"$f":"IF(ISERROR(E$157*$D314),\"\",E$157*$D314)","v":0},0,0,0,0,0,0,0,0,0,"","","","","","","","","","","","","","","","","","","","","","","","","","","","","","","","","","","","","","","","","","","","","","","","","",""]
[]
[null,5,{"$f":"IF(C13=\"\",\"\",C13)","v":"b"},null,{"$f":"'2 Descrizione Progetto'!$D$20","v":1},{"$f":"IF(E316=\"anno esterno\",\"anno esterno\",IF(E316+1<='2 Descrizione Progetto'!$D$22,E316+1,\"anno esterno\"))","v":2},{"$f":"IF(F316=\"anno esterno\",\"anno esterno\",IF(F316+1<='2 Descrizione Progetto'!$D$22,F316+1,\"anno esterno\"))","v":3},{"$f":"IF(G316=\"anno esterno\",\"anno esterno\",IF(G316+1<='2 Descrizione Progetto'!$D$22,G316+1,\"anno esterno\"))","v":4},{"$f":"IF(H316=\"anno esterno\",\"anno esterno\",IF(H316+1<='2 Descrizione Progetto'!$D$22,H316+1,\"anno esterno\"))","v":5},{"$f":"IF(I316=\"anno esterno\",\"anno esterno\",IF(I316+1<='2 Descrizione Progetto'!$D$22,I316+1,\"anno esterno\"))","v":6},{"$f":"IF(J316=\"anno esterno\",\"anno esterno\",IF(J316+1<='2 Descrizione Progetto'!$D$22,J316+1,\"anno esterno\"))","v":7},{"$f":"IF(K316=\"anno esterno\",\"anno esterno\",IF(K316+1<='2 Descrizione Progetto'!$D$22,K316+1,\"anno esterno\"))","v":8},{"$f":"IF(L316=\"anno esterno\",\"anno esterno\",IF(L316+1<='2 Descrizione Progetto'!$D$22,L316+1,\"anno esterno\"))","v":9},{"$f":"IF(M316=\"anno esterno\",\"anno esterno\",IF(M316+1<='2 Descrizione Progetto'!$D$22,M316+1,\"anno esterno\"))","v":10},{"$f":"IF(N316=\"anno esterno\",\"anno esterno\",IF(N316+1<='2 Descrizione Progetto'!$D$22,N316+1,\"anno esterno\"))","v":"anno esterno"},{"$f":"IF(O316=\"anno esterno\",\"anno esterno\",IF(O316+1<='2 Descrizione Progetto'!$D$22,O316+1,\"anno esterno\"))","v":"anno esterno"},{"$f":"IF(P316=\"anno esterno\",\"anno esterno\",IF(P316+1<='2 Descrizione Progetto'!$D$22,P316+1,\"anno esterno\"))","v":"anno esterno"},{"$f":"IF(Q316=\"anno esterno\",\"anno esterno\",IF(Q316+1<='2 Descrizione Progetto'!$D$22,Q316+1,\"anno esterno\"))","v":"anno esterno"},{"$f":"IF(R316=\"anno esterno\",\"anno esterno\",IF(R316+1<='2 Descrizione Progetto'!$D$22,R316+1,\"anno esterno\"))","v":"anno esterno"},{"$f":"IF(S316=\"anno esterno\",\"anno esterno\",IF(S316+1<='2 Descrizione Progetto'!$D$22,S316+1,\"anno esterno\"))","v":"anno esterno"},{"$f":"IF(T316=\"anno esterno\",\"anno esterno\",IF(T316+1<='2 Descrizione Progetto'!$D$22,T316+1,\"anno esterno\"))","v":"anno esterno"},{"$f":"IF(U316=\"anno esterno\",\"anno esterno\",IF(U316+1<='2 Descrizione Progetto'!$D$22,U316+1,\"anno esterno\"))","v":"anno esterno"},{"$f":"IF(V316=\"anno esterno\",\"anno esterno\",IF(V316+1<='2 Descrizione Progetto'!$D$22,V316+1,\"anno esterno\"))","v":"anno esterno"},{"$f":"IF(W316=\"anno esterno\",\"anno esterno\",IF(W316+1<='2 Descrizione Progetto'!$D$22,W316+1,\"anno esterno\"))","v":"anno esterno"},{"$f":"IF(X316=\"anno esterno\",\"anno esterno\",IF(X316+1<='2 Descrizione Progetto'!$D$22,X316+1,\"anno esterno\"))","v":"anno esterno"},{"$f":"IF(Y316=\"anno esterno\",\"anno esterno\",IF(Y316+1<='2 Descrizione Progetto'!$D$22,Y316+1,\"anno esterno\"))","v":"anno esterno"},{"$f":"IF(Z316=\"anno esterno\",\"anno esterno\",IF(Z316+1<='2 Descrizione Progetto'!$D$22,Z316+1,\"anno esterno\"))","v":"anno esterno"},{"$f":"IF(AA316=\"anno esterno\",\"anno esterno\",IF(AA316+1<='2 Descrizione Progetto'!$D$22,AA316+1,\"anno esterno\"))","v":"anno esterno"},{"$f":"IF(AB316=\"anno esterno\",\"anno esterno\",IF(AB316+1<='2 Descrizione Progetto'!$D$22,AB316+1,\"anno esterno\"))","v":"anno esterno"},{"$f":"IF(AC316=\"anno esterno\",\"anno esterno\",IF(AC316+1<='2 Descrizione Progetto'!$D$22,AC316+1,\"anno esterno\"))","v":"anno esterno"},{"$f":"IF(AD316=\"anno esterno\",\"anno esterno\",IF(AD316+1<='2 Descrizione Progetto'!$D$22,AD316+1,\"anno esterno\"))","v":"anno esterno"},{"$f":"IF(AE316=\"anno esterno\",\"anno esterno\",IF(AE316+1<='2 Descrizione Progetto'!$D$22,AE316+1,\"anno esterno\"))","v":"anno esterno"},{"$f":"IF(AF316=\"anno esterno\",\"anno esterno\",IF(AF316+1<='2 Descrizione Progetto'!$D$22,AF316+1,\"anno esterno\"))","v":"anno esterno"},{"$f":"IF(AG316=\"anno esterno\",\"anno esterno\",IF(AG316+1<='2 Descrizione Progetto'!$D$22,AG316+1,\"anno esterno\"))","v":"anno esterno"},{"$f":"IF(AH316=\"anno esterno\",\"anno esterno\",IF(AH316+1<='2 Descrizione Progetto'!$D$22,AH316+1,\"anno esterno\"))","v":"anno esterno"},{"$f":"IF(AI316=\"anno esterno\",\"anno esterno\",IF(AI316+1<='2 Descrizione Progetto'!$D$22,AI316+1,\"anno esterno\"))","v":"anno esterno"},{"$f":"IF(AJ316=\"anno esterno\",\"anno esterno\",IF(AJ316+1<='2 Descrizione Progetto'!$D$22,AJ316+1,\"anno esterno\"))","v":"anno esterno"},{"$f":"IF(AK316=\"anno esterno\",\"anno esterno\",IF(AK316+1<='2 Descrizione Progetto'!$D$22,AK316+1,\"anno esterno\"))","v":"anno esterno"},{"$f":"IF(AL316=\"anno esterno\",\"anno esterno\",IF(AL316+1<='2 Descrizione Progetto'!$D$22,AL316+1,\"anno esterno\"))","v":"anno esterno"},{"$f":"IF(AM316=\"anno esterno\",\"anno esterno\",IF(AM316+1<='2 Descrizione Progetto'!$D$22,AM316+1,\"anno esterno\"))","v":"anno esterno"},{"$f":"IF(AN316=\"anno esterno\",\"anno esterno\",IF(AN316+1<='2 Descrizione Progetto'!$D$22,AN316+1,\"anno esterno\"))","v":"anno esterno"},{"$f":"IF(AO316=\"anno esterno\",\"anno esterno\",IF(AO316+1<='2 Descrizione Progetto'!$D$22,AO316+1,\"anno esterno\"))","v":"anno esterno"},{"$f":"IF(AP316=\"anno esterno\",\"anno esterno\",IF(AP316+1<='2 Descrizione Progetto'!$D$22,AP316+1,\"anno esterno\"))","v":"anno esterno"},{"$f":"IF(AQ316=\"anno esterno\",\"anno esterno\",IF(AQ316+1<='2 Descrizione Progetto'!$D$22,AQ316+1,\"anno esterno\"))","v":"anno esterno"},{"$f":"IF(AR316=\"anno esterno\",\"anno esterno\",IF(AR316+1<='2 Descrizione Progetto'!$D$22,AR316+1,\"anno esterno\"))","v":"anno esterno"},{"$f":"IF(AS316=\"anno esterno\",\"anno esterno\",IF(AS316+1<='2 Descrizione Progetto'!$D$22,AS316+1,\"anno esterno\"))","v":"anno esterno"},{"$f":"IF(AT316=\"anno esterno\",\"anno esterno\",IF(AT316+1<='2 Descrizione Progetto'!$D$22,AT316+1,\"anno esterno\"))","v":"anno esterno"},{"$f":"IF(AU316=\"anno esterno\",\"anno esterno\",IF(AU316+1<='2 Descrizione Progetto'!$D$22,AU316+1,\"anno esterno\"))","v":"anno esterno"},{"$f":"IF(AV316=\"anno esterno\",\"anno esterno\",IF(AV316+1<='2 Descrizione Progetto'!$D$22,AV316+1,\"anno esterno\"))","v":"anno esterno"},{"$f":"IF(AW316=\"anno esterno\",\"anno esterno\",IF(AW316+1<='2 Descrizione Progetto'!$D$22,AW316+1,\"anno esterno\"))","v":"anno esterno"},{"$f":"IF(AX316=\"anno esterno\",\"anno esterno\",IF(AX316+1<='2 Descrizione Progetto'!$D$22,AX316+1,\"anno esterno\"))","v":"anno esterno"},{"$f":"IF(AY316=\"anno esterno\",\"anno esterno\",IF(AY316+1<='2 Descrizione Progetto'!$D$22,AY316+1,\"anno esterno\"))","v":"anno esterno"},{"$f":"IF(AZ316=\"anno esterno\",\"anno esterno\",IF(AZ316+1<='2 Descrizione Progetto'!$D$22,AZ316+1,\"anno esterno\"))","v":"anno esterno"},{"$f":"IF(BA316=\"anno esterno\",\"anno esterno\",IF(BA316+1<='2 Descrizione Progetto'!$D$22,BA316+1,\"anno esterno\"))","v":"anno esterno"},{"$f":"IF(BB316=\"anno esterno\",\"anno esterno\",IF(BB316+1<='2 Descrizione Progetto'!$D$22,BB316+1,\"anno esterno\"))","v":"anno esterno"},{"$f":"IF(BC316=\"anno esterno\",\"anno esterno\",IF(BC316+1<='2 Descrizione Progetto'!$D$22,BC316+1,\"anno esterno\"))","v":"anno esterno"},{"$f":"IF(BD316=\"anno esterno\",\"anno esterno\",IF(BD316+1<='2 Descrizione Progetto'!$D$22,BD316+1,\"anno esterno\"))","v":"anno esterno"},{"$f":"IF(BE316=\"anno esterno\",\"anno esterno\",IF(BE316+1<='2 Descrizione Progetto'!$D$22,BE316+1,\"anno esterno\"))","v":"anno esterno"},{"$f":"IF(BF316=\"anno esterno\",\"anno esterno\",IF(BF316+1<='2 Descrizione Progetto'!$D$22,BF316+1,\"anno esterno\"))","v":"anno esterno"},{"$f":"IF(BG316=\"anno esterno\",\"anno esterno\",IF(BG316+1<='2 Descrizione Progetto'!$D$22,BG316+1,\"anno esterno\"))","v":"anno esterno"},{"$f":"IF(BH316=\"anno esterno\",\"anno esterno\",IF(BH316+1<='2 Descrizione Progetto'!$D$22,BH316+1,\"anno esterno\"))","v":"anno esterno"},{"$f":"IF(BI316=\"anno esterno\",\"anno esterno\",IF(BI316+1<='2 Descrizione Progetto'!$D$22,BI316+1,\"anno esterno\"))","v":"anno esterno"},{"$f":"IF(BJ316=\"anno esterno\",\"anno esterno\",IF(BJ316+1<='2 Descrizione Progetto'!$D$22,BJ316+1,\"anno esterno\"))","v":"anno esterno"},{"$f":"IF(BK316=\"anno esterno\",\"anno esterno\",IF(BK316+1<='2 Descrizione Progetto'!$D$22,BK316+1,\"anno esterno\"))","v":"anno esterno"}]
[null,null,"Costi per servizi",{"$f":"D264","v":0},{"$f":"IF(ISERROR(E$158*$D317),\"\",E$158*$D317)","v":0},0,0,0,0,0,0,0,0,0,"","","","","","","","","","","","","","","","","","","","","","","","","","","","","","","","","","","","","","","","","","","","","","","","","",""]
[null,null,"Costi del personale (al lordo degli oneri sociali)",{"$f":"E264","v":0},{"$f":"IF(ISERROR(E$158*$D318),\"\",E$158*$D318)","v":0},0,0,0,0,0,0,0,0,0,"","","","","","","","","","","","","","","","","","","","","","","","","","","","","","","","","","","","","","","","","","","","","","","","","",""]
[null,null,"Oneri diversi di gestione",{"$f":"F264","v":0},{"$f":"IF(ISERROR(E$158*$D319),\"\",E$158*$D319)","v":0},0,0,0,0,0,0,0,0,0,"","","","","","","","","","","","","","","","","","","","","","","","","","","","","","","","","","","","","","","","","","","","","","","","","",""]
[null,null,"Manutenzioni ordinarie",{"$f":"G264","v":0},{"$f":"IF(ISERROR(E$158*$D320),\"\",E$158*$D320)","v":0},0,0,0,0,0,0,0,0,0,"","","","","","","","","","","","","","","","","","","","","","","","","","","","","","","","","","","","","","","","","","","","","","","","","",""]
[null,null,"per memoria: Totale costi operativi",{"$f":"SUM(D317:D320)","v":0},{"$f":"IF(ISERROR(E$158*$D321),\"\",E$158*$D321)","v":0},0,0,0,0,0,0,0,0,0,"","","","","","","","","","","","","","","","","","","","","","","","","","","","","","","","","","","","","","","","","","","","","","","","","",""]
[]
[null,6,{"$f":"IF(C14=\"\",\"\",C14)","v":"c"},null,{"$f":"'2 Descrizione Progetto'!$D$20","v":1},{"$f":"IF(E323=\"anno esterno\",\"anno esterno\",IF(E323+1<='2 Descrizione Progetto'!$D$22,E323+1,\"anno esterno\"))","v":2},{"$f":"IF(F323=\"anno esterno\",\"anno esterno\",IF(F323+1<='2 Descrizione Progetto'!$D$22,F323+1,\"anno esterno\"))","v":3},{"$f":"IF(G323=\"anno esterno\",\"anno esterno\",IF(G323+1<='2 Descrizione Progetto'!$D$22,G323+1,\"anno esterno\"))","v":4},{"$f":"IF(H323=\"anno esterno\",\"anno esterno\",IF(H323+1<='2 Descrizione Progetto'!$D$22,H323+1,\"anno esterno\"))","v":5},{"$f":"IF(I323=\"anno esterno\",\"anno esterno\",IF(I323+1<='2 Descrizione Progetto'!$D$22,I323+1,\"anno esterno\"))","v":6},{"$f":"IF(J323=\"anno esterno\",\"anno esterno\",IF(J323+1<='2 Descrizione Progetto'!$D$22,J323+1,\"anno esterno\"))","v":7},{"$f":"IF(K323=\"anno esterno\",\"anno esterno\",IF(K323+1<='2 Descrizione Progetto'!$D$22,K323+1,\"anno esterno\"))","v":8},{"$f":"IF(L323=\"anno esterno\",\"anno esterno\",IF(L323+1<='2 Descrizione Progetto'!$D$22,L323+1,\"anno esterno\"))","v":9},{"$f":"IF(M323=\"anno esterno\",\"anno esterno\",IF(M323+1<='2 Descrizione Progetto'!$D$22,M323+1,\"anno esterno\"))","v":10},{"$f":"IF(N323=\"anno esterno\",\"anno esterno\",IF(N323+1<='2 Descrizione Progetto'!$D$22,N323+1,\"anno esterno\"))","v":"anno esterno"},{"$f":"IF(O323=\"anno esterno\",\"anno esterno\",IF(O323+1<='2 Descrizione Progetto'!$D$22,O323+1,\"anno esterno\"))","v":"anno esterno"},{"$f":"IF(P323=\"anno esterno\",\"anno esterno\",IF(P323+1<='2 Descrizione Progetto'!$D$22,P323+1,\"anno esterno\"))","v":"anno esterno"},{"$f":"IF(Q323=\"anno esterno\",\"anno esterno\",IF(Q323+1<='2 Descrizione Progetto'!$D$22,Q323+1,\"anno esterno\"))","v":"anno esterno"},{"$f":"IF(R323=\"anno esterno\",\"anno esterno\",IF(R323+1<='2 Descrizione Progetto'!$D$22,R323+1,\"anno esterno\"))","v":"anno esterno"},{"$f":"IF(S323=\"anno esterno\",\"anno esterno\",IF(S323+1<='2 Descrizione Progetto'!$D$22,S323+1,\"anno esterno\"))","v":"anno esterno"},{"$f":"IF(T323=\"anno esterno\",\"anno esterno\",IF(T323+1<='2 Descrizione Progetto'!$D$22,T323+1,\"anno esterno\"))","v":"anno esterno"},{"$f":"IF(U323=\"anno esterno\",\"anno esterno\",IF(U323+1<='2 Descrizione Progetto'!$D$22,U323+1,\"anno esterno\"))","v":"anno esterno"},{"$f":"IF(V323=\"anno esterno\",\"anno esterno\",IF(V323+1<='2 Descrizione Progetto'!$D$22,V323+1,\"anno esterno\"))","v":"anno esterno"},{"$f":"IF(W323=\"anno esterno\",\"anno esterno\",IF(W323+1<='2 Descrizione Progetto'!$D$22,W323+1,\"anno esterno\"))","v":"anno esterno"},{"$f":"IF(X323=\"anno esterno\",\"anno esterno\",IF(X323+1<='2 Descrizione Progetto'!$D$22,X323+1,\"anno esterno\"))","v":"anno esterno"},{"$f":"IF(Y323=\"anno esterno\",\"anno esterno\",IF(Y323+1<='2 Descrizione Progetto'!$D$22,Y323+1,\"anno esterno\"))","v":"anno esterno"},{"$f":"IF(Z323=\"anno esterno\",\"anno esterno\",IF(Z323+1<='2 Descrizione Progetto'!$D$22,Z323+1,\"anno esterno\"))","v":"anno esterno"},{"$f":"IF(AA323=\"anno esterno\",\"anno esterno\",IF(AA323+1<='2 Descrizione Progetto'!$D$22,AA323+1,\"anno esterno\"))","v":"anno esterno"},{"$f":"IF(AB323=\"anno esterno\",\"anno esterno\",IF(AB323+1<='2 Descrizione Progetto'!$D$22,AB323+1,\"anno esterno\"))","v":"anno esterno"},{"$f":"IF(AC323=\"anno esterno\",\"anno esterno\",IF(AC323+1<='2 Descrizione Progetto'!$D$22,AC323+1,\"anno esterno\"))","v":"anno esterno"},{"$f":"IF(AD323=\"anno esterno\",\"anno esterno\",IF(AD323+1<='2 Descrizione Progetto'!$D$22,AD323+1,\"anno esterno\"))","v":"anno esterno"},{"$f":"IF(AE323=\"anno esterno\",\"anno esterno\",IF(AE323+1<='2 Descrizione Progetto'!$D$22,AE323+1,\"anno esterno\"))","v":"anno esterno"},{"$f":"IF(AF323=\"anno esterno\",\"anno esterno\",IF(AF323+1<='2 Descrizione Progetto'!$D$22,AF323+1,\"anno esterno\"))","v":"anno esterno"},{"$f":"IF(AG323=\"anno esterno\",\"anno esterno\",IF(AG323+1<='2 Descrizione Progetto'!$D$22,AG323+1,\"anno esterno\"))","v":"anno esterno"},{"$f":"IF(AH323=\"anno esterno\",\"anno esterno\",IF(AH323+1<='2 Descrizione Progetto'!$D$22,AH323+1,\"anno esterno\"))","v":"anno esterno"},{"$f":"IF(AI323=\"anno esterno\",\"anno esterno\",IF(AI323+1<='2 Descrizione Progetto'!$D$22,AI323+1,\"anno esterno\"))","v":"anno esterno"},{"$f":"IF(AJ323=\"anno esterno\",\"anno esterno\",IF(AJ323+1<='2 Descrizione Progetto'!$D$22,AJ323+1,\"anno esterno\"))","v":"anno esterno"},{"$f":"IF(AK323=\"anno esterno\",\"anno esterno\",IF(AK323+1<='2 Descrizione Progetto'!$D$22,AK323+1,\"anno esterno\"))","v":"anno esterno"},{"$f":"IF(AL323=\"anno esterno\",\"anno esterno\",IF(AL323+1<='2 Descrizione Progetto'!$D$22,AL323+1,\"anno esterno\"))","v":"anno esterno"},{"$f":"IF(AM323=\"anno esterno\",\"anno esterno\",IF(AM323+1<='2 Descrizione Progetto'!$D$22,AM323+1,\"anno esterno\"))","v":"anno esterno"},{"$f":"IF(AN323=\"anno esterno\",\"anno esterno\",IF(AN323+1<='2 Descrizione Progetto'!$D$22,AN323+1,\"anno esterno\"))","v":"anno esterno"},{"$f":"IF(AO323=\"anno esterno\",\"anno esterno\",IF(AO323+1<='2 Descrizione Progetto'!$D$22,AO323+1,\"anno esterno\"))","v":"anno esterno"},{"$f":"IF(AP323=\"anno esterno\",\"anno esterno\",IF(AP323+1<='2 Descrizione Progetto'!$D$22,AP323+1,\"anno esterno\"))","v":"anno esterno"},{"$f":"IF(AQ323=\"anno esterno\",\"anno esterno\",IF(AQ323+1<='2 Descrizione Progetto'!$D$22,AQ323+1,\"anno esterno\"))","v":"anno esterno"},{"$f":"IF(AR323=\"anno esterno\",\"anno esterno\",IF(AR323+1<='2 Descrizione Progetto'!$D$22,AR323+1,\"anno esterno\"))","v":"anno esterno"},{"$f":"IF(AS323=\"anno esterno\",\"anno esterno\",IF(AS323+1<='2 Descrizione Progetto'!$D$22,AS323+1,\"anno esterno\"))","v":"anno esterno"},{"$f":"IF(AT323=\"anno esterno\",\"anno esterno\",IF(AT323+1<='2 Descrizione Progetto'!$D$22,AT323+1,\"anno esterno\"))","v":"anno esterno"},{"$f":"IF(AU323=\"anno esterno\",\"anno esterno\",IF(AU323+1<='2 Descrizione Progetto'!$D$22,AU323+1,\"anno esterno\"))","v":"anno esterno"},{"$f":"IF(AV323=\"anno esterno\",\"anno esterno\",IF(AV323+1<='2 Descrizione Progetto'!$D$22,AV323+1,\"anno esterno\"))","v":"anno esterno"},{"$f":"IF(AW323=\"anno esterno\",\"anno esterno\",IF(AW323+1<='2 Descrizione Progetto'!$D$22,AW323+1,\"anno esterno\"))","v":"anno esterno"},{"$f":"IF(AX323=\"anno esterno\",\"anno esterno\",IF(AX323+1<='2 Descrizione Progetto'!$D$22,AX323+1,\"anno esterno\"))","v":"anno esterno"},{"$f":"IF(AY323=\"anno esterno\",\"anno esterno\",IF(AY323+1<='2 Descrizione Progetto'!$D$22,AY323+1,\"anno esterno\"))","v":"anno esterno"},{"$f":"IF(AZ323=\"anno esterno\",\"anno esterno\",IF(AZ323+1<='2 Descrizione Progetto'!$D$22,AZ323+1,\"anno esterno\"))","v":"anno esterno"},{"$f":"IF(BA323=\"anno esterno\",\"anno esterno\",IF(BA323+1<='2 Descrizione Progetto'!$D$22,BA323+1,\"anno esterno\"))","v":"anno esterno"},{"$f":"IF(BB323=\"anno esterno\",\"anno esterno\",IF(BB323+1<='2 Descrizione Progetto'!$D$22,BB323+1,\"anno esterno\"))","v":"anno esterno"},{"$f":"IF(BC323=\"anno esterno\",\"anno esterno\",IF(BC323+1<='2 Descrizione Progetto'!$D$22,BC323+1,\"anno esterno\"))","v":"anno esterno"},{"$f":"IF(BD323=\"anno esterno\",\"anno esterno\",IF(BD323+1<='2 Descrizione Progetto'!$D$22,BD323+1,\"anno esterno\"))","v":"anno esterno"},{"$f":"IF(BE323=\"anno esterno\",\"anno esterno\",IF(BE323+1<='2 Descrizione Progetto'!$D$22,BE323+1,\"anno esterno\"))","v":"anno esterno"},{"$f":"IF(BF323=\"anno esterno\",\"anno esterno\",IF(BF323+1<='2 Descrizione Progetto'!$D$22,BF323+1,\"anno esterno\"))","v":"anno esterno"},{"$f":"IF(BG323=\"anno esterno\",\"anno esterno\",IF(BG323+1<='2 Descrizione Progetto'!$D$22,BG323+1,\"anno esterno\"))","v":"anno esterno"},{"$f":"IF(BH323=\"anno esterno\",\"anno esterno\",IF(BH323+1<='2 Descrizione Progetto'!$D$22,BH323+1,\"anno esterno\"))","v":"anno esterno"},{"$f":"IF(BI323=\"anno esterno\",\"anno esterno\",IF(BI323+1<='2 Descrizione Progetto'!$D$22,BI323+1,\"anno esterno\"))","v":"anno esterno"},{"$f":"IF(BJ323=\"anno esterno\",\"anno esterno\",IF(BJ323+1<='2 Descrizione Progetto'!$D$22,BJ323+1,\"anno esterno\"))","v":"anno esterno"},{"$f":"IF(BK323=\"anno esterno\",\"anno esterno\",IF(BK323+1<='2 Descrizione Progetto'!$D$22,BK323+1,\"anno esterno\"))","v":"anno esterno"}]
[null,null,"Costi per servizi",{"$f":"D265","v":0},{"$f":"IF(ISERROR(E$159*$D324),\"\",E$159*$D324)","v":0},0,0,0,0,0,0,0,0,0,"","","","","","","","","","","","","","","","","","","","","","","","","","","","","","","","","","","","","","","","","","","","","","","","","",""]
[null,null,"Costi del personale (al lordo degli oneri sociali)",{"$f":"E265","v":0},{"$f":"IF(ISERROR(E$159*$D325),\"\",E$159*$D325)","v":0},0,0,0,0,0,0,0,0,0,"","","","","","","","","","","","","","","","","","","","","","","","","","","","","","","","","","","","","","","","","","","","","","","","","",""]
[null,null,"Oneri diversi di gestione",{"$f":"F265","v":0},{"$f":"IF(ISERROR(E$159*$D326),\"\",E$159*$D326)","v":0},0,0,0,0,0,0,0,0,0,"","","","","","","","","","","","","","","","","","","","","","","","","","","","","","","","","","","","","","","","","","","","","","","","","",""]
[null,null,"Manutenzioni ordinarie",{"$f":"G265","v":0},{"$f":"IF(ISERROR(E$159*$D327),\"\",E$159*$D327)","v":0},0,0,0,0,0,0,0,0,0,"","","","","","","","","","","","","","","","","","","","","","","","","","","","","","","","","","","","","","","","","","","","","","","","","",""]
[null,null,"per memoria: Totale costi operativi",{"$f":"SUM(D324:D327)","v":0},{"$f":"IF(ISERROR(E$159*$D328),\"\",E$159*$D328)","v":0},0,0,0,0,0,0,0,0,0,"","","","","","","","","","","","","","","","","","","","","","","","","","","","","","","","","","","","","","","","","","","","","","","","","",""]
[]
[null,7,{"$f":"IF(C15=\"\",\"\",C15)","v":"d"},null,{"$f":"'2 Descrizione Progetto'!$D$20","v":1},{"$f":"IF(E330=\"anno esterno\",\"anno esterno\",IF(E330+1<='2 Descrizione Progetto'!$D$22,E330+1,\"anno esterno\"))","v":2},{"$f":"IF(F330=\"anno esterno\",\"anno esterno\",IF(F330+1<='2 Descrizione Progetto'!$D$22,F330+1,\"anno esterno\"))","v":3},{"$f":"IF(G330=\"anno esterno\",\"anno esterno\",IF(G330+1<='2 Descrizione Progetto'!$D$22,G330+1,\"anno esterno\"))","v":4},{"$f":"IF(H330=\"anno esterno\",\"anno esterno\",IF(H330+1<='2 Descrizione Progetto'!$D$22,H330+1,\"anno esterno\"))","v":5},{"$f":"IF(I330=\"anno esterno\",\"anno esterno\",IF(I330+1<='2 Descrizione Progetto'!$D$22,I330+1,\"anno esterno\"))","v":6},{"$f":"IF(J330=\"anno esterno\",\"anno esterno\",IF(J330+1<='2 Descrizione Progetto'!$D$22,J330+1,\"anno esterno\"))","v":7},{"$f":"IF(K330=\"anno esterno\",\"anno esterno\",IF(K330+1<='2 Descrizione Progetto'!$D$22,K330+1,\"anno esterno\"))","v":8},{"$f":"IF(L330=\"anno esterno\",\"anno esterno\",IF(L330+1<='2 Descrizione Progetto'!$D$22,L330+1,\"anno esterno\"))","v":9},{"$f":"IF(M330=\"anno esterno\",\"anno esterno\",IF(M330+1<='2 Descrizione Progetto'!$D$22,M330+1,\"anno esterno\"))","v":10},{"$f":"IF(N330=\"anno esterno\",\"anno esterno\",IF(N330+1<='2 Descrizione Progetto'!$D$22,N330+1,\"anno esterno\"))","v":"anno esterno"},{"$f":"IF(O330=\"anno esterno\",\"anno esterno\",IF(O330+1<='2 Descrizione Progetto'!$D$22,O330+1,\"anno esterno\"))","v":"anno esterno"},{"$f":"IF(P330=\"anno esterno\",\"anno esterno\",IF(P330+1<='2 Descrizione Progetto'!$D$22,P330+1,\"anno esterno\"))","v":"anno esterno"},{"$f":"IF(Q330=\"anno esterno\",\"anno esterno\",IF(Q330+1<='2 Descrizione Progetto'!$D$22,Q330+1,\"anno esterno\"))","v":"anno esterno"},{"$f":"IF(R330=\"anno esterno\",\"anno esterno\",IF(R330+1<='2 Descrizione Progetto'!$D$22,R330+1,\"anno esterno\"))","v":"anno esterno"},{"$f":"IF(S330=\"anno esterno\",\"anno esterno\",IF(S330+1<='2 Descrizione Progetto'!$D$22,S330+1,\"anno esterno\"))","v":"anno esterno"},{"$f":"IF(T330=\"anno esterno\",\"anno esterno\",IF(T330+1<='2 Descrizione Progetto'!$D$22,T330+1,\"anno esterno\"))","v":"anno esterno"},{"$f":"IF(U330=\"anno esterno\",\"anno esterno\",IF(U330+1<='2 Descrizione Progetto'!$D$22,U330+1,\"anno esterno\"))","v":"anno esterno"},{"$f":"IF(V330=\"anno esterno\",\"anno esterno\",IF(V330+1<='2 Descrizione Progetto'!$D$22,V330+1,\"anno esterno\"))","v":"anno esterno"},{"$f":"IF(W330=\"anno esterno\",\"anno esterno\",IF(W330+1<='2 Descrizione Progetto'!$D$22,W330+1,\"anno esterno\"))","v":"anno esterno"},{"$f":"IF(X330=\"anno esterno\",\"anno esterno\",IF(X330+1<='2 Descrizione Progetto'!$D$22,X330+1,\"anno esterno\"))","v":"anno esterno"},{"$f":"IF(Y330=\"anno esterno\",\"anno esterno\",IF(Y330+1<='2 Descrizione Progetto'!$D$22,Y330+1,\"anno esterno\"))","v":"anno esterno"},{"$f":"IF(Z330=\"anno esterno\",\"anno esterno\",IF(Z330+1<='2 Descrizione Progetto'!$D$22,Z330+1,\"anno esterno\"))","v":"anno esterno"},{"$f":"IF(AA330=\"anno esterno\",\"anno esterno\",IF(AA330+1<='2 Descrizione Progetto'!$D$22,AA330+1,\"anno esterno\"))","v":"anno esterno"},{"$f":"IF(AB330=\"anno esterno\",\"anno esterno\",IF(AB330+1<='2 Descrizione Progetto'!$D$22,AB330+1,\"anno esterno\"))","v":"anno esterno"},{"$f":"IF(AC330=\"anno esterno\",\"anno esterno\",IF(AC330+1<='2 Descrizione Progetto'!$D$22,AC330+1,\"anno esterno\"))","v":"anno esterno"},{"$f":"IF(AD330=\"anno esterno\",\"anno esterno\",IF(AD330+1<='2 Descrizione Progetto'!$D$22,AD330+1,\"anno esterno\"))","v":"anno esterno"},{"$f":"IF(AE330=\"anno esterno\",\"anno esterno\",IF(AE330+1<='2 Descrizione Progetto'!$D$22,AE330+1,\"anno esterno\"))","v":"anno esterno"},{"$f":"IF(AF330=\"anno esterno\",\"anno esterno\",IF(AF330+1<='2 Descrizione Progetto'!$D$22,AF330+1,\"anno esterno\"))","v":"anno esterno"},{"$f":"IF(AG330=\"anno esterno\",\"anno esterno\",IF(AG330+1<='2 Descrizione Progetto'!$D$22,AG330+1,\"anno esterno\"))","v":"anno esterno"},{"$f":"IF(AH330=\"anno esterno\",\"anno esterno\",IF(AH330+1<='2 Descrizione Progetto'!$D$22,AH330+1,\"anno esterno\"))","v":"anno esterno"},{"$f":"IF(AI330=\"anno esterno\",\"anno esterno\",IF(AI330+1<='2 Descrizione Progetto'!$D$22,AI330+1,\"anno esterno\"))","v":"anno esterno"},{"$f":"IF(AJ330=\"anno esterno\",\"anno esterno\",IF(AJ330+1<='2 Descrizione Progetto'!$D$22,AJ330+1,\"anno esterno\"))","v":"anno esterno"},{"$f":"IF(AK330=\"anno esterno\",\"anno esterno\",IF(AK330+1<='2 Descrizione Progetto'!$D$22,AK330+1,\"anno esterno\"))","v":"anno esterno"},{"$f":"IF(AL330=\"anno esterno\",\"anno esterno\",IF(AL330+1<='2 Descrizione Progetto'!$D$22,AL330+1,\"anno esterno\"))","v":"anno esterno"},{"$f":"IF(AM330=\"anno esterno\",\"anno esterno\",IF(AM330+1<='2 Descrizione Progetto'!$D$22,AM330+1,\"anno esterno\"))","v":"anno esterno"},{"$f":"IF(AN330=\"anno esterno\",\"anno esterno\",IF(AN330+1<='2 Descrizione Progetto'!$D$22,AN330+1,\"anno esterno\"))","v":"anno esterno"},{"$f":"IF(AO330=\"anno esterno\",\"anno esterno\",IF(AO330+1<='2 Descrizione Progetto'!$D$22,AO330+1,\"anno esterno\"))","v":"anno esterno"},{"$f":"IF(AP330=\"anno esterno\",\"anno esterno\",IF(AP330+1<='2 Descrizione Progetto'!$D$22,AP330+1,\"anno esterno\"))","v":"anno esterno"},{"$f":"IF(AQ330=\"anno esterno\",\"anno esterno\",IF(AQ330+1<='2 Descrizione Progetto'!$D$22,AQ330+1,\"anno esterno\"))","v":"anno esterno"},{"$f":"IF(AR330=\"anno esterno\",\"anno esterno\",IF(AR330+1<='2 Descrizione Progetto'!$D$22,AR330+1,\"anno esterno\"))","v":"anno esterno"},{"$f":"IF(AS330=\"anno esterno\",\"anno esterno\",IF(AS330+1<='2 Descrizione Progetto'!$D$22,AS330+1,\"anno esterno\"))","v":"anno esterno"},{"$f":"IF(AT330=\"anno esterno\",\"anno esterno\",IF(AT330+1<='2 Descrizione Progetto'!$D$22,AT330+1,\"anno esterno\"))","v":"anno esterno"},{"$f":"IF(AU330=\"anno esterno\",\"anno esterno\",IF(AU330+1<='2 Descrizione Progetto'!$D$22,AU330+1,\"anno esterno\"))","v":"anno esterno"},{"$f":"IF(AV330=\"anno esterno\",\"anno esterno\",IF(AV330+1<='2 Descrizione Progetto'!$D$22,AV330+1,\"anno esterno\"))","v":"anno esterno"},{"$f":"IF(AW330=\"anno esterno\",\"anno esterno\",IF(AW330+1<='2 Descrizione Progetto'!$D$22,AW330+1,\"anno esterno\"))","v":"anno esterno"},{"$f":"IF(AX330=\"anno esterno\",\"anno esterno\",IF(AX330+1<='2 Descrizione Progetto'!$D$22,AX330+1,\"anno esterno\"))","v":"anno esterno"},{"$f":"IF(AY330=\"anno esterno\",\"anno esterno\",IF(AY330+1<='2 Descrizione Progetto'!$D$22,AY330+1,\"anno esterno\"))","v":"anno esterno"},{"$f":"IF(AZ330=\"anno esterno\",\"anno esterno\",IF(AZ330+1<='2 Descrizione Progetto'!$D$22,AZ330+1,\"anno esterno\"))","v":"anno esterno"},{"$f":"IF(BA330=\"anno esterno\",\"anno esterno\",IF(BA330+1<='2 Descrizione Progetto'!$D$22,BA330+1,\"anno esterno\"))","v":"anno esterno"},{"$f":"IF(BB330=\"anno esterno\",\"anno esterno\",IF(BB330+1<='2 Descrizione Progetto'!$D$22,BB330+1,\"anno esterno\"))","v":"anno esterno"},{"$f":"IF(BC330=\"anno esterno\",\"anno esterno\",IF(BC330+1<='2 Descrizione Progetto'!$D$22,BC330+1,\"anno esterno\"))","v":"anno esterno"},{"$f":"IF(BD330=\"anno esterno\",\"anno esterno\",IF(BD330+1<='2 Descrizione Progetto'!$D$22,BD330+1,\"anno esterno\"))","v":"anno esterno"},{"$f":"IF(BE330=\"anno esterno\",\"anno esterno\",IF(BE330+1<='2 Descrizione Progetto'!$D$22,BE330+1,\"anno esterno\"))","v":"anno esterno"},{"$f":"IF(BF330=\"anno esterno\",\"anno esterno\",IF(BF330+1<='2 Descrizione Progetto'!$D$22,BF330+1,\"anno esterno\"))","v":"anno esterno"},{"$f":"IF(BG330=\"anno esterno\",\"anno esterno\",IF(BG330+1<='2 Descrizione Progetto'!$D$22,BG330+1,\"anno esterno\"))","v":"anno esterno"},{"$f":"IF(BH330=\"anno esterno\",\"anno esterno\",IF(BH330+1<='2 Descrizione Progetto'!$D$22,BH330+1,\"anno esterno\"))","v":"anno esterno"},{"$f":"IF(BI330=\"anno esterno\",\"anno esterno\",IF(BI330+1<='2 Descrizione Progetto'!$D$22,BI330+1,\"anno esterno\"))","v":"anno esterno"},{"$f":"IF(BJ330=\"anno esterno\",\"anno esterno\",IF(BJ330+1<='2 Descrizione Progetto'!$D$22,BJ330+1,\"anno esterno\"))","v":"anno esterno"},{"$f":"IF(BK330=\"anno esterno\",\"anno esterno\",IF(BK330+1<='2 Descrizione Progetto'!$D$22,BK330+1,\"anno esterno\"))","v":"anno esterno"}]
[null,null,"Costi per servizi",{"$f":"D266","v":0},{"$f":"IF(ISERROR(E$160*$D331),\"\",E$160*$D331)","v":0},0,0,0,0,0,0,0,0,0,"","","","","","","","","","","","","","","","","","","","","","","","","","","","","","","","","","","","","","","","","","","","","","","","","",""]
[null,null,"Costi del personale (al lordo degli oneri sociali)",{"$f":"E266","v":0},{"$f":"IF(ISERROR(E$160*$D332),\"\",E$160*$D332)","v":0},0,0,0,0,0,0,0,0,0,"","","","","","","","","","","","","","","","","","","","","","","","","","","","","","","","","","","","","","","","","","","","","","","","","",""]
[null,null,"Oneri diversi di gestione",{"$f":"F266","v":0},{"$f":"IF(ISERROR(E$160*$D333),\"\",E$160*$D333)","v":0},0,0,0,0,0,0,0,0,0,"","","","","","","","","","","","","","","","","","","","","","","","","","","","","","","","","","","","","","","","","","","","","","","","","",""]
[null,null,"Manutenzioni ordinarie",{"$f":"G266","v":0},{"$f":"IF(ISERROR(E$160*$D334),\"\",E$160*$D334)","v":0},0,0,0,0,0,0,0,0,0,"","","","","","","","","","","","","","","","","","","","","","","","","","","","","","","","","","","","","","","","","","","","","","","","","",""]
[null,null,"per memoria: Totale costi operativi",{"$f":"SUM(D331:D334)","v":0},{"$f":"IF(ISERROR(E$160*$D335),\"\",E$160*$D335)","v":0},0,0,0,0,0,0,0,0,0,"","","","","","","","","","","","","","","","","","","","","","","","","","","","","","","","","","","","","","","","","","","","","","","","","",""]
[]
[null,8,{"$f":"IF(C16=\"\",\"\",C16)","v":"e"},null,{"$f":"'2 Descrizione Progetto'!$D$20","v":1},{"$f":"IF(E337=\"anno esterno\",\"anno esterno\",IF(E337+1<='2 Descrizione Progetto'!$D$22,E337+1,\"anno esterno\"))","v":2},{"$f":"IF(F337=\"anno esterno\",\"anno esterno\",IF(F337+1<='2 Descrizione Progetto'!$D$22,F337+1,\"anno esterno\"))","v":3},{"$f":"IF(G337=\"anno esterno\",\"anno esterno\",IF(G337+1<='2 Descrizione Progetto'!$D$22,G337+1,\"anno esterno\"))","v":4},{"$f":"IF(H337=\"anno esterno\",\"anno esterno\",IF(H337+1<='2 Descrizione Progetto'!$D$22,H337+1,\"anno esterno\"))","v":5},{"$f":"IF(I337=\"anno esterno\",\"anno esterno\",IF(I337+1<='2 Descrizione Progetto'!$D$22,I337+1,\"anno esterno\"))","v":6},{"$f":"IF(J337=\"anno esterno\",\"anno esterno\",IF(J337+1<='2 Descrizione Progetto'!$D$22,J337+1,\"anno esterno\"))","v":7},{"$f":"IF(K337=\"anno esterno\",\"anno esterno\",IF(K337+1<='2 Descrizione Progetto'!$D$22,K337+1,\"anno esterno\"))","v":8},{"$f":"IF(L337=\"anno esterno\",\"anno esterno\",IF(L337+1<='2 Descrizione Progetto'!$D$22,L337+1,\"anno esterno\"))","v":9},{"$f":"IF(M337=\"anno esterno\",\"anno esterno\",IF(M337+1<='2 Descrizione Progetto'!$D$22,M337+1,\"anno esterno\"))","v":10},{"$f":"IF(N337=\"anno esterno\",\"anno esterno\",IF(N337+1<='2 Descrizione Progetto'!$D$22,N337+1,\"anno esterno\"))","v":"anno esterno"},{"$f":"IF(O337=\"anno esterno\",\"anno esterno\",IF(O337+1<='2 Descrizione Progetto'!$D$22,O337+1,\"anno esterno\"))","v":"anno esterno"},{"$f":"IF(P337=\"anno esterno\",\"anno esterno\",IF(P337+1<='2 Descrizione Progetto'!$D$22,P337+1,\"anno esterno\"))","v":"anno esterno"},{"$f":"IF(Q337=\"anno esterno\",\"anno esterno\",IF(Q337+1<='2 Descrizione Progetto'!$D$22,Q337+1,\"anno esterno\"))","v":"anno esterno"},{"$f":"IF(R337=\"anno esterno\",\"anno esterno\",IF(R337+1<='2 Descrizione Progetto'!$D$22,R337+1,\"anno esterno\"))","v":"anno esterno"},{"$f":"IF(S337=\"anno esterno\",\"anno esterno\",IF(S337+1<='2 Descrizione Progetto'!$D$22,S337+1,\"anno esterno\"))","v":"anno esterno"},{"$f":"IF(T337=\"anno esterno\",\"anno esterno\",IF(T337+1<='2 Descrizione Progetto'!$D$22,T337+1,\"anno esterno\"))","v":"anno esterno"},{"$f":"IF(U337=\"anno esterno\",\"anno esterno\",IF(U337+1<='2 Descrizione Progetto'!$D$22,U337+1,\"anno esterno\"))","v":"anno esterno"},{"$f":"IF(V337=\"anno esterno\",\"anno esterno\",IF(V337+1<='2 Descrizione Progetto'!$D$22,V337+1,\"anno esterno\"))","v":"anno esterno"},{"$f":"IF(W337=\"anno esterno\",\"anno esterno\",IF(W337+1<='2 Descrizione Progetto'!$D$22,W337+1,\"anno esterno\"))","v":"anno esterno"},{"$f":"IF(X337=\"anno esterno\",\"anno esterno\",IF(X337+1<='2 Descrizione Progetto'!$D$22,X337+1,\"anno esterno\"))","v":"anno esterno"},{"$f":"IF(Y337=\"anno esterno\",\"anno esterno\",IF(Y337+1<='2 Descrizione Progetto'!$D$22,Y337+1,\"anno esterno\"))","v":"anno esterno"},{"$f":"IF(Z337=\"anno esterno\",\"anno esterno\",IF(Z337+1<='2 Descrizione Progetto'!$D$22,Z337+1,\"anno esterno\"))","v":"anno esterno"},{"$f":"IF(AA337=\"anno esterno\",\"anno esterno\",IF(AA337+1<='2 Descrizione Progetto'!$D$22,AA337+1,\"anno esterno\"))","v":"anno esterno"},{"$f":"IF(AB337=\"anno esterno\",\"anno esterno\",IF(AB337+1<='2 Descrizione Progetto'!$D$22,AB337+1,\"anno esterno\"))","v":"anno esterno"},{"$f":"IF(AC337=\"anno esterno\",\"anno esterno\",IF(AC337+1<='2 Descrizione Progetto'!$D$22,AC337+1,\"anno esterno\"))","v":"anno esterno"},{"$f":"IF(AD337=\"anno esterno\",\"anno esterno\",IF(AD337+1<='2 Descrizione Progetto'!$D$22,AD337+1,\"anno esterno\"))","v":"anno esterno"},{"$f":"IF(AE337=\"anno esterno\",\"anno esterno\",IF(AE337+1<='2 Descrizione Progetto'!$D$22,AE337+1,\"anno esterno\"))","v":"anno esterno"},{"$f":"IF(AF337=\"anno esterno\",\"anno esterno\",IF(AF337+1<='2 Descrizione Progetto'!$D$22,AF337+1,\"anno esterno\"))","v":"anno esterno"},{"$f":"IF(AG337=\"anno esterno\",\"anno esterno\",IF(AG337+1<='2 Descrizione Progetto'!$D$22,AG337+1,\"anno esterno\"))","v":"anno esterno"},{"$f":"IF(AH337=\"anno esterno\",\"anno esterno\",IF(AH337+1<='2 Descrizione Progetto'!$D$22,AH337+1,\"anno esterno\"))","v":"anno esterno"},{"$f":"IF(AI337=\"anno esterno\",\"anno esterno\",IF(AI337+1<='2 Descrizione Progetto'!$D$22,AI337+1,\"anno esterno\"))","v":"anno esterno"},{"$f":"IF(AJ337=\"anno esterno\",\"anno esterno\",IF(AJ337+1<='2 Descrizione Progetto'!$D$22,AJ337+1,\"anno esterno\"))","v":"anno esterno"},{"$f":"IF(AK337=\"anno esterno\",\"anno esterno\",IF(AK337+1<='2 Descrizione Progetto'!$D$22,AK337+1,\"anno esterno\"))","v":"anno esterno"},{"$f":"IF(AL337=\"anno esterno\",\"anno esterno\",IF(AL337+1<='2 Descrizione Progetto'!$D$22,AL337+1,\"anno esterno\"))","v":"anno esterno"},{"$f":"IF(AM337=\"anno esterno\",\"anno esterno\",IF(AM337+1<='2 Descrizione Progetto'!$D$22,AM337+1,\"anno esterno\"))","v":"anno esterno"},{"$f":"IF(AN337=\"anno esterno\",\"anno esterno\",IF(AN337+1<='2 Descrizione Progetto'!$D$22,AN337+1,\"anno esterno\"))","v":"anno esterno"},{"$f":"IF(AO337=\"anno esterno\",\"anno esterno\",IF(AO337+1<='2 Descrizione Progetto'!$D$22,AO337+1,\"anno esterno\"))","v":"anno esterno"},{"$f":"IF(AP337=\"anno esterno\",\"anno esterno\",IF(AP337+1<='2 Descrizione Progetto'!$D$22,AP337+1,\"anno esterno\"))","v":"anno esterno"},{"$f":"IF(AQ337=\"anno esterno\",\"anno esterno\",IF(AQ337+1<='2 Descrizione Progetto'!$D$22,AQ337+1,\"anno esterno\"))","v":"anno esterno"},{"$f":"IF(AR337=\"anno esterno\",\"anno esterno\",IF(AR337+1<='2 Descrizione Progetto'!$D$22,AR337+1,\"anno esterno\"))","v":"anno esterno"},{"$f":"IF(AS337=\"anno esterno\",\"anno esterno\",IF(AS337+1<='2 Descrizione Progetto'!$D$22,AS337+1,\"anno esterno\"))","v":"anno esterno"},{"$f":"IF(AT337=\"anno esterno\",\"anno esterno\",IF(AT337+1<='2 Descrizione Progetto'!$D$22,AT337+1,\"anno esterno\"))","v":"anno esterno"},{"$f":"IF(AU337=\"anno esterno\",\"anno esterno\",IF(AU337+1<='2 Descrizione Progetto'!$D$22,AU337+1,\"anno esterno\"))","v":"anno esterno"},{"$f":"IF(AV337=\"anno esterno\",\"anno esterno\",IF(AV337+1<='2 Descrizione Progetto'!$D$22,AV337+1,\"anno esterno\"))","v":"anno esterno"},{"$f":"IF(AW337=\"anno esterno\",\"anno esterno\",IF(AW337+1<='2 Descrizione Progetto'!$D$22,AW337+1,\"anno esterno\"))","v":"anno esterno"},{"$f":"IF(AX337=\"anno esterno\",\"anno esterno\",IF(AX337+1<='2 Descrizione Progetto'!$D$22,AX337+1,\"anno esterno\"))","v":"anno esterno"},{"$f":"IF(AY337=\"anno esterno\",\"anno esterno\",IF(AY337+1<='2 Descrizione Progetto'!$D$22,AY337+1,\"anno esterno\"))","v":"anno esterno"},{"$f":"IF(AZ337=\"anno esterno\",\"anno esterno\",IF(AZ337+1<='2 Descrizione Progetto'!$D$22,AZ337+1,\"anno esterno\"))","v":"anno esterno"},{"$f":"IF(BA337=\"anno esterno\",\"anno esterno\",IF(BA337+1<='2 Descrizione Progetto'!$D$22,BA337+1,\"anno esterno\"))","v":"anno esterno"},{"$f":"IF(BB337=\"anno esterno\",\"anno esterno\",IF(BB337+1<='2 Descrizione Progetto'!$D$22,BB337+1,\"anno esterno\"))","v":"anno esterno"},{"$f":"IF(BC337=\"anno esterno\",\"anno esterno\",IF(BC337+1<='2 Descrizione Progetto'!$D$22,BC337+1,\"anno esterno\"))","v":"anno esterno"},{"$f":"IF(BD337=\"anno esterno\",\"anno esterno\",IF(BD337+1<='2 Descrizione Progetto'!$D$22,BD337+1,\"anno esterno\"))","v":"anno esterno"},{"$f":"IF(BE337=\"anno esterno\",\"anno esterno\",IF(BE337+1<='2 Descrizione Progetto'!$D$22,BE337+1,\"anno esterno\"))","v":"anno esterno"},{"$f":"IF(BF337=\"anno esterno\",\"anno esterno\",IF(BF337+1<='2 Descrizione Progetto'!$D$22,BF337+1,\"anno esterno\"))","v":"anno esterno"},{"$f":"IF(BG337=\"anno esterno\",\"anno esterno\",IF(BG337+1<='2 Descrizione Progetto'!$D$22,BG337+1,\"anno esterno\"))","v":"anno esterno"},{"$f":"IF(BH337=\"anno esterno\",\"anno esterno\",IF(BH337+1<='2 Descrizione Progetto'!$D$22,BH337+1,\"anno esterno\"))","v":"anno esterno"},{"$f":"IF(BI337=\"anno esterno\",\"anno esterno\",IF(BI337+1<='2 Descrizione Progetto'!$D$22,BI337+1,\"anno esterno\"))","v":"anno esterno"},{"$f":"IF(BJ337=\"anno esterno\",\"anno esterno\",IF(BJ337+1<='2 Descrizione Progetto'!$D$22,BJ337+1,\"anno esterno\"))","v":"anno esterno"},{"$f":"IF(BK337=\"anno esterno\",\"anno esterno\",IF(BK337+1<='2 Descrizione Progetto'!$D$22,BK337+1,\"anno esterno\"))","v":"anno esterno"}]
[null,null,"Costi per servizi",{"$f":"D267","v":0},{"$f":"IF(ISERROR(E$161*$D338),\"\",E$161*$D338)","v":0},0,0,0,0,0,0,0,0,0,"","","","","","","","","","","","","","","","","","","","","","","","","","","","","","","","","","","","","","","","","","","","","","","","","",""]
[null,null,"Costi del personale (al lordo degli oneri sociali)",{"$f":"E267","v":0},{"$f":"IF(ISERROR(E$161*$D339),\"\",E$161*$D339)","v":0},0,0,0,0,0,0,0,0,0,"","","","","","","","","","","","","","","","","","","","","","","","","","","","","","","","","","","","","","","","","","","","","","","","","",""]
[null,null,"Oneri diversi di gestione",{"$f":"F267","v":0},{"$f":"IF(ISERROR(E$161*$D340),\"\",E$161*$D340)","v":0},0,0,0,0,0,0,0,0,0,"","","","","","","","","","","","","","","","","","","","","","","","","","","","","","","","","","","","","","","","","","","","","","","","","",""]
[null,null,"Manutenzioni ordinarie",{"$f":"G267","v":0},{"$f":"IF(ISERROR(E$161*$D341),\"\",E$161*$D341)","v":0},0,0,0,0,0,0,0,0,0,"","","","","","","","","","","","","","","","","","","","","","","","","","","","","","","","","","","","","","","","","","","","","","","","","",""]
[null,null,"per memoria: Totale costi operativi",{"$f":"SUM(D338:D341)","v":0},{"$f":"IF(ISERROR(E$161*$D342),\"\",E$161*$D342)","v":0},0,0,0,0,0,0,0,0,0,"","","","","","","","","","","","","","","","","","","","","","","","","","","","","","","","","","","","","","","","","","","","","","","","","",""]
[]
[null,9,{"$f":"IF(C17=\"\",\"\",C17)","v":"f"},null,{"$f":"'2 Descrizione Progetto'!$D$20","v":1},{"$f":"IF(E344=\"anno esterno\",\"anno esterno\",IF(E344+1<='2 Descrizione Progetto'!$D$22,E344+1,\"anno esterno\"))","v":2},{"$f":"IF(F344=\"anno esterno\",\"anno esterno\",IF(F344+1<='2 Descrizione Progetto'!$D$22,F344+1,\"anno esterno\"))","v":3},{"$f":"IF(G344=\"anno esterno\",\"anno esterno\",IF(G344+1<='2 Descrizione Progetto'!$D$22,G344+1,\"anno esterno\"))","v":4},{"$f":"IF(H344=\"anno esterno\",\"anno esterno\",IF(H344+1<='2 Descrizione Progetto'!$D$22,H344+1,\"anno esterno\"))","v":5},{"$f":"IF(I344=\"anno esterno\",\"anno esterno\",IF(I344+1<='2 Descrizione Progetto'!$D$22,I344+1,\"anno esterno\"))","v":6},{"$f":"IF(J344=\"anno esterno\",\"anno esterno\",IF(J344+1<='2 Descrizione Progetto'!$D$22,J344+1,\"anno esterno\"))","v":7},{"$f":"IF(K344=\"anno esterno\",\"anno esterno\",IF(K344+1<='2 Descrizione Progetto'!$D$22,K344+1,\"anno esterno\"))","v":8},{"$f":"IF(L344=\"anno esterno\",\"anno esterno\",IF(L344+1<='2 Descrizione Progetto'!$D$22,L344+1,\"anno esterno\"))","v":9},{"$f":"IF(M344=\"anno esterno\",\"anno esterno\",IF(M344+1<='2 Descrizione Progetto'!$D$22,M344+1,\"anno esterno\"))","v":10},{"$f":"IF(N344=\"anno esterno\",\"anno esterno\",IF(N344+1<='2 Descrizione Progetto'!$D$22,N344+1,\"anno esterno\"))","v":"anno esterno"},{"$f":"IF(O344=\"anno esterno\",\"anno esterno\",IF(O344+1<='2 Descrizione Progetto'!$D$22,O344+1,\"anno esterno\"))","v":"anno esterno"},{"$f":"IF(P344=\"anno esterno\",\"anno esterno\",IF(P344+1<='2 Descrizione Progetto'!$D$22,P344+1,\"anno esterno\"))","v":"anno esterno"},{"$f":"IF(Q344=\"anno esterno\",\"anno esterno\",IF(Q344+1<='2 Descrizione Progetto'!$D$22,Q344+1,\"anno esterno\"))","v":"anno esterno"},{"$f":"IF(R344=\"anno esterno\",\"anno esterno\",IF(R344+1<='2 Descrizione Progetto'!$D$22,R344+1,\"anno esterno\"))","v":"anno esterno"},{"$f":"IF(S344=\"anno esterno\",\"anno esterno\",IF(S344+1<='2 Descrizione Progetto'!$D$22,S344+1,\"anno esterno\"))","v":"anno esterno"},{"$f":"IF(T344=\"anno esterno\",\"anno esterno\",IF(T344+1<='2 Descrizione Progetto'!$D$22,T344+1,\"anno esterno\"))","v":"anno esterno"},{"$f":"IF(U344=\"anno esterno\",\"anno esterno\",IF(U344+1<='2 Descrizione Progetto'!$D$22,U344+1,\"anno esterno\"))","v":"anno esterno"},{"$f":"IF(V344=\"anno esterno\",\"anno esterno\",IF(V344+1<='2 Descrizione Progetto'!$D$22,V344+1,\"anno esterno\"))","v":"anno esterno"},{"$f":"IF(W344=\"anno esterno\",\"anno esterno\",IF(W344+1<='2 Descrizione Progetto'!$D$22,W344+1,\"anno esterno\"))","v":"anno esterno"},{"$f":"IF(X344=\"anno esterno\",\"anno esterno\",IF(X344+1<='2 Descrizione Progetto'!$D$22,X344+1,\"anno esterno\"))","v":"anno esterno"},{"$f":"IF(Y344=\"anno esterno\",\"anno esterno\",IF(Y344+1<='2 Descrizione Progetto'!$D$22,Y344+1,\"anno esterno\"))","v":"anno esterno"},{"$f":"IF(Z344=\"anno esterno\",\"anno esterno\",IF(Z344+1<='2 Descrizione Progetto'!$D$22,Z344+1,\"anno esterno\"))","v":"anno esterno"},{"$f":"IF(AA344=\"anno esterno\",\"anno esterno\",IF(AA344+1<='2 Descrizione Progetto'!$D$22,AA344+1,\"anno esterno\"))","v":"anno esterno"},{"$f":"IF(AB344=\"anno esterno\",\"anno esterno\",IF(AB344+1<='2 Descrizione Progetto'!$D$22,AB344+1,\"anno esterno\"))","v":"anno esterno"},{"$f":"IF(AC344=\"anno esterno\",\"anno esterno\",IF(AC344+1<='2 Descrizione Progetto'!$D$22,AC344+1,\"anno esterno\"))","v":"anno esterno"},{"$f":"IF(AD344=\"anno esterno\",\"anno esterno\",IF(AD344+1<='2 Descrizione Progetto'!$D$22,AD344+1,\"anno esterno\"))","v":"anno esterno"},{"$f":"IF(AE344=\"anno esterno\",\"anno esterno\",IF(AE344+1<='2 Descrizione Progetto'!$D$22,AE344+1,\"anno esterno\"))","v":"anno esterno"},{"$f":"IF(AF344=\"anno esterno\",\"anno esterno\",IF(AF344+1<='2 Descrizione Progetto'!$D$22,AF344+1,\"anno esterno\"))","v":"anno esterno"},{"$f":"IF(AG344=\"anno esterno\",\"anno esterno\",IF(AG344+1<='2 Descrizione Progetto'!$D$22,AG344+1,\"anno esterno\"))","v":"anno esterno"},{"$f":"IF(AH344=\"anno esterno\",\"anno esterno\",IF(AH344+1<='2 Descrizione Progetto'!$D$22,AH344+1,\"anno esterno\"))","v":"anno esterno"},{"$f":"IF(AI344=\"anno esterno\",\"anno esterno\",IF(AI344+1<='2 Descrizione Progetto'!$D$22,AI344+1,\"anno esterno\"))","v":"anno esterno"},{"$f":"IF(AJ344=\"anno esterno\",\"anno esterno\",IF(AJ344+1<='2 Descrizione Progetto'!$D$22,AJ344+1,\"anno esterno\"))","v":"anno esterno"},{"$f":"IF(AK344=\"anno esterno\",\"anno esterno\",IF(AK344+1<='2 Descrizione Progetto'!$D$22,AK344+1,\"anno esterno\"))","v":"anno esterno"},{"$f":"IF(AL344=\"anno esterno\",\"anno esterno\",IF(AL344+1<='2 Descrizione Progetto'!$D$22,AL344+1,\"anno esterno\"))","v":"anno esterno"},{"$f":"IF(AM344=\"anno esterno\",\"anno esterno\",IF(AM344+1<='2 Descrizione Progetto'!$D$22,AM344+1,\"anno esterno\"))","v":"anno esterno"},{"$f":"IF(AN344=\"anno esterno\",\"anno esterno\",IF(AN344+1<='2 Descrizione Progetto'!$D$22,AN344+1,\"anno esterno\"))","v":"anno esterno"},{"$f":"IF(AO344=\"anno esterno\",\"anno esterno\",IF(AO344+1<='2 Descrizione Progetto'!$D$22,AO344+1,\"anno esterno\"))","v":"anno esterno"},{"$f":"IF(AP344=\"anno esterno\",\"anno esterno\",IF(AP344+1<='2 Descrizione Progetto'!$D$22,AP344+1,\"anno esterno\"))","v":"anno esterno"},{"$f":"IF(AQ344=\"anno esterno\",\"anno esterno\",IF(AQ344+1<='2 Descrizione Progetto'!$D$22,AQ344+1,\"anno esterno\"))","v":"anno esterno"},{"$f":"IF(AR344=\"anno esterno\",\"anno esterno\",IF(AR344+1<='2 Descrizione Progetto'!$D$22,AR344+1,\"anno esterno\"))","v":"anno esterno"},{"$f":"IF(AS344=\"anno esterno\",\"anno esterno\",IF(AS344+1<='2 Descrizione Progetto'!$D$22,AS344+1,\"anno esterno\"))","v":"anno esterno"},{"$f":"IF(AT344=\"anno esterno\",\"anno esterno\",IF(AT344+1<='2 Descrizione Progetto'!$D$22,AT344+1,\"anno esterno\"))","v":"anno esterno"},{"$f":"IF(AU344=\"anno esterno\",\"anno esterno\",IF(AU344+1<='2 Descrizione Progetto'!$D$22,AU344+1,\"anno esterno\"))","v":"anno esterno"},{"$f":"IF(AV344=\"anno esterno\",\"anno esterno\",IF(AV344+1<='2 Descrizione Progetto'!$D$22,AV344+1,\"anno esterno\"))","v":"anno esterno"},{"$f":"IF(AW344=\"anno esterno\",\"anno esterno\",IF(AW344+1<='2 Descrizione Progetto'!$D$22,AW344+1,\"anno esterno\"))","v":"anno esterno"},{"$f":"IF(AX344=\"anno esterno\",\"anno esterno\",IF(AX344+1<='2 Descrizione Progetto'!$D$22,AX344+1,\"anno esterno\"))","v":"anno esterno"},{"$f":"IF(AY344=\"anno esterno\",\"anno esterno\",IF(AY344+1<='2 Descrizione Progetto'!$D$22,AY344+1,\"anno esterno\"))","v":"anno esterno"},{"$f":"IF(AZ344=\"anno esterno\",\"anno esterno\",IF(AZ344+1<='2 Descrizione Progetto'!$D$22,AZ344+1,\"anno esterno\"))","v":"anno esterno"},{"$f":"IF(BA344=\"anno esterno\",\"anno esterno\",IF(BA344+1<='2 Descrizione Progetto'!$D$22,BA344+1,\"anno esterno\"))","v":"anno esterno"},{"$f":"IF(BB344=\"anno esterno\",\"anno esterno\",IF(BB344+1<='2 Descrizione Progetto'!$D$22,BB344+1,\"anno esterno\"))","v":"anno esterno"},{"$f":"IF(BC344=\"anno esterno\",\"anno esterno\",IF(BC344+1<='2 Descrizione Progetto'!$D$22,BC344+1,\"anno esterno\"))","v":"anno esterno"},{"$f":"IF(BD344=\"anno esterno\",\"anno esterno\",IF(BD344+1<='2 Descrizione Progetto'!$D$22,BD344+1,\"anno esterno\"))","v":"anno esterno"},{"$f":"IF(BE344=\"anno esterno\",\"anno esterno\",IF(BE344+1<='2 Descrizione Progetto'!$D$22,BE344+1,\"anno esterno\"))","v":"anno esterno"},{"$f":"IF(BF344=\"anno esterno\",\"anno esterno\",IF(BF344+1<='2 Descrizione Progetto'!$D$22,BF344+1,\"anno esterno\"))","v":"anno esterno"},{"$f":"IF(BG344=\"anno esterno\",\"anno esterno\",IF(BG344+1<='2 Descrizione Progetto'!$D$22,BG344+1,\"anno esterno\"))","v":"anno esterno"},{"$f":"IF(BH344=\"anno esterno\",\"anno esterno\",IF(BH344+1<='2 Descrizione Progetto'!$D$22,BH344+1,\"anno esterno\"))","v":"anno esterno"},{"$f":"IF(BI344=\"anno esterno\",\"anno esterno\",IF(BI344+1<='2 Descrizione Progetto'!$D$22,BI344+1,\"anno esterno\"))","v":"anno esterno"},{"$f":"IF(BJ344=\"anno esterno\",\"anno esterno\",IF(BJ344+1<='2 Descrizione Progetto'!$D$22,BJ344+1,\"anno esterno\"))","v":"anno esterno"},{"$f":"IF(BK344=\"anno esterno\",\"anno esterno\",IF(BK344+1<='2 Descrizione Progetto'!$D$22,BK344+1,\"anno esterno\"))","v":"anno esterno"}]
[null,null,"Costi per servizi",{"$f":"D268","v":0},{"$f":"IF(ISERROR(E$162*$D345),\"\",E$162*$D345)","v":0},0,0,0,0,0,0,0,0,0,"","","","","","","","","","","","","","","","","","","","","","","","","","","","","","","","","","","","","","","","","","","","","","","","","",""]
[null,null,"Costi del personale (al lordo degli oneri sociali)",{"$f":"E268","v":0},{"$f":"IF(ISERROR(E$162*$D346),\"\",E$162*$D346)","v":0},0,0,0,0,0,0,0,0,0,"","","","","","","","","","","","","","","","","","","","","","","","","","","","","","","","","","","","","","","","","","","","","","","","","",""]
[null,null,"Oneri diversi di gestione",{"$f":"F268","v":0},{"$f":"IF(ISERROR(E$162*$D347),\"\",E$162*$D347)","v":0},0,0,0,0,0,0,0,0,0,"","","","","","","","","","","","","","","","","","","","","","","","","","","","","","","","","","","","","","","","","","","","","","","","","",""]
[null,null,"Manutenzioni ordinarie",{"$f":"G268","v":0},{"$f":"IF(ISERROR(E$162*$D348),\"\",E$162*$D348)","v":0},0,0,0,0,0,0,0,0,0,"","","","","","","","","","","","","","","","","","","","","","","","","","","","","","","","","","","","","","","","","","","","","","","","","",""]
[null,null,"per memoria: Totale costi operativi",{"$f":"SUM(D345:D348)","v":0},{"$f":"IF(ISERROR(E$162*$D349),\"\",E$162*$D349)","v":0},0,0,0,0,0,0,0,0,0,"","","","","","","","","","","","","","","","","","","","","","","","","","","","","","","","","","","","","","","","","","","","","","","","","",""]
[]
[null,10,{"$f":"IF(C18=\"\",\"\",C18)","v":"g"},null,{"$f":"'2 Descrizione Progetto'!$D$20","v":1},{"$f":"IF(E351=\"anno esterno\",\"anno esterno\",IF(E351+1<='2 Descrizione Progetto'!$D$22,E351+1,\"anno esterno\"))","v":2},{"$f":"IF(F351=\"anno esterno\",\"anno esterno\",IF(F351+1<='2 Descrizione Progetto'!$D$22,F351+1,\"anno esterno\"))","v":3},{"$f":"IF(G351=\"anno esterno\",\"anno esterno\",IF(G351+1<='2 Descrizione Progetto'!$D$22,G351+1,\"anno esterno\"))","v":4},{"$f":"IF(H351=\"anno esterno\",\"anno esterno\",IF(H351+1<='2 Descrizione Progetto'!$D$22,H351+1,\"anno esterno\"))","v":5},{"$f":"IF(I351=\"anno esterno\",\"anno esterno\",IF(I351+1<='2 Descrizione Progetto'!$D$22,I351+1,\"anno esterno\"))","v":6},{"$f":"IF(J351=\"anno esterno\",\"anno esterno\",IF(J351+1<='2 Descrizione Progetto'!$D$22,J351+1,\"anno esterno\"))","v":7},{"$f":"IF(K351=\"anno esterno\",\"anno esterno\",IF(K351+1<='2 Descrizione Progetto'!$D$22,K351+1,\"anno esterno\"))","v":8},{"$f":"IF(L351=\"anno esterno\",\"anno esterno\",IF(L351+1<='2 Descrizione Progetto'!$D$22,L351+1,\"anno esterno\"))","v":9},{"$f":"IF(M351=\"anno esterno\",\"anno esterno\",IF(M351+1<='2 Descrizione Progetto'!$D$22,M351+1,\"anno esterno\"))","v":10},{"$f":"IF(N351=\"anno esterno\",\"anno esterno\",IF(N351+1<='2 Descrizione Progetto'!$D$22,N351+1,\"anno esterno\"))","v":"anno esterno"},{"$f":"IF(O351=\"anno esterno\",\"anno esterno\",IF(O351+1<='2 Descrizione Progetto'!$D$22,O351+1,\"anno esterno\"))","v":"anno esterno"},{"$f":"IF(P351=\"anno esterno\",\"anno esterno\",IF(P351+1<='2 Descrizione Progetto'!$D$22,P351+1,\"anno esterno\"))","v":"anno esterno"},{"$f":"IF(Q351=\"anno esterno\",\"anno esterno\",IF(Q351+1<='2 Descrizione Progetto'!$D$22,Q351+1,\"anno esterno\"))","v":"anno esterno"},{"$f":"IF(R351=\"anno esterno\",\"anno esterno\",IF(R351+1<='2 Descrizione Progetto'!$D$22,R351+1,\"anno esterno\"))","v":"anno esterno"},{"$f":"IF(S351=\"anno esterno\",\"anno esterno\",IF(S351+1<='2 Descrizione Progetto'!$D$22,S351+1,\"anno esterno\"))","v":"anno esterno"},{"$f":"IF(T351=\"anno esterno\",\"anno esterno\",IF(T351+1<='2 Descrizione Progetto'!$D$22,T351+1,\"anno esterno\"))","v":"anno esterno"},{"$f":"IF(U351=\"anno esterno\",\"anno esterno\",IF(U351+1<='2 Descrizione Progetto'!$D$22,U351+1,\"anno esterno\"))","v":"anno esterno"},{"$f":"IF(V351=\"anno esterno\",\"anno esterno\",IF(V351+1<='2 Descrizione Progetto'!$D$22,V351+1,\"anno esterno\"))","v":"anno esterno"},{"$f":"IF(W351=\"anno esterno\",\"anno esterno\",IF(W351+1<='2 Descrizione Progetto'!$D$22,W351+1,\"anno esterno\"))","v":"anno esterno"},{"$f":"IF(X351=\"anno esterno\",\"anno esterno\",IF(X351+1<='2 Descrizione Progetto'!$D$22,X351+1,\"anno esterno\"))","v":"anno esterno"},{"$f":"IF(Y351=\"anno esterno\",\"anno esterno\",IF(Y351+1<='2 Descrizione Progetto'!$D$22,Y351+1,\"anno esterno\"))","v":"anno esterno"},{"$f":"IF(Z351=\"anno esterno\",\"anno esterno\",IF(Z351+1<='2 Descrizione Progetto'!$D$22,Z351+1,\"anno esterno\"))","v":"anno esterno"},{"$f":"IF(AA351=\"anno esterno\",\"anno esterno\",IF(AA351+1<='2 Descrizione Progetto'!$D$22,AA351+1,\"anno esterno\"))","v":"anno esterno"},{"$f":"IF(AB351=\"anno esterno\",\"anno esterno\",IF(AB351+1<='2 Descrizione Progetto'!$D$22,AB351+1,\"anno esterno\"))","v":"anno esterno"},{"$f":"IF(AC351=\"anno esterno\",\"anno esterno\",IF(AC351+1<='2 Descrizione Progetto'!$D$22,AC351+1,\"anno esterno\"))","v":"anno esterno"},{"$f":"IF(AD351=\"anno esterno\",\"anno esterno\",IF(AD351+1<='2 Descrizione Progetto'!$D$22,AD351+1,\"anno esterno\"))","v":"anno esterno"},{"$f":"IF(AE351=\"anno esterno\",\"anno esterno\",IF(AE351+1<='2 Descrizione Progetto'!$D$22,AE351+1,\"anno esterno\"))","v":"anno esterno"},{"$f":"IF(AF351=\"anno esterno\",\"anno esterno\",IF(AF351+1<='2 Descrizione Progetto'!$D$22,AF351+1,\"anno esterno\"))","v":"anno esterno"},{"$f":"IF(AG351=\"anno esterno\",\"anno esterno\",IF(AG351+1<='2 Descrizione Progetto'!$D$22,AG351+1,\"anno esterno\"))","v":"anno esterno"},{"$f":"IF(AH351=\"anno esterno\",\"anno esterno\",IF(AH351+1<='2 Descrizione Progetto'!$D$22,AH351+1,\"anno esterno\"))","v":"anno esterno"},{"$f":"IF(AI351=\"anno esterno\",\"anno esterno\",IF(AI351+1<='2 Descrizione Progetto'!$D$22,AI351+1,\"anno esterno\"))","v":"anno esterno"},{"$f":"IF(AJ351=\"anno esterno\",\"anno esterno\",IF(AJ351+1<='2 Descrizione Progetto'!$D$22,AJ351+1,\"anno esterno\"))","v":"anno esterno"},{"$f":"IF(AK351=\"anno esterno\",\"anno esterno\",IF(AK351+1<='2 Descrizione Progetto'!$D$22,AK351+1,\"anno esterno\"))","v":"anno esterno"},{"$f":"IF(AL351=\"anno esterno\",\"anno esterno\",IF(AL351+1<='2 Descrizione Progetto'!$D$22,AL351+1,\"anno esterno\"))","v":"anno esterno"},{"$f":"IF(AM351=\"anno esterno\",\"anno esterno\",IF(AM351+1<='2 Descrizione Progetto'!$D$22,AM351+1,\"anno esterno\"))","v":"anno esterno"},{"$f":"IF(AN351=\"anno esterno\",\"anno esterno\",IF(AN351+1<='2 Descrizione Progetto'!$D$22,AN351+1,\"anno esterno\"))","v":"anno esterno"},{"$f":"IF(AO351=\"anno esterno\",\"anno esterno\",IF(AO351+1<='2 Descrizione Progetto'!$D$22,AO351+1,\"anno esterno\"))","v":"anno esterno"},{"$f":"IF(AP351=\"anno esterno\",\"anno esterno\",IF(AP351+1<='2 Descrizione Progetto'!$D$22,AP351+1,\"anno esterno\"))","v":"anno esterno"},{"$f":"IF(AQ351=\"anno esterno\",\"anno esterno\",IF(AQ351+1<='2 Descrizione Progetto'!$D$22,AQ351+1,\"anno esterno\"))","v":"anno esterno"},{"$f":"IF(AR351=\"anno esterno\",\"anno esterno\",IF(AR351+1<='2 Descrizione Progetto'!$D$22,AR351+1,\"anno esterno\"))","v":"anno esterno"},{"$f":"IF(AS351=\"anno esterno\",\"anno esterno\",IF(AS351+1<='2 Descrizione Progetto'!$D$22,AS351+1,\"anno esterno\"))","v":"anno esterno"},{"$f":"IF(AT351=\"anno esterno\",\"anno esterno\",IF(AT351+1<='2 Descrizione Progetto'!$D$22,AT351+1,\"anno esterno\"))","v":"anno esterno"},{"$f":"IF(AU351=\"anno esterno\",\"anno esterno\",IF(AU351+1<='2 Descrizione Progetto'!$D$22,AU351+1,\"anno esterno\"))","v":"anno esterno"},{"$f":"IF(AV351=\"anno esterno\",\"anno esterno\",IF(AV351+1<='2 Descrizione Progetto'!$D$22,AV351+1,\"anno esterno\"))","v":"anno esterno"},{"$f":"IF(AW351=\"anno esterno\",\"anno esterno\",IF(AW351+1<='2 Descrizione Progetto'!$D$22,AW351+1,\"anno esterno\"))","v":"anno esterno"},{"$f":"IF(AX351=\"anno esterno\",\"anno esterno\",IF(AX351+1<='2 Descrizione Progetto'!$D$22,AX351+1,\"anno esterno\"))","v":"anno esterno"},{"$f":"IF(AY351=\"anno esterno\",\"anno esterno\",IF(AY351+1<='2 Descrizione Progetto'!$D$22,AY351+1,\"anno esterno\"))","v":"anno esterno"},{"$f":"IF(AZ351=\"anno esterno\",\"anno esterno\",IF(AZ351+1<='2 Descrizione Progetto'!$D$22,AZ351+1,\"anno esterno\"))","v":"anno esterno"},{"$f":"IF(BA351=\"anno esterno\",\"anno esterno\",IF(BA351+1<='2 Descrizione Progetto'!$D$22,BA351+1,\"anno esterno\"))","v":"anno esterno"},{"$f":"IF(BB351=\"anno esterno\",\"anno esterno\",IF(BB351+1<='2 Descrizione Progetto'!$D$22,BB351+1,\"anno esterno\"))","v":"anno esterno"},{"$f":"IF(BC351=\"anno esterno\",\"anno esterno\",IF(BC351+1<='2 Descrizione Progetto'!$D$22,BC351+1,\"anno esterno\"))","v":"anno esterno"},{"$f":"IF(BD351=\"anno esterno\",\"anno esterno\",IF(BD351+1<='2 Descrizione Progetto'!$D$22,BD351+1,\"anno esterno\"))","v":"anno esterno"},{"$f":"IF(BE351=\"anno esterno\",\"anno esterno\",IF(BE351+1<='2 Descrizione Progetto'!$D$22,BE351+1,\"anno esterno\"))","v":"anno esterno"},{"$f":"IF(BF351=\"anno esterno\",\"anno esterno\",IF(BF351+1<='2 Descrizione Progetto'!$D$22,BF351+1,\"anno esterno\"))","v":"anno esterno"},{"$f":"IF(BG351=\"anno esterno\",\"anno esterno\",IF(BG351+1<='2 Descrizione Progetto'!$D$22,BG351+1,\"anno esterno\"))","v":"anno esterno"},{"$f":"IF(BH351=\"anno esterno\",\"anno esterno\",IF(BH351+1<='2 Descrizione Progetto'!$D$22,BH351+1,\"anno esterno\"))","v":"anno esterno"},{"$f":"IF(BI351=\"anno esterno\",\"anno esterno\",IF(BI351+1<='2 Descrizione Progetto'!$D$22,BI351+1,\"anno esterno\"))","v":"anno esterno"},{"$f":"IF(BJ351=\"anno esterno\",\"anno esterno\",IF(BJ351+1<='2 Descrizione Progetto'!$D$22,BJ351+1,\"anno esterno\"))","v":"anno esterno"},{"$f":"IF(BK351=\"anno esterno\",\"anno esterno\",IF(BK351+1<='2 Descrizione Progetto'!$D$22,BK351+1,\"anno esterno\"))","v":"anno esterno"}]
[null,null,"Costi per servizi",{"$f":"D269","v":0},{"$f":"IF(ISERROR(E$163*$D352),\"\",E$163*$D352)","v":0},0,0,0,0,0,0,0,0,0,"","","","","","","","","","","","","","","","","","","","","","","","","","","","","","","","","","","","","","","","","","","","","","","","","",""]
[null,null,"Costi del personale (al lordo degli oneri sociali)",{"$f":"E269","v":0},{"$f":"IF(ISERROR(E$163*$D353),\"\",E$163*$D353)","v":0},0,0,0,0,0,0,0,0,0,"","","","","","","","","","","","","","","","","","","","","","","","","","","","","","","","","","","","","","","","","","","","","","","","","",""]
[null,null,"Oneri diversi di gestione",{"$f":"F269","v":0},{"$f":"IF(ISERROR(E$163*$D354),\"\",E$163*$D354)","v":0},0,0,0,0,0,0,0,0,0,"","","","","","","","","","","","","","","","","","","","","","","","","","","","","","","","","","","","","","","","","","","","","","","","","",""]
[null,null,"Manutenzioni ordinarie",{"$f":"G269","v":0},{"$f":"IF(ISERROR(E$163*$D355),\"\",E$163*$D355)","v":0},0,0,0,0,0,0,0,0,0,"","","","","","","","","","","","","","","","","","","","","","","","","","","","","","","","","","","","","","","","","","","","","","","","","",""]
[null,null,"per memoria: Totale costi operativi",{"$f":"SUM(D352:D355)","v":0},{"$f":"IF(ISERROR(E$163*$D356),\"\",E$163*$D356)","v":0},0,0,0,0,0,0,0,0,0,"","","","","","","","","","","","","","","","","","","","","","","","","","","","","","","","","","","","","","","","","","","","","","","","","",""]
[]
[]
[null,null,"CALCOLO QUOZIENTI DI INFLAZIONE X MANUTENZIONI STRAORDINARIE",null,{"$f":"E213","v":1},2,3,4,5,6,7,8,9,10,"0","0","0","0","0","0","0","0","0","0","0","0","0","0","0","0","0","0","0","0","0","0","0","0","0","0","0","0","0","0","0","0","0","0","0","0","0","0","0","0","0","0","0","0","0","0","0","0","0","0"]
[null,null,"Casella inserimento inflazione media                                                                                     ",null,0,{"$f":"G27*100","v":2},{"$f":"F362","v":2},4.04,6.1208,{"$f":"I362","v":8.2432160000000003},{"$f":"J362","v":10.40808032},{"$f":"K362","v":12.616241926400001},{"$f":"L362","v":14.868566764928001},{"$f":"M362","v":17.165938100226562},{"$f":"N362","v":19.509256862231094},{"$f":"O362","v":21.899441999475716},{"$f":"P362","v":24.337430839465231},{"$f":"Q362","v":26.824179456254537},{"$f":"R362","v":29.360663045379628},{"$f":"S362","v":31.94787630628722},{"$f":"T362","v":34.586833832412964},{"$f":"U362","v":37.278570509061225},{"$f":"V362","v":40.024141919242453},{"$f":"W362","v":42.824624757627305},{"$f":"X362","v":45.681117252779849},{"$f":"Y362","v":48.594739597835449},{"$f":"Z362","v":51.566634389792156},{"$f":"AA362","v":54.597967077588002},{"$f":"AB362","v":57.689926419139766},{"$f":"AC362","v":60.84372494752256},{"$f":"AD362","v":64.060599446473006},{"$f":"AE362","v":67.341811435402462},{"$f":"AF362","v":70.688647664110519},{"$f":"AG362","v":74.102420617392724},{"$f":"AH362","v":77.584469029740575},{"$f":"AI362","v":81.136158410335383},{"$f":"AJ362","v":84.758881578542088},{"$f":"AK362","v":88.454059210112931},{"$f":"AL362","v":92.223140394315195},{"$f":"AM362","v":96.067603202201497},{"$f":"AN362","v":99.988955266245526},{"$f":"AO362","v":103.98873437157044},{"$f":"AP362","v":108.06850905900185},{"$f":"AQ362","v":112.2298792401819},{"$f":"AR362","v":116.47447682498554},{"$f":"AS362","v":120.80396636148525},{"$f":"AT362","v":125.22004568871496},{"$f":"AU362","v":129.72444660248925},{"$f":"AV362","v":134.31893553453904},{"$f":"AW362","v":139.00531424522981},{"$f":"AX362","v":143.78542053013442},{"$f":"AY362","v":148.66112894073711},{"$f":"AZ362","v":153.63435151955187},{"$f":"BA362","v":158.70703854994292},{"$f":"BB362","v":163.88117932094178},{"$f":"BC362","v":169.15880290736061},{"$f":"BD362","v":174.54197896550784},{"$f":"BE362","v":180.03281854481799},{"$f":"BF362","v":185.63347491571434},{"$f":"BG362","v":191.34614441402863},{"$f":"BH362","v":197.17306730230919},{"$f":"BI362","v":203.11652864835537},{"$f":"BJ362","v":209.17885922132248},{"$f":"BK362","v":215.36243640574892}]
[null,null,"Inflazione media rivalutata anno per anno                                        ",null,0,0,{"$f":"G360*($G$360+100)/100","v":2.04},{"$f":"G361*($G$360+100)/100","v":2.0808},2.1224159999999999,{"$f":"I361*($G$360+100)/100","v":2.16486432},{"$f":"J361*($G$360+100)/100","v":2.2081616064},{"$f":"K361*($G$360+100)/100","v":2.2523248385280001},{"$f":"L361*($G$360+100)/100","v":2.2973713352985601},{"$f":"M361*($G$360+100)/100","v":2.3433187620045315},{"$f":"N361*($G$360+100)/100","v":2.3901851372446221},{"$f":"O361*($G$360+100)/100","v":2.4379888399895147},{"$f":"P361*($G$360+100)/100","v":2.4867486167893049},{"$f":"Q361*($G$360+100)/100","v":2.536483589125091},{"$f":"R361*($G$360+100)/100","v":2.5872132609075931},{"$f":"S361*($G$360+100)/100","v":2.6389575261257447},{"$f":"T361*($G$360+100)/100","v":2.6917366766482598},{"$f":"U361*($G$360+100)/100","v":2.745571410181225},{"$f":"V361*($G$360+100)/100","v":2.8004828383848497},{"$f":"W361*($G$360+100)/100","v":2.8564924951525468},{"$f":"X361*($G$360+100)/100","v":2.913622345055598},{"$f":"Y361*($G$360+100)/100","v":2.9718947919567102},{"$f":"Z361*($G$360+100)/100","v":3.0313326877958446},{"$f":"AA361*($G$360+100)/100","v":3.0919593415517612},{"$f":"AB361*($G$360+100)/100","v":3.1537985283827963},{"$f":"AC361*($G$360+100)/100","v":3.2168744989504523},{"$f":"AD361*($G$360+100)/100","v":3.2812119889294618},{"$f":"AE361*($G$360+100)/100","v":3.3468362287080509},{"$f":"AF361*($G$360+100)/100","v":3.4137729532822116},{"$f":"AG361*($G$360+100)/100","v":3.4820484123478561},{"$f":"AH361*($G$360+100)/100","v":3.5516893805948131},{"$f":"AI361*($G$360+100)/100","v":3.6227231682067096},{"$f":"AJ361*($G$360+100)/100","v":3.6951776315708442},{"$f":"AK361*($G$360+100)/100","v":3.7690811842022613},{"$f":"AL361*($G$360+100)/100","v":3.8444628078863063},{"$f":"AM361*($G$360+100)/100","v":3.921352064044032},{"$f":"AN361*($G$360+100)/100","v":3.9997791053249125},{"$f":"AO361*($G$360+100)/100","v":4.0797746874314109},{"$f":"AP361*($G$360+100)/100","v":4.1613701811800397},{"$f":"AQ361*($G$360+100)/100","v":4.2445975848036399},{"$f":"AR361*($G$360+100)/100","v":4.3294895364997128},{"$f":"AS361*($G$360+100)/100","v":4.4160793272297072},{"$f":"AT361*($G$360+100)/100","v":4.5044009137743011},{"$f":"AU361*($G$360+100)/100","v":4.5944889320497877},{"$f":"AV361*($G$360+100)/100","v":4.6863787106907839},{"$f":"AW361*($G$360+100)/100","v":4.7801062849045994},{"$f":"AX361*($G$360+100)/100","v":4.8757084106026909},{"$f":"AY361*($G$360+100)/100","v":4.9732225788147444},{"$f":"AZ361*($G$360+100)/100","v":5.0726870303910392},{"$f":"BA361*($G$360+100)/100","v":5.1741407709988598},{"$f":"BB361*($G$360+100)/100","v":5.2776235864188372},{"$f":"BC361*($G$360+100)/100","v":5.3831760581472148},{"$f":"BD361*($G$360+100)/100","v":5.4908395793101592},{"$f":"BE361*($G$360+100)/100","v":5.6006563708963624},{"$f":"BF361*($G$360+100)/100","v":5.7126694983142894},{"$f":"BG361*($G$360+100)/100","v":5.826922888280575},{"$f":"BH361*($G$360+100)/100","v":5.9434613460461865},{"$f":"BI361*($G$360+100)/100","v":6.0623305729671095},{"$f":"BJ361*($G$360+100)/100","v":6.1835771844264515},{"$f":"BK361*($G$360+100)/100","v":6.3072487281149803}]
[null,null,"QUOZIENTI DI RIVALUTAZIONE ANNO PER ANNO IN %                                  ",null,0,{"$f":"SUM(F360:F361)","v":2},4.04,6.1208,8.2432160000000003,10.40808032,12.616241926400001,14.868566764928001,17.165938100226562,19.509256862231094,21.899441999475716,24.337430839465231,26.824179456254537,29.360663045379628,31.94787630628722,34.586833832412964,37.278570509061225,40.024141919242453,42.824624757627305,45.681117252779849,48.594739597835449,51.566634389792156,54.597967077588002,57.689926419139766,60.84372494752256,64.060599446473006,67.341811435402462,70.688647664110519,74.102420617392724,77.584469029740575,81.136158410335383,84.758881578542088,88.454059210112931,92.223140394315195,96.067603202201497,99.988955266245526,103.98873437157044,108.06850905900185,112.2298792401819,116.47447682498554,120.80396636148525,125.22004568871496,129.72444660248925,134.31893553453904,139.00531424522981,143.78542053013442,148.66112894073711,153.63435151955187,158.70703854994292,163.88117932094178,169.15880290736061,174.54197896550784,180.03281854481799,185.63347491571434,191.34614441402863,197.17306730230919,203.11652864835537,209.17885922132248,215.36243640574892,221.66968513386391]
[null,null,"QUOZIENTI DI RIVALUTAZIONE ANNO PER ANNO NUMERICO                  ",null,1,{"$f":"E363*(1+$F$360/100)","v":1.02},1.0404,1.0612079999999999,1.08243216,{"$f":"I363*(1+$F$360/100)","v":1.1040808032},{"$f":"J363*(1+$F$360/100)","v":1.1261624192640001},{"$f":"K363*(1+$F$360/100)","v":1.14868566764928},{"$f":"L363*(1+$F$360/100)","v":1.1716593810022657},{"$f":"M363*(1+$F$360/100)","v":1.1950925686223111},{"$f":"N363*(1+$F$360/100)","v":1.2189944199947573},{"$f":"O363*(1+$F$360/100)","v":1.2433743083946525},{"$f":"P363*(1+$F$360/100)","v":1.2682417945625455},{"$f":"Q363*(1+$F$360/100)","v":1.2936066304537963},{"$f":"R363*(1+$F$360/100)","v":1.3194787630628724},{"$f":"S363*(1+$F$360/100)","v":1.3458683383241299},{"$f":"T363*(1+$F$360/100)","v":1.3727857050906125},{"$f":"U363*(1+$F$360/100)","v":1.4002414191924248},{"$f":"V363*(1+$F$360/100)","v":1.4282462475762734},{"$f":"W363*(1+$F$360/100)","v":1.4568111725277988},{"$f":"X363*(1+$F$360/100)","v":1.4859473959783549},{"$f":"Y363*(1+$F$360/100)","v":1.5156663438979221},{"$f":"Z363*(1+$F$360/100)","v":1.5459796707758806},{"$f":"AA363*(1+$F$360/100)","v":1.5768992641913981},{"$f":"AB363*(1+$F$360/100)","v":1.6084372494752261},{"$f":"AC363*(1+$F$360/100)","v":1.6406059944647307},{"$f":"AD363*(1+$F$360/100)","v":1.6734181143540252},{"$f":"AE363*(1+$F$360/100)","v":1.7068864766411058},{"$f":"AF363*(1+$F$360/100)","v":1.7410242061739281},{"$f":"AG363*(1+$F$360/100)","v":1.7758446902974065},{"$f":"AH363*(1+$F$360/100)","v":1.8113615841033548},{"$f":"AI363*(1+$F$360/100)","v":1.8475888157854219},{"$f":"AJ363*(1+$F$360/100)","v":1.8845405921011305},{"$f":"AK363*(1+$F$360/100)","v":1.9222314039431532},{"$f":"AL363*(1+$F$360/100)","v":1.9606760320220162},{"$f":"AM363*(1+$F$360/100)","v":1.9998895526624565},{"$f":"AN363*(1+$F$360/100)","v":2.0398873437157055},{"$f":"AO363*(1+$F$360/100)","v":2.0806850905900198},{"$f":"AP363*(1+$F$360/100)","v":2.1222987924018204},{"$f":"AQ363*(1+$F$360/100)","v":2.1647447682498568},{"$f":"AR363*(1+$F$360/100)","v":2.208039663614854},{"$f":"AS363*(1+$F$360/100)","v":2.252200456887151},{"$f":"AT363*(1+$F$360/100)","v":2.2972444660248938},{"$f":"AU363*(1+$F$360/100)","v":2.343189355345392},{"$f":"AV363*(1+$F$360/100)","v":2.3900531424522997},{"$f":"AW363*(1+$F$360/100)","v":2.4378542053013459},{"$f":"AX363*(1+$F$360/100)","v":2.4866112894073726},{"$f":"AY363*(1+$F$360/100)","v":2.53634351519552},{"$f":"AZ363*(1+$F$360/100)","v":2.5870703854994304},{"$f":"BA363*(1+$F$360/100)","v":2.6388117932094191},{"$f":"BB363*(1+$F$360/100)","v":2.6915880290736074},{"$f":"BC363*(1+$F$360/100)","v":2.7454197896550796},{"$f":"BD363*(1+$F$360/100)","v":2.8003281854481812},{"$f":"BE363*(1+$F$360/100)","v":2.8563347491571447},{"$f":"BF363*(1+$F$360/100)","v":2.9134614441402875},{"$f":"BG363*(1+$F$360/100)","v":2.9717306730230932},{"$f":"BH363*(1+$F$360/100)","v":3.0311652864835552},{"$f":"BI363*(1+$F$360/100)","v":3.0917885922132262},{"$f":"BJ363*(1+$F$360/100)","v":3.1536243640574906},{"$f":"BK363*(1+$F$360/100)","v":3.2166968513386403}]
[]
[null,null,"*Costo Personale adeguato Istat",null,{"$f":"SUM('3 Costi-Ricavi'!D23*'4 Sviluppo Domanda e Gestione'!E363)","v":148671.94999999998},{"$f":"SUM('3 Costi-Ricavi'!E23*'4 Sviluppo Domanda e Gestione'!F363)","v":151645.389},{"$f":"SUM('3 Costi-Ricavi'!F23*'4 Sviluppo Domanda e Gestione'!G363)","v":154678.29677999998},{"$f":"SUM('3 Costi-Ricavi'!G23*'4 Sviluppo Domanda e Gestione'!H363)","v":157771.86271559997},{"$f":"SUM('3 Costi-Ricavi'!H23*'4 Sviluppo Domanda e Gestione'!I363)","v":160927.29996991198},{"$f":"SUM('3 Costi-Ricavi'!I23*'4 Sviluppo Domanda e Gestione'!J363)","v":164145.84596931023},{"$f":"SUM('3 Costi-Ricavi'!J23*'4 Sviluppo Domanda e Gestione'!K363)","v":167428.76288869642},{"$f":"SUM('3 Costi-Ricavi'!K23*'4 Sviluppo Domanda e Gestione'!L363)","v":170777.33814647037},{"$f":"SUM('3 Costi-Ricavi'!L23*'4 Sviluppo Domanda e Gestione'!M363)","v":174192.88490939979},{"$f":"SUM('3 Costi-Ricavi'!M23*'4 Sviluppo Domanda e Gestione'!N363)","v":177676.74260758777},{"$f":"SUM('3 Costi-Ricavi'!N23*'4 Sviluppo Domanda e Gestione'!O363)","v":0},{"$f":"SUM('3 Costi-Ricavi'!O23*'4 Sviluppo Domanda e Gestione'!P363)","v":0},{"$f":"SUM('3 Costi-Ricavi'!P23*'4 Sviluppo Domanda e Gestione'!Q363)","v":0},{"$f":"SUM('3 Costi-Ricavi'!Q23*'4 Sviluppo Domanda e Gestione'!R363)","v":0},{"$f":"SUM('3 Costi-Ricavi'!R23*'4 Sviluppo Domanda e Gestione'!S363)","v":0},{"$f":"SUM('3 Costi-Ricavi'!S23*'4 Sviluppo Domanda e Gestione'!T363)","v":0},{"$f":"SUM('3 Costi-Ricavi'!T23*'4 Sviluppo Domanda e Gestione'!U363)","v":0},{"$f":"SUM('3 Costi-Ricavi'!U23*'4 Sviluppo Domanda e Gestione'!V363)","v":0},{"$f":"SUM('3 Costi-Ricavi'!V23*'4 Sviluppo Domanda e Gestione'!W363)","v":0},{"$f":"SUM('3 Costi-Ricavi'!W23*'4 Sviluppo Domanda e Gestione'!X363)","v":0},{"$f":"SUM('3 Costi-Ricavi'!X23*'4 Sviluppo Domanda e Gestione'!Y363)","v":0},{"$f":"SUM('3 Costi-Ricavi'!Y23*'4 Sviluppo Domanda e Gestione'!Z363)","v":0},{"$f":"SUM('3 Costi-Ricavi'!Z23*'4 Sviluppo Domanda e Gestione'!AA363)","v":0},{"$f":"SUM('3 Costi-Ricavi'!AA23*'4 Sviluppo Domanda e Gestione'!AB363)","v":0},{"$f":"SUM('3 Costi-Ricavi'!AB23*'4 Sviluppo Domanda e Gestione'!AC363)","v":0},{"$f":"SUM('3 Costi-Ricavi'!AC23*'4 Sviluppo Domanda e Gestione'!AD363)","v":0},{"$f":"SUM('3 Costi-Ricavi'!AD23*'4 Sviluppo Domanda e Gestione'!AE363)","v":0},{"$f":"SUM('3 Costi-Ricavi'!AE23*'4 Sviluppo Domanda e Gestione'!AF363)","v":0},{"$f":"SUM('3 Costi-Ricavi'!AF23*'4 Sviluppo Domanda e Gestione'!AG363)","v":0},{"$f":"SUM('3 Costi-Ricavi'!AG23*'4 Sviluppo Domanda e Gestione'!AH363)","v":0},{"$f":"SUM('3 Costi-Ricavi'!AH23*'4 Sviluppo Domanda e Gestione'!AI363)","v":0},{"$f":"SUM('3 Costi-Ricavi'!AI23*'4 Sviluppo Domanda e Gestione'!AJ363)","v":0},{"$f":"SUM('3 Costi-Ricavi'!AJ23*'4 Sviluppo Domanda e Gestione'!AK363)","v":0},{"$f":"SUM('3 Costi-Ricavi'!AK23*'4 Sviluppo Domanda e Gestione'!AL363)","v":0},{"$f":"SUM('3 Costi-Ricavi'!AL23*'4 Sviluppo Domanda e Gestione'!AM363)","v":0},{"$f":"SUM('3 Costi-Ricavi'!AM23*'4 Sviluppo Domanda e Gestione'!AN363)","v":0},{"$f":"SUM('3 Costi-Ricavi'!AN23*'4 Sviluppo Domanda e Gestione'!AO363)","v":0},{"$f":"SUM('3 Costi-Ricavi'!AO23*'4 Sviluppo Domanda e Gestione'!AP363)","v":0},{"$f":"SUM('3 Costi-Ricavi'!AP23*'4 Sviluppo Domanda e Gestione'!AQ363)","v":0},{"$f":"SUM('3 Costi-Ricavi'!AQ23*'4 Sviluppo Domanda e Gestione'!AR363)","v":0},{"$f":"SUM('3 Costi-Ricavi'!AR23*'4 Sviluppo Domanda e Gestione'!AS363)","v":0},{"$f":"SUM('3 Costi-Ricavi'!AS23*'4 Sviluppo Domanda e Gestione'!AT363)","v":0},{"$f":"SUM('3 Costi-Ricavi'!AT23*'4 Sviluppo Domanda e Gestione'!AU363)","v":0},{"$f":"SUM('3 Costi-Ricavi'!AU23*'4 Sviluppo Domanda e Gestione'!AV363)","v":0},{"$f":"SUM('3 Costi-Ricavi'!AV23*'4 Sviluppo Domanda e Gestione'!AW363)","v":0},{"$f":"SUM('3 Costi-Ricavi'!AW23*'4 Sviluppo Domanda e Gestione'!AX363)","v":0},{"$f":"SUM('3 Costi-Ricavi'!AX23*'4 Sviluppo Domanda e Gestione'!AY363)","v":0},{"$f":"SUM('3 Costi-Ricavi'!AY23*'4 Sviluppo Domanda e Gestione'!AZ363)","v":0},{"$f":"SUM('3 Costi-Ricavi'!AZ23*'4 Sviluppo Domanda e Gestione'!BA363)","v":0},{"$f":"SUM('3 Costi-Ricavi'!BA23*'4 Sviluppo Domanda e Gestione'!BB363)","v":0},{"$f":"SUM('3 Costi-Ricavi'!BB23*'4 Sviluppo Domanda e Gestione'!BC363)","v":0},{"$f":"SUM('3 Costi-Ricavi'!BC23*'4 Sviluppo Domanda e Gestione'!BD363)","v":0},{"$f":"SUM('3 Costi-Ricavi'!BD23*'4 Sviluppo Domanda e Gestione'!BE363)","v":0},{"$f":"SUM('3 Costi-Ricavi'!BE23*'4 Sviluppo Domanda e Gestione'!BF363)","v":0},{"$f":"SUM('3 Costi-Ricavi'!BF23*'4 Sviluppo Domanda e Gestione'!BG363)","v":0},{"$f":"SUM('3 Costi-Ricavi'!BG23*'4 Sviluppo Domanda e Gestione'!BH363)","v":0},{"$f":"SUM('3 Costi-Ricavi'!BH23*'4 Sviluppo Domanda e Gestione'!BI363)","v":0},{"$f":"SUM('3 Costi-Ricavi'!BI23*'4 Sviluppo Domanda e Gestione'!BJ363)","v":0},{"$f":"SUM('3 Costi-Ricavi'!BJ23*'4 Sviluppo Domanda e Gestione'!BK363)","v":0},{"$f":"SUM('3 Costi-Ricavi'!BK23*'4 Sviluppo Domanda e Gestione'!BL363)","v":0},{"$f":"SUM(E365:BL365)","v":1627916.3729869768}]
[null,null,"*Oneri Sicurezza adeguato Istat",null,{"$f":"SUM('3 Costi-Ricavi'!D30*'4 Sviluppo Domanda e Gestione'!E363)","v":2973.4389999999999},{"$f":"SUM('3 Costi-Ricavi'!E30*'4 Sviluppo Domanda e Gestione'!F363)","v":3032.90778},{"$f":"SUM('3 Costi-Ricavi'!F30*'4 Sviluppo Domanda e Gestione'!G363)","v":3093.5659355999996},{"$f":"SUM('3 Costi-Ricavi'!G30*'4 Sviluppo Domanda e Gestione'!H363)","v":3155.4372543119998},{"$f":"SUM('3 Costi-Ricavi'!H30*'4 Sviluppo Domanda e Gestione'!I363)","v":3218.5459993982399},{"$f":"SUM('3 Costi-Ricavi'!I30*'4 Sviluppo Domanda e Gestione'!J363)","v":3282.9169193862049},{"$f":"SUM('3 Costi-Ricavi'!J30*'4 Sviluppo Domanda e Gestione'!K363)","v":3348.575257773929},{"$f":"SUM('3 Costi-Ricavi'!K30*'4 Sviluppo Domanda e Gestione'!L363)","v":3415.5467629294076},{"$f":"SUM('3 Costi-Ricavi'!L30*'4 Sviluppo Domanda e Gestione'!M363)","v":3483.857698187996},{"$f":"SUM('3 Costi-Ricavi'!M30*'4 Sviluppo Domanda e Gestione'!N363)","v":3553.5348521517558},{"$f":"SUM('3 Costi-Ricavi'!N30*'4 Sviluppo Domanda e Gestione'!O363)","v":0},{"$f":"SUM('3 Costi-Ricavi'!O30*'4 Sviluppo Domanda e Gestione'!P363)","v":0},{"$f":"SUM('3 Costi-Ricavi'!P30*'4 Sviluppo Domanda e Gestione'!Q363)","v":0},{"$f":"SUM('3 Costi-Ricavi'!Q30*'4 Sviluppo Domanda e Gestione'!R363)","v":0},{"$f":"SUM('3 Costi-Ricavi'!R30*'4 Sviluppo Domanda e Gestione'!S363)","v":0},{"$f":"SUM('3 Costi-Ricavi'!S30*'4 Sviluppo Domanda e Gestione'!T363)","v":0},{"$f":"SUM('3 Costi-Ricavi'!T30*'4 Sviluppo Domanda e Gestione'!U363)","v":0},{"$f":"SUM('3 Costi-Ricavi'!U30*'4 Sviluppo Domanda e Gestione'!V363)","v":0},{"$f":"SUM('3 Costi-Ricavi'!V30*'4 Sviluppo Domanda e Gestione'!W363)","v":0},{"$f":"SUM('3 Costi-Ricavi'!W30*'4 Sviluppo Domanda e Gestione'!X363)","v":0},{"$f":"SUM('3 Costi-Ricavi'!X30*'4 Sviluppo Domanda e Gestione'!Y363)","v":0},{"$f":"SUM('3 Costi-Ricavi'!Y30*'4 Sviluppo Domanda e Gestione'!Z363)","v":0},{"$f":"SUM('3 Costi-Ricavi'!Z30*'4 Sviluppo Domanda e Gestione'!AA363)","v":0},{"$f":"SUM('3 Costi-Ricavi'!AA30*'4 Sviluppo Domanda e Gestione'!AB363)","v":0},{"$f":"SUM('3 Costi-Ricavi'!AB30*'4 Sviluppo Domanda e Gestione'!AC363)","v":0},{"$f":"SUM('3 Costi-Ricavi'!AC30*'4 Sviluppo Domanda e Gestione'!AD363)","v":0},{"$f":"SUM('3 Costi-Ricavi'!AD30*'4 Sviluppo Domanda e Gestione'!AE363)","v":0},{"$f":"SUM('3 Costi-Ricavi'!AE30*'4 Sviluppo Domanda e Gestione'!AF363)","v":0},{"$f":"SUM('3 Costi-Ricavi'!AF30*'4 Sviluppo Domanda e Gestione'!AG363)","v":0},{"$f":"SUM('3 Costi-Ricavi'!AG30*'4 Sviluppo Domanda e Gestione'!AH363)","v":0},{"$f":"SUM('3 Costi-Ricavi'!AH30*'4 Sviluppo Domanda e Gestione'!AI363)","v":0},{"$f":"SUM('3 Costi-Ricavi'!AI30*'4 Sviluppo Domanda e Gestione'!AJ363)","v":0},{"$f":"SUM('3 Costi-Ricavi'!AJ30*'4 Sviluppo Domanda e Gestione'!AK363)","v":0},{"$f":"SUM('3 Costi-Ricavi'!AK30*'4 Sviluppo Domanda e Gestione'!AL363)","v":0},{"$f":"SUM('3 Costi-Ricavi'!AL30*'4 Sviluppo Domanda e Gestione'!AM363)","v":0},{"$f":"SUM('3 Costi-Ricavi'!AM30*'4 Sviluppo Domanda e Gestione'!AN363)","v":0},{"$f":"SUM('3 Costi-Ricavi'!AN30*'4 Sviluppo Domanda e Gestione'!AO363)","v":0},{"$f":"SUM('3 Costi-Ricavi'!AO30*'4 Sviluppo Domanda e Gestione'!AP363)","v":0},{"$f":"SUM('3 Costi-Ricavi'!AP30*'4 Sviluppo Domanda e Gestione'!AQ363)","v":0},{"$f":"SUM('3 Costi-Ricavi'!AQ30*'4 Sviluppo Domanda e Gestione'!AR363)","v":0},{"$f":"SUM('3 Costi-Ricavi'!AR30*'4 Sviluppo Domanda e Gestione'!AS363)","v":0},{"$f":"SUM('3 Costi-Ricavi'!AS30*'4 Sviluppo Domanda e Gestione'!AT363)","v":0},{"$f":"SUM('3 Costi-Ricavi'!AT30*'4 Sviluppo Domanda e Gestione'!AU363)","v":0},{"$f":"SUM('3 Costi-Ricavi'!AU30*'4 Sviluppo Domanda e Gestione'!AV363)","v":0},{"$f":"SUM('3 Costi-Ricavi'!AV30*'4 Sviluppo Domanda e Gestione'!AW363)","v":0},{"$f":"SUM('3 Costi-Ricavi'!AW30*'4 Sviluppo Domanda e Gestione'!AX363)","v":0},{"$f":"SUM('3 Costi-Ricavi'!AX30*'4 Sviluppo Domanda e Gestione'!AY363)","v":0},{"$f":"SUM('3 Costi-Ricavi'!AY30*'4 Sviluppo Domanda e Gestione'!AZ363)","v":0},{"$f":"SUM('3 Costi-Ricavi'!AZ30*'4 Sviluppo Domanda e Gestione'!BA363)","v":0},{"$f":"SUM('3 Costi-Ricavi'!BA30*'4 Sviluppo Domanda e Gestione'!BB363)","v":0},{"$f":"SUM('3 Costi-Ricavi'!BB30*'4 Sviluppo Domanda e Gestione'!BC363)","v":0},{"$f":"SUM('3 Costi-Ricavi'!BC30*'4 Sviluppo Domanda e Gestione'!BD363)","v":0},{"$f":"SUM('3 Costi-Ricavi'!BD30*'4 Sviluppo Domanda e Gestione'!BE363)","v":0},{"$f":"SUM('3 Costi-Ricavi'!BE30*'4 Sviluppo Domanda e Gestione'!BF363)","v":0},{"$f":"SUM('3 Costi-Ricavi'!BF30*'4 Sviluppo Domanda e Gestione'!BG363)","v":0},{"$f":"SUM('3 Costi-Ricavi'!BG30*'4 Sviluppo Domanda e Gestione'!BH363)","v":0},{"$f":"SUM('3 Costi-Ricavi'!BH30*'4 Sviluppo Domanda e Gestione'!BI363)","v":0},{"$f":"SUM('3 Costi-Ricavi'!BI30*'4 Sviluppo Domanda e Gestione'!BJ363)","v":0},{"$f":"SUM('3 Costi-Ricavi'!BJ30*'4 Sviluppo Domanda e Gestione'!BK363)","v":0},{"$f":"SUM('3 Costi-Ricavi'!BK30*'4 Sviluppo Domanda e Gestione'!BL363)","v":0},{"$f":"SUM(E366:BL366)","v":32558.327459739532}]
[null,null,"Personale + Oneri Sicurezza",null,{"$f":"SUM(E365:E366)","v":151645.389},{"$f":"SUM(F365:F366)","v":154678.29678},157771.86271559997,160927.29996991198,164145.84596931023,167428.76288869645,170777.33814647034,174192.88490939979,177676.74260758777,181230.27745973953,0,0,0,0,0,0,0,0,0,0,0,0,0,0,0,0,0,0,0,0,0,0,0,0,0,0,0,0,0,0,0,0,0,0,0,0,0,0,0,0,0,0,0,0,0,0,0,0,0,0]

{"sheet":"5 Foglio di elaborazione","index":8,"n_rows":217,"n_cols":84,"rows_kept":217,"cut":false,"hidden":false,"merged":[[10,1,10,4],[164,54,164,55],[164,56,164,57],[164,58,164,59],[9,2,9,5],[164,4,164,5],[164,6,164,7],[164,8,164,9],[164,10,164,11],[164,12,164,13],[164,14,164,15],[164,16,164,17],[41,6,41,8],[42,6,42,8],[62,2,62,3],[63,2,63,3],[67,2,67,3],[164,44,164,45],[164,46,164,47],[164,48,164,49],[164,50,164,51],[164,42,164,43],[137,24,138,33],[137,34,138,43],[137,44,138,53],[137,54,138,63],[162,4,162,15],[164,18,164,19],[164,20,164,21],[164,22,164,23],[164,24,164,25],[164,26,164,27],[164,28,164,29],[164,30,164,31],[164,32,164,33],[164,34,164,35],[164,36,164,37],[164,38,164,39],[164,40,164,41],[35,6,35,9],[36,6,36,8],[37,6,37,8],[38,6,38,8],[39,6,39,8],[40,6,40,9],[137,4,138,13],[137,14,138,23],[192,76,192,77],[192,78,192,79],[192,52,192,53],[192,54,192,55],[192,56,192,57],[192,58,192,59],[192,42,192,43],[192,44,192,45],[192,46,192,47],[192,48,192,49],[192,50,192,51],[192,32,192,33],[192,34,192,35],[192,80,192,81],[192,82,192,83],[192,60,192,61],[192,62,192,63],[192,64,192,65],[192,66,192,67],[192,68,192,69],[192,70,192,71],[192,72,192,73],[192,74,192,75],[164,70,164,71],[164,72,164,73],[164,62,164,63],[164,64,164,65],[164,66,164,67],[164,68,164,69],[192,4,192,5],[192,6,192,7],[192,8,192,9],[192,10,192,11],[192,12,192,13],[192,14,192,15],[192,16,192,17],[192,18,192,19],[192,20,192,21],[192,22,192,23],[192,24,192,25],[192,26,192,27],[192,28,192,29],[192,30,192,31],[164,60,164,61],[192,36,192,37],[192,38,192,39],[192,40,192,41],[164,52,164,53],[164,74,164,75],[164,76,164,77],[164,78,164,79],[164,80,164,81],[164,82,164,83]]}
[null,null,"Costi di gestione"]
[]
[null,null,null,null,{"$f":"'4 Sviluppo Domanda e Gestione'!E41","v":1},{"$f":"'4 Sviluppo Domanda e Gestione'!F41","v":2},{"$f":"'4 Sviluppo Domanda e Gestione'!G41","v":3},{"$f":"'4 Sviluppo Domanda e Gestione'!H41","v":4},{"$f":"'4 Sviluppo Domanda e Gestione'!I41","v":5},{"$f":"'4 Sviluppo Domanda e Gestione'!J41","v":6},{"$f":"'4 Sviluppo Domanda e Gestione'!K41","v":7},{"$f":"'4 Sviluppo Domanda e Gestione'!L41","v":8},{"$f":"'4 Sviluppo Domanda e Gestione'!M41","v":9},{"$f":"'4 Sviluppo Domanda e Gestione'!N41","v":10},{"$f":"'4 Sviluppo Domanda e Gestione'!O41","v":"anno esterno"},{"$f":"'4 Sviluppo Domanda e Gestione'!P41","v":"anno esterno"},{"$f":"'4 Sviluppo Domanda e Gestione'!Q41","v":"anno esterno"},{"$f":"'4 Sviluppo Domanda e Gestione'!R41","v":"anno esterno"},{"$f":"'4 Sviluppo Domanda e Gestione'!S41","v":"anno esterno"},{"$f":"'4 Sviluppo Domanda e Gestione'!T41","v":"anno esterno"},{"$f":"'4 Sviluppo Domanda e Gestione'!U41","v":"anno esterno"},{"$f":"'4 Sviluppo Domanda e Gestione'!V41","v":"anno esterno"},{"$f":"'4 Sviluppo Domanda e Gestione'!W41","v":"anno esterno"},{"$f":"'4 Sviluppo Domanda e Gestione'!X41","v":"anno esterno"},{"$f":"'4 Sviluppo Domanda e Gestione'!Y41","v":"anno esterno"},{"$f":"'4 Sviluppo Domanda e Gestione'!Z41","v":"anno esterno"},{"$f":"'4 Sviluppo Domanda e Gestione'!AA41","v":"anno esterno"},{"$f":"'4 Sviluppo Domanda e Gestione'!AB41","v":"anno esterno"},{"$f":"'4 Sviluppo Domanda e Gestione'!AC41","v":"anno esterno"},{"$f":"'4 Sviluppo Domanda e Gestione'!AD41","v":"anno esterno"},{"$f":"'4 Sviluppo Domanda e Gestione'!AE41","v":"anno esterno"},{"$f":"'4 Sviluppo Domanda e Gestione'!AF41","v":"anno esterno"},{"$f":"'4 Sviluppo Domanda e Gestione'!AG41","v":"anno esterno"},{"$f":"'4 Sviluppo Domanda e Gestione'!AH41","v":"anno esterno"},{"$f":"'4 Sviluppo Domanda e Gestione'!AI41","v":"anno esterno"},{"$f":"'4 Sviluppo Domanda e Gestione'!AJ41","v":"anno esterno"},{"$f":"'4 Sviluppo Domanda e Gestione'!AK41","v":"anno esterno"},{"$f":"'4 Sviluppo Domanda e Gestione'!AL41","v":"anno esterno"},{"$f":"'4 Sviluppo Domanda e Gestione'!AM41","v":"anno esterno"},{"$f":"'4 Sviluppo Domanda e Gestione'!AN41","v":"anno esterno"},{"$f":"'4 Sviluppo Domanda e Gestione'!AO41","v":"anno esterno"},{"$f":"'4 Sviluppo Domanda e Gestione'!AP41","v":"anno esterno"},{"$f":"'4 Sviluppo Domanda e Gestione'!AQ41","v":"anno esterno"},{"$f":"'4 Sviluppo Domanda e Gestione'!AR41","v":"anno esterno"},{"$f":"'4 Sviluppo Domanda e Gestione'!AS41","v":"anno esterno"},{"$f":"'4 Sviluppo Domanda e Gestione'!AT41","v":"anno esterno"},{"$f":"'4 Sviluppo Domanda e Gestione'!AU41","v":"anno esterno"},{"$f":"'4 Sviluppo Domanda e Gestione'!AV41","v":"anno esterno"},{"$f":"'4 Sviluppo Domanda e Gestione'!AW41","v":"anno esterno"},{"$f":"'4 Sviluppo Domanda e Gestione'!AX41","v":"anno esterno"},{"$f":"'4 Sviluppo Domanda e Gestione'!AY41","v":"anno esterno"},{"$f":"'4 Sviluppo Domanda e Gestione'!AZ41","v":"anno esterno"},{"$f":"'4 Sviluppo Domanda e Gestione'!BA41","v":"anno esterno"},{"$f":"'4 Sviluppo Domanda e Gestione'!BB41","v":"anno esterno"},{"$f":"'4 Sviluppo Domanda e Gestione'!BC41","v":"anno esterno"},{"$f":"'4 Sviluppo Domanda e Gestione'!BD41","v":"anno esterno"},{"$f":"'4 Sviluppo Domanda e Gestione'!BE41","v":"anno esterno"},{"$f":"'4 Sviluppo Domanda e Gestione'!BF41","v":"anno esterno"},{"$f":"'4 Sviluppo Domanda e Gestione'!BG41","v":"anno esterno"},{"$f":"'4 Sviluppo Domanda e Gestione'!BH41","v":"anno esterno"},{"$f":"'4 Sviluppo Domanda e Gestione'!BI41","v":"anno esterno"},{"$f":"'4 Sviluppo Domanda e Gestione'!BJ41","v":"anno esterno"},{"$f":"'4 Sviluppo Domanda e Gestione'!BK41","v":"anno esterno"},{"$f":"'4 Sviluppo Domanda e Gestione'!BL41","v":"anno esterno"},"anno esterno"]
[null,{"$f":"ROW()","v":4},"Costi per servizi",null,{"$f":"IF('4 Sviluppo Domanda e Gestione'!E41>'2 Descrizione Progetto'!$D$22,0,IF(AND('4 Sviluppo Domanda e Gestione'!F41>='2 Descrizione Progetto'!$D$17,'4 Sviluppo Domanda e Gestione'!F41<='2 Descrizione Progetto'!$D$19),0,'4 Sviluppo Domanda e Gestione'!E214)*(1+'10 Schema Sintesi'!$E$202))","v":200833.76499999998},{"$f":"IF('4 Sviluppo Domanda e Gestione'!F41>'2 Descrizione Progetto'!$D$22,0,IF(AND('4 Sviluppo Domanda e Gestione'!G41>='2 Descrizione Progetto'!$D$17,'4 Sviluppo Domanda e Gestione'!G41<='2 Descrizione Progetto'!$D$19),0,'4 Sviluppo Domanda e Gestione'!F214)*(1+'10 Schema Sintesi'!$E$202))","v":207249.4803},{"$f":"IF('4 Sviluppo Domanda e Gestione'!G41>'2 Descrizione Progetto'!$D$22,0,IF(AND('4 Sviluppo Domanda e Gestione'!H41>='2 Descrizione Progetto'!$D$17,'4 Sviluppo Domanda e Gestione'!H41<='2 Descrizione Progetto'!$D$19),0,'4 Sviluppo Domanda e Gestione'!G214)*(1+'10 Schema Sintesi'!$E$202))","v":214990.09230599998},{"$f":"IF('4 Sviluppo Domanda e Gestione'!H41>'2 Descrizione Progetto'!$D$22,0,IF(AND('4 Sviluppo Domanda e Gestione'!I41>='2 Descrizione Progetto'!$D$17,'4 Sviluppo Domanda e Gestione'!I41<='2 Descrizione Progetto'!$D$19),0,'4 Sviluppo Domanda e Gestione'!H214)*(1+'10 Schema Sintesi'!$E$202))","v":219289.89415211996},{"$f":"IF('4 Sviluppo Domanda e Gestione'!I41>'2 Descrizione Progetto'!$D$22,0,IF(AND('4 Sviluppo Domanda e Gestione'!J41>='2 Descrizione Progetto'!$D$17,'4 Sviluppo Domanda e Gestione'!J41<='2 Descrizione Progetto'!$D$19),0,'4 Sviluppo Domanda e Gestione'!I214)*(1+'10 Schema Sintesi'!$E$202))","v":223675.69203516238},{"$f":"IF('4 Sviluppo Domanda e Gestione'!J41>'2 Descrizione Progetto'!$D$22,0,IF(AND('4 Sviluppo Domanda e Gestione'!K41>='2 Descrizione Progetto'!$D$17,'4 Sviluppo Domanda e Gestione'!K41<='2 Descrizione Progetto'!$D$19),0,'4 Sviluppo Domanda e Gestione'!J214)*(1+'10 Schema Sintesi'!$E$202))","v":228149.20587586562},{"$f":"IF('4 Sviluppo Domanda e Gestione'!K41>'2 Descrizione Progetto'!$D$22,0,IF(AND('4 Sviluppo Domanda e Gestione'!L41>='2 Descrizione Progetto'!$D$17,'4 Sviluppo Domanda e Gestione'!L41<='2 Descrizione Progetto'!$D$19),0,'4 Sviluppo Domanda e Gestione'!K214)*(1+'10 Schema Sintesi'!$E$202))","v":232712.18999338296},{"$f":"IF('4 Sviluppo Domanda e Gestione'!L41>'2 Descrizione Progetto'!$D$22,0,IF(AND('4 Sviluppo Domanda e Gestione'!M41>='2 Descrizione Progetto'!$D$17,'4 Sviluppo Domanda e Gestione'!M41<='2 Descrizione Progetto'!$D$19),0,'4 Sviluppo Domanda e Gestione'!L214)*(1+'10 Schema Sintesi'!$E$202))","v":237366.43379325062},{"$f":"IF('4 Sviluppo Domanda e Gestione'!M41>'2 Descrizione Progetto'!$D$22,0,IF(AND('4 Sviluppo Domanda e Gestione'!N41>='2 Descrizione Progetto'!$D$17,'4 Sviluppo Domanda e Gestione'!N41<='2 Descrizione Progetto'!$D$19),0,'4 Sviluppo Domanda e Gestione'!M214)*(1+'10 Schema Sintesi'!$E$202))","v":242113.76246911564},{"$f":"IF('4 Sviluppo Domanda e Gestione'!N41>'2 Descrizione Progetto'!$D$22,0,IF(AND('4 Sviluppo Domanda e Gestione'!O41>='2 Descrizione Progetto'!$D$17,'4 Sviluppo Domanda e Gestione'!O41<='2 Descrizione Progetto'!$D$19),0,'4 Sviluppo Domanda e Gestione'!N214)*(1+'10 Schema Sintesi'!$E$202))","v":246956.03771849794},{"$f":"IF('4 Sviluppo Domanda e Gestione'!O41>'2 Descrizione Progetto'!$D$22,0,IF(AND('4 Sviluppo Domanda e Gestione'!P41>='2 Descrizione Progetto'!$D$17,'4 Sviluppo Domanda e Gestione'!P41<='2 Descrizione Progetto'!$D$19),0,'4 Sviluppo Domanda e Gestione'!O214)*(1+'10 Schema Sintesi'!$E$202))","v":0},{"$f":"IF('4 Sviluppo Domanda e Gestione'!P41>'2 Descrizione Progetto'!$D$22,0,IF(AND('4 Sviluppo Domanda e Gestione'!Q41>='2 Descrizione Progetto'!$D$17,'4 Sviluppo Domanda e Gestione'!Q41<='2 Descrizione Progetto'!$D$19),0,'4 Sviluppo Domanda e Gestione'!P214)*(1+'10 Schema Sintesi'!$E$202))","v":0},{"$f":"IF('4 Sviluppo Domanda e Gestione'!Q41>'2 Descrizione Progetto'!$D$22,0,IF(AND('4 Sviluppo Domanda e Gestione'!R41>='2 Descrizione Progetto'!$D$17,'4 Sviluppo Domanda e Gestione'!R41<='2 Descrizione Progetto'!$D$19),0,'4 Sviluppo Domanda e Gestione'!Q214)*(1+'10 Schema Sintesi'!$E$202))","v":0},{"$f":"IF('4 Sviluppo Domanda e Gestione'!R41>'2 Descrizione Progetto'!$D$22,0,IF(AND('4 Sviluppo Domanda e Gestione'!S41>='2 Descrizione Progetto'!$D$17,'4 Sviluppo Domanda e Gestione'!S41<='2 Descrizione Progetto'!$D$19),0,'4 Sviluppo Domanda e Gestione'!R214)*(1+'10 Schema Sintesi'!$E$202))","v":0},{"$f":"IF('4 Sviluppo Domanda e Gestione'!S41>'2 Descrizione Progetto'!$D$22,0,IF(AND('4 Sviluppo Domanda e Gestione'!T41>='2 Descrizione Progetto'!$D$17,'4 Sviluppo Domanda e Gestione'!T41<='2 Descrizione Progetto'!$D$19),0,'4 Sviluppo Domanda e Gestione'!S214)*(1+'10 Schema Sintesi'!$E$202))","v":0},{"$f":"IF('4 Sviluppo Domanda e Gestione'!T41>'2 Descrizione Progetto'!$D$22,0,IF(AND('4 Sviluppo Domanda e Gestione'!U41>='2 Descrizione Progetto'!$D$17,'4 Sviluppo Domanda e Gestione'!U41<='2 Descrizione Progetto'!$D$19),0,'4 Sviluppo Domanda e Gestione'!T214)*(1+'10 Schema Sintesi'!$E$202))","v":0},{"$f":"IF('4 Sviluppo Domanda e Gestione'!U41>'2 Descrizione Progetto'!$D$22,0,IF(AND('4 Sviluppo Domanda e Gestione'!V41>='2 Descrizione Progetto'!$D$17,'4 Sviluppo Domanda e Gestione'!V41<='2 Descrizione Progetto'!$D$19),0,'4 Sviluppo Domanda e Gestione'!U214)*(1+'10 Schema Sintesi'!$E$202))","v":0},{"$f":"IF('4 Sviluppo Domanda e Gestione'!V41>'2 Descrizione Progetto'!$D$22,0,IF(AND('4 Sviluppo Domanda e Gestione'!W41>='2 Descrizione Progetto'!$D$17,'4 Sviluppo Domanda e Gestione'!W41<='2 Descrizione Progetto'!$D$19),0,'4 Sviluppo Domanda e Gestione'!V214)*(1+'10 Schema Sintesi'!$E$202))","v":0},{"$f":"IF('4 Sviluppo Domanda e Gestione'!W41>'2 Descrizione Progetto'!$D$22,0,IF(AND('4 Sviluppo Domanda e Gestione'!X41>='2 Descrizione Progetto'!$D$17,'4 Sviluppo Domanda e Gestione'!X41<='2 Descrizione Progetto'!$D$19),0,'4 Sviluppo Domanda e Gestione'!W214)*(1+'10 Schema Sintesi'!$E$202))","v":0},{"$f":"IF('4 Sviluppo Domanda e Gestione'!X41>'2 Descrizione Progetto'!$D$22,0,IF(AND('4 Sviluppo Domanda e Gestione'!Y41>='2 Descrizione Progetto'!$D$17,'4 Sviluppo Domanda e Gestione'!Y41<='2 Descrizione Progetto'!$D$19),0,'4 Sviluppo Domanda e Gestione'!X214)*(1+'10 Schema Sintesi'!$E$202))","v":0},{"$f":"IF('4 Sviluppo Domanda e Gestione'!Y41>'2 Descrizione Progetto'!$D$22,0,IF(AND('4 Sviluppo Domanda e Gestione'!Z41>='2 Descrizione Progetto'!$D$17,'4 Sviluppo Domanda e Gestione'!Z41<='2 Descrizione Progetto'!$D$19),0,'4 Sviluppo Domanda e Gestione'!Y214)*(1+'10 Schema Sintesi'!$E$202))","v":0},{"$f":"IF('4 Sviluppo Domanda e Gestione'!Z41>'2 Descrizione Progetto'!$D$22,0,IF(AND('4 Sviluppo Domanda e Gestione'!AA41>='2 Descrizione Progetto'!$D$17,'4 Sviluppo Domanda e Gestione'!AA41<='2 Descrizione Progetto'!$D$19),0,'4 Sviluppo Domanda e Gestione'!Z214)*(1+'10 Schema Sintesi'!$E$202))","v":0},{"$f":"IF('4 Sviluppo Domanda e Gestione'!AA41>'2 Descrizione Progetto'!$D$22,0,IF(AND('4 Sviluppo Domanda e Gestione'!AB41>='2 Descrizione Progetto'!$D$17,'4 Sviluppo Domanda e Gestione'!AB41<='2 Descrizione Progetto'!$D$19),0,'4 Sviluppo Domanda e Gestione'!AA214)*(1+'10 Schema Sintesi'!$E$202))","v":0},{"$f":"IF('4 Sviluppo Domanda e Gestione'!AB41>'2 Descrizione Progetto'!$D$22,0,IF(AND('4 Sviluppo Domanda e Gestione'!AC41>='2 Descrizione Progetto'!$D$17,'4 Sviluppo Domanda e Gestione'!AC41<='2 Descrizione Progetto'!$D$19),0,'4 Sviluppo Domanda e Gestione'!AB214)*(1+'10 Schema Sintesi'!$E$202))","v":0},{"$f":"IF('4 Sviluppo Domanda e Gestione'!AC41>'2 Descrizione Progetto'!$D$22,0,IF(AND('4 Sviluppo Domanda e Gestione'!AD41>='2 Descrizione Progetto'!$D$17,'4 Sviluppo Domanda e Gestione'!AD41<='2 Descrizione Progetto'!$D$19),0,'4 Sviluppo Domanda e Gestione'!AC214)*(1+'10 Schema Sintesi'!$E$202))","v":0},{"$f":"IF('4 Sviluppo Domanda e Gestione'!AD41>'2 Descrizione Progetto'!$D$22,0,IF(AND('4 Sviluppo Domanda e Gestione'!AE41>='2 Descrizione Progetto'!$D$17,'4 Sviluppo Domanda e Gestione'!AE41<='2 Descrizione Progetto'!$D$19),0,'4 Sviluppo Domanda e Gestione'!AD214)*(1+'10 Schema Sintesi'!$E$202))","v":0},{"$f":"IF('4 Sviluppo Domanda e Gestione'!AE41>'2 Descrizione Progetto'!$D$22,0,IF(AND('4 Sviluppo Domanda e Gestione'!AF41>='2 Descrizione Progetto'!$D$17,'4 Sviluppo Domanda e Gestione'!AF41<='2 Descrizione Progetto'!$D$19),0,'4 Sviluppo Domanda e Gestione'!AE214)*(1+'10 Schema Sintesi'!$E$202))","v":0},{"$f":"IF('4 Sviluppo Domanda e Gestione'!AF41>'2 Descrizione Progetto'!$D$22,0,IF(AND('4 Sviluppo Domanda e Gestione'!AG41>='2 Descrizione Progetto'!$D$17,'4 Sviluppo Domanda e Gestione'!AG41<='2 Descrizione Progetto'!$D$19),0,'4 Sviluppo Domanda e Gestione'!AF214)*(1+'10 Schema Sintesi'!$E$202))","v":0},{"$f":"IF('4 Sviluppo Domanda e Gestione'!AG41>'2 Descrizione Progetto'!$D$22,0,IF(AND('4 Sviluppo Domanda e Gestione'!AH41>='2 Descrizione Progetto'!$D$17,'4 Sviluppo Domanda e Gestione'!AH41<='2 Descrizione Progetto'!$D$19),0,'4 Sviluppo Domanda e Gestione'!AG214)*(1+'10 Schema Sintesi'!$E$202))","v":0},{"$f":"IF('4 Sviluppo Domanda e Gestione'!AH41>'2 Descrizione Progetto'!$D$22,0,IF(AND('4 Sviluppo Domanda e Gestione'!AI41>='2 Descrizione Progetto'!$D$17,'4 Sviluppo Domanda e Gestione'!AI41<='2 Descrizione Progetto'!$D$19),0,'4 Sviluppo Domanda e Gestione'!AH214)*(1+'10 Schema Sintesi'!$E$202))","v":0},{"$f":"IF('4 Sviluppo Domanda e Gestione'!AI41>'2 Descrizione Progetto'!$D$22,0,IF(AND('4 Sviluppo Domanda e Gestione'!AJ41>='2 Descrizione Progetto'!$D$17,'4 Sviluppo Domanda e Gestione'!AJ41<='2 Descrizione Progetto'!$D$19),0,'4 Sviluppo Domanda e Gestione'!AI214)*(1+'10 Schema Sintesi'!$E$202))","v":0},{"$f":"IF('4 Sviluppo Domanda e Gestione'!AJ41>'2 Descrizione Progetto'!$D$22,0,IF(AND('4 Sviluppo Domanda e Gestione'!AK41>='2 Descrizione Progetto'!$D$17,'4 Sviluppo Domanda e Gestione'!AK41<='2 Descrizione Progetto'!$D$19),0,'4 Sviluppo Domanda e Gestione'!AJ214)*(1+'10 Schema Sintesi'!$E$202))","v":0},{"$f":"IF('4 Sviluppo Domanda e Gestione'!AK41>'2 Descrizione Progetto'!$D$22,0,IF(AND('4 Sviluppo Domanda e Gestione'!AL41>='2 Descrizione Progetto'!$D$17,'4 Sviluppo Domanda e Gestione'!AL41<='2 Descrizione Progetto'!$D$19),0,'4 Sviluppo Domanda e Gestione'!AK214)*(1+'10 Schema Sintesi'!$E$202))","v":0},{"$f":"IF('4 Sviluppo Domanda e Gestione'!AL41>'2 Descrizione Progetto'!$D$22,0,IF(AND('4 Sviluppo Domanda e Gestione'!AM41>='2 Descrizione Progetto'!$D$17,'4 Sviluppo Domanda e Gestione'!AM41<='2 Descrizione Progetto'!$D$19),0,'4 Sviluppo Domanda e Gestione'!AL214)*(1+'10 Schema Sintesi'!$E$202))","v":0},{"$f":"IF('4 Sviluppo Domanda e Gestione'!AM41>'2 Descrizione Progetto'!$D$22,0,IF(AND('4 Sviluppo Domanda e Gestione'!AN41>='2 Descrizione Progetto'!$D$17,'4 Sviluppo Domanda e Gestione'!AN41<='2 Descrizione Progetto'!$D$19),0,'4 Sviluppo Domanda e Gestione'!AM214)*(1+'10 Schema Sintesi'!$E$202))","v":0},{"$f":"IF('4 Sviluppo Domanda e Gestione'!AN41>'2 Descrizione Progetto'!$D$22,0,IF(AND('4 Sviluppo Domanda e Gestione'!AO41>='2 Descrizione Progetto'!$D$17,'4 Sviluppo Domanda e Gestione'!AO41<='2 Descrizione Progetto'!$D$19),0,'4 Sviluppo Domanda e Gestione'!AN214)*(1+'10 Schema Sintesi'!$E$202))","v":0},{"$f":"IF('4 Sviluppo Domanda e Gestione'!AO41>'2 Descrizione Progetto'!$D$22,0,IF(AND('4 Sviluppo Domanda e Gestione'!AP41>='2 Descrizione Progetto'!$D$17,'4 Sviluppo Domanda e Gestione'!AP41<='2 Descrizione Progetto'!$D$19),0,'4 Sviluppo Domanda e Gestione'!AO214)*(1+'10 Schema Sintesi'!$E$202))","v":0},{"$f":"IF('4 Sviluppo Domanda e Gestione'!AP41>'2 Descrizione Progetto'!$D$22,0,IF(AND('4 Sviluppo Domanda e Gestione'!AQ41>='2 Descrizione Progetto'!$D$17,'4 Sviluppo Domanda e Gestione'!AQ41<='2 Descrizione Progetto'!$D$19),0,'4 Sviluppo Domanda e Gestione'!AP214)*(1+'10 Schema Sintesi'!$E$202))","v":0},{"$f":"IF('4 Sviluppo Domanda e Gestione'!AQ41>'2 Descrizione Progetto'!$D$22,0,IF(AND('4 Sviluppo Domanda e Gestione'!AR41>='2 Descrizione Progetto'!$D$17,'4 Sviluppo Domanda e Gestione'!AR41<='2 Descrizione Progetto'!$D$19),0,'4 Sviluppo Domanda e Gestione'!AQ214)*(1+'10 Schema Sintesi'!$E$202))","v":0},{"$f":"IF('4 Sviluppo Domanda e Gestione'!AR41>'2 Descrizione Progetto'!$D$22,0,IF(AND('4 Sviluppo Domanda e Gestione'!AS41>='2 Descrizione Progetto'!$D$17,'4 Sviluppo Domanda e Gestione'!AS41<='2 Descrizione Progetto'!$D$19),0,'4 Sviluppo Domanda e Gestione'!AR214)*(1+'10 Schema Sintesi'!$E$202))","v":0},{"$f":"IF('4 Sviluppo Domanda e Gestione'!AS41>'2 Descrizione Progetto'!$D$22,0,IF(AND('4 Sviluppo Domanda e Gestione'!AT41>='2 Descrizione Progetto'!$D$17,'4 Sviluppo Domanda e Gestione'!AT41<='2 Descrizione Progetto'!$D$19),0,'4 Sviluppo Domanda e Gestione'!AS214)*(1+'10 Schema Sintesi'!$E$202))","v":0},{"$f":"IF('4 Sviluppo Domanda e Gestione'!AT41>'2 Descrizione Progetto'!$D$22,0,IF(AND('4 Sviluppo Domanda e Gestione'!AU41>='2 Descrizione Progetto'!$D$17,'4 Sviluppo Domanda e Gestione'!AU41<='2 Descrizione Progetto'!$D$19),0,'4 Sviluppo Domanda e Gestione'!AT214)*(1+'10 Schema Sintesi'!$E$202))","v":0},{"$f":"IF('4 Sviluppo Domanda e Gestione'!AU41>'2 Descrizione Progetto'!$D$22,0,IF(AND('4 Sviluppo Domanda e Gestione'!AV41>='2 Descrizione Progetto'!$D$17,'4 Sviluppo Domanda e Gestione'!AV41<='2 Descrizione Progetto'!$D$19),0,'4 Sviluppo Domanda e Gestione'!AU214)*(1+'10 Schema Sintesi'!$E$202))","v":0},{"$f":"IF('4 Sviluppo Domanda e Gestione'!AV41>'2 Descrizione Progetto'!$D$22,0,IF(AND('4 Sviluppo Domanda e Gestione'!AW41>='2 Descrizione Progetto'!$D$17,'4 Sviluppo Domanda e Gestione'!AW41<='2 Descrizione Progetto'!$D$19),0,'4 Sviluppo Domanda e Gestione'!AV214)*(1+'10 Schema Sintesi'!$E$202))","v":0},{"$f":"IF('4 Sviluppo Domanda e Gestione'!AW41>'2 Descrizione Progetto'!$D$22,0,IF(AND('4 Sviluppo Domanda e Gestione'!AX41>='2 Descrizione Progetto'!$D$17,'4 Sviluppo Domanda e Gestione'!AX41<='2 Descrizione Progetto'!$D$19),0,'4 Sviluppo Domanda e Gestione'!AW214)*(1+'10 Schema Sintesi'!$E$202))","v":0},{"$f":"IF('4 Sviluppo Domanda e Gestione'!AX41>'2 Descrizione Progetto'!$D$22,0,IF(AND('4 Sviluppo Domanda e Gestione'!AY41>='2 Descrizione Progetto'!$D$17,'4 Sviluppo Domanda e Gestione'!AY41<='2 Descrizione Progetto'!$D$19),0,'4 Sviluppo Domanda e Gestione'!AX214)*(1+'10 Schema Sintesi'!$E$202))","v":0},{"$f":"IF('4 Sviluppo Domanda e Gestione'!AY41>'2 Descrizione Progetto'!$D$22,0,IF(AND('4 Sviluppo Domanda e Gestione'!AZ41>='2 Descrizione Progetto'!$D$17,'4 Sviluppo Domanda e Gestione'!AZ41<='2 Descrizione Progetto'!$D$19),0,'4 Sviluppo Domanda e Gestione'!AY214)*(1+'10 Schema Sintesi'!$E$202))","v":0},{"$f":"IF('4 Sviluppo Domanda e Gestione'!AZ41>'2 Descrizione Progetto'!$D$22,0,IF(AND('4 Sviluppo Domanda e Gestione'!BA41>='2 Descrizione Progetto'!$D$17,'4 Sviluppo Domanda e Gestione'!BA41<='2 Descrizione Progetto'!$D$19),0,'4 Sviluppo Domanda e Gestione'!AZ214)*(1+'10 Schema Sintesi'!$E$202))","v":0},{"$f":"IF('4 Sviluppo Domanda e Gestione'!BA41>'2 Descrizione Progetto'!$D$22,0,IF(AND('4 Sviluppo Domanda e Gestione'!BB41>='2 Descrizione Progetto'!$D$17,'4 Sviluppo Domanda e Gestione'!BB41<='2 Descrizione Progetto'!$D$19),0,'4 Sviluppo Domanda e Gestione'!BA214)*(1+'10 Schema Sintesi'!$E$202))","v":0},{"$f":"IF('4 Sviluppo Domanda e Gestione'!BB41>'2 Descrizione Progetto'!$D$22,0,IF(AND('4 Sviluppo Domanda e Gestione'!BC41>='2 Descrizione Progetto'!$D$17,'4 Sviluppo Domanda e Gestione'!BC41<='2 Descrizione Progetto'!$D$19),0,'4 Sviluppo Domanda e Gestione'!BB214)*(1+'10 Schema Sintesi'!$E$202))","v":0},{"$f":"IF('4 Sviluppo Domanda e Gestione'!BC41>'2 Descrizione Progetto'!$D$22,0,IF(AND('4 Sviluppo Domanda e Gestione'!BD41>='2 Descrizione Progetto'!$D$17,'4 Sviluppo Domanda e Gestione'!BD41<='2 Descrizione Progetto'!$D$19),0,'4 Sviluppo Domanda e Gestione'!BC214)*(1+'10 Schema Sintesi'!$E$202))","v":0},{"$f":"IF('4 Sviluppo Domanda e Gestione'!BD41>'2 Descrizione Progetto'!$D$22,0,IF(AND('4 Sviluppo Domanda e Gestione'!BE41>='2 Descrizione Progetto'!$D$17,'4 Sviluppo Domanda e Gestione'!BE41<='2 Descrizione Progetto'!$D$19),0,'4 Sviluppo Domanda e Gestione'!BD214)*(1+'10 Schema Sintesi'!$E$202))","v":0},{"$f":"IF('4 Sviluppo Domanda e Gestione'!BE41>'2 Descrizione Progetto'!$D$22,0,IF(AND('4 Sviluppo Domanda e Gestione'!BF41>='2 Descrizione Progetto'!$D$17,'4 Sviluppo Domanda e Gestione'!BF41<='2 Descrizione Progetto'!$D$19),0,'4 Sviluppo Domanda e Gestione'!BE214)*(1+'10 Schema Sintesi'!$E$202))","v":0},{"$f":"IF('4 Sviluppo Domanda e Gestione'!BF41>'2 Descrizione Progetto'!$D$22,0,IF(AND('4 Sviluppo Domanda e Gestione'!BG41>='2 Descrizione Progetto'!$D$17,'4 Sviluppo Domanda e Gestione'!BG41<='2 Descrizione Progetto'!$D$19),0,'4 Sviluppo Domanda e Gestione'!BF214)*(1+'10 Schema Sintesi'!$E$202))","v":0},{"$f":"IF('4 Sviluppo Domanda e Gestione'!BG41>'2 Descrizione Progetto'!$D$22,0,IF(AND('4 Sviluppo Domanda e Gestione'!BH41>='2 Descrizione Progetto'!$D$17,'4 Sviluppo Domanda e Gestione'!BH41<='2 Descrizione Progetto'!$D$19),0,'4 Sviluppo Domanda e Gestione'!BG214)*(1+'10 Schema Sintesi'!$E$202))","v":0},{"$f":"IF('4 Sviluppo Domanda e Gestione'!BH41>'2 Descrizione Progetto'!$D$22,0,IF(AND('4 Sviluppo Domanda e Gestione'!BI41>='2 Descrizione Progetto'!$D$17,'4 Sviluppo Domanda e Gestione'!BI41<='2 Descrizione Progetto'!$D$19),0,'4 Sviluppo Domanda e Gestione'!BH214)*(1+'10 Schema Sintesi'!$E$202))","v":0},{"$f":"IF('4 Sviluppo Domanda e Gestione'!BI41>'2 Descrizione Progetto'!$D$22,0,IF(AND('4 Sviluppo Domanda e Gestione'!BJ41>='2 Descrizione Progetto'!$D$17,'4 Sviluppo Domanda e Gestione'!BJ41<='2 Descrizione Progetto'!$D$19),0,'4 Sviluppo Domanda e Gestione'!BI214)*(1+'10 Schema Sintesi'!$E$202))","v":0},{"$f":"IF('4 Sviluppo Domanda e Gestione'!BJ41>'2 Descrizione Progetto'!$D$22,0,IF(AND('4 Sviluppo Domanda e Gestione'!BK41>='2 Descrizione Progetto'!$D$17,'4 Sviluppo Domanda e Gestione'!BK41<='2 Descrizione Progetto'!$D$19),0,'4 Sviluppo Domanda e Gestione'!BJ214)*(1+'10 Schema Sintesi'!$E$202))","v":0},{"$f":"IF('4 Sviluppo Domanda e Gestione'!BK41>'2 Descrizione Progetto'!$D$22,0,IF(AND('4 Sviluppo Domanda e Gestione'!BL41>='2 Descrizione Progetto'!$D$17,'4 Sviluppo Domanda e Gestione'!BL41<='2 Descrizione Progetto'!$D$19),0,'4 Sviluppo Domanda e Gestione'!BK214)*(1+'10 Schema Sintesi'!$E$202))","v":0},{"$f":"IF('4 Sviluppo Domanda e Gestione'!BL41>'2 Descrizione Progetto'!$D$22,0,IF(AND('4 Sviluppo Domanda e Gestione'!#REF!>='2 Descrizione Progetto'!$D$17,'4 Sviluppo Domanda e Gestione'!#REF!<='2 Descrizione Progetto'!$D$19),0,'4 Sviluppo Domanda e Gestione'!BL214)*(1+'10 Schema Sintesi'!$E$202))","v":0},0]
[null,5,"Costi del personale (al lordo degli oneri sociali e tfr)",null,{"$f":"IF('4 Sviluppo Domanda e Gestione'!E41>'2 Descrizione Progetto'!$D$22,0,IF(AND('4 Sviluppo Domanda e Gestione'!F41>='2 Descrizione Progetto'!$D$17,'4 Sviluppo Domanda e Gestione'!F41<='2 Descrizione Progetto'!$D$19),0,'4 Sviluppo Domanda e Gestione'!E215)*(1+'10 Schema Sintesi'!$E$202))","v":151645.389},{"$f":"IF('4 Sviluppo Domanda e Gestione'!F41>'2 Descrizione Progetto'!$D$22,0,IF(AND('4 Sviluppo Domanda e Gestione'!G41>='2 Descrizione Progetto'!$D$17,'4 Sviluppo Domanda e Gestione'!G41<='2 Descrizione Progetto'!$D$19),0,'4 Sviluppo Domanda e Gestione'!F215)*(1+'10 Schema Sintesi'!$E$202))","v":154678.29678},{"$f":"IF('4 Sviluppo Domanda e Gestione'!G41>'2 Descrizione Progetto'!$D$22,0,IF(AND('4 Sviluppo Domanda e Gestione'!H41>='2 Descrizione Progetto'!$D$17,'4 Sviluppo Domanda e Gestione'!H41<='2 Descrizione Progetto'!$D$19),0,'4 Sviluppo Domanda e Gestione'!G215)*(1+'10 Schema Sintesi'!$E$202))","v":157771.8627156},{"$f":"IF('4 Sviluppo Domanda e Gestione'!H41>'2 Descrizione Progetto'!$D$22,0,IF(AND('4 Sviluppo Domanda e Gestione'!I41>='2 Descrizione Progetto'!$D$17,'4 Sviluppo Domanda e Gestione'!I41<='2 Descrizione Progetto'!$D$19),0,'4 Sviluppo Domanda e Gestione'!H215)*(1+'10 Schema Sintesi'!$E$202))","v":160927.29996991198},{"$f":"IF('4 Sviluppo Domanda e Gestione'!I41>'2 Descrizione Progetto'!$D$22,0,IF(AND('4 Sviluppo Domanda e Gestione'!J41>='2 Descrizione Progetto'!$D$17,'4 Sviluppo Domanda e Gestione'!J41<='2 Descrizione Progetto'!$D$19),0,'4 Sviluppo Domanda e Gestione'!I215)*(1+'10 Schema Sintesi'!$E$202))","v":164145.84596931023},{"$f":"IF('4 Sviluppo Domanda e Gestione'!J41>'2 Descrizione Progetto'!$D$22,0,IF(AND('4 Sviluppo Domanda e Gestione'!K41>='2 Descrizione Progetto'!$D$17,'4 Sviluppo Domanda e Gestione'!K41<='2 Descrizione Progetto'!$D$19),0,'4 Sviluppo Domanda e Gestione'!J215)*(1+'10 Schema Sintesi'!$E$202))","v":167428.76288869645},{"$f":"IF('4 Sviluppo Domanda e Gestione'!K41>'2 Descrizione Progetto'!$D$22,0,IF(AND('4 Sviluppo Domanda e Gestione'!L41>='2 Descrizione Progetto'!$D$17,'4 Sviluppo Domanda e Gestione'!L41<='2 Descrizione Progetto'!$D$19),0,'4 Sviluppo Domanda e Gestione'!K215)*(1+'10 Schema Sintesi'!$E$202))","v":170777.33814647037},{"$f":"IF('4 Sviluppo Domanda e Gestione'!L41>'2 Descrizione Progetto'!$D$22,0,IF(AND('4 Sviluppo Domanda e Gestione'!M41>='2 Descrizione Progetto'!$D$17,'4 Sviluppo Domanda e Gestione'!M41<='2 Descrizione Progetto'!$D$19),0,'4 Sviluppo Domanda e Gestione'!L215)*(1+'10 Schema Sintesi'!$E$202))","v":174192.88490939979},{"$f":"IF('4 Sviluppo Domanda e Gestione'!M41>'2 Descrizione Progetto'!$D$22,0,IF(AND('4 Sviluppo Domanda e Gestione'!N41>='2 Descrizione Progetto'!$D$17,'4 Sviluppo Domanda e Gestione'!N41<='2 Descrizione Progetto'!$D$19),0,'4 Sviluppo Domanda e Gestione'!M215)*(1+'10 Schema Sintesi'!$E$202))","v":177676.7426075878},{"$f":"IF('4 Sviluppo Domanda e Gestione'!N41>'2 Descrizione Progetto'!$D$22,0,IF(AND('4 Sviluppo Domanda e Gestione'!O41>='2 Descrizione Progetto'!$D$17,'4 Sviluppo Domanda e Gestione'!O41<='2 Descrizione Progetto'!$D$19),0,'4 Sviluppo Domanda e Gestione'!N215)*(1+'10 Schema Sintesi'!$E$202))","v":181230.27745973956},{"$f":"IF('4 Sviluppo Domanda e Gestione'!O41>'2 Descrizione Progetto'!$D$22,0,IF(AND('4 Sviluppo Domanda e Gestione'!P41>='2 Descrizione Progetto'!$D$17,'4 Sviluppo Domanda e Gestione'!P41<='2 Descrizione Progetto'!$D$19),0,'4 Sviluppo Domanda e Gestione'!O215)*(1+'10 Schema Sintesi'!$E$202))","v":0},{"$f":"IF('4 Sviluppo Domanda e Gestione'!P41>'2 Descrizione Progetto'!$D$22,0,IF(AND('4 Sviluppo Domanda e Gestione'!Q41>='2 Descrizione Progetto'!$D$17,'4 Sviluppo Domanda e Gestione'!Q41<='2 Descrizione Progetto'!$D$19),0,'4 Sviluppo Domanda e Gestione'!P215)*(1+'10 Schema Sintesi'!$E$202))","v":0},{"$f":"IF('4 Sviluppo Domanda e Gestione'!Q41>'2 Descrizione Progetto'!$D$22,0,IF(AND('4 Sviluppo Domanda e Gestione'!R41>='2 Descrizione Progetto'!$D$17,'4 Sviluppo Domanda e Gestione'!R41<='2 Descrizione Progetto'!$D$19),0,'4 Sviluppo Domanda e Gestione'!Q215)*(1+'10 Schema Sintesi'!$E$202))","v":0},{"$f":"IF('4 Sviluppo Domanda e Gestione'!R41>'2 Descrizione Progetto'!$D$22,0,IF(AND('4 Sviluppo Domanda e Gestione'!S41>='2 Descrizione Progetto'!$D$17,'4 Sviluppo Domanda e Gestione'!S41<='2 Descrizione Progetto'!$D$19),0,'4 Sviluppo Domanda e Gestione'!R215)*(1+'10 Schema Sintesi'!$E$202))","v":0},{"$f":"IF('4 Sviluppo Domanda e Gestione'!S41>'2 Descrizione Progetto'!$D$22,0,IF(AND('4 Sviluppo Domanda e Gestione'!T41>='2 Descrizione Progetto'!$D$17,'4 Sviluppo Domanda e Gestione'!T41<='2 Descrizione Progetto'!$D$19),0,'4 Sviluppo Domanda e Gestione'!S215)*(1+'10 Schema Sintesi'!$E$202))","v":0},{"$f":"IF('4 Sviluppo Domanda e Gestione'!T41>'2 Descrizione Progetto'!$D$22,0,IF(AND('4 Sviluppo Domanda e Gestione'!U41>='2 Descrizione Progetto'!$D$17,'4 Sviluppo Domanda e Gestione'!U41<='2 Descrizione Progetto'!$D$19),0,'4 Sviluppo Domanda e Gestione'!T215)*(1+'10 Schema Sintesi'!$E$202))","v":0},{"$f":"IF('4 Sviluppo Domanda e Gestione'!U41>'2 Descrizione Progetto'!$D$22,0,IF(AND('4 Sviluppo Domanda e Gestione'!V41>='2 Descrizione Progetto'!$D$17,'4 Sviluppo Domanda e Gestione'!V41<='2 Descrizione Progetto'!$D$19),0,'4 Sviluppo Domanda e Gestione'!U215)*(1+'10 Schema Sintesi'!$E$202))","v":0},{"$f":"IF('4 Sviluppo Domanda e Gestione'!V41>'2 Descrizione Progetto'!$D$22,0,IF(AND('4 Sviluppo Domanda e Gestione'!W41>='2 Descrizione Progetto'!$D$17,'4 Sviluppo Domanda e Gestione'!W41<='2 Descrizione Progetto'!$D$19),0,'4 Sviluppo Domanda e Gestione'!V215)*(1+'10 Schema Sintesi'!$E$202))","v":0},{"$f":"IF('4 Sviluppo Domanda e Gestione'!W41>'2 Descrizione Progetto'!$D$22,0,IF(AND('4 Sviluppo Domanda e Gestione'!X41>='2 Descrizione Progetto'!$D$17,'4 Sviluppo Domanda e Gestione'!X41<='2 Descrizione Progetto'!$D$19),0,'4 Sviluppo Domanda e Gestione'!W215)*(1+'10 Schema Sintesi'!$E$202))","v":0},{"$f":"IF('4 Sviluppo Domanda e Gestione'!X41>'2 Descrizione Progetto'!$D$22,0,IF(AND('4 Sviluppo Domanda e Gestione'!Y41>='2 Descrizione Progetto'!$D$17,'4 Sviluppo Domanda e Gestione'!Y41<='2 Descrizione Progetto'!$D$19),0,'4 Sviluppo Domanda e Gestione'!X215)*(1+'10 Schema Sintesi'!$E$202))","v":0},{"$f":"IF('4 Sviluppo Domanda e Gestione'!Y41>'2 Descrizione Progetto'!$D$22,0,IF(AND('4 Sviluppo Domanda e Gestione'!Z41>='2 Descrizione Progetto'!$D$17,'4 Sviluppo Domanda e Gestione'!Z41<='2 Descrizione Progetto'!$D$19),0,'4 Sviluppo Domanda e Gestione'!Y215)*(1+'10 Schema Sintesi'!$E$202))","v":0},{"$f":"IF('4 Sviluppo Domanda e Gestione'!Z41>'2 Descrizione Progetto'!$D$22,0,IF(AND('4 Sviluppo Domanda e Gestione'!AA41>='2 Descrizione Progetto'!$D$17,'4 Sviluppo Domanda e Gestione'!AA41<='2 Descrizione Progetto'!$D$19),0,'4 Sviluppo Domanda e Gestione'!Z215)*(1+'10 Schema Sintesi'!$E$202))","v":0},{"$f":"IF('4 Sviluppo Domanda e Gestione'!AA41>'2 Descrizione Progetto'!$D$22,0,IF(AND('4 Sviluppo Domanda e Gestione'!AB41>='2 Descrizione Progetto'!$D$17,'4 Sviluppo Domanda e Gestione'!AB41<='2 Descrizione Progetto'!$D$19),0,'4 Sviluppo Domanda e Gestione'!AA215)*(1+'10 Schema Sintesi'!$E$202))","v":0},{"$f":"IF('4 Sviluppo Domanda e Gestione'!AB41>'2 Descrizione Progetto'!$D$22,0,IF(AND('4 Sviluppo Domanda e Gestione'!AC41>='2 Descrizione Progetto'!$D$17,'4 Sviluppo Domanda e Gestione'!AC41<='2 Descrizione Progetto'!$D$19),0,'4 Sviluppo Domanda e Gestione'!AB215)*(1+'10 Schema Sintesi'!$E$202))","v":0},{"$f":"IF('4 Sviluppo Domanda e Gestione'!AC41>'2 Descrizione Progetto'!$D$22,0,IF(AND('4 Sviluppo Domanda e Gestione'!AD41>='2 Descrizione Progetto'!$D$17,'4 Sviluppo Domanda e Gestione'!AD41<='2 Descrizione Progetto'!$D$19),0,'4 Sviluppo Domanda e Gestione'!AC215)*(1+'10 Schema Sintesi'!$E$202))","v":0},{"$f":"IF('4 Sviluppo Domanda e Gestione'!AD41>'2 Descrizione Progetto'!$D$22,0,IF(AND('4 Sviluppo Domanda e Gestione'!AE41>='2 Descrizione Progetto'!$D$17,'4 Sviluppo Domanda e Gestione'!AE41<='2 Descrizione Progetto'!$D$19),0,'4 Sviluppo Domanda e Gestione'!AD215)*(1+'10 Schema Sintesi'!$E$202))","v":0},{"$f":"IF('4 Sviluppo Domanda e Gestione'!AE41>'2 Descrizione Progetto'!$D$22,0,IF(AND('4 Sviluppo Domanda e Gestione'!AF41>='2 Descrizione Progetto'!$D$17,'4 Sviluppo Domanda e Gestione'!AF41<='2 Descrizione Progetto'!$D$19),0,'4 Sviluppo Domanda e Gestione'!AE215)*(1+'10 Schema Sintesi'!$E$202))","v":0},{"$f":"IF('4 Sviluppo Domanda e Gestione'!AF41>'2 Descrizione Progetto'!$D$22,0,IF(AND('4 Sviluppo Domanda e Gestione'!AG41>='2 Descrizione Progetto'!$D$17,'4 Sviluppo Domanda e Gestione'!AG41<='2 Descrizione Progetto'!$D$19),0,'4 Sviluppo Domanda e Gestione'!AF215)*(1+'10 Schema Sintesi'!$E$202))","v":0},{"$f":"IF('4 Sviluppo Domanda e Gestione'!AG41>'2 Descrizione Progetto'!$D$22,0,IF(AND('4 Sviluppo Domanda e Gestione'!AH41>='2 Descrizione Progetto'!$D$17,'4 Sviluppo Domanda e Gestione'!AH41<='2 Descrizione Progetto'!$D$19),0,'4 Sviluppo Domanda e Gestione'!AG215)*(1+'10 Schema Sintesi'!$E$202))","v":0},{"$f":"IF('4 Sviluppo Domanda e Gestione'!AH41>'2 Descrizione Progetto'!$D$22,0,IF(AND('4 Sviluppo Domanda e Gestione'!AI41>='2 Descrizione Progetto'!$D$17,'4 Sviluppo Domanda e Gestione'!AI41<='2 Descrizione Progetto'!$D$19),0,'4 Sviluppo Domanda e Gestione'!AH215)*(1+'10 Schema Sintesi'!$E$202))","v":0},{"$f":"IF('4 Sviluppo Domanda e Gestione'!AI41>'2 Descrizione Progetto'!$D$22,0,IF(AND('4 Sviluppo Domanda e Gestione'!AJ41>='2 Descrizione Progetto'!$D$17,'4 Sviluppo Domanda e Gestione'!AJ41<='2 Descrizione Progetto'!$D$19),0,'4 Sviluppo Domanda e Gestione'!AI215)*(1+'10 Schema Sintesi'!$E$202))","v":0},{"$f":"IF('4 Sviluppo Domanda e Gestione'!AJ41>'2 Descrizione Progetto'!$D$22,0,IF(AND('4 Sviluppo Domanda e Gestione'!AK41>='2 Descrizione Progetto'!$D$17,'4 Sviluppo Domanda e Gestione'!AK41<='2 Descrizione Progetto'!$D$19),0,'4 Sviluppo Domanda e Gestione'!AJ215)*(1+'10 Schema Sintesi'!$E$202))","v":0},{"$f":"IF('4 Sviluppo Domanda e Gestione'!AK41>'2 Descrizione Progetto'!$D$22,0,IF(AND('4 Sviluppo Domanda e Gestione'!AL41>='2 Descrizione Progetto'!$D$17,'4 Sviluppo Domanda e Gestione'!AL41<='2 Descrizione Progetto'!$D$19),0,'4 Sviluppo Domanda e Gestione'!AK215)*(1+'10 Schema Sintesi'!$E$202))","v":0},{"$f":"IF('4 Sviluppo Domanda e Gestione'!AL41>'2 Descrizione Progetto'!$D$22,0,IF(AND('4 Sviluppo Domanda e Gestione'!AM41>='2 Descrizione Progetto'!$D$17,'4 Sviluppo Domanda e Gestione'!AM41<='2 Descrizione Progetto'!$D$19),0,'4 Sviluppo Domanda e Gestione'!AL215)*(1+'10 Schema Sintesi'!$E$202))","v":0},{"$f":"IF('4 Sviluppo Domanda e Gestione'!AM41>'2 Descrizione Progetto'!$D$22,0,IF(AND('4 Sviluppo Domanda e Gestione'!AN41>='2 Descrizione Progetto'!$D$17,'4 Sviluppo Domanda e Gestione'!AN41<='2 Descrizione Progetto'!$D$19),0,'4 Sviluppo Domanda e Gestione'!AM215)*(1+'10 Schema Sintesi'!$E$202))","v":0},{"$f":"IF('4 Sviluppo Domanda e Gestione'!AN41>'2 Descrizione Progetto'!$D$22,0,IF(AND('4 Sviluppo Domanda e Gestione'!AO41>='2 Descrizione Progetto'!$D$17,'4 Sviluppo Domanda e Gestione'!AO41<='2 Descrizione Progetto'!$D$19),0,'4 Sviluppo Domanda e Gestione'!AN215)*(1+'10 Schema Sintesi'!$E$202))","v":0},{"$f":"IF('4 Sviluppo Domanda e Gestione'!AO41>'2 Descrizione Progetto'!$D$22,0,IF(AND('4 Sviluppo Domanda e Gestione'!AP41>='2 Descrizione Progetto'!$D$17,'4 Sviluppo Domanda e Gestione'!AP41<='2 Descrizione Progetto'!$D$19),0,'4 Sviluppo Domanda e Gestione'!AO215)*(1+'10 Schema Sintesi'!$E$202))","v":0},{"$f":"IF('4 Sviluppo Domanda e Gestione'!AP41>'2 Descrizione Progetto'!$D$22,0,IF(AND('4 Sviluppo Domanda e Gestione'!AQ41>='2 Descrizione Progetto'!$D$17,'4 Sviluppo Domanda e Gestione'!AQ41<='2 Descrizione Progetto'!$D$19),0,'4 Sviluppo Domanda e Gestione'!AP215)*(1+'10 Schema Sintesi'!$E$202))","v":0},{"$f":"IF('4 Sviluppo Domanda e Gestione'!AQ41>'2 Descrizione Progetto'!$D$22,0,IF(AND('4 Sviluppo Domanda e Gestione'!AR41>='2 Descrizione Progetto'!$D$17,'4 Sviluppo Domanda e Gestione'!AR41<='2 Descrizione Progetto'!$D$19),0,'4 Sviluppo Domanda e Gestione'!AQ215)*(1+'10 Schema Sintesi'!$E$202))","v":0},{"$f":"IF('4 Sviluppo Domanda e Gestione'!AR41>'2 Descrizione Progetto'!$D$22,0,IF(AND('4 Sviluppo Domanda e Gestione'!AS41>='2 Descrizione Progetto'!$D$17,'4 Sviluppo Domanda e Gestione'!AS41<='2 Descrizione Progetto'!$D$19),0,'4 Sviluppo Domanda e Gestione'!AR215)*(1+'10 Schema Sintesi'!$E$202))","v":0},{"$f":"IF('4 Sviluppo Domanda e Gestione'!AS41>'2 Descrizione Progetto'!$D$22,0,IF(AND('4 Sviluppo Domanda e Gestione'!AT41>='2 Descrizione Progetto'!$D$17,'4 Sviluppo Domanda e Gestione'!AT41<='2 Descrizione Progetto'!$D$19),0,'4 Sviluppo Domanda e Gestione'!AS215)*(1+'10 Schema Sintesi'!$E$202))","v":0},{"$f":"IF('4 Sviluppo Domanda e Gestione'!AT41>'2 Descrizione Progetto'!$D$22,0,IF(AND('4 Sviluppo Domanda e Gestione'!AU41>='2 Descrizione Progetto'!$D$17,'4 Sviluppo Domanda e Gestione'!AU41<='2 Descrizione Progetto'!$D$19),0,'4 Sviluppo Domanda e Gestione'!AT215)*(1+'10 Schema Sintesi'!$E$202))","v":0},{"$f":"IF('4 Sviluppo Domanda e Gestione'!AU41>'2 Descrizione Progetto'!$D$22,0,IF(AND('4 Sviluppo Domanda e Gestione'!AV41>='2 Descrizione Progetto'!$D$17,'4 Sviluppo Domanda e Gestione'!AV41<='2 Descrizione Progetto'!$D$19),0,'4 Sviluppo Domanda e Gestione'!AU215)*(1+'10 Schema Sintesi'!$E$202))","v":0},{"$f":"IF('4 Sviluppo Domanda e Gestione'!AV41>'2 Descrizione Progetto'!$D$22,0,IF(AND('4 Sviluppo Domanda e Gestione'!AW41>='2 Descrizione Progetto'!$D$17,'4 Sviluppo Domanda e Gestione'!AW41<='2 Descrizione Progetto'!$D$19),0,'4 Sviluppo Domanda e Gestione'!AV215)*(1+'10 Schema Sintesi'!$E$202))","v":0},{"$f":"IF('4 Sviluppo Domanda e Gestione'!AW41>'2 Descrizione Progetto'!$D$22,0,IF(AND('4 Sviluppo Domanda e Gestione'!AX41>='2 Descrizione Progetto'!$D$17,'4 Sviluppo Domanda e Gestione'!AX41<='2 Descrizione Progetto'!$D$19),0,'4 Sviluppo Domanda e Gestione'!AW215)*(1+'10 Schema Sintesi'!$E$202))","v":0},{"$f":"IF('4 Sviluppo Domanda e Gestione'!AX41>'2 Descrizione Progetto'!$D$22,0,IF(AND('4 Sviluppo Domanda e Gestione'!AY41>='2 Descrizione Progetto'!$D$17,'4 Sviluppo Domanda e Gestione'!AY41<='2 Descrizione Progetto'!$D$19),0,'4 Sviluppo Domanda e Gestione'!AX215)*(1+'10 Schema Sintesi'!$E$202))","v":0},{"$f":"IF('4 Sviluppo Domanda e Gestione'!AY41>'2 Descrizione Progetto'!$D$22,0,IF(AND('4 Sviluppo Domanda e Gestione'!AZ41>='2 Descrizione Progetto'!$D$17,'4 Sviluppo Domanda e Gestione'!AZ41<='2 Descrizione Progetto'!$D$19),0,'4 Sviluppo Domanda e Gestione'!AY215)*(1+'10 Schema Sintesi'!$E$202))","v":0},{"$f":"IF('4 Sviluppo Domanda e Gestione'!AZ41>'2 Descrizione Progetto'!$D$22,0,IF(AND('4 Sviluppo Domanda e Gestione'!BA41>='2 Descrizione Progetto'!$D$17,'4 Sviluppo Domanda e Gestione'!BA41<='2 Descrizione Progetto'!$D$19),0,'4 Sviluppo Domanda e Gestione'!AZ215)*(1+'10 Schema Sintesi'!$E$202))","v":0},{"$f":"IF('4 Sviluppo Domanda e Gestione'!BA41>'2 Descrizione Progetto'!$D$22,0,IF(AND('4 Sviluppo Domanda e Gestione'!BB41>='2 Descrizione Progetto'!$D$17,'4 Sviluppo Domanda e Gestione'!BB41<='2 Descrizione Progetto'!$D$19),0,'4 Sviluppo Domanda e Gestione'!BA215)*(1+'10 Schema Sintesi'!$E$202))","v":0},{"$f":"IF('4 Sviluppo Domanda e Gestione'!BB41>'2 Descrizione Progetto'!$D$22,0,IF(AND('4 Sviluppo Domanda e Gestione'!BC41>='2 Descrizione Progetto'!$D$17,'4 Sviluppo Domanda e Gestione'!BC41<='2 Descrizione Progetto'!$D$19),0,'4 Sviluppo Domanda e Gestione'!BB215)*(1+'10 Schema Sintesi'!$E$202))","v":0},{"$f":"IF('4 Sviluppo Domanda e Gestione'!BC41>'2 Descrizione Progetto'!$D$22,0,IF(AND('4 Sviluppo Domanda e Gestione'!BD41>='2 Descrizione Progetto'!$D$17,'4 Sviluppo Domanda e Gestione'!BD41<='2 Descrizione Progetto'!$D$19),0,'4 Sviluppo Domanda e Gestione'!BC215)*(1+'10 Schema Sintesi'!$E$202))","v":0},{"$f":"IF('4 Sviluppo Domanda e Gestione'!BD41>'2 Descrizione Progetto'!$D$22,0,IF(AND('4 Sviluppo Domanda e Gestione'!BE41>='2 Descrizione Progetto'!$D$17,'4 Sviluppo Domanda e Gestione'!BE41<='2 Descrizione Progetto'!$D$19),0,'4 Sviluppo Domanda e Gestione'!BD215)*(1+'10 Schema Sintesi'!$E$202))","v":0},{"$f":"IF('4 Sviluppo Domanda e Gestione'!BE41>'2 Descrizione Progetto'!$D$22,0,IF(AND('4 Sviluppo Domanda e Gestione'!BF41>='2 Descrizione Progetto'!$D$17,'4 Sviluppo Domanda e Gestione'!BF41<='2 Descrizione Progetto'!$D$19),0,'4 Sviluppo Domanda e Gestione'!BE215)*(1+'10 Schema Sintesi'!$E$202))","v":0},{"$f":"IF('4 Sviluppo Domanda e Gestione'!BF41>'2 Descrizione Progetto'!$D$22,0,IF(AND('4 Sviluppo Domanda e Gestione'!BG41>='2 Descrizione Progetto'!$D$17,'4 Sviluppo Domanda e Gestione'!BG41<='2 Descrizione Progetto'!$D$19),0,'4 Sviluppo Domanda e Gestione'!BF215)*(1+'10 Schema Sintesi'!$E$202))","v":0},{"$f":"IF('4 Sviluppo Domanda e Gestione'!BG41>'2 Descrizione Progetto'!$D$22,0,IF(AND('4 Sviluppo Domanda e Gestione'!BH41>='2 Descrizione Progetto'!$D$17,'4 Sviluppo Domanda e Gestione'!BH41<='2 Descrizione Progetto'!$D$19),0,'4 Sviluppo Domanda e Gestione'!BG215)*(1+'10 Schema Sintesi'!$E$202))","v":0},{"$f":"IF('4 Sviluppo Domanda e Gestione'!BH41>'2 Descrizione Progetto'!$D$22,0,IF(AND('4 Sviluppo Domanda e Gestione'!BI41>='2 Descrizione Progetto'!$D$17,'4 Sviluppo Domanda e Gestione'!BI41<='2 Descrizione Progetto'!$D$19),0,'4 Sviluppo Domanda e Gestione'!BH215)*(1+'10 Schema Sintesi'!$E$202))","v":0},{"$f":"IF('4 Sviluppo Domanda e Gestione'!BI41>'2 Descrizione Progetto'!$D$22,0,IF(AND('4 Sviluppo Domanda e Gestione'!BJ41>='2 Descrizione Progetto'!$D$17,'4 Sviluppo Domanda e Gestione'!BJ41<='2 Descrizione Progetto'!$D$19),0,'4 Sviluppo Domanda e Gestione'!BI215)*(1+'10 Schema Sintesi'!$E$202))","v":0},{"$f":"IF('4 Sviluppo Domanda e Gestione'!BJ41>'2 Descrizione Progetto'!$D$22,0,IF(AND('4 Sviluppo Domanda e Gestione'!BK41>='2 Descrizione Progetto'!$D$17,'4 Sviluppo Domanda e Gestione'!BK41<='2 Descrizione Progetto'!$D$19),0,'4 Sviluppo Domanda e Gestione'!BJ215)*(1+'10 Schema Sintesi'!$E$202))","v":0},{"$f":"IF('4 Sviluppo Domanda e Gestione'!BK41>'2 Descrizione Progetto'!$D$22,0,IF(AND('4 Sviluppo Domanda e Gestione'!BL41>='2 Descrizione Progetto'!$D$17,'4 Sviluppo Domanda e Gestione'!BL41<='2 Descrizione Progetto'!$D$19),0,'4 Sviluppo Domanda e Gestione'!BK215)*(1+'10 Schema Sintesi'!$E$202))","v":0},{"$f":"IF('4 Sviluppo Domanda e Gestione'!BL41>'2 Descrizione Progetto'!$D$22,0,IF(AND('4 Sviluppo Domanda e Gestione'!#REF!>='2 Descrizione Progetto'!$D$17,'4 Sviluppo Domanda e Gestione'!#REF!<='2 Descrizione Progetto'!$D$19),0,'4 Sviluppo Domanda e Gestione'!BL215)*(1+'10 Schema Sintesi'!$E$202))","v":0},0]
[null,6,"Oneri diversi di gestione",null,{"$f":"IF('4 Sviluppo Domanda e Gestione'!E41>'2 Descrizione Progetto'!$D$22,0,IF(AND('4 Sviluppo Domanda e Gestione'!F41>='2 Descrizione Progetto'!$D$17,'4 Sviluppo Domanda e Gestione'!F41<='2 Descrizione Progetto'!$D$19),0,'4 Sviluppo Domanda e Gestione'!E216)*(1+'10 Schema Sintesi'!$E$202))","v":6000},{"$f":"IF('4 Sviluppo Domanda e Gestione'!F41>'2 Descrizione Progetto'!$D$22,0,IF(AND('4 Sviluppo Domanda e Gestione'!G41>='2 Descrizione Progetto'!$D$17,'4 Sviluppo Domanda e Gestione'!G41<='2 Descrizione Progetto'!$D$19),0,'4 Sviluppo Domanda e Gestione'!F216)*(1+'10 Schema Sintesi'!$E$202))","v":6120},{"$f":"IF('4 Sviluppo Domanda e Gestione'!G41>'2 Descrizione Progetto'!$D$22,0,IF(AND('4 Sviluppo Domanda e Gestione'!H41>='2 Descrizione Progetto'!$D$17,'4 Sviluppo Domanda e Gestione'!H41<='2 Descrizione Progetto'!$D$19),0,'4 Sviluppo Domanda e Gestione'!G216)*(1+'10 Schema Sintesi'!$E$202))","v":6242.4},{"$f":"IF('4 Sviluppo Domanda e Gestione'!H41>'2 Descrizione Progetto'!$D$22,0,IF(AND('4 Sviluppo Domanda e Gestione'!I41>='2 Descrizione Progetto'!$D$17,'4 Sviluppo Domanda e Gestione'!I41<='2 Descrizione Progetto'!$D$19),0,'4 Sviluppo Domanda e Gestione'!H216)*(1+'10 Schema Sintesi'!$E$202))","v":6367.2479999999996},{"$f":"IF('4 Sviluppo Domanda e Gestione'!I41>'2 Descrizione Progetto'!$D$22,0,IF(AND('4 Sviluppo Domanda e Gestione'!J41>='2 Descrizione Progetto'!$D$17,'4 Sviluppo Domanda e Gestione'!J41<='2 Descrizione Progetto'!$D$19),0,'4 Sviluppo Domanda e Gestione'!I216)*(1+'10 Schema Sintesi'!$E$202))","v":6494.5929599999999},{"$f":"IF('4 Sviluppo Domanda e Gestione'!J41>'2 Descrizione Progetto'!$D$22,0,IF(AND('4 Sviluppo Domanda e Gestione'!K41>='2 Descrizione Progetto'!$D$17,'4 Sviluppo Domanda e Gestione'!K41<='2 Descrizione Progetto'!$D$19),0,'4 Sviluppo Domanda e Gestione'!J216)*(1+'10 Schema Sintesi'!$E$202))","v":6624.4848191999999},{"$f":"IF('4 Sviluppo Domanda e Gestione'!K41>'2 Descrizione Progetto'!$D$22,0,IF(AND('4 Sviluppo Domanda e Gestione'!L41>='2 Descrizione Progetto'!$D$17,'4 Sviluppo Domanda e Gestione'!L41<='2 Descrizione Progetto'!$D$19),0,'4 Sviluppo Domanda e Gestione'!K216)*(1+'10 Schema Sintesi'!$E$202))","v":6756.9745155840001},{"$f":"IF('4 Sviluppo Domanda e Gestione'!L41>'2 Descrizione Progetto'!$D$22,0,IF(AND('4 Sviluppo Domanda e Gestione'!M41>='2 Descrizione Progetto'!$D$17,'4 Sviluppo Domanda e Gestione'!M41<='2 Descrizione Progetto'!$D$19),0,'4 Sviluppo Domanda e Gestione'!L216)*(1+'10 Schema Sintesi'!$E$202))","v":6892.1140058956798},{"$f":"IF('4 Sviluppo Domanda e Gestione'!M41>'2 Descrizione Progetto'!$D$22,0,IF(AND('4 Sviluppo Domanda e Gestione'!N41>='2 Descrizione Progetto'!$D$17,'4 Sviluppo Domanda e Gestione'!N41<='2 Descrizione Progetto'!$D$19),0,'4 Sviluppo Domanda e Gestione'!M216)*(1+'10 Schema Sintesi'!$E$202))","v":7029.9562860135948},{"$f":"IF('4 Sviluppo Domanda e Gestione'!N41>'2 Descrizione Progetto'!$D$22,0,IF(AND('4 Sviluppo Domanda e Gestione'!O41>='2 Descrizione Progetto'!$D$17,'4 Sviluppo Domanda e Gestione'!O41<='2 Descrizione Progetto'!$D$19),0,'4 Sviluppo Domanda e Gestione'!N216)*(1+'10 Schema Sintesi'!$E$202))","v":7170.5554117338661},{"$f":"IF('4 Sviluppo Domanda e Gestione'!O41>'2 Descrizione Progetto'!$D$22,0,IF(AND('4 Sviluppo Domanda e Gestione'!P41>='2 Descrizione Progetto'!$D$17,'4 Sviluppo Domanda e Gestione'!P41<='2 Descrizione Progetto'!$D$19),0,'4 Sviluppo Domanda e Gestione'!O216)*(1+'10 Schema Sintesi'!$E$202))","v":0},{"$f":"IF('4 Sviluppo Domanda e Gestione'!P41>'2 Descrizione Progetto'!$D$22,0,IF(AND('4 Sviluppo Domanda e Gestione'!Q41>='2 Descrizione Progetto'!$D$17,'4 Sviluppo Domanda e Gestione'!Q41<='2 Descrizione Progetto'!$D$19),0,'4 Sviluppo Domanda e Gestione'!P216)*(1+'10 Schema Sintesi'!$E$202))","v":0},{"$f":"IF('4 Sviluppo Domanda e Gestione'!Q41>'2 Descrizione Progetto'!$D$22,0,IF(AND('4 Sviluppo Domanda e Gestione'!R41>='2 Descrizione Progetto'!$D$17,'4 Sviluppo Domanda e Gestione'!R41<='2 Descrizione Progetto'!$D$19),0,'4 Sviluppo Domanda e Gestione'!Q216)*(1+'10 Schema Sintesi'!$E$202))","v":0},{"$f":"IF('4 Sviluppo Domanda e Gestione'!R41>'2 Descrizione Progetto'!$D$22,0,IF(AND('4 Sviluppo Domanda e Gestione'!S41>='2 Descrizione Progetto'!$D$17,'4 Sviluppo Domanda e Gestione'!S41<='2 Descrizione Progetto'!$D$19),0,'4 Sviluppo Domanda e Gestione'!R216)*(1+'10 Schema Sintesi'!$E$202))","v":0},{"$f":"IF('4 Sviluppo Domanda e Gestione'!S41>'2 Descrizione Progetto'!$D$22,0,IF(AND('4 Sviluppo Domanda e Gestione'!T41>='2 Descrizione Progetto'!$D$17,'4 Sviluppo Domanda e Gestione'!T41<='2 Descrizione Progetto'!$D$19),0,'4 Sviluppo Domanda e Gestione'!S216)*(1+'10 Schema Sintesi'!$E$202))","v":0},{"$f":"IF('4 Sviluppo Domanda e Gestione'!T41>'2 Descrizione Progetto'!$D$22,0,IF(AND('4 Sviluppo Domanda e Gestione'!U41>='2 Descrizione Progetto'!$D$17,'4 Sviluppo Domanda e Gestione'!U41<='2 Descrizione Progetto'!$D$19),0,'4 Sviluppo Domanda e Gestione'!T216)*(1+'10 Schema Sintesi'!$E$202))","v":0},{"$f":"IF('4 Sviluppo Domanda e Gestione'!U41>'2 Descrizione Progetto'!$D$22,0,IF(AND('4 Sviluppo Domanda e Gestione'!V41>='2 Descrizione Progetto'!$D$17,'4 Sviluppo Domanda e Gestione'!V41<='2 Descrizione Progetto'!$D$19),0,'4 Sviluppo Domanda e Gestione'!U216)*(1+'10 Schema Sintesi'!$E$202))","v":0},{"$f":"IF('4 Sviluppo Domanda e Gestione'!V41>'2 Descrizione Progetto'!$D$22,0,IF(AND('4 Sviluppo Domanda e Gestione'!W41>='2 Descrizione Progetto'!$D$17,'4 Sviluppo Domanda e Gestione'!W41<='2 Descrizione Progetto'!$D$19),0,'4 Sviluppo Domanda e Gestione'!V216)*(1+'10 Schema Sintesi'!$E$202))","v":0},{"$f":"IF('4 Sviluppo Domanda e Gestione'!W41>'2 Descrizione Progetto'!$D$22,0,IF(AND('4 Sviluppo Domanda e Gestione'!X41>='2 Descrizione Progetto'!$D$17,'4 Sviluppo Domanda e Gestione'!X41<='2 Descrizione Progetto'!$D$19),0,'4 Sviluppo Domanda e Gestione'!W216)*(1+'10 Schema Sintesi'!$E$202))","v":0},{"$f":"IF('4 Sviluppo Domanda e Gestione'!X41>'2 Descrizione Progetto'!$D$22,0,IF(AND('4 Sviluppo Domanda e Gestione'!Y41>='2 Descrizione Progetto'!$D$17,'4 Sviluppo Domanda e Gestione'!Y41<='2 Descrizione Progetto'!$D$19),0,'4 Sviluppo Domanda e Gestione'!X216)*(1+'10 Schema Sintesi'!$E$202))","v":0},{"$f":"IF('4 Sviluppo Domanda e Gestione'!Y41>'2 Descrizione Progetto'!$D$22,0,IF(AND('4 Sviluppo Domanda e Gestione'!Z41>='2 Descrizione Progetto'!$D$17,'4 Sviluppo Domanda e Gestione'!Z41<='2 Descrizione Progetto'!$D$19),0,'4 Sviluppo Domanda e Gestione'!Y216)*(1+'10 Schema Sintesi'!$E$202))","v":0},{"$f":"IF('4 Sviluppo Domanda e Gestione'!Z41>'2 Descrizione Progetto'!$D$22,0,IF(AND('4 Sviluppo Domanda e Gestione'!AA41>='2 Descrizione Progetto'!$D$17,'4 Sviluppo Domanda e Gestione'!AA41<='2 Descrizione Progetto'!$D$19),0,'4 Sviluppo Domanda e Gestione'!Z216)*(1+'10 Schema Sintesi'!$E$202))","v":0},{"$f":"IF('4 Sviluppo Domanda e Gestione'!AA41>'2 Descrizione Progetto'!$D$22,0,IF(AND('4 Sviluppo Domanda e Gestione'!AB41>='2 Descrizione Progetto'!$D$17,'4 Sviluppo Domanda e Gestione'!AB41<='2 Descrizione Progetto'!$D$19),0,'4 Sviluppo Domanda e Gestione'!AA216)*(1+'10 Schema Sintesi'!$E$202))","v":0},{"$f":"IF('4 Sviluppo Domanda e Gestione'!AB41>'2 Descrizione Progetto'!$D$22,0,IF(AND('4 Sviluppo Domanda e Gestione'!AC41>='2 Descrizione Progetto'!$D$17,'4 Sviluppo Domanda e Gestione'!AC41<='2 Descrizione Progetto'!$D$19),0,'4 Sviluppo Domanda e Gestione'!AB216)*(1+'10 Schema Sintesi'!$E$202))","v":0},{"$f":"IF('4 Sviluppo Domanda e Gestione'!AC41>'2 Descrizione Progetto'!$D$22,0,IF(AND('4 Sviluppo Domanda e Gestione'!AD41>='2 Descrizione Progetto'!$D$17,'4 Sviluppo Domanda e Gestione'!AD41<='2 Descrizione Progetto'!$D$19),0,'4 Sviluppo Domanda e Gestione'!AC216)*(1+'10 Schema Sintesi'!$E$202))","v":0},{"$f":"IF('4 Sviluppo Domanda e Gestione'!AD41>'2 Descrizione Progetto'!$D$22,0,IF(AND('4 Sviluppo Domanda e Gestione'!AE41>='2 Descrizione Progetto'!$D$17,'4 Sviluppo Domanda e Gestione'!AE41<='2 Descrizione Progetto'!$D$19),0,'4 Sviluppo Domanda e Gestione'!AD216)*(1+'10 Schema Sintesi'!$E$202))","v":0},{"$f":"IF('4 Sviluppo Domanda e Gestione'!AE41>'2 Descrizione Progetto'!$D$22,0,IF(AND('4 Sviluppo Domanda e Gestione'!AF41>='2 Descrizione Progetto'!$D$17,'4 Sviluppo Domanda e Gestione'!AF41<='2 Descrizione Progetto'!$D$19),0,'4 Sviluppo Domanda e Gestione'!AE216)*(1+'10 Schema Sintesi'!$E$202))","v":0},{"$f":"IF('4 Sviluppo Domanda e Gestione'!AF41>'2 Descrizione Progetto'!$D$22,0,IF(AND('4 Sviluppo Domanda e Gestione'!AG41>='2 Descrizione Progetto'!$D$17,'4 Sviluppo Domanda e Gestione'!AG41<='2 Descrizione Progetto'!$D$19),0,'4 Sviluppo Domanda e Gestione'!AF216)*(1+'10 Schema Sintesi'!$E$202))","v":0},{"$f":"IF('4 Sviluppo Domanda e Gestione'!AG41>'2 Descrizione Progetto'!$D$22,0,IF(AND('4 Sviluppo Domanda e Gestione'!AH41>='2 Descrizione Progetto'!$D$17,'4 Sviluppo Domanda e Gestione'!AH41<='2 Descrizione Progetto'!$D$19),0,'4 Sviluppo Domanda e Gestione'!AG216)*(1+'10 Schema Sintesi'!$E$202))","v":0},{"$f":"IF('4 Sviluppo Domanda e Gestione'!AH41>'2 Descrizione Progetto'!$D$22,0,IF(AND('4 Sviluppo Domanda e Gestione'!AI41>='2 Descrizione Progetto'!$D$17,'4 Sviluppo Domanda e Gestione'!AI41<='2 Descrizione Progetto'!$D$19),0,'4 Sviluppo Domanda e Gestione'!AH216)*(1+'10 Schema Sintesi'!$E$202))","v":0},{"$f":"IF('4 Sviluppo Domanda e Gestione'!AI41>'2 Descrizione Progetto'!$D$22,0,IF(AND('4 Sviluppo Domanda e Gestione'!AJ41>='2 Descrizione Progetto'!$D$17,'4 Sviluppo Domanda e Gestione'!AJ41<='2 Descrizione Progetto'!$D$19),0,'4 Sviluppo Domanda e Gestione'!AI216)*(1+'10 Schema Sintesi'!$E$202))","v":0},{"$f":"IF('4 Sviluppo Domanda e Gestione'!AJ41>'2 Descrizione Progetto'!$D$22,0,IF(AND('4 Sviluppo Domanda e Gestione'!AK41>='2 Descrizione Progetto'!$D$17,'4 Sviluppo Domanda e Gestione'!AK41<='2 Descrizione Progetto'!$D$19),0,'4 Sviluppo Domanda e Gestione'!AJ216)*(1+'10 Schema Sintesi'!$E$202))","v":0},{"$f":"IF('4 Sviluppo Domanda e Gestione'!AK41>'2 Descrizione Progetto'!$D$22,0,IF(AND('4 Sviluppo Domanda e Gestione'!AL41>='2 Descrizione Progetto'!$D$17,'4 Sviluppo Domanda e Gestione'!AL41<='2 Descrizione Progetto'!$D$19),0,'4 Sviluppo Domanda e Gestione'!AK216)*(1+'10 Schema Sintesi'!$E$202))","v":0},{"$f":"IF('4 Sviluppo Domanda e Gestione'!AL41>'2 Descrizione Progetto'!$D$22,0,IF(AND('4 Sviluppo Domanda e Gestione'!AM41>='2 Descrizione Progetto'!$D$17,'4 Sviluppo Domanda e Gestione'!AM41<='2 Descrizione Progetto'!$D$19),0,'4 Sviluppo Domanda e Gestione'!AL216)*(1+'10 Schema Sintesi'!$E$202))","v":0},{"$f":"IF('4 Sviluppo Domanda e Gestione'!AM41>'2 Descrizione Progetto'!$D$22,0,IF(AND('4 Sviluppo Domanda e Gestione'!AN41>='2 Descrizione Progetto'!$D$17,'4 Sviluppo Domanda e Gestione'!AN41<='2 Descrizione Progetto'!$D$19),0,'4 Sviluppo Domanda e Gestione'!AM216)*(1+'10 Schema Sintesi'!$E$202))","v":0},{"$f":"IF('4 Sviluppo Domanda e Gestione'!AN41>'2 Descrizione Progetto'!$D$22,0,IF(AND('4 Sviluppo Domanda e Gestione'!AO41>='2 Descrizione Progetto'!$D$17,'4 Sviluppo Domanda e Gestione'!AO41<='2 Descrizione Progetto'!$D$19),0,'4 Sviluppo Domanda e Gestione'!AN216)*(1+'10 Schema Sintesi'!$E$202))","v":0},{"$f":"IF('4 Sviluppo Domanda e Gestione'!AO41>'2 Descrizione Progetto'!$D$22,0,IF(AND('4 Sviluppo Domanda e Gestione'!AP41>='2 Descrizione Progetto'!$D$17,'4 Sviluppo Domanda e Gestione'!AP41<='2 Descrizione Progetto'!$D$19),0,'4 Sviluppo Domanda e Gestione'!AO216)*(1+'10 Schema Sintesi'!$E$202))","v":0},{"$f":"IF('4 Sviluppo Domanda e Gestione'!AP41>'2 Descrizione Progetto'!$D$22,0,IF(AND('4 Sviluppo Domanda e Gestione'!AQ41>='2 Descrizione Progetto'!$D$17,'4 Sviluppo Domanda e Gestione'!AQ41<='2 Descrizione Progetto'!$D$19),0,'4 Sviluppo Domanda e Gestione'!AP216)*(1+'10 Schema Sintesi'!$E$202))","v":0},{"$f":"IF('4 Sviluppo Domanda e Gestione'!AQ41>'2 Descrizione Progetto'!$D$22,0,IF(AND('4 Sviluppo Domanda e Gestione'!AR41>='2 Descrizione Progetto'!$D$17,'4 Sviluppo Domanda e Gestione'!AR41<='2 Descrizione Progetto'!$D$19),0,'4 Sviluppo Domanda e Gestione'!AQ216)*(1+'10 Schema Sintesi'!$E$202))","v":0},{"$f":"IF('4 Sviluppo Domanda e Gestione'!AR41>'2 Descrizione Progetto'!$D$22,0,IF(AND('4 Sviluppo Domanda e Gestione'!AS41>='2 Descrizione Progetto'!$D$17,'4 Sviluppo Domanda e Gestione'!AS41<='2 Descrizione Progetto'!$D$19),0,'4 Sviluppo Domanda e Gestione'!AR216)*(1+'10 Schema Sintesi'!$E$202))","v":0},{"$f":"IF('4 Sviluppo Domanda e Gestione'!AS41>'2 Descrizione Progetto'!$D$22,0,IF(AND('4 Sviluppo Domanda e Gestione'!AT41>='2 Descrizione Progetto'!$D$17,'4 Sviluppo Domanda e Gestione'!AT41<='2 Descrizione Progetto'!$D$19),0,'4 Sviluppo Domanda e Gestione'!AS216)*(1+'10 Schema Sintesi'!$E$202))","v":0},{"$f":"IF('4 Sviluppo Domanda e Gestione'!AT41>'2 Descrizione Progetto'!$D$22,0,IF(AND('4 Sviluppo Domanda e Gestione'!AU41>='2 Descrizione Progetto'!$D$17,'4 Sviluppo Domanda e Gestione'!AU41<='2 Descrizione Progetto'!$D$19),0,'4 Sviluppo Domanda e Gestione'!AT216)*(1+'10 Schema Sintesi'!$E$202))","v":0},{"$f":"IF('4 Sviluppo Domanda e Gestione'!AU41>'2 Descrizione Progetto'!$D$22,0,IF(AND('4 Sviluppo Domanda e Gestione'!AV41>='2 Descrizione Progetto'!$D$17,'4 Sviluppo Domanda e Gestione'!AV41<='2 Descrizione Progetto'!$D$19),0,'4 Sviluppo Domanda e Gestione'!AU216)*(1+'10 Schema Sintesi'!$E$202))","v":0},{"$f":"IF('4 Sviluppo Domanda e Gestione'!AV41>'2 Descrizione Progetto'!$D$22,0,IF(AND('4 Sviluppo Domanda e Gestione'!AW41>='2 Descrizione Progetto'!$D$17,'4 Sviluppo Domanda e Gestione'!AW41<='2 Descrizione Progetto'!$D$19),0,'4 Sviluppo Domanda e Gestione'!AV216)*(1+'10 Schema Sintesi'!$E$202))","v":0},{"$f":"IF('4 Sviluppo Domanda e Gestione'!AW41>'2 Descrizione Progetto'!$D$22,0,IF(AND('4 Sviluppo Domanda e Gestione'!AX41>='2 Descrizione Progetto'!$D$17,'4 Sviluppo Domanda e Gestione'!AX41<='2 Descrizione Progetto'!$D$19),0,'4 Sviluppo Domanda e Gestione'!AW216)*(1+'10 Schema Sintesi'!$E$202))","v":0},{"$f":"IF('4 Sviluppo Domanda e Gestione'!AX41>'2 Descrizione Progetto'!$D$22,0,IF(AND('4 Sviluppo Domanda e Gestione'!AY41>='2 Descrizione Progetto'!$D$17,'4 Sviluppo Domanda e Gestione'!AY41<='2 Descrizione Progetto'!$D$19),0,'4 Sviluppo Domanda e Gestione'!AX216)*(1+'10 Schema Sintesi'!$E$202))","v":0},{"$f":"IF('4 Sviluppo Domanda e Gestione'!AY41>'2 Descrizione Progetto'!$D$22,0,IF(AND('4 Sviluppo Domanda e Gestione'!AZ41>='2 Descrizione Progetto'!$D$17,'4 Sviluppo Domanda e Gestione'!AZ41<='2 Descrizione Progetto'!$D$19),0,'4 Sviluppo Domanda e Gestione'!AY216)*(1+'10 Schema Sintesi'!$E$202))","v":0},{"$f":"IF('4 Sviluppo Domanda e Gestione'!AZ41>'2 Descrizione Progetto'!$D$22,0,IF(AND('4 Sviluppo Domanda e Gestione'!BA41>='2 Descrizione Progetto'!$D$17,'4 Sviluppo Domanda e Gestione'!BA41<='2 Descrizione Progetto'!$D$19),0,'4 Sviluppo Domanda e Gestione'!AZ216)*(1+'10 Schema Sintesi'!$E$202))","v":0},{"$f":"IF('4 Sviluppo Domanda e Gestione'!BA41>'2 Descrizione Progetto'!$D$22,0,IF(AND('4 Sviluppo Domanda e Gestione'!BB41>='2 Descrizione Progetto'!$D$17,'4 Sviluppo Domanda e Gestione'!BB41<='2 Descrizione Progetto'!$D$19),0,'4 Sviluppo Domanda e Gestione'!BA216)*(1+'10 Schema Sintesi'!$E$202))","v":0},{"$f":"IF('4 Sviluppo Domanda e Gestione'!BB41>'2 Descrizione Progetto'!$D$22,0,IF(AND('4 Sviluppo Domanda e Gestione'!BC41>='2 Descrizione Progetto'!$D$17,'4 Sviluppo Domanda e Gestione'!BC41<='2 Descrizione Progetto'!$D$19),0,'4 Sviluppo Domanda e Gestione'!BB216)*(1+'10 Schema Sintesi'!$E$202))","v":0},{"$f":"IF('4 Sviluppo Domanda e Gestione'!BC41>'2 Descrizione Progetto'!$D$22,0,IF(AND('4 Sviluppo Domanda e Gestione'!BD41>='2 Descrizione Progetto'!$D$17,'4 Sviluppo Domanda e Gestione'!BD41<='2 Descrizione Progetto'!$D$19),0,'4 Sviluppo Domanda e Gestione'!BC216)*(1+'10 Schema Sintesi'!$E$202))","v":0},{"$f":"IF('4 Sviluppo Domanda e Gestione'!BD41>'2 Descrizione Progetto'!$D$22,0,IF(AND('4 Sviluppo Domanda e Gestione'!BE41>='2 Descrizione Progetto'!$D$17,'4 Sviluppo Domanda e Gestione'!BE41<='2 Descrizione Progetto'!$D$19),0,'4 Sviluppo Domanda e Gestione'!BD216)*(1+'10 Schema Sintesi'!$E$202))","v":0},{"$f":"IF('4 Sviluppo Domanda e Gestione'!BE41>'2 Descrizione Progetto'!$D$22,0,IF(AND('4 Sviluppo Domanda e Gestione'!BF41>='2 Descrizione Progetto'!$D$17,'4 Sviluppo Domanda e Gestione'!BF41<='2 Descrizione Progetto'!$D$19),0,'4 Sviluppo Domanda e Gestione'!BE216)*(1+'10 Schema Sintesi'!$E$202))","v":0},{"$f":"IF('4 Sviluppo Domanda e Gestione'!BF41>'2 Descrizione Progetto'!$D$22,0,IF(AND('4 Sviluppo Domanda e Gestione'!BG41>='2 Descrizione Progetto'!$D$17,'4 Sviluppo Domanda e Gestione'!BG41<='2 Descrizione Progetto'!$D$19),0,'4 Sviluppo Domanda e Gestione'!BF216)*(1+'10 Schema Sintesi'!$E$202))","v":0},{"$f":"IF('4 Sviluppo Domanda e Gestione'!BG41>'2 Descrizione Progetto'!$D$22,0,IF(AND('4 Sviluppo Domanda e Gestione'!BH41>='2 Descrizione Progetto'!$D$17,'4 Sviluppo Domanda e Gestione'!BH41<='2 Descrizione Progetto'!$D$19),0,'4 Sviluppo Domanda e Gestione'!BG216)*(1+'10 Schema Sintesi'!$E$202))","v":0},{"$f":"IF('4 Sviluppo Domanda e Gestione'!BH41>'2 Descrizione Progetto'!$D$22,0,IF(AND('4 Sviluppo Domanda e Gestione'!BI41>='2 Descrizione Progetto'!$D$17,'4 Sviluppo Domanda e Gestione'!BI41<='2 Descrizione Progetto'!$D$19),0,'4 Sviluppo Domanda e Gestione'!BH216)*(1+'10 Schema Sintesi'!$E$202))","v":0},{"$f":"IF('4 Sviluppo Domanda e Gestione'!BI41>'2 Descrizione Progetto'!$D$22,0,IF(AND('4 Sviluppo Domanda e Gestione'!BJ41>='2 Descrizione Progetto'!$D$17,'4 Sviluppo Domanda e Gestione'!BJ41<='2 Descrizione Progetto'!$D$19),0,'4 Sviluppo Domanda e Gestione'!BI216)*(1+'10 Schema Sintesi'!$E$202))","v":0},{"$f":"IF('4 Sviluppo Domanda e Gestione'!BJ41>'2 Descrizione Progetto'!$D$22,0,IF(AND('4 Sviluppo Domanda e Gestione'!BK41>='2 Descrizione Progetto'!$D$17,'4 Sviluppo Domanda e Gestione'!BK41<='2 Descrizione Progetto'!$D$19),0,'4 Sviluppo Domanda e Gestione'!BJ216)*(1+'10 Schema Sintesi'!$E$202))","v":0},{"$f":"IF('4 Sviluppo Domanda e Gestione'!BK41>'2 Descrizione Progetto'!$D$22,0,IF(AND('4 Sviluppo Domanda e Gestione'!BL41>='2 Descrizione Progetto'!$D$17,'4 Sviluppo Domanda e Gestione'!BL41<='2 Descrizione Progetto'!$D$19),0,'4 Sviluppo Domanda e Gestione'!BK216)*(1+'10 Schema Sintesi'!$E$202))","v":0},{"$f":"IF('4 Sviluppo Domanda e Gestione'!BL41>'2 Descrizione Progetto'!$D$22,0,IF(AND('4 Sviluppo Domanda e Gestione'!#REF!>='2 Descrizione Progetto'!$D$17,'4 Sviluppo Domanda e Gestione'!#REF!<='2 Descrizione Progetto'!$D$19),0,'4 Sviluppo Domanda e Gestione'!BL216)*(1+'10 Schema Sintesi'!$E$202))","v":0},0]
[null,7,"Manutenzioni ordinarie",null,{"$f":"IF('4 Sviluppo Domanda e Gestione'!E41>'2 Descrizione Progetto'!$D$22,0,IF(AND('4 Sviluppo Domanda e Gestione'!F41>='2 Descrizione Progetto'!$D$17,'4 Sviluppo Domanda e Gestione'!F41<='2 Descrizione Progetto'!$D$19),0,'4 Sviluppo Domanda e Gestione'!E217)*(1+'10 Schema Sintesi'!$E$202))","v":16141.526},{"$f":"IF('4 Sviluppo Domanda e Gestione'!F41>'2 Descrizione Progetto'!$D$22,0,IF(AND('4 Sviluppo Domanda e Gestione'!G41>='2 Descrizione Progetto'!$D$17,'4 Sviluppo Domanda e Gestione'!G41<='2 Descrizione Progetto'!$D$19),0,'4 Sviluppo Domanda e Gestione'!F217)*(1+'10 Schema Sintesi'!$E$202))","v":16464.356520000001},{"$f":"IF('4 Sviluppo Domanda e Gestione'!G41>'2 Descrizione Progetto'!$D$22,0,IF(AND('4 Sviluppo Domanda e Gestione'!H41>='2 Descrizione Progetto'!$D$17,'4 Sviluppo Domanda e Gestione'!H41<='2 Descrizione Progetto'!$D$19),0,'4 Sviluppo Domanda e Gestione'!G217)*(1+'10 Schema Sintesi'!$E$202))","v":16793.643650400001},{"$f":"IF('4 Sviluppo Domanda e Gestione'!H41>'2 Descrizione Progetto'!$D$22,0,IF(AND('4 Sviluppo Domanda e Gestione'!I41>='2 Descrizione Progetto'!$D$17,'4 Sviluppo Domanda e Gestione'!I41<='2 Descrizione Progetto'!$D$19),0,'4 Sviluppo Domanda e Gestione'!H217)*(1+'10 Schema Sintesi'!$E$202))","v":17129.516523407998},{"$f":"IF('4 Sviluppo Domanda e Gestione'!I41>'2 Descrizione Progetto'!$D$22,0,IF(AND('4 Sviluppo Domanda e Gestione'!J41>='2 Descrizione Progetto'!$D$17,'4 Sviluppo Domanda e Gestione'!J41<='2 Descrizione Progetto'!$D$19),0,'4 Sviluppo Domanda e Gestione'!I217)*(1+'10 Schema Sintesi'!$E$202))","v":17472.106853876161},{"$f":"IF('4 Sviluppo Domanda e Gestione'!J41>'2 Descrizione Progetto'!$D$22,0,IF(AND('4 Sviluppo Domanda e Gestione'!K41>='2 Descrizione Progetto'!$D$17,'4 Sviluppo Domanda e Gestione'!K41<='2 Descrizione Progetto'!$D$19),0,'4 Sviluppo Domanda e Gestione'!J217)*(1+'10 Schema Sintesi'!$E$202))","v":17821.548990953685},{"$f":"IF('4 Sviluppo Domanda e Gestione'!K41>'2 Descrizione Progetto'!$D$22,0,IF(AND('4 Sviluppo Domanda e Gestione'!L41>='2 Descrizione Progetto'!$D$17,'4 Sviluppo Domanda e Gestione'!L41<='2 Descrizione Progetto'!$D$19),0,'4 Sviluppo Domanda e Gestione'!K217)*(1+'10 Schema Sintesi'!$E$202))","v":18177.979970772758},{"$f":"IF('4 Sviluppo Domanda e Gestione'!L41>'2 Descrizione Progetto'!$D$22,0,IF(AND('4 Sviluppo Domanda e Gestione'!M41>='2 Descrizione Progetto'!$D$17,'4 Sviluppo Domanda e Gestione'!M41<='2 Descrizione Progetto'!$D$19),0,'4 Sviluppo Domanda e Gestione'!L217)*(1+'10 Schema Sintesi'!$E$202))","v":18541.539570188212},{"$f":"IF('4 Sviluppo Domanda e Gestione'!M41>'2 Descrizione Progetto'!$D$22,0,IF(AND('4 Sviluppo Domanda e Gestione'!N41>='2 Descrizione Progetto'!$D$17,'4 Sviluppo Domanda e Gestione'!N41<='2 Descrizione Progetto'!$D$19),0,'4 Sviluppo Domanda e Gestione'!M217)*(1+'10 Schema Sintesi'!$E$202))","v":18912.370361591977},{"$f":"IF('4 Sviluppo Domanda e Gestione'!N41>'2 Descrizione Progetto'!$D$22,0,IF(AND('4 Sviluppo Domanda e Gestione'!O41>='2 Descrizione Progetto'!$D$17,'4 Sviluppo Domanda e Gestione'!O41<='2 Descrizione Progetto'!$D$19),0,'4 Sviluppo Domanda e Gestione'!N217)*(1+'10 Schema Sintesi'!$E$202))","v":19290.617768823817},{"$f":"IF('4 Sviluppo Domanda e Gestione'!O41>'2 Descrizione Progetto'!$D$22,0,IF(AND('4 Sviluppo Domanda e Gestione'!P41>='2 Descrizione Progetto'!$D$17,'4 Sviluppo Domanda e Gestione'!P41<='2 Descrizione Progetto'!$D$19),0,'4 Sviluppo Domanda e Gestione'!O217)*(1+'10 Schema Sintesi'!$E$202))","v":0},{"$f":"IF('4 Sviluppo Domanda e Gestione'!P41>'2 Descrizione Progetto'!$D$22,0,IF(AND('4 Sviluppo Domanda e Gestione'!Q41>='2 Descrizione Progetto'!$D$17,'4 Sviluppo Domanda e Gestione'!Q41<='2 Descrizione Progetto'!$D$19),0,'4 Sviluppo Domanda e Gestione'!P217)*(1+'10 Schema Sintesi'!$E$202))","v":0},{"$f":"IF('4 Sviluppo Domanda e Gestione'!Q41>'2 Descrizione Progetto'!$D$22,0,IF(AND('4 Sviluppo Domanda e Gestione'!R41>='2 Descrizione Progetto'!$D$17,'4 Sviluppo Domanda e Gestione'!R41<='2 Descrizione Progetto'!$D$19),0,'4 Sviluppo Domanda e Gestione'!Q217)*(1+'10 Schema Sintesi'!$E$202))","v":0},{"$f":"IF('4 Sviluppo Domanda e Gestione'!R41>'2 Descrizione Progetto'!$D$22,0,IF(AND('4 Sviluppo Domanda e Gestione'!S41>='2 Descrizione Progetto'!$D$17,'4 Sviluppo Domanda e Gestione'!S41<='2 Descrizione Progetto'!$D$19),0,'4 Sviluppo Domanda e Gestione'!R217)*(1+'10 Schema Sintesi'!$E$202))","v":0},{"$f":"IF('4 Sviluppo Domanda e Gestione'!S41>'2 Descrizione Progetto'!$D$22,0,IF(AND('4 Sviluppo Domanda e Gestione'!T41>='2 Descrizione Progetto'!$D$17,'4 Sviluppo Domanda e Gestione'!T41<='2 Descrizione Progetto'!$D$19),0,'4 Sviluppo Domanda e Gestione'!S217)*(1+'10 Schema Sintesi'!$E$202))","v":0},{"$f":"IF('4 Sviluppo Domanda e Gestione'!T41>'2 Descrizione Progetto'!$D$22,0,IF(AND('4 Sviluppo Domanda e Gestione'!U41>='2 Descrizione Progetto'!$D$17,'4 Sviluppo Domanda e Gestione'!U41<='2 Descrizione Progetto'!$D$19),0,'4 Sviluppo Domanda e Gestione'!T217)*(1+'10 Schema Sintesi'!$E$202))","v":0},{"$f":"IF('4 Sviluppo Domanda e Gestione'!U41>'2 Descrizione Progetto'!$D$22,0,IF(AND('4 Sviluppo Domanda e Gestione'!V41>='2 Descrizione Progetto'!$D$17,'4 Sviluppo Domanda e Gestione'!V41<='2 Descrizione Progetto'!$D$19),0,'4 Sviluppo Domanda e Gestione'!U217)*(1+'10 Schema Sintesi'!$E$202))","v":0},{"$f":"IF('4 Sviluppo Domanda e Gestione'!V41>'2 Descrizione Progetto'!$D$22,0,IF(AND('4 Sviluppo Domanda e Gestione'!W41>='2 Descrizione Progetto'!$D$17,'4 Sviluppo Domanda e Gestione'!W41<='2 Descrizione Progetto'!$D$19),0,'4 Sviluppo Domanda e Gestione'!V217)*(1+'10 Schema Sintesi'!$E$202))","v":0},{"$f":"IF('4 Sviluppo Domanda e Gestione'!W41>'2 Descrizione Progetto'!$D$22,0,IF(AND('4 Sviluppo Domanda e Gestione'!X41>='2 Descrizione Progetto'!$D$17,'4 Sviluppo Domanda e Gestione'!X41<='2 Descrizione Progetto'!$D$19),0,'4 Sviluppo Domanda e Gestione'!W217)*(1+'10 Schema Sintesi'!$E$202))","v":0},{"$f":"IF('4 Sviluppo Domanda e Gestione'!X41>'2 Descrizione Progetto'!$D$22,0,IF(AND('4 Sviluppo Domanda e Gestione'!Y41>='2 Descrizione Progetto'!$D$17,'4 Sviluppo Domanda e Gestione'!Y41<='2 Descrizione Progetto'!$D$19),0,'4 Sviluppo Domanda e Gestione'!X217)*(1+'10 Schema Sintesi'!$E$202))","v":0},{"$f":"IF('4 Sviluppo Domanda e Gestione'!Y41>'2 Descrizione Progetto'!$D$22,0,IF(AND('4 Sviluppo Domanda e Gestione'!Z41>='2 Descrizione Progetto'!$D$17,'4 Sviluppo Domanda e Gestione'!Z41<='2 Descrizione Progetto'!$D$19),0,'4 Sviluppo Domanda e Gestione'!Y217)*(1+'10 Schema Sintesi'!$E$202))","v":0},{"$f":"IF('4 Sviluppo Domanda e Gestione'!Z41>'2 Descrizione Progetto'!$D$22,0,IF(AND('4 Sviluppo Domanda e Gestione'!AA41>='2 Descrizione Progetto'!$D$17,'4 Sviluppo Domanda e Gestione'!AA41<='2 Descrizione Progetto'!$D$19),0,'4 Sviluppo Domanda e Gestione'!Z217)*(1+'10 Schema Sintesi'!$E$202))","v":0},{"$f":"IF('4 Sviluppo Domanda e Gestione'!AA41>'2 Descrizione Progetto'!$D$22,0,IF(AND('4 Sviluppo Domanda e Gestione'!AB41>='2 Descrizione Progetto'!$D$17,'4 Sviluppo Domanda e Gestione'!AB41<='2 Descrizione Progetto'!$D$19),0,'4 Sviluppo Domanda e Gestione'!AA217)*(1+'10 Schema Sintesi'!$E$202))","v":0},{"$f":"IF('4 Sviluppo Domanda e Gestione'!AB41>'2 Descrizione Progetto'!$D$22,0,IF(AND('4 Sviluppo Domanda e Gestione'!AC41>='2 Descrizione Progetto'!$D$17,'4 Sviluppo Domanda e Gestione'!AC41<='2 Descrizione Progetto'!$D$19),0,'4 Sviluppo Domanda e Gestione'!AB217)*(1+'10 Schema Sintesi'!$E$202))","v":0},{"$f":"IF('4 Sviluppo Domanda e Gestione'!AC41>'2 Descrizione Progetto'!$D$22,0,IF(AND('4 Sviluppo Domanda e Gestione'!AD41>='2 Descrizione Progetto'!$D$17,'4 Sviluppo Domanda e Gestione'!AD41<='2 Descrizione Progetto'!$D$19),0,'4 Sviluppo Domanda e Gestione'!AC217)*(1+'10 Schema Sintesi'!$E$202))","v":0},{"$f":"IF('4 Sviluppo Domanda e Gestione'!AD41>'2 Descrizione Progetto'!$D$22,0,IF(AND('4 Sviluppo Domanda e Gestione'!AE41>='2 Descrizione Progetto'!$D$17,'4 Sviluppo Domanda e Gestione'!AE41<='2 Descrizione Progetto'!$D$19),0,'4 Sviluppo Domanda e Gestione'!AD217)*(1+'10 Schema Sintesi'!$E$202))","v":0},{"$f":"IF('4 Sviluppo Domanda e Gestione'!AE41>'2 Descrizione Progetto'!$D$22,0,IF(AND('4 Sviluppo Domanda e Gestione'!AF41>='2 Descrizione Progetto'!$D$17,'4 Sviluppo Domanda e Gestione'!AF41<='2 Descrizione Progetto'!$D$19),0,'4 Sviluppo Domanda e Gestione'!AE217)*(1+'10 Schema Sintesi'!$E$202))","v":0},{"$f":"IF('4 Sviluppo Domanda e Gestione'!AF41>'2 Descrizione Progetto'!$D$22,0,IF(AND('4 Sviluppo Domanda e Gestione'!AG41>='2 Descrizione Progetto'!$D$17,'4 Sviluppo Domanda e Gestione'!AG41<='2 Descrizione Progetto'!$D$19),0,'4 Sviluppo Domanda e Gestione'!AF217)*(1+'10 Schema Sintesi'!$E$202))","v":0},{"$f":"IF('4 Sviluppo Domanda e Gestione'!AG41>'2 Descrizione Progetto'!$D$22,0,IF(AND('4 Sviluppo Domanda e Gestione'!AH41>='2 Descrizione Progetto'!$D$17,'4 Sviluppo Domanda e Gestione'!AH41<='2 Descrizione Progetto'!$D$19),0,'4 Sviluppo Domanda e Gestione'!AG217)*(1+'10 Schema Sintesi'!$E$202))","v":0},{"$f":"IF('4 Sviluppo Domanda e Gestione'!AH41>'2 Descrizione Progetto'!$D$22,0,IF(AND('4 Sviluppo Domanda e Gestione'!AI41>='2 Descrizione Progetto'!$D$17,'4 Sviluppo Domanda e Gestione'!AI41<='2 Descrizione Progetto'!$D$19),0,'4 Sviluppo Domanda e Gestione'!AH217)*(1+'10 Schema Sintesi'!$E$202))","v":0},{"$f":"IF('4 Sviluppo Domanda e Gestione'!AI41>'2 Descrizione Progetto'!$D$22,0,IF(AND('4 Sviluppo Domanda e Gestione'!AJ41>='2 Descrizione Progetto'!$D$17,'4 Sviluppo Domanda e Gestione'!AJ41<='2 Descrizione Progetto'!$D$19),0,'4 Sviluppo Domanda e Gestione'!AI217)*(1+'10 Schema Sintesi'!$E$202))","v":0},{"$f":"IF('4 Sviluppo Domanda e Gestione'!AJ41>'2 Descrizione Progetto'!$D$22,0,IF(AND('4 Sviluppo Domanda e Gestione'!AK41>='2 Descrizione Progetto'!$D$17,'4 Sviluppo Domanda e Gestione'!AK41<='2 Descrizione Progetto'!$D$19),0,'4 Sviluppo Domanda e Gestione'!AJ217)*(1+'10 Schema Sintesi'!$E$202))","v":0},{"$f":"IF('4 Sviluppo Domanda e Gestione'!AK41>'2 Descrizione Progetto'!$D$22,0,IF(AND('4 Sviluppo Domanda e Gestione'!AL41>='2 Descrizione Progetto'!$D$17,'4 Sviluppo Domanda e Gestione'!AL41<='2 Descrizione Progetto'!$D$19),0,'4 Sviluppo Domanda e Gestione'!AK217)*(1+'10 Schema Sintesi'!$E$202))","v":0},{"$f":"IF('4 Sviluppo Domanda e Gestione'!AL41>'2 Descrizione Progetto'!$D$22,0,IF(AND('4 Sviluppo Domanda e Gestione'!AM41>='2 Descrizione Progetto'!$D$17,'4 Sviluppo Domanda e Gestione'!AM41<='2 Descrizione Progetto'!$D$19),0,'4 Sviluppo Domanda e Gestione'!AL217)*(1+'10 Schema Sintesi'!$E$202))","v":0},{"$f":"IF('4 Sviluppo Domanda e Gestione'!AM41>'2 Descrizione Progetto'!$D$22,0,IF(AND('4 Sviluppo Domanda e Gestione'!AN41>='2 Descrizione Progetto'!$D$17,'4 Sviluppo Domanda e Gestione'!AN41<='2 Descrizione Progetto'!$D$19),0,'4 Sviluppo Domanda e Gestione'!AM217)*(1+'10 Schema Sintesi'!$E$202))","v":0},{"$f":"IF('4 Sviluppo Domanda e Gestione'!AN41>'2 Descrizione Progetto'!$D$22,0,IF(AND('4 Sviluppo Domanda e Gestione'!AO41>='2 Descrizione Progetto'!$D$17,'4 Sviluppo Domanda e Gestione'!AO41<='2 Descrizione Progetto'!$D$19),0,'4 Sviluppo Domanda e Gestione'!AN217)*(1+'10 Schema Sintesi'!$E$202))","v":0},{"$f":"IF('4 Sviluppo Domanda e Gestione'!AO41>'2 Descrizione Progetto'!$D$22,0,IF(AND('4 Sviluppo Domanda e Gestione'!AP41>='2 Descrizione Progetto'!$D$17,'4 Sviluppo Domanda e Gestione'!AP41<='2 Descrizione Progetto'!$D$19),0,'4 Sviluppo Domanda e Gestione'!AO217)*(1+'10 Schema Sintesi'!$E$202))","v":0},{"$f":"IF('4 Sviluppo Domanda e Gestione'!AP41>'2 Descrizione Progetto'!$D$22,0,IF(AND('4 Sviluppo Domanda e Gestione'!AQ41>='2 Descrizione Progetto'!$D$17,'4 Sviluppo Domanda e Gestione'!AQ41<='2 Descrizione Progetto'!$D$19),0,'4 Sviluppo Domanda e Gestione'!AP217)*(1+'10 Schema Sintesi'!$E$202))","v":0},{"$f":"IF('4 Sviluppo Domanda e Gestione'!AQ41>'2 Descrizione Progetto'!$D$22,0,IF(AND('4 Sviluppo Domanda e Gestione'!AR41>='2 Descrizione Progetto'!$D$17,'4 Sviluppo Domanda e Gestione'!AR41<='2 Descrizione Progetto'!$D$19),0,'4 Sviluppo Domanda e Gestione'!AQ217)*(1+'10 Schema Sintesi'!$E$202))","v":0},{"$f":"IF('4 Sviluppo Domanda e Gestione'!AR41>'2 Descrizione Progetto'!$D$22,0,IF(AND('4 Sviluppo Domanda e Gestione'!AS41>='2 Descrizione Progetto'!$D$17,'4 Sviluppo Domanda e Gestione'!AS41<='2 Descrizione Progetto'!$D$19),0,'4 Sviluppo Domanda e Gestione'!AR217)*(1+'10 Schema Sintesi'!$E$202))","v":0},{"$f":"IF('4 Sviluppo Domanda e Gestione'!AS41>'2 Descrizione Progetto'!$D$22,0,IF(AND('4 Sviluppo Domanda e Gestione'!AT41>='2 Descrizione Progetto'!$D$17,'4 Sviluppo Domanda e Gestione'!AT41<='2 Descrizione Progetto'!$D$19),0,'4 Sviluppo Domanda e Gestione'!AS217)*(1+'10 Schema Sintesi'!$E$202))","v":0},{"$f":"IF('4 Sviluppo Domanda e Gestione'!AT41>'2 Descrizione Progetto'!$D$22,0,IF(AND('4 Sviluppo Domanda e Gestione'!AU41>='2 Descrizione Progetto'!$D$17,'4 Sviluppo Domanda e Gestione'!AU41<='2 Descrizione Progetto'!$D$19),0,'4 Sviluppo Domanda e Gestione'!AT217)*(1+'10 Schema Sintesi'!$E$202))","v":0},{"$f":"IF('4 Sviluppo Domanda e Gestione'!AU41>'2 Descrizione Progetto'!$D$22,0,IF(AND('4 Sviluppo Domanda e Gestione'!AV41>='2 Descrizione Progetto'!$D$17,'4 Sviluppo Domanda e Gestione'!AV41<='2 Descrizione Progetto'!$D$19),0,'4 Sviluppo Domanda e Gestione'!AU217)*(1+'10 Schema Sintesi'!$E$202))","v":0},{"$f":"IF('4 Sviluppo Domanda e Gestione'!AV41>'2 Descrizione Progetto'!$D$22,0,IF(AND('4 Sviluppo Domanda e Gestione'!AW41>='2 Descrizione Progetto'!$D$17,'4 Sviluppo Domanda e Gestione'!AW41<='2 Descrizione Progetto'!$D$19),0,'4 Sviluppo Domanda e Gestione'!AV217)*(1+'10 Schema Sintesi'!$E$202))","v":0},{"$f":"IF('4 Sviluppo Domanda e Gestione'!AW41>'2 Descrizione Progetto'!$D$22,0,IF(AND('4 Sviluppo Domanda e Gestione'!AX41>='2 Descrizione Progetto'!$D$17,'4 Sviluppo Domanda e Gestione'!AX41<='2 Descrizione Progetto'!$D$19),0,'4 Sviluppo Domanda e Gestione'!AW217)*(1+'10 Schema Sintesi'!$E$202))","v":0},{"$f":"IF('4 Sviluppo Domanda e Gestione'!AX41>'2 Descrizione Progetto'!$D$22,0,IF(AND('4 Sviluppo Domanda e Gestione'!AY41>='2 Descrizione Progetto'!$D$17,'4 Sviluppo Domanda e Gestione'!AY41<='2 Descrizione Progetto'!$D$19),0,'4 Sviluppo Domanda e Gestione'!AX217)*(1+'10 Schema Sintesi'!$E$202))","v":0},{"$f":"IF('4 Sviluppo Domanda e Gestione'!AY41>'2 Descrizione Progetto'!$D$22,0,IF(AND('4 Sviluppo Domanda e Gestione'!AZ41>='2 Descrizione Progetto'!$D$17,'4 Sviluppo Domanda e Gestione'!AZ41<='2 Descrizione Progetto'!$D$19),0,'4 Sviluppo Domanda e Gestione'!AY217)*(1+'10 Schema Sintesi'!$E$202))","v":0},{"$f":"IF('4 Sviluppo Domanda e Gestione'!AZ41>'2 Descrizione Progetto'!$D$22,0,IF(AND('4 Sviluppo Domanda e Gestione'!BA41>='2 Descrizione Progetto'!$D$17,'4 Sviluppo Domanda e Gestione'!BA41<='2 Descrizione Progetto'!$D$19),0,'4 Sviluppo Domanda e Gestione'!AZ217)*(1+'10 Schema Sintesi'!$E$202))","v":0},{"$f":"IF('4 Sviluppo Domanda e Gestione'!BA41>'2 Descrizione Progetto'!$D$22,0,IF(AND('4 Sviluppo Domanda e Gestione'!BB41>='2 Descrizione Progetto'!$D$17,'4 Sviluppo Domanda e Gestione'!BB41<='2 Descrizione Progetto'!$D$19),0,'4 Sviluppo Domanda e Gestione'!BA217)*(1+'10 Schema Sintesi'!$E$202))","v":0},{"$f":"IF('4 Sviluppo Domanda e Gestione'!BB41>'2 Descrizione Progetto'!$D$22,0,IF(AND('4 Sviluppo Domanda e Gestione'!BC41>='2 Descrizione Progetto'!$D$17,'4 Sviluppo Domanda e Gestione'!BC41<='2 Descrizione Progetto'!$D$19),0,'4 Sviluppo Domanda e Gestione'!BB217)*(1+'10 Schema Sintesi'!$E$202))","v":0},{"$f":"IF('4 Sviluppo Domanda e Gestione'!BC41>'2 Descrizione Progetto'!$D$22,0,IF(AND('4 Sviluppo Domanda e Gestione'!BD41>='2 Descrizione Progetto'!$D$17,'4 Sviluppo Domanda e Gestione'!BD41<='2 Descrizione Progetto'!$D$19),0,'4 Sviluppo Domanda e Gestione'!BC217)*(1+'10 Schema Sintesi'!$E$202))","v":0},{"$f":"IF('4 Sviluppo Domanda e Gestione'!BD41>'2 Descrizione Progetto'!$D$22,0,IF(AND('4 Sviluppo Domanda e Gestione'!BE41>='2 Descrizione Progetto'!$D$17,'4 Sviluppo Domanda e Gestione'!BE41<='2 Descrizione Progetto'!$D$19),0,'4 Sviluppo Domanda e Gestione'!BD217)*(1+'10 Schema Sintesi'!$E$202))","v":0},{"$f":"IF('4 Sviluppo Domanda e Gestione'!BE41>'2 Descrizione Progetto'!$D$22,0,IF(AND('4 Sviluppo Domanda e Gestione'!BF41>='2 Descrizione Progetto'!$D$17,'4 Sviluppo Domanda e Gestione'!BF41<='2 Descrizione Progetto'!$D$19),0,'4 Sviluppo Domanda e Gestione'!BE217)*(1+'10 Schema Sintesi'!$E$202))","v":0},{"$f":"IF('4 Sviluppo Domanda e Gestione'!BF41>'2 Descrizione Progetto'!$D$22,0,IF(AND('4 Sviluppo Domanda e Gestione'!BG41>='2 Descrizione Progetto'!$D$17,'4 Sviluppo Domanda e Gestione'!BG41<='2 Descrizione Progetto'!$D$19),0,'4 Sviluppo Domanda e Gestione'!BF217)*(1+'10 Schema Sintesi'!$E$202))","v":0},{"$f":"IF('4 Sviluppo Domanda e Gestione'!BG41>'2 Descrizione Progetto'!$D$22,0,IF(AND('4 Sviluppo Domanda e Gestione'!BH41>='2 Descrizione Progetto'!$D$17,'4 Sviluppo Domanda e Gestione'!BH41<='2 Descrizione Progetto'!$D$19),0,'4 Sviluppo Domanda e Gestione'!BG217)*(1+'10 Schema Sintesi'!$E$202))","v":0},{"$f":"IF('4 Sviluppo Domanda e Gestione'!BH41>'2 Descrizione Progetto'!$D$22,0,IF(AND('4 Sviluppo Domanda e Gestione'!BI41>='2 Descrizione Progetto'!$D$17,'4 Sviluppo Domanda e Gestione'!BI41<='2 Descrizione Progetto'!$D$19),0,'4 Sviluppo Domanda e Gestione'!BH217)*(1+'10 Schema Sintesi'!$E$202))","v":0},{"$f":"IF('4 Sviluppo Domanda e Gestione'!BI41>'2 Descrizione Progetto'!$D$22,0,IF(AND('4 Sviluppo Domanda e Gestione'!BJ41>='2 Descrizione Progetto'!$D$17,'4 Sviluppo Domanda e Gestione'!BJ41<='2 Descrizione Progetto'!$D$19),0,'4 Sviluppo Domanda e Gestione'!BI217)*(1+'10 Schema Sintesi'!$E$202))","v":0},{"$f":"IF('4 Sviluppo Domanda e Gestione'!BJ41>'2 Descrizione Progetto'!$D$22,0,IF(AND('4 Sviluppo Domanda e Gestione'!BK41>='2 Descrizione Progetto'!$D$17,'4 Sviluppo Domanda e Gestione'!BK41<='2 Descrizione Progetto'!$D$19),0,'4 Sviluppo Domanda e Gestione'!BJ217)*(1+'10 Schema Sintesi'!$E$202))","v":0},{"$f":"IF('4 Sviluppo Domanda e Gestione'!BK41>'2 Descrizione Progetto'!$D$22,0,IF(AND('4 Sviluppo Domanda e Gestione'!BL41>='2 Descrizione Progetto'!$D$17,'4 Sviluppo Domanda e Gestione'!BL41<='2 Descrizione Progetto'!$D$19),0,'4 Sviluppo Domanda e Gestione'!BK217)*(1+'10 Schema Sintesi'!$E$202))","v":0},{"$f":"IF('4 Sviluppo Domanda e Gestione'!BL41>'2 Descrizione Progetto'!$D$22,0,IF(AND('4 Sviluppo Domanda e Gestione'!#REF!>='2 Descrizione Progetto'!$D$17,'4 Sviluppo Domanda e Gestione'!#REF!<='2 Descrizione Progetto'!$D$19),0,'4 Sviluppo Domanda e Gestione'!BL217)*(1+'10 Schema Sintesi'!$E$202))","v":0},0]
[null,null,"Totale",null,{"$f":"SUM(E4:E7)","v":374620.68},384512.13360000006,395797.99867200002,403713.95864543994,411788.23781834875,420024.00257471576,428424.48262621008,436992.97227873426,445732.83172430901,454647.48835879518,0,0,0,0,0,0,0,0,0,0,0,0,0,0,0,0,0,0,0,0,0,0,0,0,0,0,0,0,0,0,0,0,0,0,0,0,0,0,0,0,0,0,0,0,0,0,0,0,0,0,0]
[]
[null,5,"Foglio di Elaborazione Economico Finanziaria"]
[null,{"$f":"'2 Descrizione Progetto'!C4","v":"Concessione per l'affidamento dei lavori di efficientamento energetico della piscina comunale e del successivo servizio di gestione dell'impianto natatorio "},null,null,null,{"$f":"'2 Descrizione Progetto'!C3","v":"Comune di Guardiagrele"}]
[]
[null,null,"Impieghi e fonti di copertura"]
[]
[null,null,"Prospetto degli investimenti",null,{"$f":"'2 Descrizione Progetto'!D17","v":1},{"$f":"IF((COLUMN()+1-COLUMN($E$15))<=('2 Descrizione Progetto'!$D$24),E15+1,\"0\")","v":2},{"$f":"IF((COLUMN()+1-COLUMN($E$15))<=('2 Descrizione Progetto'!$D$24),F15+1,\"0\")","v":3},{"$f":"IF((COLUMN()+1-COLUMN($E$15))<=('2 Descrizione Progetto'!$D$24),G15+1,\"0\")","v":4},{"$f":"IF((COLUMN()+1-COLUMN($E$15))<=('2 Descrizione Progetto'!$D$24),H15+1,\"0\")","v":5},{"$f":"IF((COLUMN()+1-COLUMN($E$15))<=('2 Descrizione Progetto'!$D$24),I15+1,\"0\")","v":6},{"$f":"IF((COLUMN()+1-COLUMN($E$15))<=('2 Descrizione Progetto'!$D$24),J15+1,\"0\")","v":7},{"$f":"IF((COLUMN()+1-COLUMN($E$15))<=('2 Descrizione Progetto'!$D$24),K15+1,\"0\")","v":8},{"$f":"IF((COLUMN()+1-COLUMN($E$15))<=('2 Descrizione Progetto'!$D$24),L15+1,\"0\")","v":9},{"$f":"IF((COLUMN()+1-COLUMN($E$15))<=('2 Descrizione Progetto'!$D$24),M15+1,\"0\")","v":10},{"$f":"IF((COLUMN()+1-COLUMN($E$15))<=('2 Descrizione Progetto'!$D$24),N15+1,\"0\")","v":11},{"$f":"IF((COLUMN()+1-COLUMN($E$15))<=('2 Descrizione Progetto'!$D$24),O15+1,\"0\")","v":"0"},{"$f":"IF((COLUMN()+1-COLUMN($E$15))<=('2 Descrizione Progetto'!$D$24),P15+1,\"0\")","v":"0"},{"$f":"IF((COLUMN()+1-COLUMN($E$15))<=('2 Descrizione Progetto'!$D$24),Q15+1,\"0\")","v":"0"},{"$f":"IF((COLUMN()+1-COLUMN($E$15))<=('2 Descrizione Progetto'!$D$24),R15+1,\"0\")","v":"0"},{"$f":"IF((COLUMN()+1-COLUMN($E$15))<=('2 Descrizione Progetto'!$D$24),S15+1,\"0\")","v":"0"},{"$f":"IF((COLUMN()+1-COLUMN($E$15))<=('2 Descrizione Progetto'!$D$24),T15+1,\"0\")","v":"0"},{"$f":"IF((COLUMN()+1-COLUMN($E$15))<=('2 Descrizione Progetto'!$D$24),U15+1,\"0\")","v":"0"},{"$f":"IF((COLUMN()+1-COLUMN($E$15))<=('2 Descrizione Progetto'!$D$24),V15+1,\"0\")","v":"0"},{"$f":"IF((COLUMN()+1-COLUMN($E$15))<=('2 Descrizione Progetto'!$D$24),W15+1,\"0\")","v":"0"},{"$f":"IF((COLUMN()+1-COLUMN($E$15))<=('2 Descrizione Progetto'!$D$24),X15+1,\"0\")","v":"0"},{"$f":"IF((COLUMN()+1-COLUMN($E$15))<=('2 Descrizione Progetto'!$D$24),Y15+1,\"0\")","v":"0"},{"$f":"IF((COLUMN()+1-COLUMN($E$15))<=('2 Descrizione Progetto'!$D$24),Z15+1,\"0\")","v":"0"},{"$f":"IF((COLUMN()+1-COLUMN($E$15))<=('2 Descrizione Progetto'!$D$24),AA15+1,\"0\")","v":"0"},{"$f":"IF((COLUMN()+1-COLUMN($E$15))<=('2 Descrizione Progetto'!$D$24),AB15+1,\"0\")","v":"0"},{"$f":"IF((COLUMN()+1-COLUMN($E$15))<=('2 Descrizione Progetto'!$D$24),AC15+1,\"0\")","v":"0"},{"$f":"IF((COLUMN()+1-COLUMN($E$15))<=('2 Descrizione Progetto'!$D$24),AD15+1,\"0\")","v":"0"},{"$f":"IF((COLUMN()+1-COLUMN($E$15))<=('2 Descrizione Progetto'!$D$24),AE15+1,\"0\")","v":"0"},{"$f":"IF((COLUMN()+1-COLUMN($E$15))<=('2 Descrizione Progetto'!$D$24),AF15+1,\"0\")","v":"0"},{"$f":"IF((COLUMN()+1-COLUMN($E$15))<=('2 Descrizione Progetto'!$D$24),AG15+1,\"0\")","v":"0"},{"$f":"IF((COLUMN()+1-COLUMN($E$15))<=('2 Descrizione Progetto'!$D$24),AH15+1,\"0\")","v":"0"},{"$f":"IF((COLUMN()+1-COLUMN($E$15))<=('2 Descrizione Progetto'!$D$24),AI15+1,\"0\")","v":"0"},{"$f":"IF((COLUMN()+1-COLUMN($E$15))<=('2 Descrizione Progetto'!$D$24),AJ15+1,\"0\")","v":"0"},{"$f":"IF((COLUMN()+1-COLUMN($E$15))<=('2 Descrizione Progetto'!$D$24),AK15+1,\"0\")","v":"0"},{"$f":"IF((COLUMN()+1-COLUMN($E$15))<=('2 Descrizione Progetto'!$D$24),AL15+1,\"0\")","v":"0"},{"$f":"IF((COLUMN()+1-COLUMN($E$15))<=('2 Descrizione Progetto'!$D$24),AM15+1,\"0\")","v":"0"},{"$f":"IF((COLUMN()+1-COLUMN($E$15))<=('2 Descrizione Progetto'!$D$24),AN15+1,\"0\")","v":"0"},{"$f":"IF((COLUMN()+1-COLUMN($E$15))<=('2 Descrizione Progetto'!$D$24),AO15+1,\"0\")","v":"0"},{"$f":"IF((COLUMN()+1-COLUMN($E$15))<=('2 Descrizione Progetto'!$D$24),AP15+1,\"0\")","v":"0"},{"$f":"IF((COLUMN()+1-COLUMN($E$15))<=('2 Descrizione Progetto'!$D$24),AQ15+1,\"0\")","v":"0"},{"$f":"IF((COLUMN()+1-COLUMN($E$15))<=('2 Descrizione Progetto'!$D$24),AR15+1,\"0\")","v":"0"},{"$f":"IF((COLUMN()+1-COLUMN($E$15))<=('2 Descrizione Progetto'!$D$24),AS15+1,\"0\")","v":"0"},{"$f":"IF((COLUMN()+1-COLUMN($E$15))<=('2 Descrizione Progetto'!$D$24),AT15+1,\"0\")","v":"0"},{"$f":"IF((COLUMN()+1-COLUMN($E$15))<=('2 Descrizione Progetto'!$D$24),AU15+1,\"0\")","v":"0"},{"$f":"IF((COLUMN()+1-COLUMN($E$15))<=('2 Descrizione Progetto'!$D$24),AV15+1,\"0\")","v":"0"},{"$f":"IF((COLUMN()+1-COLUMN($E$15))<=('2 Descrizione Progetto'!$D$24),AW15+1,\"0\")","v":"0"},{"$f":"IF((COLUMN()+1-COLUMN($E$15))<=('2 Descrizione Progetto'!$D$24),AX15+1,\"0\")","v":"0"},{"$f":"IF((COLUMN()+1-COLUMN($E$15))<=('2 Descrizione Progetto'!$D$24),AY15+1,\"0\")","v":"0"},{"$f":"IF((COLUMN()+1-COLUMN($E$15))<=('2 Descrizione Progetto'!$D$24),AZ15+1,\"0\")","v":"0"},{"$f":"IF((COLUMN()+1-COLUMN($E$15))<=('2 Descrizione Progetto'!$D$24),BA15+1,\"0\")","v":"0"},{"$f":"IF((COLUMN()+1-COLUMN($E$15))<=('2 Descrizione Progetto'!$D$24),BB15+1,\"0\")","v":"0"},{"$f":"IF((COLUMN()+1-COLUMN($E$15))<=('2 Descrizione Progetto'!$D$24),BC15+1,\"0\")","v":"0"},{"$f":"IF((COLUMN()+1-COLUMN($E$15))<=('2 Descrizione Progetto'!$D$24),BD15+1,\"0\")","v":"0"},{"$f":"IF((COLUMN()+1-COLUMN($E$15))<=('2 Descrizione Progetto'!$D$24),BE15+1,\"0\")","v":"0"},{"$f":"IF((COLUMN()+1-COLUMN($E$15))<=('2 Descrizione Progetto'!$D$24),BF15+1,\"0\")","v":"0"},{"$f":"IF((COLUMN()+1-COLUMN($E$15))<=('2 Descrizione Progetto'!$D$24),BG15+1,\"0\")","v":"0"},{"$f":"IF((COLUMN()+1-COLUMN($E$15))<=('2 Descrizione Progetto'!$D$24),BH15+1,\"0\")","v":"0"},{"$f":"IF((COLUMN()+1-COLUMN($E$15))<=('2 Descrizione Progetto'!$D$24),BI15+1,\"0\")","v":"0"},{"$f":"IF((COLUMN()+1-COLUMN($E$15))<=('2 Descrizione Progetto'!$D$24),BJ15+1,\"0\")","v":"0"},{"$f":"IF((COLUMN()+1-COLUMN($E$15))<=('2 Descrizione Progetto'!$D$24),BK15+1,\"0\")","v":"0"},{"$f":"IF((COLUMN()+1-COLUMN($E$15))<=('2 Descrizione Progetto'!$D$24),BL15+1,\"0\")","v":"0"}]
[null,"+",{"$f":"'2 Investimento'!C7","v":"Opere civili"},{"$f":"SUM(E16:BM16)","v":1E-10},{"$f":"'10 Schema Sintesi'!$D$16*'2 Investimento'!$D40*(1+'10 Schema Sintesi'!$E$200)*E162","v":1E-10},{"$f":"'10 Schema Sintesi'!$D$16*'2 Investimento'!$D41*(1+'10 Schema Sintesi'!$E$200)*F162","v":0},{"$f":"'10 Schema Sintesi'!$D$16*'2 Investimento'!$D42*(1+'10 Schema Sintesi'!$E$200)*G162","v":0},{"$f":"'10 Schema Sintesi'!$D$16*'2 Investimento'!$D43*(1+'10 Schema Sintesi'!$E$200)*H162","v":0},{"$f":"'10 Schema Sintesi'!$D$16*'2 Investimento'!$D44*(1+'10 Schema Sintesi'!$E$200)*I162","v":0},{"$f":"'10 Schema Sintesi'!$D$16*'2 Investimento'!$D45*(1+'10 Schema Sintesi'!$E$200)*J162","v":0},0,0,0,0,0,0,0,0,0,0,0,0,0,0,0,0,0,0,0,0,0,0,0,0,0,0,0,0,0,0,0,0,0,0,0,0,0,0,0,0,0,0,0,0,0,0,0,0,0,0,0,0,0,0,0]
[null,"+",{"$f":"'2 Investimento'!C8","v":"Impianti e Macchinari"},0,{"$f":"'10 Schema Sintesi'!$D$17*'2 Investimento'!$E40*(1+'10 Schema Sintesi'!$E$200)*E162","v":0},{"$f":"'10 Schema Sintesi'!$D$17*'2 Investimento'!$E41*(1+'10 Schema Sintesi'!$E$200)*F162","v":0},{"$f":"'10 Schema Sintesi'!$D$17*'2 Investimento'!$E42*(1+'10 Schema Sintesi'!$E$200)*G162","v":0},{"$f":"'10 Schema Sintesi'!$D$17*'2 Investimento'!$E43*(1+'10 Schema Sintesi'!$E$200)*H162","v":0},{"$f":"'10 Schema Sintesi'!$D$17*'2 Investimento'!$E44*(1+'10 Schema Sintesi'!$E$200)*I162","v":0},{"$f":"'10 Schema Sintesi'!$D$17*'2 Investimento'!$E45*(1+'10 Schema Sintesi'!$E$200)*J162","v":0},0,0,0,0,0,0,0,0,0,0,0,0,0,0,0,0,0,0,0,0,0,0,0,0,0,0,0,0,0,0,0,0,0,0,0,0,0,0,0,0,0,0,0,0,0,0,0,0,0,0,0,0,0,0,0]
[null,"+",{"$f":"'2 Investimento'!C9","v":"Espropri (<10% spese ammissibili)"},0,{"$f":"'10 Schema Sintesi'!$D$18*'2 Investimento'!$F40*(1+'10 Schema Sintesi'!$E$200)*E162","v":0},{"$f":"'10 Schema Sintesi'!$D$18*'2 Investimento'!$F41*(1+'10 Schema Sintesi'!$E$200)*F162","v":0},{"$f":"'10 Schema Sintesi'!$D$18*'2 Investimento'!$F42*(1+'10 Schema Sintesi'!$E$200)*G162","v":0},{"$f":"'10 Schema Sintesi'!$D$18*'2 Investimento'!$F43*(1+'10 Schema Sintesi'!$E$200)*H162","v":0},{"$f":"'10 Schema Sintesi'!$D$18*'2 Investimento'!$F44*(1+'10 Schema Sintesi'!$E$200)*I162","v":0},{"$f":"'10 Schema Sintesi'!$D$18*'2 Investimento'!$F45*(1+'10 Schema Sintesi'!$E$200)*J162","v":0},0,0,0,0,0,0,0,0,0,0,0,0,0,0,0,0,0,0,0,0,0,0,0,0,0,0,0,0,0,0,0,0,0,0,0,0,0,0,0,0,0,0,0,0,0,0,0,0,0,0,0,0,0,0,0]
[null,"+",{"$f":"'2 Investimento'!C10","v":"Manodopera"},0,{"$f":"'10 Schema Sintesi'!$D$19*'2 Investimento'!$G40*(1+'10 Schema Sintesi'!$E$200)*E162","v":0},{"$f":"'10 Schema Sintesi'!$D$19*'2 Investimento'!$G41*F162","v":0},{"$f":"'10 Schema Sintesi'!$D$19*'2 Investimento'!$G42*(1+'10 Schema Sintesi'!$E$200)*G162","v":0},{"$f":"'10 Schema Sintesi'!$D$19*'2 Investimento'!$G43*(1+'10 Schema Sintesi'!$E$200)*H162","v":0},{"$f":"'10 Schema Sintesi'!$D$19*'2 Investimento'!$G44*(1+'10 Schema Sintesi'!$E$200)*I162","v":0},{"$f":"'10 Schema Sintesi'!$D$19*'2 Investimento'!$G45*(1+'10 Schema Sintesi'!$E$200)*J162","v":0},0,0,0,0,0,0,0,0,0,0,0,0,0,0,0,0,0,0,0,0,0,0,0,0,0,0,0,0,0,0,0,0,0,0,0,0,0,0,0,0,0,0,0,0,0,0,0,0,0,0,0,0,0,0,0]
[null,"+",{"$f":"'2 Investimento'!C11","v":"Progettazione consulenze e spese tecniche"},0,{"$f":"'10 Schema Sintesi'!$D$20*'2 Investimento'!$H40*(1+'10 Schema Sintesi'!$E$200)*E162","v":0},{"$f":"'10 Schema Sintesi'!$D$20*'2 Investimento'!$H41*(1+'10 Schema Sintesi'!$E$200)*F162","v":0},{"$f":"'10 Schema Sintesi'!$D$20*'2 Investimento'!$H42*(1+'10 Schema Sintesi'!$E$200)*G162","v":0},{"$f":"'10 Schema Sintesi'!$D$20*'2 Investimento'!$H43*(1+'10 Schema Sintesi'!$E$200)*H162","v":0},{"$f":"'10 Schema Sintesi'!$D$20*'2 Investimento'!$H44*(1+'10 Schema Sintesi'!$E$200)*I162","v":0},{"$f":"'10 Schema Sintesi'!$D$20*'2 Investimento'!$H45*(1+'10 Schema Sintesi'!$E$200)*J162","v":0},0,0,0,0,0,0,0,0,0,0,0,0,0,0,0,0,0,0,0,0,0,0,0,0,0,0,0,0,0,0,0,0,0,0,0,0,0,0,0,0,0,0,0,0,0,0,0,0,0,0,0,0,0,0,0]
[null,"+",{"$f":"'2 Investimento'!C12","v":"Altro (spese generali + imprevisti)"},0,{"$f":"'10 Schema Sintesi'!$D$21*'2 Investimento'!$I40*(1+'10 Schema Sintesi'!$E$200)*E162","v":0},{"$f":"'10 Schema Sintesi'!$D$21*'2 Investimento'!$I41*(1+'10 Schema Sintesi'!$E$200)*F162","v":0},{"$f":"'10 Schema Sintesi'!$D$21*'2 Investimento'!$I42*(1+'10 Schema Sintesi'!$E$200)*G162","v":0},{"$f":"'10 Schema Sintesi'!$D$21*'2 Investimento'!$I43*(1+'10 Schema Sintesi'!$E$200)*H162","v":0},{"$f":"'10 Schema Sintesi'!$D$21*'2 Investimento'!$I44*(1+'10 Schema Sintesi'!$E$200)*I162","v":0},{"$f":"'10 Schema Sintesi'!$D$21*'2 Investimento'!$I45*(1+'10 Schema Sintesi'!$E$200)*J162","v":0},0,0,0,0,0,0,0,0,0,0,0,0,0,0,0,0,0,0,0,0,0,0,0,0,0,0,0,0,0,0,0,0,0,0,0,0,0,0,0,0,0,0,0,0,0,0,0,0,0,0,0,0,0,0,0]
[null,"+",{"$f":"'2 Investimento'!D24","v":"Altri costi in % su investimento iniziale"},0,{"$f":"'2 Investimento'!$E$23*('5 Foglio di elaborazione'!E16+'5 Foglio di elaborazione'!E17+'5 Foglio di elaborazione'!E18+'5 Foglio di elaborazione'!E19+'5 Foglio di elaborazione'!E20+'5 Foglio di elaborazione'!E21)*E162","v":0},{"$f":"'2 Investimento'!$E$23*('5 Foglio di elaborazione'!F16+'5 Foglio di elaborazione'!F17+'5 Foglio di elaborazione'!F18+'5 Foglio di elaborazione'!F19+'5 Foglio di elaborazione'!F20+'5 Foglio di elaborazione'!F21)","v":0},{"$f":"'2 Investimento'!$E$23*('5 Foglio di elaborazione'!G16+'5 Foglio di elaborazione'!G17+'5 Foglio di elaborazione'!G18+'5 Foglio di elaborazione'!G19+'5 Foglio di elaborazione'!G20+'5 Foglio di elaborazione'!G21)","v":0},{"$f":"'2 Investimento'!$E$23*('5 Foglio di elaborazione'!H16+'5 Foglio di elaborazione'!H17+'5 Foglio di elaborazione'!H18+'5 Foglio di elaborazione'!H19+'5 Foglio di elaborazione'!H20+'5 Foglio di elaborazione'!H21)","v":0},{"$f":"'2 Investimento'!$E$23*('5 Foglio di elaborazione'!I16+'5 Foglio di elaborazione'!I17+'5 Foglio di elaborazione'!I18+'5 Foglio di elaborazione'!I19+'5 Foglio di elaborazione'!I20+'5 Foglio di elaborazione'!I21)","v":0},{"$f":"'2 Investimento'!$E$23*('5 Foglio di elaborazione'!J16+'5 Foglio di elaborazione'!J17+'5 Foglio di elaborazione'!J18+'5 Foglio di elaborazione'!J19+'5 Foglio di elaborazione'!J20+'5 Foglio di elaborazione'!J21)","v":0},0,0,0,0,0,0,0,0,0,0,0,0,0,0,0,0,0,0,0,0,0,0,0,0,0,0,0,0,0,0,0,0,0,0,0,0,0,0,0,0,0,0,0,0,0,0,0,0,0,0,0,0,0,0,0]
[null,"+",{"$f":"'2 Investimento'!C25","v":"Investimento non ammissibile al contributo pubblico"},0,{"$f":"'10 Schema Sintesi'!$D$23*'2 Investimento'!$J40*(1+'10 Schema Sintesi'!$E$200)*E162","v":0},{"$f":"'10 Schema Sintesi'!$D$23*'2 Investimento'!$J41*(1+'10 Schema Sintesi'!$E$200)*F162","v":0},{"$f":"'10 Schema Sintesi'!$D$23*'2 Investimento'!$J42*(1+'10 Schema Sintesi'!$E$200)*G162","v":0},{"$f":"'10 Schema Sintesi'!$D$23*'2 Investimento'!$J43*(1+'10 Schema Sintesi'!$E$200)*H162","v":0},{"$f":"'10 Schema Sintesi'!$D$23*'2 Investimento'!$J44*(1+'10 Schema Sintesi'!$E$200)*I162","v":0},{"$f":"'10 Schema Sintesi'!$D$23*'2 Investimento'!$J45*(1+'10 Schema Sintesi'!$E$200)*J162","v":0},0,0,0,0,0,0,0,0,0,0,0,0,0,0,0,0,0,0,0,0,0,0,0,0,0,0,0,0,0,0,0,0,0,0,0,0,0,0,0,0,0,0,0,0,0,0,0,0,0,0,0,0,0,0,0]
[null,"+",{"$f":"'2 Investimento'!C26","v":"Manutenzioni straordinarie negli anni di esercizio (da capitalizzare) ATTENZIONE: Se utilizzo diverso da man. stra. Vedere bene rigo 31 di scheda 6"},0,{"$f":"IF(E15>'2 Descrizione Progetto'!$D$22,0,IF(AND(E15>='2 Descrizione Progetto'!$D$17,E15<='2 Descrizione Progetto'!$D$19),0,IF(AND(E15<>'2 Investimento'!$D$49,E15<>'2 Investimento'!$D$50,E15<>'2 Investimento'!$D$51,E15<>'2 Investimento'!$D$52),0,('2 Investimento'!$E$26)*(1+'10 Schema Sintesi'!$E$200)/'2 Investimento'!$B$49)))*E162","v":0},{"$f":"IF(F15>'2 Descrizione Progetto'!$D$22,0,IF(AND(F15>='2 Descrizione Progetto'!$D$17,F15<='2 Descrizione Progetto'!$D$19),0,IF(AND(F15<>'2 Investimento'!$D$49,F15<>'2 Investimento'!$D$50,F15<>'2 Investimento'!$D$51,F15<>'2 Investimento'!$D$52),0,('2 Investimento'!$E$26)*(1+'10 Schema Sintesi'!$E$200)/'2 Investimento'!$B$49)))*F162","v":0},{"$f":"IF(G15>'2 Descrizione Progetto'!$D$22,0,IF(AND(G15>='2 Descrizione Progetto'!$D$17,G15<='2 Descrizione Progetto'!$D$19),0,IF(AND(G15<>'2 Investimento'!$D$49,G15<>'2 Investimento'!$D$50,G15<>'2 Investimento'!$D$51,G15<>'2 Investimento'!$D$52),0,('2 Investimento'!$E$26)*(1+'10 Schema Sintesi'!$E$200)/'2 Investimento'!$B$49)))*G162","v":0},{"$f":"IF(H15>'2 Descrizione Progetto'!$D$22,0,IF(AND(H15>='2 Descrizione Progetto'!$D$17,H15<='2 Descrizione Progetto'!$D$19),0,IF(AND(H15<>'2 Investimento'!$D$49,H15<>'2 Investimento'!$D$50,H15<>'2 Investimento'!$D$51,H15<>'2 Investimento'!$D$52),0,('2 Investimento'!$E$26)*(1+'10 Schema Sintesi'!$E$200)/'2 Investimento'!$B$49)))*H162","v":0},{"$f":"IF(I15>'2 Descrizione Progetto'!$D$22,0,IF(AND(I15>='2 Descrizione Progetto'!$D$17,I15<='2 Descrizione Progetto'!$D$19),0,IF(AND(I15<>'2 Investimento'!$D$49,I15<>'2 Investimento'!$D$50,I15<>'2 Investimento'!$D$51,I15<>'2 Investimento'!$D$52),0,('2 Investimento'!$E$26)*(1+'10 Schema Sintesi'!$E$200)/'2 Investimento'!$B$49)))*I162","v":0},{"$f":"IF(J15>'2 Descrizione Progetto'!$D$22,0,IF(AND(J15>='2 Descrizione Progetto'!$D$17,J15<='2 Descrizione Progetto'!$D$19),0,IF(AND(J15<>'2 Investimento'!$D$49,J15<>'2 Investimento'!$D$50,J15<>'2 Investimento'!$D$51,J15<>'2 Investimento'!$D$52),0,('2 Investimento'!$E$26)*(1+'10 Schema Sintesi'!$E$200)/'2 Investimento'!$B$49)))*J162","v":0},{"$f":"IF(K15>'2 Descrizione Progetto'!$D$22,0,IF(AND(K15>='2 Descrizione Progetto'!$D$17,K15<='2 Descrizione Progetto'!$D$19),0,IF(AND(K15<>'2 Investimento'!$D$49,K15<>'2 Investimento'!$D$50,K15<>'2 Investimento'!$D$51,K15<>'2 Investimento'!$D$52),0,('2 Investimento'!$E$26)*(1+'10 Schema Sintesi'!$E$200)/'2 Investimento'!$B$49)))*K162","v":0},{"$f":"IF(L15>'2 Descrizione Progetto'!$D$22,0,IF(AND(L15>='2 Descrizione Progetto'!$D$17,L15<='2 Descrizione Progetto'!$D$19),0,IF(AND(L15<>'2 Investimento'!$D$49,L15<>'2 Investimento'!$D$50,L15<>'2 Investimento'!$D$51,L15<>'2 Investimento'!$D$52),0,('2 Investimento'!$E$26)*(1+'10 Schema Sintesi'!$E$200)/'2 Investimento'!$B$49)))*L162","v":0},{"$f":"IF(M15>'2 Descrizione Progetto'!$D$22,0,IF(AND(M15>='2 Descrizione Progetto'!$D$17,M15<='2 Descrizione Progetto'!$D$19),0,IF(AND(M15<>'2 Investimento'!$D$49,M15<>'2 Investimento'!$D$50,M15<>'2 Investimento'!$D$51,M15<>'2 Investimento'!$D$52),0,('2 Investimento'!$E$26)*(1+'10 Schema Sintesi'!$E$200)/'2 Investimento'!$B$49)))*M162","v":0},{"$f":"IF(N15>'2 Descrizione Progetto'!$D$22,0,IF(AND(N15>='2 Descrizione Progetto'!$D$17,N15<='2 Descrizione Progetto'!$D$19),0,IF(AND(N15<>'2 Investimento'!$D$49,N15<>'2 Investimento'!$D$50,N15<>'2 Investimento'!$D$51,N15<>'2 Investimento'!$D$52),0,('2 Investimento'!$E$26)*(1+'10 Schema Sintesi'!$E$200)/'2 Investimento'!$B$49)))*N162","v":0},{"$f":"IF(O15>'2 Descrizione Progetto'!$D$22,0,IF(AND(O15>='2 Descrizione Progetto'!$D$17,O15<='2 Descrizione Progetto'!$D$19),0,IF(AND(O15<>'2 Investimento'!$D$49,O15<>'2 Investimento'!$D$50,O15<>'2 Investimento'!$D$51,O15<>'2 Investimento'!$D$52),0,('2 Investimento'!$E$26)*(1+'10 Schema Sintesi'!$E$200)/'2 Investimento'!$B$49)))*O162","v":0},{"$f":"IF(P15>'2 Descrizione Progetto'!$D$22,0,IF(AND(P15>='2 Descrizione Progetto'!$D$17,P15<='2 Descrizione Progetto'!$D$19),0,IF(AND(P15<>'2 Investimento'!$D$49,P15<>'2 Investimento'!$D$50,P15<>'2 Investimento'!$D$51,P15<>'2 Investimento'!$D$52),0,('2 Investimento'!$E$26)*(1+'10 Schema Sintesi'!$E$200)/'2 Investimento'!$B$49)))*P162","v":0},{"$f":"IF(Q15>'2 Descrizione Progetto'!$D$22,0,IF(AND(Q15>='2 Descrizione Progetto'!$D$17,Q15<='2 Descrizione Progetto'!$D$19),0,IF(AND(Q15<>'2 Investimento'!$D$49,Q15<>'2 Investimento'!$D$50,Q15<>'2 Investimento'!$D$51,Q15<>'2 Investimento'!$D$52),0,('2 Investimento'!$E$26)*(1+'10 Schema Sintesi'!$E$200)/'2 Investimento'!$B$49)))*Q162","v":0},{"$f":"IF(R15>'2 Descrizione Progetto'!$D$22,0,IF(AND(R15>='2 Descrizione Progetto'!$D$17,R15<='2 Descrizione Progetto'!$D$19),0,IF(AND(R15<>'2 Investimento'!$D$49,R15<>'2 Investimento'!$D$50,R15<>'2 Investimento'!$D$51,R15<>'2 Investimento'!$D$52),0,('2 Investimento'!$E$26)*(1+'10 Schema Sintesi'!$E$200)/'2 Investimento'!$B$49)))*R162","v":0},{"$f":"IF(S15>'2 Descrizione Progetto'!$D$22,0,IF(AND(S15>='2 Descrizione Progetto'!$D$17,S15<='2 Descrizione Progetto'!$D$19),0,IF(AND(S15<>'2 Investimento'!$D$49,S15<>'2 Investimento'!$D$50,S15<>'2 Investimento'!$D$51,S15<>'2 Investimento'!$D$52),0,('2 Investimento'!$E$26)*(1+'10 Schema Sintesi'!$E$200)/'2 Investimento'!$B$49)))*S162","v":0},{"$f":"IF(T15>'2 Descrizione Progetto'!$D$22,0,IF(AND(T15>='2 Descrizione Progetto'!$D$17,T15<='2 Descrizione Progetto'!$D$19),0,IF(AND(T15<>'2 Investimento'!$D$49,T15<>'2 Investimento'!$D$50,T15<>'2 Investimento'!$D$51,T15<>'2 Investimento'!$D$52),0,('2 Investimento'!$E$26)*(1+'10 Schema Sintesi'!$E$200)/'2 Investimento'!$B$49)))*T162","v":0},{"$f":"IF(U15>'2 Descrizione Progetto'!$D$22,0,IF(AND(U15>='2 Descrizione Progetto'!$D$17,U15<='2 Descrizione Progetto'!$D$19),0,IF(AND(U15<>'2 Investimento'!$D$49,U15<>'2 Investimento'!$D$50,U15<>'2 Investimento'!$D$51,U15<>'2 Investimento'!$D$52),0,('2 Investimento'!$E$26)*(1+'10 Schema Sintesi'!$E$200)/'2 Investimento'!$B$49)))*U162","v":0},{"$f":"IF(V15>'2 Descrizione Progetto'!$D$22,0,IF(AND(V15>='2 Descrizione Progetto'!$D$17,V15<='2 Descrizione Progetto'!$D$19),0,IF(AND(V15<>'2 Investimento'!$D$49,V15<>'2 Investimento'!$D$50,V15<>'2 Investimento'!$D$51,V15<>'2 Investimento'!$D$52),0,('2 Investimento'!$E$26)*(1+'10 Schema Sintesi'!$E$200)/'2 Investimento'!$B$49)))*V162","v":0},{"$f":"IF(W15>'2 Descrizione Progetto'!$D$22,0,IF(AND(W15>='2 Descrizione Progetto'!$D$17,W15<='2 Descrizione Progetto'!$D$19),0,IF(AND(W15<>'2 Investimento'!$D$49,W15<>'2 Investimento'!$D$50,W15<>'2 Investimento'!$D$51,W15<>'2 Investimento'!$D$52),0,('2 Investimento'!$E$26)*(1+'10 Schema Sintesi'!$E$200)/'2 Investimento'!$B$49)))*W162","v":0},{"$f":"IF(X15>'2 Descrizione Progetto'!$D$22,0,IF(AND(X15>='2 Descrizione Progetto'!$D$17,X15<='2 Descrizione Progetto'!$D$19),0,IF(AND(X15<>'2 Investimento'!$D$49,X15<>'2 Investimento'!$D$50,X15<>'2 Investimento'!$D$51,X15<>'2 Investimento'!$D$52),0,('2 Investimento'!$E$26)*(1+'10 Schema Sintesi'!$E$200)/'2 Investimento'!$B$49)))*X162","v":0},{"$f":"IF(Y15>'2 Descrizione Progetto'!$D$22,0,IF(AND(Y15>='2 Descrizione Progetto'!$D$17,Y15<='2 Descrizione Progetto'!$D$19),0,IF(AND(Y15<>'2 Investimento'!$D$49,Y15<>'2 Investimento'!$D$50,Y15<>'2 Investimento'!$D$51,Y15<>'2 Investimento'!$D$52),0,('2 Investimento'!$E$26)*(1+'10 Schema Sintesi'!$E$200)/'2 Investimento'!$B$49)))*Y162","v":0},{"$f":"IF(Z15>'2 Descrizione Progetto'!$D$22,0,IF(AND(Z15>='2 Descrizione Progetto'!$D$17,Z15<='2 Descrizione Progetto'!$D$19),0,IF(AND(Z15<>'2 Investimento'!$D$49,Z15<>'2 Investimento'!$D$50,Z15<>'2 Investimento'!$D$51,Z15<>'2 Investimento'!$D$52),0,('2 Investimento'!$E$26)*(1+'10 Schema Sintesi'!$E$200)/'2 Investimento'!$B$49)))*Z162","v":0},{"$f":"IF(AA15>'2 Descrizione Progetto'!$D$22,0,IF(AND(AA15>='2 Descrizione Progetto'!$D$17,AA15<='2 Descrizione Progetto'!$D$19),0,IF(AND(AA15<>'2 Investimento'!$D$49,AA15<>'2 Investimento'!$D$50,AA15<>'2 Investimento'!$D$51,AA15<>'2 Investimento'!$D$52),0,('2 Investimento'!$E$26)*(1+'10 Schema Sintesi'!$E$200)/'2 Investimento'!$B$49)))*AA162","v":0},{"$f":"IF(AB15>'2 Descrizione Progetto'!$D$22,0,IF(AND(AB15>='2 Descrizione Progetto'!$D$17,AB15<='2 Descrizione Progetto'!$D$19),0,IF(AND(AB15<>'2 Investimento'!$D$49,AB15<>'2 Investimento'!$D$50,AB15<>'2 Investimento'!$D$51,AB15<>'2 Investimento'!$D$52),0,('2 Investimento'!$E$26)*(1+'10 Schema Sintesi'!$E$200)/'2 Investimento'!$B$49)))*AB162","v":0},{"$f":"IF(AC15>'2 Descrizione Progetto'!$D$22,0,IF(AND(AC15>='2 Descrizione Progetto'!$D$17,AC15<='2 Descrizione Progetto'!$D$19),0,IF(AND(AC15<>'2 Investimento'!$D$49,AC15<>'2 Investimento'!$D$50,AC15<>'2 Investimento'!$D$51,AC15<>'2 Investimento'!$D$52),0,('2 Investimento'!$E$26)*(1+'10 Schema Sintesi'!$E$200)/'2 Investimento'!$B$49)))*AC162","v":0},{"$f":"IF(AD15>'2 Descrizione Progetto'!$D$22,0,IF(AND(AD15>='2 Descrizione Progetto'!$D$17,AD15<='2 Descrizione Progetto'!$D$19),0,IF(AND(AD15<>'2 Investimento'!$D$49,AD15<>'2 Investimento'!$D$50,AD15<>'2 Investimento'!$D$51,AD15<>'2 Investimento'!$D$52),0,('2 Investimento'!$E$26)*(1+'10 Schema Sintesi'!$E$200)/'2 Investimento'!$B$49)))*AD162","v":0},{"$f":"IF(AE15>'2 Descrizione Progetto'!$D$22,0,IF(AND(AE15>='2 Descrizione Progetto'!$D$17,AE15<='2 Descrizione Progetto'!$D$19),0,IF(AND(AE15<>'2 Investimento'!$D$49,AE15<>'2 Investimento'!$D$50,AE15<>'2 Investimento'!$D$51,AE15<>'2 Investimento'!$D$52),0,('2 Investimento'!$E$26)*(1+'10 Schema Sintesi'!$E$200)/'2 Investimento'!$B$49)))*AE162","v":0},{"$f":"IF(AF15>'2 Descrizione Progetto'!$D$22,0,IF(AND(AF15>='2 Descrizione Progetto'!$D$17,AF15<='2 Descrizione Progetto'!$D$19),0,IF(AND(AF15<>'2 Investimento'!$D$49,AF15<>'2 Investimento'!$D$50,AF15<>'2 Investimento'!$D$51,AF15<>'2 Investimento'!$D$52),0,('2 Investimento'!$E$26)*(1+'10 Schema Sintesi'!$E$200)/'2 Investimento'!$B$49)))*AF162","v":0},{"$f":"IF(AG15>'2 Descrizione Progetto'!$D$22,0,IF(AND(AG15>='2 Descrizione Progetto'!$D$17,AG15<='2 Descrizione Progetto'!$D$19),0,IF(AND(AG15<>'2 Investimento'!$D$49,AG15<>'2 Investimento'!$D$50,AG15<>'2 Investimento'!$D$51,AG15<>'2 Investimento'!$D$52),0,('2 Investimento'!$E$26)*(1+'10 Schema Sintesi'!$E$200)/'2 Investimento'!$B$49)))*AG162","v":0},{"$f":"IF(AH15>'2 Descrizione Progetto'!$D$22,0,IF(AND(AH15>='2 Descrizione Progetto'!$D$17,AH15<='2 Descrizione Progetto'!$D$19),0,IF(AND(AH15<>'2 Investimento'!$D$49,AH15<>'2 Investimento'!$D$50,AH15<>'2 Investimento'!$D$51,AH15<>'2 Investimento'!$D$52),0,('2 Investimento'!$E$26)*(1+'10 Schema Sintesi'!$E$200)/'2 Investimento'!$B$49)))*AH162","v":0},{"$f":"IF(AI15>'2 Descrizione Progetto'!$D$22,0,IF(AND(AI15>='2 Descrizione Progetto'!$D$17,AI15<='2 Descrizione Progetto'!$D$19),0,IF(AND(AI15<>'2 Investimento'!$D$49,AI15<>'2 Investimento'!$D$50,AI15<>'2 Investimento'!$D$51,AI15<>'2 Investimento'!$D$52),0,('2 Investimento'!$E$26)*(1+'10 Schema Sintesi'!$E$200)/'2 Investimento'!$B$49)))*AI162","v":0},{"$f":"IF(AJ15>'2 Descrizione Progetto'!$D$22,0,IF(AND(AJ15>='2 Descrizione Progetto'!$D$17,AJ15<='2 Descrizione Progetto'!$D$19),0,IF(AND(AJ15<>'2 Investimento'!$D$49,AJ15<>'2 Investimento'!$D$50,AJ15<>'2 Investimento'!$D$51,AJ15<>'2 Investimento'!$D$52),0,('2 Investimento'!$E$26)*(1+'10 Schema Sintesi'!$E$200)/'2 Investimento'!$B$49)))*AJ162","v":0},{"$f":"IF(AK15>'2 Descrizione Progetto'!$D$22,0,IF(AND(AK15>='2 Descrizione Progetto'!$D$17,AK15<='2 Descrizione Progetto'!$D$19),0,IF(AND(AK15<>'2 Investimento'!$D$49,AK15<>'2 Investimento'!$D$50,AK15<>'2 Investimento'!$D$51,AK15<>'2 Investimento'!$D$52),0,('2 Investimento'!$E$26)*(1+'10 Schema Sintesi'!$E$200)/'2 Investimento'!$B$49)))*AK162","v":0},{"$f":"IF(AL15>'2 Descrizione Progetto'!$D$22,0,IF(AND(AL15>='2 Descrizione Progetto'!$D$17,AL15<='2 Descrizione Progetto'!$D$19),0,IF(AND(AL15<>'2 Investimento'!$D$49,AL15<>'2 Investimento'!$D$50,AL15<>'2 Investimento'!$D$51,AL15<>'2 Investimento'!$D$52),0,('2 Investimento'!$E$26)*(1+'10 Schema Sintesi'!$E$200)/'2 Investimento'!$B$49)))*AL162","v":0},{"$f":"IF(AM15>'2 Descrizione Progetto'!$D$22,0,IF(AND(AM15>='2 Descrizione Progetto'!$D$17,AM15<='2 Descrizione Progetto'!$D$19),0,IF(AND(AM15<>'2 Investimento'!$D$49,AM15<>'2 Investimento'!$D$50,AM15<>'2 Investimento'!$D$51,AM15<>'2 Investimento'!$D$52),0,('2 Investimento'!$E$26)*(1+'10 Schema Sintesi'!$E$200)/'2 Investimento'!$B$49)))*AM162","v":0},{"$f":"IF(AN15>'2 Descrizione Progetto'!$D$22,0,IF(AND(AN15>='2 Descrizione Progetto'!$D$17,AN15<='2 Descrizione Progetto'!$D$19),0,IF(AND(AN15<>'2 Investimento'!$D$49,AN15<>'2 Investimento'!$D$50,AN15<>'2 Investimento'!$D$51,AN15<>'2 Investimento'!$D$52),0,('2 Investimento'!$E$26)*(1+'10 Schema Sintesi'!$E$200)/'2 Investimento'!$B$49)))*AN162","v":0},{"$f":"IF(AO15>'2 Descrizione Progetto'!$D$22,0,IF(AND(AO15>='2 Descrizione Progetto'!$D$17,AO15<='2 Descrizione Progetto'!$D$19),0,IF(AND(AO15<>'2 Investimento'!$D$49,AO15<>'2 Investimento'!$D$50,AO15<>'2 Investimento'!$D$51,AO15<>'2 Investimento'!$D$52),0,('2 Investimento'!$E$26)*(1+'10 Schema Sintesi'!$E$200)/'2 Investimento'!$B$49)))*AO162","v":0},{"$f":"IF(AP15>'2 Descrizione Progetto'!$D$22,0,IF(AND(AP15>='2 Descrizione Progetto'!$D$17,AP15<='2 Descrizione Progetto'!$D$19),0,IF(AND(AP15<>'2 Investimento'!$D$49,AP15<>'2 Investimento'!$D$50,AP15<>'2 Investimento'!$D$51,AP15<>'2 Investimento'!$D$52),0,('2 Investimento'!$E$26)*(1+'10 Schema Sintesi'!$E$200)/'2 Investimento'!$B$49)))*AP162","v":0},{"$f":"IF(AQ15>'2 Descrizione Progetto'!$D$22,0,IF(AND(AQ15>='2 Descrizione Progetto'!$D$17,AQ15<='2 Descrizione Progetto'!$D$19),0,IF(AND(AQ15<>'2 Investimento'!$D$49,AQ15<>'2 Investimento'!$D$50,AQ15<>'2 Investimento'!$D$51,AQ15<>'2 Investimento'!$D$52),0,('2 Investimento'!$E$26)*(1+'10 Schema Sintesi'!$E$200)/'2 Investimento'!$B$49)))*AQ162","v":0},{"$f":"IF(AR15>'2 Descrizione Progetto'!$D$22,0,IF(AND(AR15>='2 Descrizione Progetto'!$D$17,AR15<='2 Descrizione Progetto'!$D$19),0,IF(AND(AR15<>'2 Investimento'!$D$49,AR15<>'2 Investimento'!$D$50,AR15<>'2 Investimento'!$D$51,AR15<>'2 Investimento'!$D$52),0,('2 Investimento'!$E$26)*(1+'10 Schema Sintesi'!$E$200)/'2 Investimento'!$B$49)))*AR162","v":0},{"$f":"IF(AS15>'2 Descrizione Progetto'!$D$22,0,IF(AND(AS15>='2 Descrizione Progetto'!$D$17,AS15<='2 Descrizione Progetto'!$D$19),0,IF(AND(AS15<>'2 Investimento'!$D$49,AS15<>'2 Investimento'!$D$50,AS15<>'2 Investimento'!$D$51,AS15<>'2 Investimento'!$D$52),0,('2 Investimento'!$E$26)*(1+'10 Schema Sintesi'!$E$200)/'2 Investimento'!$B$49)))*AS162","v":0},{"$f":"IF(AT15>'2 Descrizione Progetto'!$D$22,0,IF(AND(AT15>='2 Descrizione Progetto'!$D$17,AT15<='2 Descrizione Progetto'!$D$19),0,IF(AND(AT15<>'2 Investimento'!$D$49,AT15<>'2 Investimento'!$D$50,AT15<>'2 Investimento'!$D$51,AT15<>'2 Investimento'!$D$52),0,('2 Investimento'!$E$26)*(1+'10 Schema Sintesi'!$E$200)/'2 Investimento'!$B$49)))*AT162","v":0},{"$f":"IF(AU15>'2 Descrizione Progetto'!$D$22,0,IF(AND(AU15>='2 Descrizione Progetto'!$D$17,AU15<='2 Descrizione Progetto'!$D$19),0,IF(AND(AU15<>'2 Investimento'!$D$49,AU15<>'2 Investimento'!$D$50,AU15<>'2 Investimento'!$D$51,AU15<>'2 Investimento'!$D$52),0,('2 Investimento'!$E$26)*(1+'10 Schema Sintesi'!$E$200)/'2 Investimento'!$B$49)))*AU162","v":0},{"$f":"IF(AV15>'2 Descrizione Progetto'!$D$22,0,IF(AND(AV15>='2 Descrizione Progetto'!$D$17,AV15<='2 Descrizione Progetto'!$D$19),0,IF(AND(AV15<>'2 Investimento'!$D$49,AV15<>'2 Investimento'!$D$50,AV15<>'2 Investimento'!$D$51,AV15<>'2 Investimento'!$D$52),0,('2 Investimento'!$E$26)*(1+'10 Schema Sintesi'!$E$200)/'2 Investimento'!$B$49)))*AV162","v":0},{"$f":"IF(AW15>'2 Descrizione Progetto'!$D$22,0,IF(AND(AW15>='2 Descrizione Progetto'!$D$17,AW15<='2 Descrizione Progetto'!$D$19),0,IF(AND(AW15<>'2 Investimento'!$D$49,AW15<>'2 Investimento'!$D$50,AW15<>'2 Investimento'!$D$51,AW15<>'2 Investimento'!$D$52),0,('2 Investimento'!$E$26)*(1+'10 Schema Sintesi'!$E$200)/'2 Investimento'!$B$49)))*AW162","v":0},{"$f":"IF(AX15>'2 Descrizione Progetto'!$D$22,0,IF(AND(AX15>='2 Descrizione Progetto'!$D$17,AX15<='2 Descrizione Progetto'!$D$19),0,IF(AND(AX15<>'2 Investimento'!$D$49,AX15<>'2 Investimento'!$D$50,AX15<>'2 Investimento'!$D$51,AX15<>'2 Investimento'!$D$52),0,('2 Investimento'!$E$26)*(1+'10 Schema Sintesi'!$E$200)/'2 Investimento'!$B$49)))*AX162","v":0},{"$f":"IF(AY15>'2 Descrizione Progetto'!$D$22,0,IF(AND(AY15>='2 Descrizione Progetto'!$D$17,AY15<='2 Descrizione Progetto'!$D$19),0,IF(AND(AY15<>'2 Investimento'!$D$49,AY15<>'2 Investimento'!$D$50,AY15<>'2 Investimento'!$D$51,AY15<>'2 Investimento'!$D$52),0,('2 Investimento'!$E$26)*(1+'10 Schema Sintesi'!$E$200)/'2 Investimento'!$B$49)))*AY162","v":0},{"$f":"IF(AZ15>'2 Descrizione Progetto'!$D$22,0,IF(AND(AZ15>='2 Descrizione Progetto'!$D$17,AZ15<='2 Descrizione Progetto'!$D$19),0,IF(AND(AZ15<>'2 Investimento'!$D$49,AZ15<>'2 Investimento'!$D$50,AZ15<>'2 Investimento'!$D$51,AZ15<>'2 Investimento'!$D$52),0,('2 Investimento'!$E$26)*(1+'10 Schema Sintesi'!$E$200)/'2 Investimento'!$B$49)))*AZ162","v":0},{"$f":"IF(BA15>'2 Descrizione Progetto'!$D$22,0,IF(AND(BA15>='2 Descrizione Progetto'!$D$17,BA15<='2 Descrizione Progetto'!$D$19),0,IF(AND(BA15<>'2 Investimento'!$D$49,BA15<>'2 Investimento'!$D$50,BA15<>'2 Investimento'!$D$51,BA15<>'2 Investimento'!$D$52),0,('2 Investimento'!$E$26)*(1+'10 Schema Sintesi'!$E$200)/'2 Investimento'!$B$49)))*BA162","v":0},{"$f":"IF(BB15>'2 Descrizione Progetto'!$D$22,0,IF(AND(BB15>='2 Descrizione Progetto'!$D$17,BB15<='2 Descrizione Progetto'!$D$19),0,IF(AND(BB15<>'2 Investimento'!$D$49,BB15<>'2 Investimento'!$D$50,BB15<>'2 Investimento'!$D$51,BB15<>'2 Investimento'!$D$52),0,('2 Investimento'!$E$26)*(1+'10 Schema Sintesi'!$E$200)/'2 Investimento'!$B$49)))*BB162","v":0},{"$f":"IF(BC15>'2 Descrizione Progetto'!$D$22,0,IF(AND(BC15>='2 Descrizione Progetto'!$D$17,BC15<='2 Descrizione Progetto'!$D$19),0,IF(AND(BC15<>'2 Investimento'!$D$49,BC15<>'2 Investimento'!$D$50,BC15<>'2 Investimento'!$D$51,BC15<>'2 Investimento'!$D$52),0,('2 Investimento'!$E$26)*(1+'10 Schema Sintesi'!$E$200)/'2 Investimento'!$B$49)))*BC162","v":0},{"$f":"IF(BD15>'2 Descrizione Progetto'!$D$22,0,IF(AND(BD15>='2 Descrizione Progetto'!$D$17,BD15<='2 Descrizione Progetto'!$D$19),0,IF(AND(BD15<>'2 Investimento'!$D$49,BD15<>'2 Investimento'!$D$50,BD15<>'2 Investimento'!$D$51,BD15<>'2 Investimento'!$D$52),0,('2 Investimento'!$E$26)*(1+'10 Schema Sintesi'!$E$200)/'2 Investimento'!$B$49)))*BD162","v":0},{"$f":"IF(BE15>'2 Descrizione Progetto'!$D$22,0,IF(AND(BE15>='2 Descrizione Progetto'!$D$17,BE15<='2 Descrizione Progetto'!$D$19),0,IF(AND(BE15<>'2 Investimento'!$D$49,BE15<>'2 Investimento'!$D$50,BE15<>'2 Investimento'!$D$51,BE15<>'2 Investimento'!$D$52),0,('2 Investimento'!$E$26)*(1+'10 Schema Sintesi'!$E$200)/'2 Investimento'!$B$49)))*BE162","v":0},{"$f":"IF(BF15>'2 Descrizione Progetto'!$D$22,0,IF(AND(BF15>='2 Descrizione Progetto'!$D$17,BF15<='2 Descrizione Progetto'!$D$19),0,IF(AND(BF15<>'2 Investimento'!$D$49,BF15<>'2 Investimento'!$D$50,BF15<>'2 Investimento'!$D$51,BF15<>'2 Investimento'!$D$52),0,('2 Investimento'!$E$26)*(1+'10 Schema Sintesi'!$E$200)/'2 Investimento'!$B$49)))*BF162","v":0},{"$f":"IF(BG15>'2 Descrizione Progetto'!$D$22,0,IF(AND(BG15>='2 Descrizione Progetto'!$D$17,BG15<='2 Descrizione Progetto'!$D$19),0,IF(AND(BG15<>'2 Investimento'!$D$49,BG15<>'2 Investimento'!$D$50,BG15<>'2 Investimento'!$D$51,BG15<>'2 Investimento'!$D$52),0,('2 Investimento'!$E$26)*(1+'10 Schema Sintesi'!$E$200)/'2 Investimento'!$B$49)))*BG162","v":0},{"$f":"IF(BH15>'2 Descrizione Progetto'!$D$22,0,IF(AND(BH15>='2 Descrizione Progetto'!$D$17,BH15<='2 Descrizione Progetto'!$D$19),0,IF(AND(BH15<>'2 Investimento'!$D$49,BH15<>'2 Investimento'!$D$50,BH15<>'2 Investimento'!$D$51,BH15<>'2 Investimento'!$D$52),0,('2 Investimento'!$E$26)*(1+'10 Schema Sintesi'!$E$200)/'2 Investimento'!$B$49)))*BH162","v":0},{"$f":"IF(BI15>'2 Descrizione Progetto'!$D$22,0,IF(AND(BI15>='2 Descrizione Progetto'!$D$17,BI15<='2 Descrizione Progetto'!$D$19),0,IF(AND(BI15<>'2 Investimento'!$D$49,BI15<>'2 Investimento'!$D$50,BI15<>'2 Investimento'!$D$51,BI15<>'2 Investimento'!$D$52),0,('2 Investimento'!$E$26)*(1+'10 Schema Sintesi'!$E$200)/'2 Investimento'!$B$49)))*BI162","v":0},{"$f":"IF(BJ15>'2 Descrizione Progetto'!$D$22,0,IF(AND(BJ15>='2 Descrizione Progetto'!$D$17,BJ15<='2 Descrizione Progetto'!$D$19),0,IF(AND(BJ15<>'2 Investimento'!$D$49,BJ15<>'2 Investimento'!$D$50,BJ15<>'2 Investimento'!$D$51,BJ15<>'2 Investimento'!$D$52),0,('2 Investimento'!$E$26)*(1+'10 Schema Sintesi'!$E$200)/'2 Investimento'!$B$49)))*BJ162","v":0},{"$f":"IF(BK15>'2 Descrizione Progetto'!$D$22,0,IF(AND(BK15>='2 Descrizione Progetto'!$D$17,BK15<='2 Descrizione Progetto'!$D$19),0,IF(AND(BK15<>'2 Investimento'!$D$49,BK15<>'2 Investimento'!$D$50,BK15<>'2 Investimento'!$D$51,BK15<>'2 Investimento'!$D$52),0,('2 Investimento'!$E$26)*(1+'10 Schema Sintesi'!$E$200)/'2 Investimento'!$B$49)))*BK162","v":0},{"$f":"IF(BL15>'2 Descrizione Progetto'!$D$22,0,IF(AND(BL15>='2 Descrizione Progetto'!$D$17,BL15<='2 Descrizione Progetto'!$D$19),0,IF(AND(BL15<>'2 Investimento'!$D$49,BL15<>'2 Investimento'!$D$50,BL15<>'2 Investimento'!$D$51,BL15<>'2 Investimento'!$D$52),0,('2 Investimento'!$E$26)*(1+'10 Schema Sintesi'!$E$200)/'2 Investimento'!$B$49)))*BL162","v":0},{"$f":"IF(BM15>'2 Descrizione Progetto'!$D$22,0,IF(AND(BM15>='2 Descrizione Progetto'!$D$17,BM15<='2 Descrizione Progetto'!$D$19),0,IF(AND(BM15<>'2 Investimento'!$D$49,BM15<>'2 Investimento'!$D$50,BM15<>'2 Investimento'!$D$51,BM15<>'2 Investimento'!$D$52),0,('2 Investimento'!$E$26)*(1+'10 Schema Sintesi'!$E$200)/'2 Investimento'!$B$49)))*BM162","v":0}]
[null,"=","Costo totale investimento rivalutato",{"$f":"SUM(D16:D24)","v":1E-10},1E-10,0,0,0,0,0,0,0,0,0,0,0,0,0,0,0,0,0,0,0,0,0,0,0,0,0,0,0,0,0,0,0,0,0,0,0,0,0,0,0,0,0,0,0,0,0,0,0,0,0,0,0,0,0,0,0,0,0,0,0,0]
[null,null," ",null,null,null,null,null,null,null,null," "]
[null,null,"Fonti di copertura degli investimenti",null,{"$f":"E15","v":1},2,3,4,5,6,7,8,9,10,11,"0","0","0","0","0","0","0","0","0","0","0","0","0","0","0","0","0","0","0","0","0","0","0","0","0","0","0","0","0","0","0","0","0","0","0","0","0","0","0","0","0","0","0","0","0","0","0","0","0","0"]
[null,"+",{"$f":"'10 Schema Sintesi'!F16","v":"Capitale Sociale"},{"$f":"SUM(E28:BM28)","v":10000},{"$f":"'2 Investimento'!E55","v":10000},{"$f":"(F25-F23-F24)*$J$37","v":0},0,0,0,0,0,0,0,0,0,0,0,0,0,0,0,0,0,0,0,0,0,0,0,0,0,0,0,0,0,0,0,0,0,0,0,0,0,0,0,0,0,0,0,0,0,0,0,0,0,0,0,0,0,0,0,0,0,0,0]
[null,"+",{"$f":"'2 Investimento'!D59","v":"Totale contributi pubblici"},0,{"$f":"(E25-E23-E24)*$J$38","v":0},0,0,0,0,0,0,0,0,0,0,0,0,0,0,0,0,0,0,0,0,0,0,0,0,0,0,0,0,0,0,0,0,0,0,0,0,0,0,0,0,0,0,0,0,0,0,0,0,0,0,0,0,0,0,0,0,0,0,0,0]
[null,"+",{"$f":"'10 Schema Sintesi'!F20","v":"I Banca (mlt)"},0,{"$f":"(E25-E23-E24)*$J$39+(E23+E24)","v":0},0,0,0,0,0,0,0,0,0,0,0,0,0,0,0,0,0,0,0,0,0,0,0,0,0,0,0,0,0,0,0,0,0,0,0,0,0,0,0,0,0,0,0,0,0,0,0,0,0,0,0,0,0,0,0,0,0,0,0,0]
[null,"+",{"$f":"'10 Schema Sintesi'!F21","v":"Altre Banche (mlt)"},0,{"$f":"(E25-E23-E24)*$J$40","v":0},0,0,0,0,0,0,0,0,0,0,0,0,0,0,0,0,0,0,0,0,0,0,0,0,0,0,0,0,0,0,0,0,0,0,0,0,0,0,0,0,0,0,0,0,0,0,0,0,0,0,0,0,0,0,0,0,0,0,0,0]
[null,"=","Totale copertura investimenti finanziabili",10000,{"$f":"SUM(E28:E31)","v":10000},0,0,0,0,0,0,0,0,0,0,0,0,0,0,0,0,0,0,0,0,0,0,0,0,0,0,0,0,0,0,0,0,0,0,0,0,0,0,0,0,0,0,0,0,0,0,0,0,0,0,0,0,0,0,0,0,0,0,0,0]
[null,null," "," "," "," "," "," "," "," "," "," "," "," "," "," "," "," "," "," "," "," "," "," ",{"$f":"IF(ROUND((Y25-Y32),2)=0,\"OK\",\"ERROR\")","v":"OK"},"OK","OK","OK","OK","OK","OK","OK","OK","OK","OK","OK","OK","OK","OK","OK","OK","OK","OK","OK","OK","OK","OK","OK","OK","OK","OK","OK","OK","OK","OK","OK","OK","OK","OK","OK","OK","OK","OK","OK","OK"]
[null,null,"Valore residuo delle immobilizzazioni disinvestite/vendute",{"$f":"SUM(E34:BM34)","v":0},0,0,0,0,0,0,0,0,0,0,0,0,0,0,0,0,0,0,0,0,0,0,0,0,0,0,0,0,0,0,0,0,0,0,0,0,0,0,0,0,0,0,0,0,0,0,0,0,0,0,0,0,0,0,0,0,0,0,0,0,0]
[null,null," "]
[null,null,"Parametri fiscali",null,null,null,"% fonti di finanziamento su investimento iniziale",null,null,null,null,null,null,null,null,null,null," ",null,null,null,null,null,null,null,null,null,null,null,null,null,null,null,null," "]
[null,null,"Aliquota % IRES ",24,null,null,"Capitale Privato (Equity)",null,null,0,null,null,null,null,{"$f":"D45","v":5.12},null,null,null,null,null,null,null,null,null,{"$f":"O37","v":5.12},null,null,null,null,null,null,null,null,null,{"$f":"D45","v":5.12},null,null,null,null,null,null,null,null,null,{"$f":"AI37","v":5.12},null,null,null,null,null,null,null,null,null,{"$f":"D45","v":5.12}]
[null,null,"Aliquota % IRES - Aliquota % IRAP",{"$f":"'2 Investimento'!F35*100","v":10},"Media",null,"Totale contributi pubblici",null,null,{"$f":"'10 Schema Sintesi'!G17/SUM('10 Schema Sintesi'!$D$16:$D$22)","v":0},null,null,null,null,{"$f":"E38","v":"Media"},null,null,null,null,null,null,null,null,null,"Media",null,null,null,null,null,null,null,null,null,{"$f":"E38","v":"Media"},null,null,null,null,null,null,null,null,null,"Media",null,null,null,null,null,null,null,null,null,{"$f":"E38","v":"Media"}]
[null,null,"Aliquota % IRES - Aliquota % IRAP",{"$f":"'2 Investimento'!F36*100","v":22}," ",null,"I Banca",null,null,0,null,null,null,null,null,null,null,{"$f":"E39","v":" "},null,null,null,null,null,null,null,null,null,null,null,null,null,null,null,null," ",null,null,null,null,null,null,null,null,null,null,null,null,null,null,null,null,null,{"$f":"E39","v":" "}]
[null,null,"Aliquota % IRES - Aliquota % IRAP"," "," ",null,"Altre Banche",null,null,{"$f":"'10 Schema Sintesi'!G21/SUM('10 Schema Sintesi'!$D$16:$D$22)","v":0},null,null,null,null,null,null,null," ",null,null,null,null,null,null,null,null,null,null,null,null,null,null,null,null," ",null,null,null,null,null,null,null,null,null,null,null,null,null,null,null,null,null," "]
[null,null,"Aliquota % IRES - Aliquota % IRAP"," "," ",null,"Gestione pagamento imposte",null,null,null,null,null,null,null,null,null,null," ",null,null,null,null,null,null,null,null,null,null,null,null,null,null,null,null," ",null,null,null,null,null,null,null,null,null,null,null,null,null,null,null,null,null," "]
[null,null,"Aliquota % IRES - Aliquota % IRAP",1,null,null,"% di Imposte da pagare nell'anno in corso (I° acconto)",null,null,0.4]
[null,null,"Aliquota % IRES - Aliquota % IRAP",0,null,null,"% di Imposte da pagare nell'anno in corso (II° acconto)",null,null,0.6]
[null,null,"Aliquota % IRES - Aliquota % IRAP"]
[null,null,"Aliquota % IRAP",5.12]
[]
[null,null,"Gestione IVA"]
[null,null," "]
[null,null,"ATTENZIONE: AFFINCHE' I VALORI DEL RIGO 52 SIANO CORRETTI, ANDARE A CARICARE DA SDG226 LE MAN. STRAORD. PARTENDO DALL'ANNO GIUSTO IN FCF14"]
[null,null,"ATTENZIONE: FAR PARTIRE L'IVA DEI COSTI DI GESTIONE E DELLE VENDITE (righe 53 e 54) DALL'ANNO DI AVVIO DELLA GESTIONE (cioè stesso anno che trovasi nella scheda 3) - Cioè spostare sr-cC35 e sr-cC16 ad avvio gestione"]
[]
[null,null,null,null,{"$f":"E15","v":1},{"$f":"IF((COLUMN()+1-COLUMN($E$15))<=('2 Descrizione Progetto'!$D$24),E52+1,\"0\")","v":2},{"$f":"IF((COLUMN()+1-COLUMN($E$15))<=('2 Descrizione Progetto'!$D$24),F52+1,\"0\")","v":3},{"$f":"IF((COLUMN()+1-COLUMN($E$15))<=('2 Descrizione Progetto'!$D$24),G52+1,\"0\")","v":4},{"$f":"IF((COLUMN()+1-COLUMN($E$15))<=('2 Descrizione Progetto'!$D$24),H52+1,\"0\")","v":5},{"$f":"IF((COLUMN()+1-COLUMN($E$15))<=('2 Descrizione Progetto'!$D$24),I52+1,\"0\")","v":6},{"$f":"IF((COLUMN()+1-COLUMN($E$15))<=('2 Descrizione Progetto'!$D$24),J52+1,\"0\")","v":7},{"$f":"IF((COLUMN()+1-COLUMN($E$15))<=('2 Descrizione Progetto'!$D$24),K52+1,\"0\")","v":8},{"$f":"IF((COLUMN()+1-COLUMN($E$15))<=('2 Descrizione Progetto'!$D$24),L52+1,\"0\")","v":9},{"$f":"IF((COLUMN()+1-COLUMN($E$15))<=('2 Descrizione Progetto'!$D$24),M52+1,\"0\")","v":10},{"$f":"IF((COLUMN()+1-COLUMN($E$15))<=('2 Descrizione Progetto'!$D$24),N52+1,\"0\")","v":11},{"$f":"IF((COLUMN()+1-COLUMN($E$15))<=('2 Descrizione Progetto'!$D$24),O52+1,\"0\")","v":"0"},{"$f":"IF((COLUMN()+1-COLUMN($E$15))<=('2 Descrizione Progetto'!$D$24),P52+1,\"0\")","v":"0"},{"$f":"IF((COLUMN()+1-COLUMN($E$15))<=('2 Descrizione Progetto'!$D$24),Q52+1,\"0\")","v":"0"},{"$f":"IF((COLUMN()+1-COLUMN($E$15))<=('2 Descrizione Progetto'!$D$24),R52+1,\"0\")","v":"0"},{"$f":"IF((COLUMN()+1-COLUMN($E$15))<=('2 Descrizione Progetto'!$D$24),S52+1,\"0\")","v":"0"},{"$f":"IF((COLUMN()+1-COLUMN($E$15))<=('2 Descrizione Progetto'!$D$24),T52+1,\"0\")","v":"0"},{"$f":"IF((COLUMN()+1-COLUMN($E$15))<=('2 Descrizione Progetto'!$D$24),U52+1,\"0\")","v":"0"},{"$f":"IF((COLUMN()+1-COLUMN($E$15))<=('2 Descrizione Progetto'!$D$24),V52+1,\"0\")","v":"0"},{"$f":"IF((COLUMN()+1-COLUMN($E$15))<=('2 Descrizione Progetto'!$D$24),W52+1,\"0\")","v":"0"},{"$f":"IF((COLUMN()+1-COLUMN($E$15))<=('2 Descrizione Progetto'!$D$24),X52+1,\"0\")","v":"0"},{"$f":"IF((COLUMN()+1-COLUMN($E$15))<=('2 Descrizione Progetto'!$D$24),Y52+1,\"0\")","v":"0"},{"$f":"IF((COLUMN()+1-COLUMN($E$15))<=('2 Descrizione Progetto'!$D$24),Z52+1,\"0\")","v":"0"},{"$f":"IF((COLUMN()+1-COLUMN($E$15))<=('2 Descrizione Progetto'!$D$24),AA52+1,\"0\")","v":"0"},{"$f":"IF((COLUMN()+1-COLUMN($E$15))<=('2 Descrizione Progetto'!$D$24),AB52+1,\"0\")","v":"0"},{"$f":"IF((COLUMN()+1-COLUMN($E$15))<=('2 Descrizione Progetto'!$D$24),AC52+1,\"0\")","v":"0"},{"$f":"IF((COLUMN()+1-COLUMN($E$15))<=('2 Descrizione Progetto'!$D$24),AD52+1,\"0\")","v":"0"},{"$f":"IF((COLUMN()+1-COLUMN($E$15))<=('2 Descrizione Progetto'!$D$24),AE52+1,\"0\")","v":"0"},{"$f":"IF((COLUMN()+1-COLUMN($E$15))<=('2 Descrizione Progetto'!$D$24),AF52+1,\"0\")","v":"0"},{"$f":"IF((COLUMN()+1-COLUMN($E$15))<=('2 Descrizione Progetto'!$D$24),AG52+1,\"0\")","v":"0"},{"$f":"IF((COLUMN()+1-COLUMN($E$15))<=('2 Descrizione Progetto'!$D$24),AH52+1,\"0\")","v":"0"},{"$f":"IF((COLUMN()+1-COLUMN($E$15))<=('2 Descrizione Progetto'!$D$24),AI52+1,\"0\")","v":"0"},{"$f":"IF((COLUMN()+1-COLUMN($E$15))<=('2 Descrizione Progetto'!$D$24),AJ52+1,\"0\")","v":"0"},{"$f":"IF((COLUMN()+1-COLUMN($E$15))<=('2 Descrizione Progetto'!$D$24),AK52+1,\"0\")","v":"0"},{"$f":"IF((COLUMN()+1-COLUMN($E$15))<=('2 Descrizione Progetto'!$D$24),AL52+1,\"0\")","v":"0"},{"$f":"IF((COLUMN()+1-COLUMN($E$15))<=('2 Descrizione Progetto'!$D$24),AM52+1,\"0\")","v":"0"},{"$f":"IF((COLUMN()+1-COLUMN($E$15))<=('2 Descrizione Progetto'!$D$24),AN52+1,\"0\")","v":"0"},{"$f":"IF((COLUMN()+1-COLUMN($E$15))<=('2 Descrizione Progetto'!$D$24),AO52+1,\"0\")","v":"0"},{"$f":"IF((COLUMN()+1-COLUMN($E$15))<=('2 Descrizione Progetto'!$D$24),AP52+1,\"0\")","v":"0"},{"$f":"IF((COLUMN()+1-COLUMN($E$15))<=('2 Descrizione Progetto'!$D$24),AQ52+1,\"0\")","v":"0"},{"$f":"IF((COLUMN()+1-COLUMN($E$15))<=('2 Descrizione Progetto'!$D$24),AR52+1,\"0\")","v":"0"},{"$f":"IF((COLUMN()+1-COLUMN($E$15))<=('2 Descrizione Progetto'!$D$24),AS52+1,\"0\")","v":"0"},{"$f":"IF((COLUMN()+1-COLUMN($E$15))<=('2 Descrizione Progetto'!$D$24),AT52+1,\"0\")","v":"0"},{"$f":"IF((COLUMN()+1-COLUMN($E$15))<=('2 Descrizione Progetto'!$D$24),AU52+1,\"0\")","v":"0"},{"$f":"IF((COLUMN()+1-COLUMN($E$15))<=('2 Descrizione Progetto'!$D$24),AV52+1,\"0\")","v":"0"},{"$f":"IF((COLUMN()+1-COLUMN($E$15))<=('2 Descrizione Progetto'!$D$24),AW52+1,\"0\")","v":"0"},{"$f":"IF((COLUMN()+1-COLUMN($E$15))<=('2 Descrizione Progetto'!$D$24),AX52+1,\"0\")","v":"0"},{"$f":"IF((COLUMN()+1-COLUMN($E$15))<=('2 Descrizione Progetto'!$D$24),AY52+1,\"0\")","v":"0"},{"$f":"IF((COLUMN()+1-COLUMN($E$15))<=('2 Descrizione Progetto'!$D$24),AZ52+1,\"0\")","v":"0"},{"$f":"IF((COLUMN()+1-COLUMN($E$15))<=('2 Descrizione Progetto'!$D$24),BA52+1,\"0\")","v":"0"},{"$f":"IF((COLUMN()+1-COLUMN($E$15))<=('2 Descrizione Progetto'!$D$24),BB52+1,\"0\")","v":"0"},{"$f":"IF((COLUMN()+1-COLUMN($E$15))<=('2 Descrizione Progetto'!$D$24),BC52+1,\"0\")","v":"0"},{"$f":"IF((COLUMN()+1-COLUMN($E$15))<=('2 Descrizione Progetto'!$D$24),BD52+1,\"0\")","v":"0"},{"$f":"IF((COLUMN()+1-COLUMN($E$15))<=('2 Descrizione Progetto'!$D$24),BE52+1,\"0\")","v":"0"},{"$f":"IF((COLUMN()+1-COLUMN($E$15))<=('2 Descrizione Progetto'!$D$24),BF52+1,\"0\")","v":"0"},{"$f":"IF((COLUMN()+1-COLUMN($E$15))<=('2 Descrizione Progetto'!$D$24),BG52+1,\"0\")","v":"0"},{"$f":"IF((COLUMN()+1-COLUMN($E$15))<=('2 Descrizione Progetto'!$D$24),BH52+1,\"0\")","v":"0"},{"$f":"IF((COLUMN()+1-COLUMN($E$15))<=('2 Descrizione Progetto'!$D$24),BI52+1,\"0\")","v":"0"},{"$f":"IF((COLUMN()+1-COLUMN($E$15))<=('2 Descrizione Progetto'!$D$24),BJ52+1,\"0\")","v":"0"},{"$f":"IF((COLUMN()+1-COLUMN($E$15))<=('2 Descrizione Progetto'!$D$24),BK52+1,\"0\")","v":"0"},{"$f":"IF((COLUMN()+1-COLUMN($E$15))<=('2 Descrizione Progetto'!$D$24),BL52+1,\"0\")","v":"0"},{"$f":"IF((COLUMN()+1-COLUMN($E$15))<=('2 Descrizione Progetto'!$D$24),BM52+1,\"0\")","v":"0"}]
[null,"-","IVA sugli investimenti finanziabili",{"$f":"SUM(E53:BM53)","v":-1.0000000000000001E-11},{"$f":"-$D$38*SUM(E16:E23)/100","v":-1.0000000000000001E-11},0,0,0,0,0,0,0,0,0,0,0,0,0,0,0,0,0,0,0,0,0,0,0,0,0,0,0,0,0,0,0,0,0,0,0,0,0,0,0,0,0,0,0,0,0,0,0,0,0,0,0,0,0,0,0,0,0,0,0,0,0]
[null,"-","IVA su manutenzioni straordinarie negli anni di esercizio",0,{"$f":"-$D$39*(E24-'6 Rendiconto Finanz'!E14)/100","v":0},{"$f":"-$D$39*(F24-'6 Rendiconto Finanz'!F14)/100","v":0},{"$f":"-$D$39*(G24-'6 Rendiconto Finanz'!G14)/100","v":0},{"$f":"-$D$39*(H24-'6 Rendiconto Finanz'!H14)/100","v":0},{"$f":"-$D$39*(I24-'6 Rendiconto Finanz'!I14)/100","v":0},{"$f":"-$D$39*(J24-'6 Rendiconto Finanz'!J14)/100","v":0},{"$f":"-$D$39*(K24-'6 Rendiconto Finanz'!K14)/100","v":0},{"$f":"-$D$39*(L24-'6 Rendiconto Finanz'!L14)/100","v":0},{"$f":"-$D$39*(M24-'6 Rendiconto Finanz'!M14)/100","v":0},{"$f":"-$D$39*(N24-'6 Rendiconto Finanz'!N14)/100","v":0},{"$f":"-$D$39*(O24-'6 Rendiconto Finanz'!O14)/100","v":0},{"$f":"-$D$39*(P24-'6 Rendiconto Finanz'!P14)/100","v":0},{"$f":"-$D$39*(Q24-'6 Rendiconto Finanz'!Q14)/100","v":0},{"$f":"-$D$39*(R24-'6 Rendiconto Finanz'!R14)/100","v":0},{"$f":"-$D$39*(S24-'6 Rendiconto Finanz'!S14)/100","v":0},{"$f":"-$D$39*(T24-'6 Rendiconto Finanz'!T14)/100","v":0},{"$f":"-$D$39*(U24-'6 Rendiconto Finanz'!U14)/100","v":0},{"$f":"-$D$39*(V24-'6 Rendiconto Finanz'!V14)/100","v":0},{"$f":"-$D$39*(W24-'6 Rendiconto Finanz'!W14)/100","v":0},{"$f":"-$D$39*(X24-'6 Rendiconto Finanz'!X14)/100","v":0},{"$f":"-$D$39*(Y24-'6 Rendiconto Finanz'!Y14)/100","v":0},{"$f":"-$D$39*(Z24-'6 Rendiconto Finanz'!Z14)/100","v":0},{"$f":"-$D$39*(AA24-'6 Rendiconto Finanz'!AA14)/100","v":0},{"$f":"-$D$39*(AB24-'6 Rendiconto Finanz'!AB14)/100","v":0},{"$f":"-$D$39*(AC24-'6 Rendiconto Finanz'!AC14)/100","v":0},{"$f":"-$D$39*(AD24-'6 Rendiconto Finanz'!AD14)/100","v":0},{"$f":"-$D$39*(AE24-'6 Rendiconto Finanz'!AE14)/100","v":0},{"$f":"-$D$39*(AF24-'6 Rendiconto Finanz'!AF14)/100","v":0},{"$f":"-$D$39*(AG24-'6 Rendiconto Finanz'!AG14)/100","v":0},{"$f":"-$D$39*(AH24-'6 Rendiconto Finanz'!AH14)/100","v":0},{"$f":"-$D$39*(AI24-'6 Rendiconto Finanz'!AI14)/100","v":0},{"$f":"-$D$39*(AJ24-'6 Rendiconto Finanz'!AJ14)/100","v":0},{"$f":"-$D$39*(AK24-'6 Rendiconto Finanz'!AK14)/100","v":0},{"$f":"-$D$39*(AL24-'6 Rendiconto Finanz'!AL14)/100","v":0},{"$f":"-$D$39*(AM24-'6 Rendiconto Finanz'!AM14)/100","v":0},{"$f":"-$D$39*(AN24-'6 Rendiconto Finanz'!AN14)/100","v":0},{"$f":"-$D$39*(AO24-'6 Rendiconto Finanz'!AO14)/100","v":0},{"$f":"-$D$39*(AP24-'6 Rendiconto Finanz'!AP14)/100","v":0},{"$f":"-$D$39*(AQ24-'6 Rendiconto Finanz'!AQ14)/100","v":0},{"$f":"-$D$39*(AR24-'6 Rendiconto Finanz'!AR14)/100","v":0},{"$f":"-$D$39*(AS24-'6 Rendiconto Finanz'!AS14)/100","v":0},{"$f":"-$D$39*(AT24-'6 Rendiconto Finanz'!AT14)/100","v":0},{"$f":"-$D$39*(AU24-'6 Rendiconto Finanz'!AU14)/100","v":0},{"$f":"-$D$39*(AV24-'6 Rendiconto Finanz'!AV14)/100","v":0},{"$f":"-$D$39*(AW24-'6 Rendiconto Finanz'!AW14)/100","v":0},{"$f":"-$D$39*(AX24-'6 Rendiconto Finanz'!AX14)/100","v":0},{"$f":"-$D$39*(AY24-'6 Rendiconto Finanz'!AY14)/100","v":0},{"$f":"-$D$39*(AZ24-'6 Rendiconto Finanz'!AZ14)/100","v":0},{"$f":"-$D$39*(BA24-'6 Rendiconto Finanz'!BA14)/100","v":0},{"$f":"-$D$39*(BB24-'6 Rendiconto Finanz'!BB14)/100","v":0},{"$f":"-$D$39*(BC24-'6 Rendiconto Finanz'!BC14)/100","v":0},{"$f":"-$D$39*(BD24-'6 Rendiconto Finanz'!BD14)/100","v":0},{"$f":"-$D$39*(BE24-'6 Rendiconto Finanz'!BE14)/100","v":0},{"$f":"-$D$39*(BF24-'6 Rendiconto Finanz'!BF14)/100","v":0},{"$f":"-$D$39*(BG24-'6 Rendiconto Finanz'!BG14)/100","v":0},{"$f":"-$D$39*(BH24-'6 Rendiconto Finanz'!BH14)/100","v":0},{"$f":"-$D$39*(BI24-'6 Rendiconto Finanz'!BI14)/100","v":0},{"$f":"-$D$39*(BJ24-'6 Rendiconto Finanz'!BJ14)/100","v":0},{"$f":"-$D$39*(BK24-'6 Rendiconto Finanz'!BK14)/100","v":0},{"$f":"-$D$39*(BL24-'6 Rendiconto Finanz'!BL14)/100","v":0},0,{"$f":"-$D$39*(BN24-'6 Rendiconto Finanz'!BM14)/100","v":0},{"$f":"-$D$39*(BO24-'6 Rendiconto Finanz'!BN14)/100","v":0}]
[null,"-","IVA su costi di esercizio",-5490.7161888740411,{"$f":"'3 Costi-Ricavi'!D35*('6 Rendiconto Finanz'!E10+'6 Rendiconto Finanz'!E12+'6 Rendiconto Finanz'!E13)/100+IF('6 Rendiconto Finanz'!E6<0,'6 Rendiconto Finanz'!E6,0)*'4 Sviluppo Domanda e Gestione'!$H$275","v":-490.54564019999998},{"$f":"'3 Costi-Ricavi'!E35*('6 Rendiconto Finanz'!F10+'6 Rendiconto Finanz'!F12+'6 Rendiconto Finanz'!F13)/100+IF('6 Rendiconto Finanz'!F6<0,'6 Rendiconto Finanz'!F6,0)*'4 Sviluppo Domanda e Gestione'!$H$275","v":-505.63444100399994},{"$f":"'3 Costi-Ricavi'!F35*('6 Rendiconto Finanz'!G10+'6 Rendiconto Finanz'!G12+'6 Rendiconto Finanz'!G13)/100+IF('6 Rendiconto Finanz'!G6<0,'6 Rendiconto Finanz'!G6,0)*'4 Sviluppo Domanda e Gestione'!$H$275","v":-523.65749910407987},{"$f":"'3 Costi-Ricavi'!G35*('6 Rendiconto Finanz'!H10+'6 Rendiconto Finanz'!H12+'6 Rendiconto Finanz'!H13)/100+IF('6 Rendiconto Finanz'!H6<0,'6 Rendiconto Finanz'!H6,0)*'4 Sviluppo Domanda e Gestione'!$H$275","v":-534.1306490861615},{"$f":"'3 Costi-Ricavi'!H35*('6 Rendiconto Finanz'!I10+'6 Rendiconto Finanz'!I12+'6 Rendiconto Finanz'!I13)/100+IF('6 Rendiconto Finanz'!I6<0,'6 Rendiconto Finanz'!I6,0)*'4 Sviluppo Domanda e Gestione'!$H$275","v":-544.81326206788481},{"$f":"'3 Costi-Ricavi'!I35*('6 Rendiconto Finanz'!J10+'6 Rendiconto Finanz'!J12+'6 Rendiconto Finanz'!J13)/100+IF('6 Rendiconto Finanz'!J6<0,'6 Rendiconto Finanz'!J6,0)*'4 Sviluppo Domanda e Gestione'!$H$275","v":-555.7095273092425},{"$f":"'3 Costi-Ricavi'!J35*('6 Rendiconto Finanz'!K10+'6 Rendiconto Finanz'!K12+'6 Rendiconto Finanz'!K13)/100+IF('6 Rendiconto Finanz'!K6<0,'6 Rendiconto Finanz'!K6,0)*'4 Sviluppo Domanda e Gestione'!$H$275","v":-566.82371785542739},{"$f":"'3 Costi-Ricavi'!K35*('6 Rendiconto Finanz'!L10+'6 Rendiconto Finanz'!L12+'6 Rendiconto Finanz'!L13)/100+IF('6 Rendiconto Finanz'!L6<0,'6 Rendiconto Finanz'!L6,0)*'4 Sviluppo Domanda e Gestione'!$H$275","v":-578.160192212536},{"$f":"'3 Costi-Ricavi'!L35*('6 Rendiconto Finanz'!M10+'6 Rendiconto Finanz'!M12+'6 Rendiconto Finanz'!M13)/100+IF('6 Rendiconto Finanz'!M6<0,'6 Rendiconto Finanz'!M6,0)*'4 Sviluppo Domanda e Gestione'!$H$275","v":-589.72339605678656},{"$f":"'3 Costi-Ricavi'!M35*('6 Rendiconto Finanz'!N10+'6 Rendiconto Finanz'!N12+'6 Rendiconto Finanz'!N13)/100+IF('6 Rendiconto Finanz'!N6<0,'6 Rendiconto Finanz'!N6,0)*'4 Sviluppo Domanda e Gestione'!$H$275","v":-601.51786397792239},0,0,0,0,0,0,0,0,0,0,0,0,0,0,0,0,0,0,0,0,0,0,0,0,0,0,0,0,0,0,0,0,0,0,0,0,0,0,0,0,0,0,0,0,0,0,0,0,0,0,0,{"$f":"'3 Costi-Ricavi'!BM35*('6 Rendiconto Finanz'!BN10+'6 Rendiconto Finanz'!BN12+'6 Rendiconto Finanz'!BN13)/100+IF('6 Rendiconto Finanz'!BN6<0,'6 Rendiconto Finanz'!BN6,0)*'4 Sviluppo Domanda e Gestione'!$H$275","v":0},{"$f":"'3 Costi-Ricavi'!BN35*('6 Rendiconto Finanz'!BO10+'6 Rendiconto Finanz'!BO12+'6 Rendiconto Finanz'!BO13)/100+IF('6 Rendiconto Finanz'!BO6<0,'6 Rendiconto Finanz'!BO6,0)*'4 Sviluppo Domanda e Gestione'!$H$275","v":0},{"$f":"'3 Costi-Ricavi'!BO35*('6 Rendiconto Finanz'!BP10+'6 Rendiconto Finanz'!BP12+'6 Rendiconto Finanz'!BP13)/100+IF('6 Rendiconto Finanz'!BP6<0,'6 Rendiconto Finanz'!BP6,0)*'4 Sviluppo Domanda e Gestione'!$H$275","v":0}]
[null,"+","IVA sulle vendite ",2676.4470334481302,{"$f":"'3 Costi-Ricavi'!D16*('6 Rendiconto Finanz'!E5)/100+IF('6 Rendiconto Finanz'!E6>0,'6 Rendiconto Finanz'!E6,0)*'4 Sviluppo Domanda e Gestione'!$H$275","v":175.67},{"$f":"'3 Costi-Ricavi'!E16*('6 Rendiconto Finanz'!F5)/100+IF('6 Rendiconto Finanz'!F6>0,'6 Rendiconto Finanz'!F6,0)*'4 Sviluppo Domanda e Gestione'!$H$275","v":216.09720000000002},{"$f":"'3 Costi-Ricavi'!F16*('6 Rendiconto Finanz'!G5)/100+IF('6 Rendiconto Finanz'!G6>0,'6 Rendiconto Finanz'!G6,0)*'4 Sviluppo Domanda e Gestione'!$H$275","v":266.18758847999999},{"$f":"'3 Costi-Ricavi'!G16*('6 Rendiconto Finanz'!H5)/100+IF('6 Rendiconto Finanz'!H6>0,'6 Rendiconto Finanz'!H6,0)*'4 Sviluppo Domanda e Gestione'!$H$275","v":271.51134024959998},{"$f":"'3 Costi-Ricavi'!H16*('6 Rendiconto Finanz'!I5)/100+IF('6 Rendiconto Finanz'!I6>0,'6 Rendiconto Finanz'!I6,0)*'4 Sviluppo Domanda e Gestione'!$H$275","v":276.94156705459193},{"$f":"'3 Costi-Ricavi'!I16*('6 Rendiconto Finanz'!J5)/100+IF('6 Rendiconto Finanz'!J6>0,'6 Rendiconto Finanz'!J6,0)*'4 Sviluppo Domanda e Gestione'!$H$275","v":282.48039839568378},{"$f":"'3 Costi-Ricavi'!J16*('6 Rendiconto Finanz'!K5)/100+IF('6 Rendiconto Finanz'!K6>0,'6 Rendiconto Finanz'!K6,0)*'4 Sviluppo Domanda e Gestione'!$H$275","v":288.13000636359754},{"$f":"'3 Costi-Ricavi'!K16*('6 Rendiconto Finanz'!L5)/100+IF('6 Rendiconto Finanz'!L6>0,'6 Rendiconto Finanz'!L6,0)*'4 Sviluppo Domanda e Gestione'!$H$275","v":293.89260649086947},{"$f":"'3 Costi-Ricavi'!L16*('6 Rendiconto Finanz'!M5)/100+IF('6 Rendiconto Finanz'!M6>0,'6 Rendiconto Finanz'!M6,0)*'4 Sviluppo Domanda e Gestione'!$H$275","v":299.7704586206869},{"$f":"'3 Costi-Ricavi'!M16*('6 Rendiconto Finanz'!N5)/100+IF('6 Rendiconto Finanz'!N6>0,'6 Rendiconto Finanz'!N6,0)*'4 Sviluppo Domanda e Gestione'!$H$275","v":305.7658677931006},0,0,0,0,0,0,0,0,0,0,0,0,0,0,0,0,0,0,0,0,0,0,0,0,0,0,0,0,0,0,0,0,0,0,0,0,0,0,0,0,0,0,0,0,0,0,0,0,0,0,0,{"$f":"'3 Costi-Ricavi'!BM16*('6 Rendiconto Finanz'!BN5)/100+IF('6 Rendiconto Finanz'!BN6>0,'6 Rendiconto Finanz'!BN6,0)*'4 Sviluppo Domanda e Gestione'!$H$275","v":0},{"$f":"'3 Costi-Ricavi'!BN16*('6 Rendiconto Finanz'!BO5)/100+IF('6 Rendiconto Finanz'!BO6>0,'6 Rendiconto Finanz'!BO6,0)*'4 Sviluppo Domanda e Gestione'!$H$275","v":0},{"$f":"'3 Costi-Ricavi'!BO16*('6 Rendiconto Finanz'!BP5)/100+IF('6 Rendiconto Finanz'!BP6>0,'6 Rendiconto Finanz'!BP6,0)*'4 Sviluppo Domanda e Gestione'!$H$275","v":0}]
[null,"=","Saldo IVA",-2814.2691554259209,{"$f":"SUM(E53*E64+E54*E64+E55*E64+E56)","v":-314.87564020001003},-289.53724100399995,-257.46991062407989,-262.61930883656152,-267.87169501329288,-273.22912891355872,-278.69371149182984,-284.26758572166653,-289.95293743609966,-295.75199618482179,0,0,0,0,0,0,0,0,0,0,0,0,0,0,0,0,0,0,0,0,0,0,0,0,0,0,0,0,0,0,0,0,0,0,0,0,0,0,0,0,0,0,0,0,0,0,0,0,0,0,0,0,0]
[null,"+","Iva a debito compensata o versata",0,{"$f":"IF(E57>0,E57*$D$42,0)","v":0},{"$f":"IF(F57>0,F57*$D$42)+IF(E57>0,E57*$D$43,0)","v":0},0,0,0,0,0,0,0,0,0,{"$f":"IF(P57>0,P57*$D$42)+IF(O57>0,O57*$D$43,0)","v":0},{"$f":"IF(Q57>0,Q57*$D$42)+IF(P57>0,P57*$D$43,0)","v":0},{"$f":"IF(R57>0,R57*$D$42)+IF(Q57>0,Q57*$D$43,0)","v":0},{"$f":"IF(S57>0,S57*$D$42)+IF(R57>0,R57*$D$43,0)","v":0},{"$f":"IF(T57>0,T57*$D$42)+IF(S57>0,S57*$D$43,0)","v":0},{"$f":"IF(U57>0,U57*$D$42)+IF(T57>0,T57*$D$43,0)","v":0},{"$f":"IF(V57>0,V57*$D$42)+IF(U57>0,U57*$D$43,0)","v":0},{"$f":"IF(W57>0,W57*$D$42)+IF(V57>0,V57*$D$43,0)","v":0},{"$f":"IF(X57>0,X57*$D$42)+IF(W57>0,W57*$D$43,0)","v":0},{"$f":"IF(Y57>0,Y57*$D$42)+IF(X57>0,X57*$D$43,0)","v":0},{"$f":"IF(Z57>0,Z57*$D$42)+IF(Y57>0,Y57*$D$43,0)","v":0},{"$f":"IF(AA57>0,AA57*$D$42)+IF(Z57>0,Z57*$D$43,0)","v":0},{"$f":"IF(AB57>0,AB57*$D$42)+IF(AA57>0,AA57*$D$43,0)","v":0},{"$f":"IF(AC57>0,AC57*$D$42)+IF(AB57>0,AB57*$D$43,0)","v":0},{"$f":"IF(AD57>0,AD57*$D$42)+IF(AC57>0,AC57*$D$43,0)","v":0},{"$f":"IF(AE57>0,AE57*$D$42)+IF(AD57>0,AD57*$D$43,0)","v":0},{"$f":"IF(AF57>0,AF57*$D$42)+IF(AE57>0,AE57*$D$43,0)","v":0},{"$f":"IF(AG57>0,AG57*$D$42)+IF(AF57>0,AF57*$D$43,0)","v":0},{"$f":"IF(AH57>0,AH57*$D$42)+IF(AG57>0,AG57*$D$43,0)","v":0},{"$f":"IF(AI57>0,AI57*$D$42)+IF(AH57>0,AH57*$D$43,0)","v":0},{"$f":"IF(AJ57>0,AJ57*$D$42)+IF(AI57>0,AI57*$D$43,0)","v":0},{"$f":"IF(AK57>0,AK57*$D$42)+IF(AJ57>0,AJ57*$D$43,0)","v":0},{"$f":"IF(AL57>0,AL57*$D$42)+IF(AK57>0,AK57*$D$43,0)","v":0},{"$f":"IF(AM57>0,AM57*$D$42)+IF(AL57>0,AL57*$D$43,0)","v":0},{"$f":"IF(AN57>0,AN57*$D$42)+IF(AM57>0,AM57*$D$43,0)","v":0},{"$f":"IF(AO57>0,AO57*$D$42)+IF(AN57>0,AN57*$D$43,0)","v":0},{"$f":"IF(AP57>0,AP57*$D$42)+IF(AO57>0,AO57*$D$43,0)","v":0},{"$f":"IF(AQ57>0,AQ57*$D$42)+IF(AP57>0,AP57*$D$43,0)","v":0},{"$f":"IF(AR57>0,AR57*$D$42)+IF(AQ57>0,AQ57*$D$43,0)","v":0},{"$f":"IF(AS57>0,AS57*$D$42)+IF(AR57>0,AR57*$D$43,0)","v":0},{"$f":"IF(AT57>0,AT57*$D$42)+IF(AS57>0,AS57*$D$43,0)","v":0},{"$f":"IF(AU57>0,AU57*$D$42)+IF(AT57>0,AT57*$D$43,0)","v":0},{"$f":"IF(AV57>0,AV57*$D$42)+IF(AU57>0,AU57*$D$43,0)","v":0},{"$f":"IF(AW57>0,AW57*$D$42)+IF(AV57>0,AV57*$D$43,0)","v":0},{"$f":"IF(AX57>0,AX57*$D$42)+IF(AW57>0,AW57*$D$43,0)","v":0},{"$f":"IF(AY57>0,AY57*$D$42)+IF(AX57>0,AX57*$D$43,0)","v":0},{"$f":"IF(AZ57>0,AZ57*$D$42)+IF(AY57>0,AY57*$D$43,0)","v":0},{"$f":"IF(BA57>0,BA57*$D$42)+IF(AZ57>0,AZ57*$D$43,0)","v":0},{"$f":"IF(BB57>0,BB57*$D$42)+IF(BA57>0,BA57*$D$43,0)","v":0},{"$f":"IF(BC57>0,BC57*$D$42)+IF(BB57>0,BB57*$D$43,0)","v":0},{"$f":"IF(BD57>0,BD57*$D$42)+IF(BC57>0,BC57*$D$43,0)","v":0},{"$f":"IF(BE57>0,BE57*$D$42)+IF(BD57>0,BD57*$D$43,0)","v":0},{"$f":"IF(BF57>0,BF57*$D$42)+IF(BE57>0,BE57*$D$43,0)","v":0},{"$f":"IF(BG57>0,BG57*$D$42)+IF(BF57>0,BF57*$D$43,0)","v":0},{"$f":"IF(BH57>0,BH57*$D$42)+IF(BG57>0,BG57*$D$43,0)","v":0},{"$f":"IF(BI57>0,BI57*$D$42)+IF(BH57>0,BH57*$D$43,0)","v":0},{"$f":"IF(BJ57>0,BJ57*$D$42)+IF(BI57>0,BI57*$D$43,0)","v":0},{"$f":"IF(BK57>0,BK57*$D$42)+IF(BJ57>0,BJ57*$D$43,0)","v":0},{"$f":"IF(BL57>0,BL57*$D$42)+IF(BK57>0,BK57*$D$43,0)","v":0},{"$f":"IF(BM57>0,BM57*$D$42)+IF(BL57>0,BL57*$D$43,0)","v":0},0]
[null,null,"Posizione netta IVA",-2814.2691554259209,{"$f":"IF(E57<0,E57,0)+E58","v":-314.87564020001003},-289.53724100399995,-257.46991062407989,-262.61930883656152,-267.87169501329288,-273.22912891355872,-278.69371149182984,-284.26758572166653,-289.95293743609966,-295.75199618482179,0,0,0,0,0,0,0,0,0,0,0,0,0,0,0,0,0,0,0,0,0,0,0,0,0,0,0,0,0,0,0,0,0,0,0,0,0,0,0,0,0,0,0,0,0,0,0,0,0,0,0,0]
[null,null,"Iva a debito versata",0,{"$f":"E58","v":0},{"$f":"IF((F58+E73)>0,(F58+E73),0)","v":0},0,0,0,0,0,0,0,0,0,0,0,0,0,0,0,0,0,0,0,0,0,0,0,0,0,0,0,0,0,0,0,0,0,0,0,0,0,0,0,0,0,0,0,0,0,0,0,0,0,0,0,0,0,0,0,0,0,0]
[null,null,"Rimborsi di Iva a credito ",2518.5171592410989,0,{"$f":"SUM(-(E73*$D$62))","v":314.87564020001003},{"$f":"SUM(-(F73*$D$62))","v":289.53724100399995},257.46991062407983,262.61930883656146,267.87169501329288,{"$f":"SUM(-(J73*$D$62))","v":273.22912891355872},{"$f":"SUM(-(K73*$D$62))","v":278.69371149182984},{"$f":"SUM(-(L73*$D$62))","v":284.26758572166659},{"$f":"SUM(-(M73*$D$62))","v":289.95293743609966},0,0,0,0,0,0,0,0,0,0,0,0,0,0,0,0,0,0,0,0,0,0,0,0,0,0,0,0,0,0,0,0,0,0,0,0,0,0,0,0,0,0,0,0,0,0,0,0,0,0,0,0]
[null,null,"Percentuale rimborso",1]
[null,null,"Percentuale (pro rata) di Iva indetraibile - DPR 633/72 art. 19, comma 5 e 19-bis, comma 1",null,0,0,0,0,0,0,0,0,0,0,0,0,0,0,0,0,0,0,0,0,0,0,0,0,0,0,0,0,0,0,0,0,0,0,0,0,0,0,0,0,0,0,0,0,0,0,0,0,0,0,0,0,0,0,0,0,0,0,0,0,0,0,0,0]
[null,null,"Percentuale (pro rata) di Iva detraibile",null,{"$f":"100%-E63","v":1},1,1,1,1,1,1,1,1,1,1,1,1,1,1,1,1,1,1,1,1,1,1,1,1,1,1,1,1,1,1,1,1,1,1,1,1,1,1,1,1,1,1,1,1,1,1,1,1,1,1,1,1,1,1,1,1,1,1,1,1,1,1,1]
[]
[null,null,"Variazione del Capitale Circolante Netto"]
[]
[null,null,null,null,{"$f":"E15","v":1},2,3,4,5,6,7,8,9,10,11,"0","0","0","0","0","0","0","0","0","0","0","0","0","0","0","0","0","0","0","0","0","0","0","0","0","0","0","0","0","0","0","0","0","0","0","0","0","0","0","0","0","0","0","0","0","0","0","0","0","0"]
[null,null,{"$f":"'6 Rendiconto Finanz'!C5","v":"Ricavi tariffari utilizzati nel flusso di cassa   "},"clienti",{"$f":"-'6 Rendiconto Finanz'!E5*('5 Foglio di elaborazione'!$D$101/'5 Foglio di elaborazione'!$D$105)*(1+'3 Costi-Ricavi'!D16/100)","v":-28391.150958904105},{"$f":"-'6 Rendiconto Finanz'!F5*('5 Foglio di elaborazione'!$D$101/'5 Foglio di elaborazione'!$D$105)*(1+'3 Costi-Ricavi'!E16/100)","v":-32009.432646575337},{"$f":"-'6 Rendiconto Finanz'!G5*('5 Foglio di elaborazione'!$D$101/'5 Foglio di elaborazione'!$D$105)*(1+'3 Costi-Ricavi'!F16/100)","v":-36345.548908642188},{"$f":"-'6 Rendiconto Finanz'!H5*('5 Foglio di elaborazione'!$D$101/'5 Foglio di elaborazione'!$D$105)*(1+'3 Costi-Ricavi'!G16/100)","v":-37072.459886815035},{"$f":"-'6 Rendiconto Finanz'!I5*('5 Foglio di elaborazione'!$D$101/'5 Foglio di elaborazione'!$D$105)*(1+'3 Costi-Ricavi'!H16/100)","v":-37813.909084551327},{"$f":"-'6 Rendiconto Finanz'!J5*('5 Foglio di elaborazione'!$D$101/'5 Foglio di elaborazione'!$D$105)*(1+'3 Costi-Ricavi'!I16/100)","v":-38570.187266242356},{"$f":"-'6 Rendiconto Finanz'!K5*('5 Foglio di elaborazione'!$D$101/'5 Foglio di elaborazione'!$D$105)*(1+'3 Costi-Ricavi'!J16/100)","v":-39341.591011567209},{"$f":"-'6 Rendiconto Finanz'!L5*('5 Foglio di elaborazione'!$D$101/'5 Foglio di elaborazione'!$D$105)*(1+'3 Costi-Ricavi'!K16/100)","v":-40128.422831798554},{"$f":"-'6 Rendiconto Finanz'!M5*('5 Foglio di elaborazione'!$D$101/'5 Foglio di elaborazione'!$D$105)*(1+'3 Costi-Ricavi'!L16/100)","v":-40930.991288434532},{"$f":"-'6 Rendiconto Finanz'!N5*('5 Foglio di elaborazione'!$D$101/'5 Foglio di elaborazione'!$D$105)*(1+'3 Costi-Ricavi'!M16/100)","v":-41749.611114203217},{"$f":"-'6 Rendiconto Finanz'!O5*('5 Foglio di elaborazione'!$D$101/'5 Foglio di elaborazione'!$D$105)*(1+'3 Costi-Ricavi'!N16/100)","v":{"$error":"#DIV/0!"}},{"$f":"-'6 Rendiconto Finanz'!P5*('5 Foglio di elaborazione'!$D$101/'5 Foglio di elaborazione'!$D$105)*(1+'3 Costi-Ricavi'!O16/100)","v":{"$error":"#DIV/0!"}},{"$f":"-'6 Rendiconto Finanz'!Q5*('5 Foglio di elaborazione'!$D$101/'5 Foglio di elaborazione'!$D$105)*(1+'3 Costi-Ricavi'!P16/100)","v":{"$error":"#DIV/0!"}},{"$f":"-'6 Rendiconto Finanz'!R5*('5 Foglio di elaborazione'!$D$101/'5 Foglio di elaborazione'!$D$105)*(1+'3 Costi-Ricavi'!Q16/100)","v":{"$error":"#DIV/0!"}},{"$f":"-'6 Rendiconto Finanz'!S5*('5 Foglio di elaborazione'!$D$101/'5 Foglio di elaborazione'!$D$105)*(1+'3 Costi-Ricavi'!R16/100)","v":{"$error":"#DIV/0!"}},{"$f":"-'6 Rendiconto Finanz'!T5*('5 Foglio di elaborazione'!$D$101/'5 Foglio di elaborazione'!$D$105)*(1+'3 Costi-Ricavi'!S16/100)","v":{"$error":"#DIV/0!"}},{"$f":"-'6 Rendiconto Finanz'!U5*('5 Foglio di elaborazione'!$D$101/'5 Foglio di elaborazione'!$D$105)*(1+'3 Costi-Ricavi'!T16/100)","v":{"$error":"#DIV/0!"}},{"$f":"-'6 Rendiconto Finanz'!V5*('5 Foglio di elaborazione'!$D$101/'5 Foglio di elaborazione'!$D$105)*(1+'3 Costi-Ricavi'!U16/100)","v":{"$error":"#DIV/0!"}},{"$f":"-'6 Rendiconto Finanz'!W5*('5 Foglio di elaborazione'!$D$101/'5 Foglio di elaborazione'!$D$105)*(1+'3 Costi-Ricavi'!V16/100)","v":{"$error":"#DIV/0!"}},{"$f":"-'6 Rendiconto Finanz'!X5*('5 Foglio di elaborazione'!$D$101/'5 Foglio di elaborazione'!$D$105)*(1+'3 Costi-Ricavi'!W16/100)","v":{"$error":"#DIV/0!"}},{"$f":"-'6 Rendiconto Finanz'!Y5*('5 Foglio di elaborazione'!$D$101/'5 Foglio di elaborazione'!$D$105)","v":0},{"$f":"-'6 Rendiconto Finanz'!Z5*('5 Foglio di elaborazione'!$D$101/'5 Foglio di elaborazione'!$D$105)","v":0},{"$f":"-'6 Rendiconto Finanz'!AA5*('5 Foglio di elaborazione'!$D$101/'5 Foglio di elaborazione'!$D$105)","v":0},{"$f":"-'6 Rendiconto Finanz'!AB5*('5 Foglio di elaborazione'!$D$101/'5 Foglio di elaborazione'!$D$105)","v":0},{"$f":"-'6 Rendiconto Finanz'!AC5*('5 Foglio di elaborazione'!$D$101/'5 Foglio di elaborazione'!$D$105)","v":0},{"$f":"-'6 Rendiconto Finanz'!AD5*('5 Foglio di elaborazione'!$D$101/'5 Foglio di elaborazione'!$D$105)","v":0},{"$f":"-'6 Rendiconto Finanz'!AE5*('5 Foglio di elaborazione'!$D$101/'5 Foglio di elaborazione'!$D$105)","v":0},{"$f":"-'6 Rendiconto Finanz'!AF5*('5 Foglio di elaborazione'!$D$101/'5 Foglio di elaborazione'!$D$105)","v":0},{"$f":"-'6 Rendiconto Finanz'!AG5*('5 Foglio di elaborazione'!$D$101/'5 Foglio di elaborazione'!$D$105)","v":0},{"$f":"-'6 Rendiconto Finanz'!AH5*('5 Foglio di elaborazione'!$D$101/'5 Foglio di elaborazione'!$D$105)","v":0},{"$f":"-'6 Rendiconto Finanz'!AI5*('5 Foglio di elaborazione'!$D$101/'5 Foglio di elaborazione'!$D$105)","v":0},{"$f":"-'6 Rendiconto Finanz'!AJ5*('5 Foglio di elaborazione'!$D$101/'5 Foglio di elaborazione'!$D$105)","v":0},{"$f":"-'6 Rendiconto Finanz'!AK5*('5 Foglio di elaborazione'!$D$101/'5 Foglio di elaborazione'!$D$105)","v":0},{"$f":"-'6 Rendiconto Finanz'!AL5*('5 Foglio di elaborazione'!$D$101/'5 Foglio di elaborazione'!$D$105)","v":0},{"$f":"-'6 Rendiconto Finanz'!AM5*('5 Foglio di elaborazione'!$D$101/'5 Foglio di elaborazione'!$D$105)","v":0},{"$f":"-'6 Rendiconto Finanz'!AN5*('5 Foglio di elaborazione'!$D$101/'5 Foglio di elaborazione'!$D$105)","v":0},{"$f":"-'6 Rendiconto Finanz'!AO5*('5 Foglio di elaborazione'!$D$101/'5 Foglio di elaborazione'!$D$105)","v":0},{"$f":"-'6 Rendiconto Finanz'!AP5*('5 Foglio di elaborazione'!$D$101/'5 Foglio di elaborazione'!$D$105)","v":0},{"$f":"-'6 Rendiconto Finanz'!AQ5*('5 Foglio di elaborazione'!$D$101/'5 Foglio di elaborazione'!$D$105)","v":0},{"$f":"-'6 Rendiconto Finanz'!AR5*('5 Foglio di elaborazione'!$D$101/'5 Foglio di elaborazione'!$D$105)","v":0},{"$f":"-'6 Rendiconto Finanz'!AS5*('5 Foglio di elaborazione'!$D$101/'5 Foglio di elaborazione'!$D$105)","v":0},{"$f":"-'6 Rendiconto Finanz'!AT5*('5 Foglio di elaborazione'!$D$101/'5 Foglio di elaborazione'!$D$105)","v":0},{"$f":"-'6 Rendiconto Finanz'!AU5*('5 Foglio di elaborazione'!$D$101/'5 Foglio di elaborazione'!$D$105)","v":0},{"$f":"-'6 Rendiconto Finanz'!AV5*('5 Foglio di elaborazione'!$D$101/'5 Foglio di elaborazione'!$D$105)","v":0},{"$f":"-'6 Rendiconto Finanz'!AW5*('5 Foglio di elaborazione'!$D$101/'5 Foglio di elaborazione'!$D$105)","v":0},{"$f":"-'6 Rendiconto Finanz'!AX5*('5 Foglio di elaborazione'!$D$101/'5 Foglio di elaborazione'!$D$105)","v":0},{"$f":"-'6 Rendiconto Finanz'!AY5*('5 Foglio di elaborazione'!$D$101/'5 Foglio di elaborazione'!$D$105)","v":0},{"$f":"-'6 Rendiconto Finanz'!AZ5*('5 Foglio di elaborazione'!$D$101/'5 Foglio di elaborazione'!$D$105)","v":0},{"$f":"-'6 Rendiconto Finanz'!BA5*('5 Foglio di elaborazione'!$D$101/'5 Foglio di elaborazione'!$D$105)","v":0},{"$f":"-'6 Rendiconto Finanz'!BB5*('5 Foglio di elaborazione'!$D$101/'5 Foglio di elaborazione'!$D$105)","v":0},{"$f":"-'6 Rendiconto Finanz'!BC5*('5 Foglio di elaborazione'!$D$101/'5 Foglio di elaborazione'!$D$105)","v":0},{"$f":"-'6 Rendiconto Finanz'!BD5*('5 Foglio di elaborazione'!$D$101/'5 Foglio di elaborazione'!$D$105)","v":0},{"$f":"-'6 Rendiconto Finanz'!BE5*('5 Foglio di elaborazione'!$D$101/'5 Foglio di elaborazione'!$D$105)","v":0},{"$f":"-'6 Rendiconto Finanz'!BF5*('5 Foglio di elaborazione'!$D$101/'5 Foglio di elaborazione'!$D$105)","v":0},{"$f":"-'6 Rendiconto Finanz'!BG5*('5 Foglio di elaborazione'!$D$101/'5 Foglio di elaborazione'!$D$105)","v":0},{"$f":"-'6 Rendiconto Finanz'!BH5*('5 Foglio di elaborazione'!$D$101/'5 Foglio di elaborazione'!$D$105)","v":0},{"$f":"-'6 Rendiconto Finanz'!BI5*('5 Foglio di elaborazione'!$D$101/'5 Foglio di elaborazione'!$D$105)","v":0},{"$f":"-'6 Rendiconto Finanz'!BJ5*('5 Foglio di elaborazione'!$D$101/'5 Foglio di elaborazione'!$D$105)","v":0},{"$f":"-'6 Rendiconto Finanz'!BK5*('5 Foglio di elaborazione'!$D$101/'5 Foglio di elaborazione'!$D$105)","v":0},{"$f":"-'6 Rendiconto Finanz'!BL5*('5 Foglio di elaborazione'!$D$101/'5 Foglio di elaborazione'!$D$105)","v":0},0,0]
[null,null,{"$f":"'6 Rendiconto Finanz'!C6","v":"Canone di concessione"},"clienti",{"$f":"-IF('4 Sviluppo Domanda e Gestione'!$D$274=\"Canone di disponibilità\",'6 Rendiconto Finanz'!E6*('5 Foglio di elaborazione'!$D$102/'5 Foglio di elaborazione'!$D$105),0)","v":0},{"$f":"-IF('4 Sviluppo Domanda e Gestione'!$D$274=\"Canone di disponibilità\",'6 Rendiconto Finanz'!F6*('5 Foglio di elaborazione'!$D$102/'5 Foglio di elaborazione'!$D$105),0)","v":0},{"$f":"-IF('4 Sviluppo Domanda e Gestione'!$D$274=\"Canone di disponibilità\",'6 Rendiconto Finanz'!G6*('5 Foglio di elaborazione'!$D$102/'5 Foglio di elaborazione'!$D$105),0)","v":0},{"$f":"-IF('4 Sviluppo Domanda e Gestione'!$D$274=\"Canone di disponibilità\",'6 Rendiconto Finanz'!H6*('5 Foglio di elaborazione'!$D$102/'5 Foglio di elaborazione'!$D$105),0)","v":0},{"$f":"-IF('4 Sviluppo Domanda e Gestione'!$D$274=\"Canone di disponibilità\",'6 Rendiconto Finanz'!I6*('5 Foglio di elaborazione'!$D$102/'5 Foglio di elaborazione'!$D$105),0)","v":0},{"$f":"-IF('4 Sviluppo Domanda e Gestione'!$D$274=\"Canone di disponibilità\",'6 Rendiconto Finanz'!J6*('5 Foglio di elaborazione'!$D$102/'5 Foglio di elaborazione'!$D$105),0)","v":0},{"$f":"-IF('4 Sviluppo Domanda e Gestione'!$D$274=\"Canone di disponibilità\",'6 Rendiconto Finanz'!K6*('5 Foglio di elaborazione'!$D$102/'5 Foglio di elaborazione'!$D$105),0)","v":0},{"$f":"-IF('4 Sviluppo Domanda e Gestione'!$D$274=\"Canone di disponibilità\",'6 Rendiconto Finanz'!L6*('5 Foglio di elaborazione'!$D$102/'5 Foglio di elaborazione'!$D$105),0)","v":0},{"$f":"-IF('4 Sviluppo Domanda e Gestione'!$D$274=\"Canone di disponibilità\",'6 Rendiconto Finanz'!M6*('5 Foglio di elaborazione'!$D$102/'5 Foglio di elaborazione'!$D$105),0)","v":0},{"$f":"-IF('4 Sviluppo Domanda e Gestione'!$D$274=\"Canone di disponibilità\",'6 Rendiconto Finanz'!N6*('5 Foglio di elaborazione'!$D$102/'5 Foglio di elaborazione'!$D$105),0)","v":0},{"$f":"-IF('4 Sviluppo Domanda e Gestione'!$D$274=\"Canone di disponibilità\",'6 Rendiconto Finanz'!O6*('5 Foglio di elaborazione'!$D$102/'5 Foglio di elaborazione'!$D$105),0)","v":0},{"$f":"-IF('4 Sviluppo Domanda e Gestione'!$D$274=\"Canone di disponibilità\",'6 Rendiconto Finanz'!P6*('5 Foglio di elaborazione'!$D$102/'5 Foglio di elaborazione'!$D$105),0)","v":0},{"$f":"-IF('4 Sviluppo Domanda e Gestione'!$D$274=\"Canone di disponibilità\",'6 Rendiconto Finanz'!Q6*('5 Foglio di elaborazione'!$D$102/'5 Foglio di elaborazione'!$D$105),0)","v":0},{"$f":"-IF('4 Sviluppo Domanda e Gestione'!$D$274=\"Canone di disponibilità\",'6 Rendiconto Finanz'!R6*('5 Foglio di elaborazione'!$D$102/'5 Foglio di elaborazione'!$D$105),0)","v":0},{"$f":"-IF('4 Sviluppo Domanda e Gestione'!$D$274=\"Canone di disponibilità\",'6 Rendiconto Finanz'!S6*('5 Foglio di elaborazione'!$D$102/'5 Foglio di elaborazione'!$D$105),0)","v":0},{"$f":"-IF('4 Sviluppo Domanda e Gestione'!$D$274=\"Canone di disponibilità\",'6 Rendiconto Finanz'!T6*('5 Foglio di elaborazione'!$D$102/'5 Foglio di elaborazione'!$D$105),0)","v":0},{"$f":"-IF('4 Sviluppo Domanda e Gestione'!$D$274=\"Canone di disponibilità\",'6 Rendiconto Finanz'!U6*('5 Foglio di elaborazione'!$D$102/'5 Foglio di elaborazione'!$D$105),0)","v":0},{"$f":"-IF('4 Sviluppo Domanda e Gestione'!$D$274=\"Canone di disponibilità\",'6 Rendiconto Finanz'!V6*('5 Foglio di elaborazione'!$D$102/'5 Foglio di elaborazione'!$D$105),0)","v":0},{"$f":"-IF('4 Sviluppo Domanda e Gestione'!$D$274=\"Canone di disponibilità\",'6 Rendiconto Finanz'!W6*('5 Foglio di elaborazione'!$D$102/'5 Foglio di elaborazione'!$D$105),0)","v":0},{"$f":"-IF('4 Sviluppo Domanda e Gestione'!$D$274=\"Canone di disponibilità\",'6 Rendiconto Finanz'!X6*('5 Foglio di elaborazione'!$D$102/'5 Foglio di elaborazione'!$D$105),0)","v":0},{"$f":"-IF('4 Sviluppo Domanda e Gestione'!$D$274=\"Canone di disponibilità\",'6 Rendiconto Finanz'!Y6*('5 Foglio di elaborazione'!$D$102/'5 Foglio di elaborazione'!$D$105),0)","v":0},{"$f":"-IF('4 Sviluppo Domanda e Gestione'!$D$274=\"Canone di disponibilità\",'6 Rendiconto Finanz'!Z6*('5 Foglio di elaborazione'!$D$102/'5 Foglio di elaborazione'!$D$105),0)","v":0},{"$f":"-IF('4 Sviluppo Domanda e Gestione'!$D$274=\"Canone di disponibilità\",'6 Rendiconto Finanz'!AA6*('5 Foglio di elaborazione'!$D$102/'5 Foglio di elaborazione'!$D$105),0)","v":0},{"$f":"-IF('4 Sviluppo Domanda e Gestione'!$D$274=\"Canone di disponibilità\",'6 Rendiconto Finanz'!AB6*('5 Foglio di elaborazione'!$D$102/'5 Foglio di elaborazione'!$D$105),0)","v":0},{"$f":"-IF('4 Sviluppo Domanda e Gestione'!$D$274=\"Canone di disponibilità\",'6 Rendiconto Finanz'!AC6*('5 Foglio di elaborazione'!$D$102/'5 Foglio di elaborazione'!$D$105),0)","v":0},{"$f":"-IF('4 Sviluppo Domanda e Gestione'!$D$274=\"Canone di disponibilità\",'6 Rendiconto Finanz'!AD6*('5 Foglio di elaborazione'!$D$102/'5 Foglio di elaborazione'!$D$105),0)","v":0},{"$f":"-IF('4 Sviluppo Domanda e Gestione'!$D$274=\"Canone di disponibilità\",'6 Rendiconto Finanz'!AE6*('5 Foglio di elaborazione'!$D$102/'5 Foglio di elaborazione'!$D$105),0)","v":0},{"$f":"-IF('4 Sviluppo Domanda e Gestione'!$D$274=\"Canone di disponibilità\",'6 Rendiconto Finanz'!AF6*('5 Foglio di elaborazione'!$D$102/'5 Foglio di elaborazione'!$D$105),0)","v":0},{"$f":"-IF('4 Sviluppo Domanda e Gestione'!$D$274=\"Canone di disponibilità\",'6 Rendiconto Finanz'!AG6*('5 Foglio di elaborazione'!$D$102/'5 Foglio di elaborazione'!$D$105),0)","v":0},{"$f":"-IF('4 Sviluppo Domanda e Gestione'!$D$274=\"Canone di disponibilità\",'6 Rendiconto Finanz'!AH6*('5 Foglio di elaborazione'!$D$102/'5 Foglio di elaborazione'!$D$105),0)","v":0},{"$f":"-IF('4 Sviluppo Domanda e Gestione'!$D$274=\"Canone di disponibilità\",'6 Rendiconto Finanz'!AI6*('5 Foglio di elaborazione'!$D$102/'5 Foglio di elaborazione'!$D$105),0)","v":0},{"$f":"-IF('4 Sviluppo Domanda e Gestione'!$D$274=\"Canone di disponibilità\",'6 Rendiconto Finanz'!AJ6*('5 Foglio di elaborazione'!$D$102/'5 Foglio di elaborazione'!$D$105),0)","v":0},{"$f":"-IF('4 Sviluppo Domanda e Gestione'!$D$274=\"Canone di disponibilità\",'6 Rendiconto Finanz'!AK6*('5 Foglio di elaborazione'!$D$102/'5 Foglio di elaborazione'!$D$105),0)","v":0},{"$f":"-IF('4 Sviluppo Domanda e Gestione'!$D$274=\"Canone di disponibilità\",'6 Rendiconto Finanz'!AL6*('5 Foglio di elaborazione'!$D$102/'5 Foglio di elaborazione'!$D$105),0)","v":0},{"$f":"-IF('4 Sviluppo Domanda e Gestione'!$D$274=\"Canone di disponibilità\",'6 Rendiconto Finanz'!AM6*('5 Foglio di elaborazione'!$D$102/'5 Foglio di elaborazione'!$D$105),0)","v":0},{"$f":"-IF('4 Sviluppo Domanda e Gestione'!$D$274=\"Canone di disponibilità\",'6 Rendiconto Finanz'!AN6*('5 Foglio di elaborazione'!$D$102/'5 Foglio di elaborazione'!$D$105),0)","v":0},{"$f":"-IF('4 Sviluppo Domanda e Gestione'!$D$274=\"Canone di disponibilità\",'6 Rendiconto Finanz'!AO6*('5 Foglio di elaborazione'!$D$102/'5 Foglio di elaborazione'!$D$105),0)","v":0},{"$f":"-IF('4 Sviluppo Domanda e Gestione'!$D$274=\"Canone di disponibilità\",'6 Rendiconto Finanz'!AP6*('5 Foglio di elaborazione'!$D$102/'5 Foglio di elaborazione'!$D$105),0)","v":0},{"$f":"-IF('4 Sviluppo Domanda e Gestione'!$D$274=\"Canone di disponibilità\",'6 Rendiconto Finanz'!AQ6*('5 Foglio di elaborazione'!$D$102/'5 Foglio di elaborazione'!$D$105),0)","v":0},{"$f":"-IF('4 Sviluppo Domanda e Gestione'!$D$274=\"Canone di disponibilità\",'6 Rendiconto Finanz'!AR6*('5 Foglio di elaborazione'!$D$102/'5 Foglio di elaborazione'!$D$105),0)","v":0},{"$f":"-IF('4 Sviluppo Domanda e Gestione'!$D$274=\"Canone di disponibilità\",'6 Rendiconto Finanz'!AS6*('5 Foglio di elaborazione'!$D$102/'5 Foglio di elaborazione'!$D$105),0)","v":0},{"$f":"-IF('4 Sviluppo Domanda e Gestione'!$D$274=\"Canone di disponibilità\",'6 Rendiconto Finanz'!AT6*('5 Foglio di elaborazione'!$D$102/'5 Foglio di elaborazione'!$D$105),0)","v":0},{"$f":"-IF('4 Sviluppo Domanda e Gestione'!$D$274=\"Canone di disponibilità\",'6 Rendiconto Finanz'!AU6*('5 Foglio di elaborazione'!$D$102/'5 Foglio di elaborazione'!$D$105),0)","v":0},{"$f":"-IF('4 Sviluppo Domanda e Gestione'!$D$274=\"Canone di disponibilità\",'6 Rendiconto Finanz'!AV6*('5 Foglio di elaborazione'!$D$102/'5 Foglio di elaborazione'!$D$105),0)","v":0},{"$f":"-IF('4 Sviluppo Domanda e Gestione'!$D$274=\"Canone di disponibilità\",'6 Rendiconto Finanz'!AW6*('5 Foglio di elaborazione'!$D$102/'5 Foglio di elaborazione'!$D$105),0)","v":0},{"$f":"-IF('4 Sviluppo Domanda e Gestione'!$D$274=\"Canone di disponibilità\",'6 Rendiconto Finanz'!AX6*('5 Foglio di elaborazione'!$D$102/'5 Foglio di elaborazione'!$D$105),0)","v":0},{"$f":"-IF('4 Sviluppo Domanda e Gestione'!$D$274=\"Canone di disponibilità\",'6 Rendiconto Finanz'!AY6*('5 Foglio di elaborazione'!$D$102/'5 Foglio di elaborazione'!$D$105),0)","v":0},{"$f":"-IF('4 Sviluppo Domanda e Gestione'!$D$274=\"Canone di disponibilità\",'6 Rendiconto Finanz'!AZ6*('5 Foglio di elaborazione'!$D$102/'5 Foglio di elaborazione'!$D$105),0)","v":0},{"$f":"-IF('4 Sviluppo Domanda e Gestione'!$D$274=\"Canone di disponibilità\",'6 Rendiconto Finanz'!BA6*('5 Foglio di elaborazione'!$D$102/'5 Foglio di elaborazione'!$D$105),0)","v":0},{"$f":"-IF('4 Sviluppo Domanda e Gestione'!$D$274=\"Canone di disponibilità\",'6 Rendiconto Finanz'!BB6*('5 Foglio di elaborazione'!$D$102/'5 Foglio di elaborazione'!$D$105),0)","v":0},{"$f":"-IF('4 Sviluppo Domanda e Gestione'!$D$274=\"Canone di disponibilità\",'6 Rendiconto Finanz'!BC6*('5 Foglio di elaborazione'!$D$102/'5 Foglio di elaborazione'!$D$105),0)","v":0},{"$f":"-IF('4 Sviluppo Domanda e Gestione'!$D$274=\"Canone di disponibilità\",'6 Rendiconto Finanz'!BD6*('5 Foglio di elaborazione'!$D$102/'5 Foglio di elaborazione'!$D$105),0)","v":0},{"$f":"-IF('4 Sviluppo Domanda e Gestione'!$D$274=\"Canone di disponibilità\",'6 Rendiconto Finanz'!BE6*('5 Foglio di elaborazione'!$D$102/'5 Foglio di elaborazione'!$D$105),0)","v":0},{"$f":"-IF('4 Sviluppo Domanda e Gestione'!$D$274=\"Canone di disponibilità\",'6 Rendiconto Finanz'!BF6*('5 Foglio di elaborazione'!$D$102/'5 Foglio di elaborazione'!$D$105),0)","v":0},{"$f":"-IF('4 Sviluppo Domanda e Gestione'!$D$274=\"Canone di disponibilità\",'6 Rendiconto Finanz'!BG6*('5 Foglio di elaborazione'!$D$102/'5 Foglio di elaborazione'!$D$105),0)","v":0},{"$f":"-IF('4 Sviluppo Domanda e Gestione'!$D$274=\"Canone di disponibilità\",'6 Rendiconto Finanz'!BH6*('5 Foglio di elaborazione'!$D$102/'5 Foglio di elaborazione'!$D$105),0)","v":0},{"$f":"-IF('4 Sviluppo Domanda e Gestione'!$D$274=\"Canone di disponibilità\",'6 Rendiconto Finanz'!BI6*('5 Foglio di elaborazione'!$D$102/'5 Foglio di elaborazione'!$D$105),0)","v":0},{"$f":"-IF('4 Sviluppo Domanda e Gestione'!$D$274=\"Canone di disponibilità\",'6 Rendiconto Finanz'!BJ6*('5 Foglio di elaborazione'!$D$102/'5 Foglio di elaborazione'!$D$105),0)","v":0},{"$f":"-IF('4 Sviluppo Domanda e Gestione'!$D$274=\"Canone di disponibilità\",'6 Rendiconto Finanz'!BK6*('5 Foglio di elaborazione'!$D$102/'5 Foglio di elaborazione'!$D$105),0)","v":0},{"$f":"-IF('4 Sviluppo Domanda e Gestione'!$D$274=\"Canone di disponibilità\",'6 Rendiconto Finanz'!BL6*('5 Foglio di elaborazione'!$D$102/'5 Foglio di elaborazione'!$D$105),0)","v":0},0]
[null,null,"Costi di gestione","fornitori",{"$f":"-('6 Rendiconto Finanz'!E14+'6 Rendiconto Finanz'!E10+'6 Rendiconto Finanz'!E12+'6 Rendiconto Finanz'!E13)*('5 Foglio di elaborazione'!$D$103/'5 Foglio di elaborazione'!$D$105)*(1+'3 Costi-Ricavi'!D35/100)","v":36734.110132635607},{"$f":"-('6 Rendiconto Finanz'!F14+'6 Rendiconto Finanz'!F10+'6 Rendiconto Finanz'!F12+'6 Rendiconto Finanz'!F13)*('5 Foglio di elaborazione'!$D$103/'5 Foglio di elaborazione'!$D$105)*(1+'3 Costi-Ricavi'!E35/100)","v":37864.022673041749},{"$f":"-('6 Rendiconto Finanz'!G14+'6 Rendiconto Finanz'!G10+'6 Rendiconto Finanz'!G12+'6 Rendiconto Finanz'!G13)*('5 Foglio di elaborazione'!$D$103/'5 Foglio di elaborazione'!$D$105)*(1+'3 Costi-Ricavi'!F35/100)","v":39213.664677617096},{"$f":"-('6 Rendiconto Finanz'!H14+'6 Rendiconto Finanz'!H10+'6 Rendiconto Finanz'!H12+'6 Rendiconto Finanz'!H13)*('5 Foglio di elaborazione'!$D$103/'5 Foglio di elaborazione'!$D$105)*(1+'3 Costi-Ricavi'!G35/100)","v":39997.937971169442},{"$f":"-('6 Rendiconto Finanz'!I14+'6 Rendiconto Finanz'!I10+'6 Rendiconto Finanz'!I12+'6 Rendiconto Finanz'!I13)*('5 Foglio di elaborazione'!$D$103/'5 Foglio di elaborazione'!$D$105)*(1+'3 Costi-Ricavi'!H35/100)","v":40797.896730592831},{"$f":"-('6 Rendiconto Finanz'!J14+'6 Rendiconto Finanz'!J10+'6 Rendiconto Finanz'!J12+'6 Rendiconto Finanz'!J13)*('5 Foglio di elaborazione'!$D$103/'5 Foglio di elaborazione'!$D$105)*(1+'3 Costi-Ricavi'!I35/100)","v":41613.854665204693},{"$f":"-('6 Rendiconto Finanz'!K14+'6 Rendiconto Finanz'!K10+'6 Rendiconto Finanz'!K12+'6 Rendiconto Finanz'!K13)*('5 Foglio di elaborazione'!$D$103/'5 Foglio di elaborazione'!$D$105)*(1+'3 Costi-Ricavi'!J35/100)","v":42446.131758508789},{"$f":"-('6 Rendiconto Finanz'!L14+'6 Rendiconto Finanz'!L10+'6 Rendiconto Finanz'!L12+'6 Rendiconto Finanz'!L13)*('5 Foglio di elaborazione'!$D$103/'5 Foglio di elaborazione'!$D$105)*(1+'3 Costi-Ricavi'!K35/100)","v":43295.054393678969},{"$f":"-('6 Rendiconto Finanz'!M14+'6 Rendiconto Finanz'!M10+'6 Rendiconto Finanz'!M12+'6 Rendiconto Finanz'!M13)*('5 Foglio di elaborazione'!$D$103/'5 Foglio di elaborazione'!$D$105)*(1+'3 Costi-Ricavi'!L35/100)","v":44160.955481552533},{"$f":"-('6 Rendiconto Finanz'!N14+'6 Rendiconto Finanz'!N10+'6 Rendiconto Finanz'!N12+'6 Rendiconto Finanz'!N13)*('5 Foglio di elaborazione'!$D$103/'5 Foglio di elaborazione'!$D$105)*(1+'3 Costi-Ricavi'!M35/100)","v":45044.174591183597},{"$f":"-('6 Rendiconto Finanz'!O14+'6 Rendiconto Finanz'!O10+'6 Rendiconto Finanz'!O12+'6 Rendiconto Finanz'!O13)*('5 Foglio di elaborazione'!$D$103/'5 Foglio di elaborazione'!$D$105)*(1+'3 Costi-Ricavi'!N35/100)","v":{"$error":"#DIV/0!"}},{"$f":"-('6 Rendiconto Finanz'!P14+'6 Rendiconto Finanz'!P10+'6 Rendiconto Finanz'!P12+'6 Rendiconto Finanz'!P13)*('5 Foglio di elaborazione'!$D$103/'5 Foglio di elaborazione'!$D$105)*(1+'3 Costi-Ricavi'!O35/100)","v":{"$error":"#DIV/0!"}},{"$f":"-('6 Rendiconto Finanz'!Q14+'6 Rendiconto Finanz'!Q10+'6 Rendiconto Finanz'!Q12+'6 Rendiconto Finanz'!Q13)*('5 Foglio di elaborazione'!$D$103/'5 Foglio di elaborazione'!$D$105)*(1+'3 Costi-Ricavi'!P35/100)","v":{"$error":"#DIV/0!"}},{"$f":"-('6 Rendiconto Finanz'!R14+'6 Rendiconto Finanz'!R10+'6 Rendiconto Finanz'!R12+'6 Rendiconto Finanz'!R13)*('5 Foglio di elaborazione'!$D$103/'5 Foglio di elaborazione'!$D$105)*(1+'3 Costi-Ricavi'!Q35/100)","v":{"$error":"#DIV/0!"}},{"$f":"-('6 Rendiconto Finanz'!S14+'6 Rendiconto Finanz'!S10+'6 Rendiconto Finanz'!S12+'6 Rendiconto Finanz'!S13)*('5 Foglio di elaborazione'!$D$103/'5 Foglio di elaborazione'!$D$105)*(1+'3 Costi-Ricavi'!R35/100)","v":{"$error":"#DIV/0!"}},{"$f":"-('6 Rendiconto Finanz'!T14+'6 Rendiconto Finanz'!T10+'6 Rendiconto Finanz'!T12+'6 Rendiconto Finanz'!T13)*('5 Foglio di elaborazione'!$D$103/'5 Foglio di elaborazione'!$D$105)*(1+'3 Costi-Ricavi'!S35/100)","v":{"$error":"#DIV/0!"}},{"$f":"-('6 Rendiconto Finanz'!U14+'6 Rendiconto Finanz'!U10+'6 Rendiconto Finanz'!U12+'6 Rendiconto Finanz'!U13)*('5 Foglio di elaborazione'!$D$103/'5 Foglio di elaborazione'!$D$105)*(1+'3 Costi-Ricavi'!T35/100)","v":{"$error":"#DIV/0!"}},{"$f":"-('6 Rendiconto Finanz'!V14+'6 Rendiconto Finanz'!V10+'6 Rendiconto Finanz'!V12+'6 Rendiconto Finanz'!V13)*('5 Foglio di elaborazione'!$D$103/'5 Foglio di elaborazione'!$D$105)*(1+'3 Costi-Ricavi'!U35/100)","v":{"$error":"#DIV/0!"}},{"$f":"-('6 Rendiconto Finanz'!W14+'6 Rendiconto Finanz'!W10+'6 Rendiconto Finanz'!W12+'6 Rendiconto Finanz'!W13)*('5 Foglio di elaborazione'!$D$103/'5 Foglio di elaborazione'!$D$105)*(1+'3 Costi-Ricavi'!V35/100)","v":{"$error":"#DIV/0!"}},{"$f":"-('6 Rendiconto Finanz'!X14+'6 Rendiconto Finanz'!X10+'6 Rendiconto Finanz'!X12+'6 Rendiconto Finanz'!X13)*('5 Foglio di elaborazione'!$D$103/'5 Foglio di elaborazione'!$D$105)*(1+'3 Costi-Ricavi'!W35/100)","v":{"$error":"#DIV/0!"}},{"$f":"-('6 Rendiconto Finanz'!Y14+'6 Rendiconto Finanz'!Y10+'6 Rendiconto Finanz'!Y12+'6 Rendiconto Finanz'!Y13)*('5 Foglio di elaborazione'!$D$103/'5 Foglio di elaborazione'!$D$105)","v":0},{"$f":"-('6 Rendiconto Finanz'!Z14+'6 Rendiconto Finanz'!Z10+'6 Rendiconto Finanz'!Z12+'6 Rendiconto Finanz'!Z13)*('5 Foglio di elaborazione'!$D$103/'5 Foglio di elaborazione'!$D$105)","v":0},{"$f":"-('6 Rendiconto Finanz'!AA14+'6 Rendiconto Finanz'!AA10+'6 Rendiconto Finanz'!AA12+'6 Rendiconto Finanz'!AA13)*('5 Foglio di elaborazione'!$D$103/'5 Foglio di elaborazione'!$D$105)","v":0},{"$f":"-('6 Rendiconto Finanz'!AB14+'6 Rendiconto Finanz'!AB10+'6 Rendiconto Finanz'!AB12+'6 Rendiconto Finanz'!AB13)*('5 Foglio di elaborazione'!$D$103/'5 Foglio di elaborazione'!$D$105)","v":0},{"$f":"-('6 Rendiconto Finanz'!AC14+'6 Rendiconto Finanz'!AC10+'6 Rendiconto Finanz'!AC12+'6 Rendiconto Finanz'!AC13)*('5 Foglio di elaborazione'!$D$103/'5 Foglio di elaborazione'!$D$105)","v":0},{"$f":"-('6 Rendiconto Finanz'!AD14+'6 Rendiconto Finanz'!AD10+'6 Rendiconto Finanz'!AD12+'6 Rendiconto Finanz'!AD13)*('5 Foglio di elaborazione'!$D$103/'5 Foglio di elaborazione'!$D$105)","v":0},{"$f":"-('6 Rendiconto Finanz'!AE14+'6 Rendiconto Finanz'!AE10+'6 Rendiconto Finanz'!AE12+'6 Rendiconto Finanz'!AE13)*('5 Foglio di elaborazione'!$D$103/'5 Foglio di elaborazione'!$D$105)","v":0},{"$f":"-('6 Rendiconto Finanz'!AF14+'6 Rendiconto Finanz'!AF10+'6 Rendiconto Finanz'!AF12+'6 Rendiconto Finanz'!AF13)*('5 Foglio di elaborazione'!$D$103/'5 Foglio di elaborazione'!$D$105)","v":0},{"$f":"-('6 Rendiconto Finanz'!AG14+'6 Rendiconto Finanz'!AG10+'6 Rendiconto Finanz'!AG12+'6 Rendiconto Finanz'!AG13)*('5 Foglio di elaborazione'!$D$103/'5 Foglio di elaborazione'!$D$105)","v":0},{"$f":"-('6 Rendiconto Finanz'!AH14+'6 Rendiconto Finanz'!AH10+'6 Rendiconto Finanz'!AH12+'6 Rendiconto Finanz'!AH13)*('5 Foglio di elaborazione'!$D$103/'5 Foglio di elaborazione'!$D$105)","v":0},{"$f":"-('6 Rendiconto Finanz'!AI14+'6 Rendiconto Finanz'!AI10+'6 Rendiconto Finanz'!AI12+'6 Rendiconto Finanz'!AI13)*('5 Foglio di elaborazione'!$D$103/'5 Foglio di elaborazione'!$D$105)","v":0},{"$f":"-('6 Rendiconto Finanz'!AJ14+'6 Rendiconto Finanz'!AJ10+'6 Rendiconto Finanz'!AJ12+'6 Rendiconto Finanz'!AJ13)*('5 Foglio di elaborazione'!$D$103/'5 Foglio di elaborazione'!$D$105)","v":0},{"$f":"-('6 Rendiconto Finanz'!AK14+'6 Rendiconto Finanz'!AK10+'6 Rendiconto Finanz'!AK12+'6 Rendiconto Finanz'!AK13)*('5 Foglio di elaborazione'!$D$103/'5 Foglio di elaborazione'!$D$105)","v":0},{"$f":"-('6 Rendiconto Finanz'!AL14+'6 Rendiconto Finanz'!AL10+'6 Rendiconto Finanz'!AL12+'6 Rendiconto Finanz'!AL13)*('5 Foglio di elaborazione'!$D$103/'5 Foglio di elaborazione'!$D$105)","v":0},{"$f":"-('6 Rendiconto Finanz'!AM14+'6 Rendiconto Finanz'!AM10+'6 Rendiconto Finanz'!AM12+'6 Rendiconto Finanz'!AM13)*('5 Foglio di elaborazione'!$D$103/'5 Foglio di elaborazione'!$D$105)","v":0},{"$f":"-('6 Rendiconto Finanz'!AN14+'6 Rendiconto Finanz'!AN10+'6 Rendiconto Finanz'!AN12+'6 Rendiconto Finanz'!AN13)*('5 Foglio di elaborazione'!$D$103/'5 Foglio di elaborazione'!$D$105)","v":0},{"$f":"-('6 Rendiconto Finanz'!AO14+'6 Rendiconto Finanz'!AO10+'6 Rendiconto Finanz'!AO12+'6 Rendiconto Finanz'!AO13)*('5 Foglio di elaborazione'!$D$103/'5 Foglio di elaborazione'!$D$105)","v":0},{"$f":"-('6 Rendiconto Finanz'!AP14+'6 Rendiconto Finanz'!AP10+'6 Rendiconto Finanz'!AP12+'6 Rendiconto Finanz'!AP13)*('5 Foglio di elaborazione'!$D$103/'5 Foglio di elaborazione'!$D$105)","v":0},{"$f":"-('6 Rendiconto Finanz'!AQ14+'6 Rendiconto Finanz'!AQ10+'6 Rendiconto Finanz'!AQ12+'6 Rendiconto Finanz'!AQ13)*('5 Foglio di elaborazione'!$D$103/'5 Foglio di elaborazione'!$D$105)","v":0},{"$f":"-('6 Rendiconto Finanz'!AR14+'6 Rendiconto Finanz'!AR10+'6 Rendiconto Finanz'!AR12+'6 Rendiconto Finanz'!AR13)*('5 Foglio di elaborazione'!$D$103/'5 Foglio di elaborazione'!$D$105)","v":0},{"$f":"-('6 Rendiconto Finanz'!AS14+'6 Rendiconto Finanz'!AS10+'6 Rendiconto Finanz'!AS12+'6 Rendiconto Finanz'!AS13)*('5 Foglio di elaborazione'!$D$103/'5 Foglio di elaborazione'!$D$105)","v":0},{"$f":"-('6 Rendiconto Finanz'!AT14+'6 Rendiconto Finanz'!AT10+'6 Rendiconto Finanz'!AT12+'6 Rendiconto Finanz'!AT13)*('5 Foglio di elaborazione'!$D$103/'5 Foglio di elaborazione'!$D$105)","v":0},{"$f":"-('6 Rendiconto Finanz'!AU14+'6 Rendiconto Finanz'!AU10+'6 Rendiconto Finanz'!AU12+'6 Rendiconto Finanz'!AU13)*('5 Foglio di elaborazione'!$D$103/'5 Foglio di elaborazione'!$D$105)","v":0},{"$f":"-('6 Rendiconto Finanz'!AV14+'6 Rendiconto Finanz'!AV10+'6 Rendiconto Finanz'!AV12+'6 Rendiconto Finanz'!AV13)*('5 Foglio di elaborazione'!$D$103/'5 Foglio di elaborazione'!$D$105)","v":0},{"$f":"-('6 Rendiconto Finanz'!AW14+'6 Rendiconto Finanz'!AW10+'6 Rendiconto Finanz'!AW12+'6 Rendiconto Finanz'!AW13)*('5 Foglio di elaborazione'!$D$103/'5 Foglio di elaborazione'!$D$105)","v":0},{"$f":"-('6 Rendiconto Finanz'!AX14+'6 Rendiconto Finanz'!AX10+'6 Rendiconto Finanz'!AX12+'6 Rendiconto Finanz'!AX13)*('5 Foglio di elaborazione'!$D$103/'5 Foglio di elaborazione'!$D$105)","v":0},{"$f":"-('6 Rendiconto Finanz'!AY14+'6 Rendiconto Finanz'!AY10+'6 Rendiconto Finanz'!AY12+'6 Rendiconto Finanz'!AY13)*('5 Foglio di elaborazione'!$D$103/'5 Foglio di elaborazione'!$D$105)","v":0},{"$f":"-('6 Rendiconto Finanz'!AZ14+'6 Rendiconto Finanz'!AZ10+'6 Rendiconto Finanz'!AZ12+'6 Rendiconto Finanz'!AZ13)*('5 Foglio di elaborazione'!$D$103/'5 Foglio di elaborazione'!$D$105)","v":0},{"$f":"-('6 Rendiconto Finanz'!BA14+'6 Rendiconto Finanz'!BA10+'6 Rendiconto Finanz'!BA12+'6 Rendiconto Finanz'!BA13)*('5 Foglio di elaborazione'!$D$103/'5 Foglio di elaborazione'!$D$105)","v":0},{"$f":"-('6 Rendiconto Finanz'!BB14+'6 Rendiconto Finanz'!BB10+'6 Rendiconto Finanz'!BB12+'6 Rendiconto Finanz'!BB13)*('5 Foglio di elaborazione'!$D$103/'5 Foglio di elaborazione'!$D$105)","v":0},{"$f":"-('6 Rendiconto Finanz'!BC14+'6 Rendiconto Finanz'!BC10+'6 Rendiconto Finanz'!BC12+'6 Rendiconto Finanz'!BC13)*('5 Foglio di elaborazione'!$D$103/'5 Foglio di elaborazione'!$D$105)","v":0},{"$f":"-('6 Rendiconto Finanz'!BD14+'6 Rendiconto Finanz'!BD10+'6 Rendiconto Finanz'!BD12+'6 Rendiconto Finanz'!BD13)*('5 Foglio di elaborazione'!$D$103/'5 Foglio di elaborazione'!$D$105)","v":0},{"$f":"-('6 Rendiconto Finanz'!BE14+'6 Rendiconto Finanz'!BE10+'6 Rendiconto Finanz'!BE12+'6 Rendiconto Finanz'!BE13)*('5 Foglio di elaborazione'!$D$103/'5 Foglio di elaborazione'!$D$105)","v":0},{"$f":"-('6 Rendiconto Finanz'!BF14+'6 Rendiconto Finanz'!BF10+'6 Rendiconto Finanz'!BF12+'6 Rendiconto Finanz'!BF13)*('5 Foglio di elaborazione'!$D$103/'5 Foglio di elaborazione'!$D$105)","v":0},{"$f":"-('6 Rendiconto Finanz'!BG14+'6 Rendiconto Finanz'!BG10+'6 Rendiconto Finanz'!BG12+'6 Rendiconto Finanz'!BG13)*('5 Foglio di elaborazione'!$D$103/'5 Foglio di elaborazione'!$D$105)","v":0},{"$f":"-('6 Rendiconto Finanz'!BH14+'6 Rendiconto Finanz'!BH10+'6 Rendiconto Finanz'!BH12+'6 Rendiconto Finanz'!BH13)*('5 Foglio di elaborazione'!$D$103/'5 Foglio di elaborazione'!$D$105)","v":0},{"$f":"-('6 Rendiconto Finanz'!BI14+'6 Rendiconto Finanz'!BI10+'6 Rendiconto Finanz'!BI12+'6 Rendiconto Finanz'!BI13)*('5 Foglio di elaborazione'!$D$103/'5 Foglio di elaborazione'!$D$105)","v":0},{"$f":"-('6 Rendiconto Finanz'!BJ14+'6 Rendiconto Finanz'!BJ10+'6 Rendiconto Finanz'!BJ12+'6 Rendiconto Finanz'!BJ13)*('5 Foglio di elaborazione'!$D$103/'5 Foglio di elaborazione'!$D$105)","v":0},{"$f":"-('6 Rendiconto Finanz'!BK14+'6 Rendiconto Finanz'!BK10+'6 Rendiconto Finanz'!BK12+'6 Rendiconto Finanz'!BK13)*('5 Foglio di elaborazione'!$D$103/'5 Foglio di elaborazione'!$D$105)","v":0},{"$f":"-('6 Rendiconto Finanz'!BL14+'6 Rendiconto Finanz'!BL10+'6 Rendiconto Finanz'!BL12+'6 Rendiconto Finanz'!BL13)*('5 Foglio di elaborazione'!$D$103/'5 Foglio di elaborazione'!$D$105)","v":0},0,0]
[null,null,"Investimenti in opere e impianti","fornitori",{"$f":"(E16+E17+E18+E19+E20+E21+E22+E23+E24)*('5 Foglio di elaborazione'!$D$104/'5 Foglio di elaborazione'!$D$105)","v":0},{"$f":"(F16+F17+F18+F19+F20+F21+F22+F23+F24)*('5 Foglio di elaborazione'!$D$104/'5 Foglio di elaborazione'!$D$105)","v":0},{"$f":"(G16+G17+G18+G19+G20+G21+G22+G23+G24)*('5 Foglio di elaborazione'!$D$104/'5 Foglio di elaborazione'!$D$105)","v":0},{"$f":"(H16+H17+H18+H19+H20+H21+H22+H23+H24)*('5 Foglio di elaborazione'!$D$104/'5 Foglio di elaborazione'!$D$105)","v":0},{"$f":"(I16+I17+I18+I19+I20+I21+I22+I23+I24)*('5 Foglio di elaborazione'!$D$104/'5 Foglio di elaborazione'!$D$105)","v":0},{"$f":"(J16+J17+J18+J19+J20+J21+J22+J23+J24)*('5 Foglio di elaborazione'!$D$104/'5 Foglio di elaborazione'!$D$105)","v":0},{"$f":"(K16+K17+K18+K19+K20+K21+K22+K23+K24)*('5 Foglio di elaborazione'!$D$104/'5 Foglio di elaborazione'!$D$105)","v":0},{"$f":"(L16+L17+L18+L19+L20+L21+L22+L23+L24)*('5 Foglio di elaborazione'!$D$104/'5 Foglio di elaborazione'!$D$105)","v":0},{"$f":"(M16+M17+M18+M19+M20+M21+M22+M23+M24)*('5 Foglio di elaborazione'!$D$104/'5 Foglio di elaborazione'!$D$105)","v":0},{"$f":"(N16+N17+N18+N19+N20+N21+N22+N23+N24)*('5 Foglio di elaborazione'!$D$104/'5 Foglio di elaborazione'!$D$105)","v":0},{"$f":"(O16+O17+O18+O19+O20+O21+O22+O23+O24)*('5 Foglio di elaborazione'!$D$104/'5 Foglio di elaborazione'!$D$105)","v":0},{"$f":"(P16+P17+P18+P19+P20+P21+P22+P23+P24)*('5 Foglio di elaborazione'!$D$104/'5 Foglio di elaborazione'!$D$105)","v":0},{"$f":"(Q16+Q17+Q18+Q19+Q20+Q21+Q22+Q23+Q24)*('5 Foglio di elaborazione'!$D$104/'5 Foglio di elaborazione'!$D$105)","v":0},{"$f":"(R16+R17+R18+R19+R20+R21+R22+R23+R24)*('5 Foglio di elaborazione'!$D$104/'5 Foglio di elaborazione'!$D$105)","v":0},{"$f":"(S16+S17+S18+S19+S20+S21+S22+S23+S24)*('5 Foglio di elaborazione'!$D$104/'5 Foglio di elaborazione'!$D$105)","v":0},{"$f":"(T16+T17+T18+T19+T20+T21+T22+T23+T24)*('5 Foglio di elaborazione'!$D$104/'5 Foglio di elaborazione'!$D$105)","v":0},{"$f":"(U16+U17+U18+U19+U20+U21+U22+U23+U24)*('5 Foglio di elaborazione'!$D$104/'5 Foglio di elaborazione'!$D$105)","v":0},{"$f":"(V16+V17+V18+V19+V20+V21+V22+V23+V24)*('5 Foglio di elaborazione'!$D$104/'5 Foglio di elaborazione'!$D$105)","v":0},{"$f":"(W16+W17+W18+W19+W20+W21+W22+W23+W24)*('5 Foglio di elaborazione'!$D$104/'5 Foglio di elaborazione'!$D$105)","v":0},{"$f":"(X16+X17+X18+X19+X20+X21+X22+X23+X24)*('5 Foglio di elaborazione'!$D$104/'5 Foglio di elaborazione'!$D$105)","v":0},{"$f":"(Y16+Y17+Y18+Y19+Y20+Y21+Y22+Y23+Y24)*('5 Foglio di elaborazione'!$D$104/'5 Foglio di elaborazione'!$D$105)","v":0},{"$f":"(Z16+Z17+Z18+Z19+Z20+Z21+Z22+Z23+Z24)*('5 Foglio di elaborazione'!$D$104/'5 Foglio di elaborazione'!$D$105)","v":0},{"$f":"(AA16+AA17+AA18+AA19+AA20+AA21+AA22+AA23+AA24)*('5 Foglio di elaborazione'!$D$104/'5 Foglio di elaborazione'!$D$105)","v":0},{"$f":"(AB16+AB17+AB18+AB19+AB20+AB21+AB22+AB23+AB24)*('5 Foglio di elaborazione'!$D$104/'5 Foglio di elaborazione'!$D$105)","v":0},{"$f":"(AC16+AC17+AC18+AC19+AC20+AC21+AC22+AC23+AC24)*('5 Foglio di elaborazione'!$D$104/'5 Foglio di elaborazione'!$D$105)","v":0},{"$f":"(AD16+AD17+AD18+AD19+AD20+AD21+AD22+AD23+AD24)*('5 Foglio di elaborazione'!$D$104/'5 Foglio di elaborazione'!$D$105)","v":0},{"$f":"(AE16+AE17+AE18+AE19+AE20+AE21+AE22+AE23+AE24)*('5 Foglio di elaborazione'!$D$104/'5 Foglio di elaborazione'!$D$105)","v":0},{"$f":"(AF16+AF17+AF18+AF19+AF20+AF21+AF22+AF23+AF24)*('5 Foglio di elaborazione'!$D$104/'5 Foglio di elaborazione'!$D$105)","v":0},{"$f":"(AG16+AG17+AG18+AG19+AG20+AG21+AG22+AG23+AG24)*('5 Foglio di elaborazione'!$D$104/'5 Foglio di elaborazione'!$D$105)","v":0},{"$f":"(AH16+AH17+AH18+AH19+AH20+AH21+AH22+AH23+AH24)*('5 Foglio di elaborazione'!$D$104/'5 Foglio di elaborazione'!$D$105)","v":0},{"$f":"(AI16+AI17+AI18+AI19+AI20+AI21+AI22+AI23+AI24)*('5 Foglio di elaborazione'!$D$104/'5 Foglio di elaborazione'!$D$105)","v":0},{"$f":"(AJ16+AJ17+AJ18+AJ19+AJ20+AJ21+AJ22+AJ23+AJ24)*('5 Foglio di elaborazione'!$D$104/'5 Foglio di elaborazione'!$D$105)","v":0},{"$f":"(AK16+AK17+AK18+AK19+AK20+AK21+AK22+AK23+AK24)*('5 Foglio di elaborazione'!$D$104/'5 Foglio di elaborazione'!$D$105)","v":0},{"$f":"(AL16+AL17+AL18+AL19+AL20+AL21+AL22+AL23+AL24)*('5 Foglio di elaborazione'!$D$104/'5 Foglio di elaborazione'!$D$105)","v":0},{"$f":"(AM16+AM17+AM18+AM19+AM20+AM21+AM22+AM23+AM24)*('5 Foglio di elaborazione'!$D$104/'5 Foglio di elaborazione'!$D$105)","v":0},{"$f":"(AN16+AN17+AN18+AN19+AN20+AN21+AN22+AN23+AN24)*('5 Foglio di elaborazione'!$D$104/'5 Foglio di elaborazione'!$D$105)","v":0},{"$f":"(AO16+AO17+AO18+AO19+AO20+AO21+AO22+AO23+AO24)*('5 Foglio di elaborazione'!$D$104/'5 Foglio di elaborazione'!$D$105)","v":0},{"$f":"(AP16+AP17+AP18+AP19+AP20+AP21+AP22+AP23+AP24)*('5 Foglio di elaborazione'!$D$104/'5 Foglio di elaborazione'!$D$105)","v":0},{"$f":"(AQ16+AQ17+AQ18+AQ19+AQ20+AQ21+AQ22+AQ23+AQ24)*('5 Foglio di elaborazione'!$D$104/'5 Foglio di elaborazione'!$D$105)","v":0},{"$f":"(AR16+AR17+AR18+AR19+AR20+AR21+AR22+AR23+AR24)*('5 Foglio di elaborazione'!$D$104/'5 Foglio di elaborazione'!$D$105)","v":0},{"$f":"(AS16+AS17+AS18+AS19+AS20+AS21+AS22+AS23+AS24)*('5 Foglio di elaborazione'!$D$104/'5 Foglio di elaborazione'!$D$105)","v":0},{"$f":"(AT16+AT17+AT18+AT19+AT20+AT21+AT22+AT23+AT24)*('5 Foglio di elaborazione'!$D$104/'5 Foglio di elaborazione'!$D$105)","v":0},{"$f":"(AU16+AU17+AU18+AU19+AU20+AU21+AU22+AU23+AU24)*('5 Foglio di elaborazione'!$D$104/'5 Foglio di elaborazione'!$D$105)","v":0},{"$f":"(AV16+AV17+AV18+AV19+AV20+AV21+AV22+AV23+AV24)*('5 Foglio di elaborazione'!$D$104/'5 Foglio di elaborazione'!$D$105)","v":0},{"$f":"(AW16+AW17+AW18+AW19+AW20+AW21+AW22+AW23+AW24)*('5 Foglio di elaborazione'!$D$104/'5 Foglio di elaborazione'!$D$105)","v":0},{"$f":"(AX16+AX17+AX18+AX19+AX20+AX21+AX22+AX23+AX24)*('5 Foglio di elaborazione'!$D$104/'5 Foglio di elaborazione'!$D$105)","v":0},{"$f":"(AY16+AY17+AY18+AY19+AY20+AY21+AY22+AY23+AY24)*('5 Foglio di elaborazione'!$D$104/'5 Foglio di elaborazione'!$D$105)","v":0},{"$f":"(AZ16+AZ17+AZ18+AZ19+AZ20+AZ21+AZ22+AZ23+AZ24)*('5 Foglio di elaborazione'!$D$104/'5 Foglio di elaborazione'!$D$105)","v":0},{"$f":"(BA16+BA17+BA18+BA19+BA20+BA21+BA22+BA23+BA24)*('5 Foglio di elaborazione'!$D$104/'5 Foglio di elaborazione'!$D$105)","v":0},{"$f":"(BB16+BB17+BB18+BB19+BB20+BB21+BB22+BB23+BB24)*('5 Foglio di elaborazione'!$D$104/'5 Foglio di elaborazione'!$D$105)","v":0},{"$f":"(BC16+BC17+BC18+BC19+BC20+BC21+BC22+BC23+BC24)*('5 Foglio di elaborazione'!$D$104/'5 Foglio di elaborazione'!$D$105)","v":0},{"$f":"(BD16+BD17+BD18+BD19+BD20+BD21+BD22+BD23+BD24)*('5 Foglio di elaborazione'!$D$104/'5 Foglio di elaborazione'!$D$105)","v":0},{"$f":"(BE16+BE17+BE18+BE19+BE20+BE21+BE22+BE23+BE24)*('5 Foglio di elaborazione'!$D$104/'5 Foglio di elaborazione'!$D$105)","v":0},{"$f":"(BF16+BF17+BF18+BF19+BF20+BF21+BF22+BF23+BF24)*('5 Foglio di elaborazione'!$D$104/'5 Foglio di elaborazione'!$D$105)","v":0},{"$f":"(BG16+BG17+BG18+BG19+BG20+BG21+BG22+BG23+BG24)*('5 Foglio di elaborazione'!$D$104/'5 Foglio di elaborazione'!$D$105)","v":0},{"$f":"(BH16+BH17+BH18+BH19+BH20+BH21+BH22+BH23+BH24)*('5 Foglio di elaborazione'!$D$104/'5 Foglio di elaborazione'!$D$105)","v":0},{"$f":"(BI16+BI17+BI18+BI19+BI20+BI21+BI22+BI23+BI24)*('5 Foglio di elaborazione'!$D$104/'5 Foglio di elaborazione'!$D$105)","v":0},{"$f":"(BJ16+BJ17+BJ18+BJ19+BJ20+BJ21+BJ22+BJ23+BJ24)*('5 Foglio di elaborazione'!$D$104/'5 Foglio di elaborazione'!$D$105)","v":0},{"$f":"(BK16+BK17+BK18+BK19+BK20+BK21+BK22+BK23+BK24)*('5 Foglio di elaborazione'!$D$104/'5 Foglio di elaborazione'!$D$105)","v":0},{"$f":"(BL16+BL17+BL18+BL19+BL20+BL21+BL22+BL23+BL24)*('5 Foglio di elaborazione'!$D$104/'5 Foglio di elaborazione'!$D$105)","v":0},{"$f":"(BM16+BM17+BM18+BM19+BM20+BM21+BM22+BM23+BM24)*('5 Foglio di elaborazione'!$D$104/'5 Foglio di elaborazione'!$D$105)","v":0},{"$f":"(BN16+BN17+BN18+BN19+BN20+BN21+BN22+BN23+BN24)*('5 Foglio di elaborazione'!$D$104/'5 Foglio di elaborazione'!$D$105)","v":0}]
[null,null,"IVA a credito","IVA",{"$f":"IF(E59>0,0,E59)+E61","v":-314.87564020001003},{"$f":"IF((E73+F59)>0,0,(E73+F59))+F61","v":-289.53724100399995},-257.46991062407983,-262.61930883656146,-267.87169501329288,{"$f":"IF((I73+J59)>0,0,(I73+J59))+J61","v":-273.22912891355872},{"$f":"IF((J73+K59)>0,0,(J73+K59))+K61","v":-278.69371149182984},{"$f":"IF((K73+L59)>0,0,(K73+L59))+L61","v":-284.26758572166659},{"$f":"IF((L73+M59)>0,0,(L73+M59))+M61","v":-289.95293743609966},{"$f":"IF((M73+N59)>0,0,(M73+N59))+N61","v":-295.75199618482179},0,{"$f":"IF((O73+P59)>0,0,(O73+P59))+P61","v":0},0,0,0,0,0,0,0,0,0,0,0,0,0,0,0,0,0,0,0,0,0,0,0,0,0,0,0,0,0,0,0,0,0,0,0,0,0,0,0,0,0,0,0,0,0,0,0,0,0,0]
[null,null,"Imposte a credito da compensare nell'anno successivo","imposte CR",{"$f":"-'7 Stato-Patr'!C9","v":0},{"$f":"-'7 Stato-Patr'!D9","v":0},{"$f":"-'7 Stato-Patr'!E9","v":0},{"$f":"-'7 Stato-Patr'!F9","v":0},{"$f":"-'7 Stato-Patr'!G9","v":0},{"$f":"-'7 Stato-Patr'!H9","v":0},{"$f":"-'7 Stato-Patr'!I9","v":0},{"$f":"-'7 Stato-Patr'!J9","v":0},{"$f":"-'7 Stato-Patr'!K9","v":0},{"$f":"-'7 Stato-Patr'!L9","v":0},0,{"$f":"-'7 Stato-Patr'!N9","v":-2.9119999999999999E-11},{"$f":"-'7 Stato-Patr'!O9","v":0},{"$f":"-'7 Stato-Patr'!P9","v":0},{"$f":"-'7 Stato-Patr'!Q9","v":0},{"$f":"-'7 Stato-Patr'!R9","v":0},{"$f":"-'7 Stato-Patr'!S9","v":0},{"$f":"-'7 Stato-Patr'!T9","v":0},{"$f":"-'7 Stato-Patr'!U9","v":0},{"$f":"-'7 Stato-Patr'!V9","v":0},{"$f":"-'7 Stato-Patr'!W9","v":0},{"$f":"-'7 Stato-Patr'!X9","v":0},{"$f":"-'7 Stato-Patr'!Y9","v":0},{"$f":"-'7 Stato-Patr'!Z9","v":0},{"$f":"-'7 Stato-Patr'!AA9","v":0},{"$f":"-'7 Stato-Patr'!AB9","v":0},{"$f":"-'7 Stato-Patr'!AC9","v":0},{"$f":"-'7 Stato-Patr'!AD9","v":0},{"$f":"-'7 Stato-Patr'!AE9","v":0},{"$f":"-'7 Stato-Patr'!AF9","v":0},{"$f":"-'7 Stato-Patr'!AG9","v":0},{"$f":"-'7 Stato-Patr'!AH9","v":0},{"$f":"-'7 Stato-Patr'!AI9","v":0},{"$f":"-'7 Stato-Patr'!AJ9","v":0},{"$f":"-'7 Stato-Patr'!AK9","v":0},{"$f":"-'7 Stato-Patr'!AL9","v":0},{"$f":"-'7 Stato-Patr'!AM9","v":0},{"$f":"-'7 Stato-Patr'!AN9","v":0},{"$f":"-'7 Stato-Patr'!AO9","v":0},{"$f":"-'7 Stato-Patr'!AP9","v":0},{"$f":"-'7 Stato-Patr'!AQ9","v":0},{"$f":"-'7 Stato-Patr'!AR9","v":0},{"$f":"-'7 Stato-Patr'!AS9","v":0},{"$f":"-'7 Stato-Patr'!AT9","v":0},{"$f":"-'7 Stato-Patr'!AU9","v":0},{"$f":"-'7 Stato-Patr'!AV9","v":0},{"$f":"-'7 Stato-Patr'!AW9","v":0},{"$f":"-'7 Stato-Patr'!AX9","v":0},{"$f":"-'7 Stato-Patr'!AY9","v":0},{"$f":"-'7 Stato-Patr'!AZ9","v":0},{"$f":"-'7 Stato-Patr'!BA9","v":0},{"$f":"-'7 Stato-Patr'!BB9","v":0},{"$f":"-'7 Stato-Patr'!BC9","v":0},{"$f":"-'7 Stato-Patr'!BD9","v":0},{"$f":"-'7 Stato-Patr'!BE9","v":0},{"$f":"-'7 Stato-Patr'!BF9","v":0},{"$f":"-'7 Stato-Patr'!BG9","v":0},{"$f":"-'7 Stato-Patr'!BH9","v":0},{"$f":"-'7 Stato-Patr'!BI9","v":0},{"$f":"-'7 Stato-Patr'!BJ9","v":0}]
[null,null,"Imposte a debito da pagare nell'anno successivo","imposte DB",{"$f":"'7 Stato-Patr'!C19","v":0},{"$f":"'7 Stato-Patr'!D19","v":241.65715968000509},{"$f":"'7 Stato-Patr'!E19","v":8687.9059239931485},{"$f":"'7 Stato-Patr'!F19","v":4775.1219381539577},{"$f":"'7 Stato-Patr'!G19","v":274.09370043652234},{"$f":"'7 Stato-Patr'!H19","v":279.57557444527083},{"$f":"'7 Stato-Patr'!I19","v":285.16708593419389},{"$f":"'7 Stato-Patr'!J19","v":290.87042765286606},{"$f":"'7 Stato-Patr'!K19","v":296.6878362059233},{"$f":"'7 Stato-Patr'!L19","v":302.62159293002514},{"$f":"'7 Stato-Patr'!M19","v":0},{"$f":"'7 Stato-Patr'!N19","v":0},{"$f":"'7 Stato-Patr'!O19","v":0},{"$f":"'7 Stato-Patr'!P19","v":0},{"$f":"'7 Stato-Patr'!Q19","v":0},{"$f":"'7 Stato-Patr'!R19","v":0},{"$f":"'7 Stato-Patr'!S19","v":0},{"$f":"'7 Stato-Patr'!T19","v":0},{"$f":"'7 Stato-Patr'!U19","v":0},{"$f":"'7 Stato-Patr'!V19","v":0},{"$f":"'7 Stato-Patr'!W19","v":0},{"$f":"'7 Stato-Patr'!X19","v":0},{"$f":"'7 Stato-Patr'!Y19","v":0},{"$f":"'7 Stato-Patr'!Z19","v":0},{"$f":"'7 Stato-Patr'!AA19","v":0},{"$f":"'7 Stato-Patr'!AB19","v":0},{"$f":"'7 Stato-Patr'!AC19","v":0},{"$f":"'7 Stato-Patr'!AD19","v":0},{"$f":"'7 Stato-Patr'!AE19","v":0},{"$f":"'7 Stato-Patr'!AF19","v":0},{"$f":"'7 Stato-Patr'!AG19","v":0},{"$f":"'7 Stato-Patr'!AH19","v":0},{"$f":"'7 Stato-Patr'!AI19","v":0},{"$f":"'7 Stato-Patr'!AJ19","v":0},{"$f":"'7 Stato-Patr'!AK19","v":0},{"$f":"'7 Stato-Patr'!AL19","v":0},{"$f":"'7 Stato-Patr'!AM19","v":0},{"$f":"'7 Stato-Patr'!AN19","v":0},{"$f":"'7 Stato-Patr'!AO19","v":0},{"$f":"'7 Stato-Patr'!AP19","v":0},{"$f":"'7 Stato-Patr'!AQ19","v":0},{"$f":"'7 Stato-Patr'!AR19","v":0},{"$f":"'7 Stato-Patr'!AS19","v":0},{"$f":"'7 Stato-Patr'!AT19","v":0},{"$f":"'7 Stato-Patr'!AU19","v":0},{"$f":"'7 Stato-Patr'!AV19","v":0},{"$f":"'7 Stato-Patr'!AW19","v":0},{"$f":"'7 Stato-Patr'!AX19","v":0},{"$f":"'7 Stato-Patr'!AY19","v":0},{"$f":"'7 Stato-Patr'!AZ19","v":0},{"$f":"'7 Stato-Patr'!BA19","v":0},{"$f":"'7 Stato-Patr'!BB19","v":0},{"$f":"'7 Stato-Patr'!BC19","v":0},{"$f":"'7 Stato-Patr'!BD19","v":0},{"$f":"'7 Stato-Patr'!BE19","v":0},{"$f":"'7 Stato-Patr'!BF19","v":0},{"$f":"'7 Stato-Patr'!BG19","v":0},{"$f":"'7 Stato-Patr'!BH19","v":0},{"$f":"'7 Stato-Patr'!BI19","v":0},{"$f":"'7 Stato-Patr'!BJ19","v":0}]
[null,null," "," ",0,0,0,0,0,0,0,0,0,0,0,0,0,0,0,0,0,0,0,0,0,0,0,0,0,0,0,0,0,0,0,0,0,0,0,0,0,0,0,0,0,0,0,0,0,0,0,0,0,0,0,0,0,0,0,0,0,0,0,0,0,0]
[null,null,"CCN","Totale ccn",{"$f":"E69+E70+E71+E72+E73+E76+E75+E74","v":8028.0835335314923},5806.7099451424174,11298.551782343977,7437.9807136718027,2990.2096514647328,3050.0138444940499,3111.0141213839443,3173.2344038116144,3236.699091887825,3301.4330737255832,{"$error":"#DIV/0!"},{"$error":"#DIV/0!"},{"$error":"#DIV/0!"},{"$error":"#DIV/0!"},{"$error":"#DIV/0!"},{"$error":"#DIV/0!"},{"$error":"#DIV/0!"},{"$error":"#DIV/0!"},{"$error":"#DIV/0!"},{"$error":"#DIV/0!"},0,0,0,0,0,0,0,0,0,0,0,0,0,0,0,0,0,0,0,0,0,0,0,0,0,0,0,0,0,0,0,0,0,0,0,0,0,0,0,0,0,0]
[null,null,"Variazione del CCN",null,{"$f":"IF(E68>'2 Descrizione Progetto'!$D$22,0,E77)","v":8028.0835335314923},{"$f":"IF(F68>'2 Descrizione Progetto'!$D$22,0,F77-E77)","v":-2221.3735883890749},{"$f":"IF(G68>'2 Descrizione Progetto'!$D$22,0,G77-F77)","v":5491.8418372015594},{"$f":"IF(H68>'2 Descrizione Progetto'!$D$22,0,H77-G77)","v":-3860.5710686721741},{"$f":"IF(I68>'2 Descrizione Progetto'!$D$22,0,I77-H77)","v":-4447.7710622070699},{"$f":"IF(J68>'2 Descrizione Progetto'!$D$22,0,J77-I77)","v":59.804193029317048},{"$f":"IF(K68>'2 Descrizione Progetto'!$D$22,0,K77-J77)","v":61.000276889894394},{"$f":"IF(L68>'2 Descrizione Progetto'!$D$22,0,L77-K77)","v":62.220282427670099},{"$f":"IF(M68>'2 Descrizione Progetto'!$D$22,0,M77-L77)","v":63.464688076210678},{"$f":"IF(N68>'2 Descrizione Progetto'!$D$22,0,N77-M77)","v":64.733981837758165},{"$f":"IF(O68>'2 Descrizione Progetto'!$D$22,0,O77-N77)","v":0},{"$f":"IF(P68>'2 Descrizione Progetto'!$D$22,0,P77-O77)","v":0},{"$f":"IF(Q68>'2 Descrizione Progetto'!$D$22,0,Q77-P77)","v":0},{"$f":"IF(R68>'2 Descrizione Progetto'!$D$22,0,R77-Q77)","v":0},{"$f":"IF(S68>'2 Descrizione Progetto'!$D$22,0,S77-R77)","v":0},{"$f":"IF(T68>'2 Descrizione Progetto'!$D$22,0,T77-S77)","v":0},{"$f":"IF(U68>'2 Descrizione Progetto'!$D$22,0,U77-T77)","v":0},{"$f":"IF(V68>'2 Descrizione Progetto'!$D$22,0,V77-U77)","v":0},{"$f":"IF(W68>'2 Descrizione Progetto'!$D$22,0,W77-V77)","v":0},{"$f":"IF(X68>'2 Descrizione Progetto'!$D$22,0,X77-W77)","v":0},{"$f":"IF(Y68>'2 Descrizione Progetto'!$D$22,0,Y77-X77)","v":0},{"$f":"IF(Z68>'2 Descrizione Progetto'!$D$22,0,Z77-Y77)","v":0},{"$f":"IF(AA68>'2 Descrizione Progetto'!$D$22,0,AA77-Z77)","v":0},{"$f":"IF(AB68>'2 Descrizione Progetto'!$D$22,0,AB77-AA77)","v":0},{"$f":"IF(AC68>'2 Descrizione Progetto'!$D$22,0,AC77-AB77)","v":0},{"$f":"IF(AD68>'2 Descrizione Progetto'!$D$22,0,AD77-AC77)","v":0},{"$f":"IF(AE68>'2 Descrizione Progetto'!$D$22,0,AE77-AD77)","v":0},{"$f":"IF(AF68>'2 Descrizione Progetto'!$D$22,0,AF77-AE77)","v":0},{"$f":"IF(AG68>'2 Descrizione Progetto'!$D$22,0,AG77-AF77)","v":0},{"$f":"IF(AH68>'2 Descrizione Progetto'!$D$22,0,AH77-AG77)","v":0},{"$f":"IF(AI68>'2 Descrizione Progetto'!$D$22,0,AI77-AH77)","v":0},{"$f":"IF(AJ68>'2 Descrizione Progetto'!$D$22,0,AJ77-AI77)","v":0},{"$f":"IF(AK68>'2 Descrizione Progetto'!$D$22,0,AK77-AJ77)","v":0},{"$f":"IF(AL68>'2 Descrizione Progetto'!$D$22,0,AL77-AK77)","v":0},{"$f":"IF(AM68>'2 Descrizione Progetto'!$D$22,0,AM77-AL77)","v":0},{"$f":"IF(AN68>'2 Descrizione Progetto'!$D$22,0,AN77-AM77)","v":0},{"$f":"IF(AO68>'2 Descrizione Progetto'!$D$22,0,AO77-AN77)","v":0},{"$f":"IF(AP68>'2 Descrizione Progetto'!$D$22,0,AP77-AO77)","v":0},{"$f":"IF(AQ68>'2 Descrizione Progetto'!$D$22,0,AQ77-AP77)","v":0},{"$f":"IF(AR68>'2 Descrizione Progetto'!$D$22,0,AR77-AQ77)","v":0},{"$f":"IF(AS68>'2 Descrizione Progetto'!$D$22,0,AS77-AR77)","v":0},{"$f":"IF(AT68>'2 Descrizione Progetto'!$D$22,0,AT77-AS77)","v":0},{"$f":"IF(AU68>'2 Descrizione Progetto'!$D$22,0,AU77-AT77)","v":0},{"$f":"IF(AV68>'2 Descrizione Progetto'!$D$22,0,AV77-AU77)","v":0},{"$f":"IF(AW68>'2 Descrizione Progetto'!$D$22,0,AW77-AV77)","v":0},{"$f":"IF(AX68>'2 Descrizione Progetto'!$D$22,0,AX77-AW77)","v":0},{"$f":"IF(AY68>'2 Descrizione Progetto'!$D$22,0,AY77-AX77)","v":0},{"$f":"IF(AZ68>'2 Descrizione Progetto'!$D$22,0,AZ77-AY77)","v":0},{"$f":"IF(BA68>'2 Descrizione Progetto'!$D$22,0,BA77-AZ77)","v":0},{"$f":"IF(BB68>'2 Descrizione Progetto'!$D$22,0,BB77-BA77)","v":0},{"$f":"IF(BC68>'2 Descrizione Progetto'!$D$22,0,BC77-BB77)","v":0},{"$f":"IF(BD68>'2 Descrizione Progetto'!$D$22,0,BD77-BC77)","v":0},{"$f":"IF(BE68>'2 Descrizione Progetto'!$D$22,0,BE77-BD77)","v":0},{"$f":"IF(BF68>'2 Descrizione Progetto'!$D$22,0,BF77-BE77)","v":0},{"$f":"IF(BG68>'2 Descrizione Progetto'!$D$22,0,BG77-BF77)","v":0},{"$f":"IF(BH68>'2 Descrizione Progetto'!$D$22,0,BH77-BG77)","v":0},{"$f":"IF(BI68>'2 Descrizione Progetto'!$D$22,0,BI77-BH77)","v":0},{"$f":"IF(BJ68>'2 Descrizione Progetto'!$D$22,0,BJ77-BI77)","v":0},{"$f":"IF(BK68>'2 Descrizione Progetto'!$D$22,0,BK77-BJ77)","v":0},{"$f":"IF(BL68>'2 Descrizione Progetto'!$D$22,0,BL77-BK77)","v":0},{"$f":"IF(BM68>'2 Descrizione Progetto'!$D$22,0,BM77-BL77)","v":0}]
[]
[null,null,"Piano di rimborso del Fin.to (I Banca)"]
[]
[null,null," ",null,{"$f":"E15","v":1},2,3,4,5,6,7,8,9,10,11,"0","0","0","0","0","0","0","0","0","0","0","0","0","0","0","0","0","0","0","0","0","0","0","0","0","0","0","0","0","0","0","0","0","0","0","0","0","0","0","0","0","0","0","0","0","0","0","0","0","0"]
[null,null,"Debito inizio Periodo",null,0,{"$f":"E87","v":0},0,0,0,0,0,0,0,0,0,0,0,0,0,0,0,0,0,0,0,0,0,0,0,0,0,0,0,0,0,0,0,0,0,0,0,0,0,0,0,0,0,0,0,0,0,0,0,0,0,0,0,0,0,0,0,0,0,0,0]
[null,null,"Erogazione",{"$f":"SUM(E84:BM84)","v":0},{"$f":"E30","v":0},0,0,0,0,0,0,0,0,0,0,0,0,0,0,0,0,0,0,0,0,0,0,0,0,0,0,0,0,0,0,0,0,0,0,0,0,0,0,0,0,0,0,0,0,0,0,0,0,0,0,0,0,0,0,0,0,0,0,0,0]
[null,"(a)","Rimborso del capitale (MLT)",0,{"$f":"IF(E82>'2 Descrizione Progetto'!$D$22,0,IF(AND(E82>'2 Descrizione Progetto'!$D$19,E82<='2 Investimento'!$E$71),$D$84/'2 Investimento'!$E$70,0))","v":0},{"$f":"IF(F82>'2 Descrizione Progetto'!$D$22,0,IF(AND(F82>'2 Descrizione Progetto'!$D$19,F82<='2 Investimento'!$E$71),$D$84/'2 Investimento'!$E$70,0))","v":0},{"$f":"IF(G82>'2 Descrizione Progetto'!$D$22,0,IF(AND(G82>'2 Descrizione Progetto'!$D$19,G82<='2 Investimento'!$E$71),$D$84/'2 Investimento'!$E$70,0))","v":0},{"$f":"IF(H82>'2 Descrizione Progetto'!$D$22,0,IF(AND(H82>'2 Descrizione Progetto'!$D$19,H82<='2 Investimento'!$E$71),$D$84/'2 Investimento'!$E$70,0))","v":0},{"$f":"IF(I82>'2 Descrizione Progetto'!$D$22,0,IF(AND(I82>'2 Descrizione Progetto'!$D$19,I82<='2 Investimento'!$E$71),$D$84/'2 Investimento'!$E$70,0))","v":0},{"$f":"IF(J82>'2 Descrizione Progetto'!$D$22,0,IF(AND(J82>'2 Descrizione Progetto'!$D$19,J82<='2 Investimento'!$E$71),$D$84/'2 Investimento'!$E$70,0))","v":0},{"$f":"IF(K82>'2 Descrizione Progetto'!$D$22,0,IF(AND(K82>'2 Descrizione Progetto'!$D$19,K82<='2 Investimento'!$E$71),$D$84/'2 Investimento'!$E$70,0))","v":0},{"$f":"IF(L82>'2 Descrizione Progetto'!$D$22,0,IF(AND(L82>'2 Descrizione Progetto'!$D$19,L82<='2 Investimento'!$E$71),$D$84/'2 Investimento'!$E$70,0))","v":0},{"$f":"IF(M82>'2 Descrizione Progetto'!$D$22,0,IF(AND(M82>'2 Descrizione Progetto'!$D$19,M82<='2 Investimento'!$E$71),$D$84/'2 Investimento'!$E$70,0))","v":0},{"$f":"IF(N82>'2 Descrizione Progetto'!$D$22,0,IF(AND(N82>'2 Descrizione Progetto'!$D$19,N82<='2 Investimento'!$E$71),$D$84/'2 Investimento'!$E$70,0))","v":0},{"$f":"IF(O82>'2 Descrizione Progetto'!$D$22,0,IF(AND(O82>'2 Descrizione Progetto'!$D$19,O82<='2 Investimento'!$E$71),$D$84/'2 Investimento'!$E$70,0))","v":0},{"$f":"IF(P82>'2 Descrizione Progetto'!$D$22,0,IF(AND(P82>'2 Descrizione Progetto'!$D$19,P82<='2 Investimento'!$E$71),$D$84/'2 Investimento'!$E$70,0))","v":0},{"$f":"IF(Q82>'2 Descrizione Progetto'!$D$22,0,IF(AND(Q82>'2 Descrizione Progetto'!$D$19,Q82<='2 Investimento'!$E$71),$D$84/'2 Investimento'!$E$70,0))","v":0},{"$f":"IF(R82>'2 Descrizione Progetto'!$D$22,0,IF(AND(R82>'2 Descrizione Progetto'!$D$19,R82<='2 Investimento'!$E$71),$D$84/'2 Investimento'!$E$70,0))","v":0},{"$f":"IF(S82>'2 Descrizione Progetto'!$D$22,0,IF(AND(S82>'2 Descrizione Progetto'!$D$19,S82<='2 Investimento'!$E$71),$D$84/'2 Investimento'!$E$70,0))","v":0},{"$f":"IF(T82>'2 Descrizione Progetto'!$D$22,0,IF(AND(T82>'2 Descrizione Progetto'!$D$19,T82<='2 Investimento'!$E$71),$D$84/'2 Investimento'!$E$70,0))","v":0},{"$f":"IF(U82>'2 Descrizione Progetto'!$D$22,0,IF(AND(U82>'2 Descrizione Progetto'!$D$19,U82<='2 Investimento'!$E$71),$D$84/'2 Investimento'!$E$70,0))","v":0},{"$f":"IF(V82>'2 Descrizione Progetto'!$D$22,0,IF(AND(V82>'2 Descrizione Progetto'!$D$19,V82<='2 Investimento'!$E$71),$D$84/'2 Investimento'!$E$70,0))","v":0},{"$f":"IF(W82>'2 Descrizione Progetto'!$D$22,0,IF(AND(W82>'2 Descrizione Progetto'!$D$19,W82<='2 Investimento'!$E$71),$D$84/'2 Investimento'!$E$70,0))","v":0},{"$f":"IF(X82>'2 Descrizione Progetto'!$D$22,0,IF(AND(X82>'2 Descrizione Progetto'!$D$19,X82<='2 Investimento'!$E$71),$D$84/'2 Investimento'!$E$70,0))","v":0},{"$f":"IF(Y82>'2 Descrizione Progetto'!$D$22,0,IF(AND(Y82>'2 Descrizione Progetto'!$D$19,Y82<='2 Investimento'!$E$71),$D$84/'2 Investimento'!$E$70,0))","v":0},{"$f":"IF(Z82>'2 Descrizione Progetto'!$D$22,0,IF(AND(Z82>'2 Descrizione Progetto'!$D$19,Z82<='2 Investimento'!$E$71),$D$84/'2 Investimento'!$E$70,0))","v":0},{"$f":"IF(AA82>'2 Descrizione Progetto'!$D$22,0,IF(AND(AA82>'2 Descrizione Progetto'!$D$19,AA82<='2 Investimento'!$E$71),$D$84/'2 Investimento'!$E$70,0))","v":0},{"$f":"IF(AB82>'2 Descrizione Progetto'!$D$22,0,IF(AND(AB82>'2 Descrizione Progetto'!$D$19,AB82<='2 Investimento'!$E$71),$D$84/'2 Investimento'!$E$70,0))","v":0},{"$f":"IF(AC82>'2 Descrizione Progetto'!$D$22,0,IF(AND(AC82>'2 Descrizione Progetto'!$D$19,AC82<='2 Investimento'!$E$71),$D$84/'2 Investimento'!$E$70,0))","v":0},{"$f":"IF(AD82>'2 Descrizione Progetto'!$D$22,0,IF(AND(AD82>'2 Descrizione Progetto'!$D$19,AD82<='2 Investimento'!$E$71),$D$84/'2 Investimento'!$E$70,0))","v":0},{"$f":"IF(AE82>'2 Descrizione Progetto'!$D$22,0,IF(AND(AE82>'2 Descrizione Progetto'!$D$19,AE82<='2 Investimento'!$E$71),$D$84/'2 Investimento'!$E$70,0))","v":0},{"$f":"IF(AF82>'2 Descrizione Progetto'!$D$22,0,IF(AND(AF82>'2 Descrizione Progetto'!$D$19,AF82<='2 Investimento'!$E$71),$D$84/'2 Investimento'!$E$70,0))","v":0},{"$f":"IF(AG82>'2 Descrizione Progetto'!$D$22,0,IF(AND(AG82>'2 Descrizione Progetto'!$D$19,AG82<='2 Investimento'!$E$71),$D$84/'2 Investimento'!$E$70,0))","v":0},{"$f":"IF(AH82>'2 Descrizione Progetto'!$D$22,0,IF(AND(AH82>'2 Descrizione Progetto'!$D$19,AH82<='2 Investimento'!$E$71),$D$84/'2 Investimento'!$E$70,0))","v":0},{"$f":"IF(AI82>'2 Descrizione Progetto'!$D$22,0,IF(AND(AI82>'2 Descrizione Progetto'!$D$19,AI82<='2 Investimento'!$E$71),$D$84/'2 Investimento'!$E$70,0))","v":0},{"$f":"IF(AJ82>'2 Descrizione Progetto'!$D$22,0,IF(AND(AJ82>'2 Descrizione Progetto'!$D$19,AJ82<='2 Investimento'!$E$71),$D$84/'2 Investimento'!$E$70,0))","v":0},{"$f":"IF(AK82>'2 Descrizione Progetto'!$D$22,0,IF(AND(AK82>'2 Descrizione Progetto'!$D$19,AK82<='2 Investimento'!$E$71),$D$84/'2 Investimento'!$E$70,0))","v":0},{"$f":"IF(AL82>'2 Descrizione Progetto'!$D$22,0,IF(AND(AL82>'2 Descrizione Progetto'!$D$19,AL82<='2 Investimento'!$E$71),$D$84/'2 Investimento'!$E$70,0))","v":0},{"$f":"IF(AM82>'2 Descrizione Progetto'!$D$22,0,IF(AND(AM82>'2 Descrizione Progetto'!$D$19,AM82<='2 Investimento'!$E$71),$D$84/'2 Investimento'!$E$70,0))","v":0},{"$f":"IF(AN82>'2 Descrizione Progetto'!$D$22,0,IF(AND(AN82>'2 Descrizione Progetto'!$D$19,AN82<='2 Investimento'!$E$71),$D$84/'2 Investimento'!$E$70,0))","v":0},{"$f":"IF(AO82>'2 Descrizione Progetto'!$D$22,0,IF(AND(AO82>'2 Descrizione Progetto'!$D$19,AO82<='2 Investimento'!$E$71),$D$84/'2 Investimento'!$E$70,0))","v":0},{"$f":"IF(AP82>'2 Descrizione Progetto'!$D$22,0,IF(AND(AP82>'2 Descrizione Progetto'!$D$19,AP82<='2 Investimento'!$E$71),$D$84/'2 Investimento'!$E$70,0))","v":0},{"$f":"IF(AQ82>'2 Descrizione Progetto'!$D$22,0,IF(AND(AQ82>'2 Descrizione Progetto'!$D$19,AQ82<='2 Investimento'!$E$71),$D$84/'2 Investimento'!$E$70,0))","v":0},{"$f":"IF(AR82>'2 Descrizione Progetto'!$D$22,0,IF(AND(AR82>'2 Descrizione Progetto'!$D$19,AR82<='2 Investimento'!$E$71),$D$84/'2 Investimento'!$E$70,0))","v":0},{"$f":"IF(AS82>'2 Descrizione Progetto'!$D$22,0,IF(AND(AS82>'2 Descrizione Progetto'!$D$19,AS82<='2 Investimento'!$E$71),$D$84/'2 Investimento'!$E$70,0))","v":0},{"$f":"IF(AT82>'2 Descrizione Progetto'!$D$22,0,IF(AND(AT82>'2 Descrizione Progetto'!$D$19,AT82<='2 Investimento'!$E$71),$D$84/'2 Investimento'!$E$70,0))","v":0},{"$f":"IF(AU82>'2 Descrizione Progetto'!$D$22,0,IF(AND(AU82>'2 Descrizione Progetto'!$D$19,AU82<='2 Investimento'!$E$71),$D$84/'2 Investimento'!$E$70,0))","v":0},{"$f":"IF(AV82>'2 Descrizione Progetto'!$D$22,0,IF(AND(AV82>'2 Descrizione Progetto'!$D$19,AV82<='2 Investimento'!$E$71),$D$84/'2 Investimento'!$E$70,0))","v":0},{"$f":"IF(AW82>'2 Descrizione Progetto'!$D$22,0,IF(AND(AW82>'2 Descrizione Progetto'!$D$19,AW82<='2 Investimento'!$E$71),$D$84/'2 Investimento'!$E$70,0))","v":0},{"$f":"IF(AX82>'2 Descrizione Progetto'!$D$22,0,IF(AND(AX82>'2 Descrizione Progetto'!$D$19,AX82<='2 Investimento'!$E$71),$D$84/'2 Investimento'!$E$70,0))","v":0},{"$f":"IF(AY82>'2 Descrizione Progetto'!$D$22,0,IF(AND(AY82>'2 Descrizione Progetto'!$D$19,AY82<='2 Investimento'!$E$71),$D$84/'2 Investimento'!$E$70,0))","v":0},{"$f":"IF(AZ82>'2 Descrizione Progetto'!$D$22,0,IF(AND(AZ82>'2 Descrizione Progetto'!$D$19,AZ82<='2 Investimento'!$E$71),$D$84/'2 Investimento'!$E$70,0))","v":0},{"$f":"IF(BA82>'2 Descrizione Progetto'!$D$22,0,IF(AND(BA82>'2 Descrizione Progetto'!$D$19,BA82<='2 Investimento'!$E$71),$D$84/'2 Investimento'!$E$70,0))","v":0},{"$f":"IF(BB82>'2 Descrizione Progetto'!$D$22,0,IF(AND(BB82>'2 Descrizione Progetto'!$D$19,BB82<='2 Investimento'!$E$71),$D$84/'2 Investimento'!$E$70,0))","v":0},{"$f":"IF(BC82>'2 Descrizione Progetto'!$D$22,0,IF(AND(BC82>'2 Descrizione Progetto'!$D$19,BC82<='2 Investimento'!$E$71),$D$84/'2 Investimento'!$E$70,0))","v":0},{"$f":"IF(BD82>'2 Descrizione Progetto'!$D$22,0,IF(AND(BD82>'2 Descrizione Progetto'!$D$19,BD82<='2 Investimento'!$E$71),$D$84/'2 Investimento'!$E$70,0))","v":0},{"$f":"IF(BE82>'2 Descrizione Progetto'!$D$22,0,IF(AND(BE82>'2 Descrizione Progetto'!$D$19,BE82<='2 Investimento'!$E$71),$D$84/'2 Investimento'!$E$70,0))","v":0},{"$f":"IF(BF82>'2 Descrizione Progetto'!$D$22,0,IF(AND(BF82>'2 Descrizione Progetto'!$D$19,BF82<='2 Investimento'!$E$71),$D$84/'2 Investimento'!$E$70,0))","v":0},{"$f":"IF(BG82>'2 Descrizione Progetto'!$D$22,0,IF(AND(BG82>'2 Descrizione Progetto'!$D$19,BG82<='2 Investimento'!$E$71),$D$84/'2 Investimento'!$E$70,0))","v":0},{"$f":"IF(BH82>'2 Descrizione Progetto'!$D$22,0,IF(AND(BH82>'2 Descrizione Progetto'!$D$19,BH82<='2 Investimento'!$E$71),$D$84/'2 Investimento'!$E$70,0))","v":0},{"$f":"IF(BI82>'2 Descrizione Progetto'!$D$22,0,IF(AND(BI82>'2 Descrizione Progetto'!$D$19,BI82<='2 Investimento'!$E$71),$D$84/'2 Investimento'!$E$70,0))","v":0},{"$f":"IF(BJ82>'2 Descrizione Progetto'!$D$22,0,IF(AND(BJ82>'2 Descrizione Progetto'!$D$19,BJ82<='2 Investimento'!$E$71),$D$84/'2 Investimento'!$E$70,0))","v":0},{"$f":"IF(BK82>'2 Descrizione Progetto'!$D$22,0,IF(AND(BK82>'2 Descrizione Progetto'!$D$19,BK82<='2 Investimento'!$E$71),$D$84/'2 Investimento'!$E$70,0))","v":0},{"$f":"IF(BL82>'2 Descrizione Progetto'!$D$22,0,IF(AND(BL82>'2 Descrizione Progetto'!$D$19,BL82<='2 Investimento'!$E$71),$D$84/'2 Investimento'!$E$70,0))","v":0},{"$f":"IF(BM82>'2 Descrizione Progetto'!$D$22,0,IF(AND(BM82>'2 Descrizione Progetto'!$D$19,BM82<='2 Investimento'!$E$71),$D$84/'2 Investimento'!$E$70,0))","v":0}]
[null,"(b)","Interessi passivi (con pre-ammortamento iniziale)",0,{"$f":"'2 Investimento'!$E$69*((E83+E87)/2)","v":0},{"$f":"'2 Investimento'!$E$69*((F83+F87)/2)","v":0},{"$f":"'2 Investimento'!$E$69*((G83+G87)/2)","v":0},{"$f":"'2 Investimento'!$E$69*((H83+H87)/2)","v":0},{"$f":"'2 Investimento'!$E$69*((I83+I87)/2)","v":0},{"$f":"'2 Investimento'!$E$69*((J83+J87)/2)","v":0},{"$f":"'2 Investimento'!$E$69*((K83+K87)/2)","v":0},{"$f":"'2 Investimento'!$E$69*((L83+L87)/2)","v":0},{"$f":"'2 Investimento'!$E$69*((M83+M87)/2)","v":0},{"$f":"'2 Investimento'!$E$69*((N83+N87)/2)","v":0},{"$f":"'2 Investimento'!$E$69*((O83+O87)/2)","v":0},{"$f":"'2 Investimento'!$E$69*((P83+P87)/2)","v":0},{"$f":"'2 Investimento'!$E$69*((Q83+Q87)/2)","v":0},{"$f":"'2 Investimento'!$E$69*((R83+R87)/2)","v":0},{"$f":"'2 Investimento'!$E$69*((S83+S87)/2)","v":0},{"$f":"'2 Investimento'!$E$69*((T83+T87)/2)","v":0},{"$f":"'2 Investimento'!$E$69*((U83+U87)/2)","v":0},{"$f":"'2 Investimento'!$E$69*((V83+V87)/2)","v":0},{"$f":"'2 Investimento'!$E$69*((W83+W87)/2)","v":0},{"$f":"'2 Investimento'!$E$69*((X83+X87)/2)","v":0},{"$f":"'2 Investimento'!$E$69*((Y83+Y87)/2)","v":0},{"$f":"'2 Investimento'!$E$69*((Z83+Z87)/2)","v":0},{"$f":"'2 Investimento'!$E$69*((AA83+AA87)/2)","v":0},{"$f":"'2 Investimento'!$E$69*((AB83+AB87)/2)","v":0},{"$f":"'2 Investimento'!$E$69*((AC83+AC87)/2)","v":0},{"$f":"'2 Investimento'!$E$69*((AD83+AD87)/2)","v":0},{"$f":"'2 Investimento'!$E$69*((AE83+AE87)/2)","v":0},{"$f":"'2 Investimento'!$E$69*((AF83+AF87)/2)","v":0},{"$f":"'2 Investimento'!$E$69*((AG83+AG87)/2)","v":0},{"$f":"'2 Investimento'!$E$69*((AH83+AH87)/2)","v":0},{"$f":"'2 Investimento'!$E$69*((AI83+AI87)/2)","v":0},{"$f":"'2 Investimento'!$E$69*((AJ83+AJ87)/2)","v":0},{"$f":"'2 Investimento'!$E$69*((AK83+AK87)/2)","v":0},{"$f":"'2 Investimento'!$E$69*((AL83+AL87)/2)","v":0},{"$f":"'2 Investimento'!$E$69*((AM83+AM87)/2)","v":0},{"$f":"'2 Investimento'!$E$69*((AN83+AN87)/2)","v":0},{"$f":"'2 Investimento'!$E$69*((AO83+AO87)/2)","v":0},{"$f":"'2 Investimento'!$E$69*((AP83+AP87)/2)","v":0},{"$f":"'2 Investimento'!$E$69*((AQ83+AQ87)/2)","v":0},{"$f":"'2 Investimento'!$E$69*((AR83+AR87)/2)","v":0},{"$f":"'2 Investimento'!$E$69*((AS83+AS87)/2)","v":0},{"$f":"'2 Investimento'!$E$69*((AT83+AT87)/2)","v":0},{"$f":"'2 Investimento'!$E$69*((AU83+AU87)/2)","v":0},{"$f":"'2 Investimento'!$E$69*((AV83+AV87)/2)","v":0},{"$f":"'2 Investimento'!$E$69*((AW83+AW87)/2)","v":0},{"$f":"'2 Investimento'!$E$69*((AX83+AX87)/2)","v":0},{"$f":"'2 Investimento'!$E$69*((AY83+AY87)/2)","v":0},{"$f":"'2 Investimento'!$E$69*((AZ83+AZ87)/2)","v":0},{"$f":"'2 Investimento'!$E$69*((BA83+BA87)/2)","v":0},{"$f":"'2 Investimento'!$E$69*((BB83+BB87)/2)","v":0},{"$f":"'2 Investimento'!$E$69*((BC83+BC87)/2)","v":0},{"$f":"'2 Investimento'!$E$69*((BD83+BD87)/2)","v":0},{"$f":"'2 Investimento'!$E$69*((BE83+BE87)/2)","v":0},{"$f":"'2 Investimento'!$E$69*((BF83+BF87)/2)","v":0},{"$f":"'2 Investimento'!$E$69*((BG83+BG87)/2)","v":0},{"$f":"'2 Investimento'!$E$69*((BH83+BH87)/2)","v":0},{"$f":"'2 Investimento'!$E$69*((BI83+BI87)/2)","v":0},{"$f":"'2 Investimento'!$E$69*((BJ83+BJ87)/2)","v":0},{"$f":"'2 Investimento'!$E$69*((BK83+BK87)/2)","v":0},{"$f":"'2 Investimento'!$E$69*((BL83+BL87)/2)","v":0},{"$f":"'2 Investimento'!$E$69*((BM83+BM87)/2)","v":0}]
[null,null,"Debito di Fine Periodo",null,{"$f":"E83+E84-E85","v":0},0,0,0,0,0,0,0,0,0,0,0,0,0,0,0,0,0,0,0,0,0,0,0,0,0,0,0,0,0,0,0,0,0,0,0,0,0,0,0,0,0,0,0,0,0,0,0,0,0,0,0,0,0,0,0,0,0,0,0,0]
[null,"(a)+(b)","Servizio del debito"," ",{"$f":"E85+E86","v":0},0,0,0,0,0,0,0,0,0,0,0,0,0,0,0,0,0,0,0,0,0,0,0,0,0,0,0,0,0,0,0,0,0,0,0,0,0,0,0,0,0,0,0,0,0,0,0,0,0,0,0,0,0,0,0,0,0,0,0,0]
[]
[null,null,"Piano di rimborso del Fin.to (II Banca)"]
[]
[null,null,null,null,{"$f":"E82","v":1},2,3,4,5,6,7,8,9,10,11,"0","0","0","0","0","0","0","0","0","0","0","0","0","0","0","0","0","0","0","0","0","0","0","0","0","0","0","0","0","0","0","0","0","0","0","0","0","0","0","0","0","0","0","0","0","0","0","0","0","0"]
[null,null,"Debito inizio Periodo",null,0,{"$f":"E97","v":0},0,0,0,0,0,0,0,0,0,0,0,0,0,0,0,0,0,0,0,0,0,0,0,0,0,0,0,0,0,0,0,0,0,0,0,0,0,0,0,0,0,0,0,0,0,0,0,0,0,0,0,0,0,0,0,0,0,0,0]
[null,null,"Erogazione",{"$f":"SUM(E94:BM94)","v":0},{"$f":"E31","v":0},0,0,0,0,0,0,0,0,0,0,0,0,0,0,0,0,0,0,0,0,0,0,0,0,0,0,0,0,0,0,0,0,0,0,0,0,0,0,0,0,0,0,0,0,0,0,0,0,0,0,0,0,0,0,0,0,0,0,0,0]
[null,"(a)","Rimborso del capitale (MLT)",0,{"$f":"IF(E92>'2 Descrizione Progetto'!$D$22,0,IF(AND(E92>'2 Descrizione Progetto'!$D$19,E92<='2 Investimento'!$E$74),$D$94/'2 Investimento'!$E$73,0))","v":0},{"$f":"IF(F92>'2 Descrizione Progetto'!$D$22,0,IF(AND(F92>'2 Descrizione Progetto'!$D$19,F92<='2 Investimento'!$E$74),$D$94/'2 Investimento'!$E$73,0))","v":0},{"$f":"IF(G92>'2 Descrizione Progetto'!$D$22,0,IF(AND(G92>'2 Descrizione Progetto'!$D$19,G92<='2 Investimento'!$E$74),$D$94/'2 Investimento'!$E$73,0))","v":0},{"$f":"IF(H92>'2 Descrizione Progetto'!$D$22,0,IF(AND(H92>'2 Descrizione Progetto'!$D$19,H92<='2 Investimento'!$E$74),$D$94/'2 Investimento'!$E$73,0))","v":0},{"$f":"IF(I92>'2 Descrizione Progetto'!$D$22,0,IF(AND(I92>'2 Descrizione Progetto'!$D$19,I92<='2 Investimento'!$E$74),$D$94/'2 Investimento'!$E$73,0))","v":0},{"$f":"IF(J92>'2 Descrizione Progetto'!$D$22,0,IF(AND(J92>'2 Descrizione Progetto'!$D$19,J92<='2 Investimento'!$E$74),$D$94/'2 Investimento'!$E$73,0))","v":0},{"$f":"IF(K92>'2 Descrizione Progetto'!$D$22,0,IF(AND(K92>'2 Descrizione Progetto'!$D$19,K92<='2 Investimento'!$E$74),$D$94/'2 Investimento'!$E$73,0))","v":0},{"$f":"IF(L92>'2 Descrizione Progetto'!$D$22,0,IF(AND(L92>'2 Descrizione Progetto'!$D$19,L92<='2 Investimento'!$E$74),$D$94/'2 Investimento'!$E$73,0))","v":0},{"$f":"IF(M92>'2 Descrizione Progetto'!$D$22,0,IF(AND(M92>'2 Descrizione Progetto'!$D$19,M92<='2 Investimento'!$E$74),$D$94/'2 Investimento'!$E$73,0))","v":0},{"$f":"IF(N92>'2 Descrizione Progetto'!$D$22,0,IF(AND(N92>'2 Descrizione Progetto'!$D$19,N92<='2 Investimento'!$E$74),$D$94/'2 Investimento'!$E$73,0))","v":0},{"$f":"IF(O92>'2 Descrizione Progetto'!$D$22,0,IF(AND(O92>'2 Descrizione Progetto'!$D$19,O92<='2 Investimento'!$E$74),$D$94/'2 Investimento'!$E$73,0))","v":0},{"$f":"IF(P92>'2 Descrizione Progetto'!$D$22,0,IF(AND(P92>'2 Descrizione Progetto'!$D$19,P92<='2 Investimento'!$E$74),$D$94/'2 Investimento'!$E$73,0))","v":0},{"$f":"IF(Q92>'2 Descrizione Progetto'!$D$22,0,IF(AND(Q92>'2 Descrizione Progetto'!$D$19,Q92<='2 Investimento'!$E$74),$D$94/'2 Investimento'!$E$73,0))","v":0},{"$f":"IF(R92>'2 Descrizione Progetto'!$D$22,0,IF(AND(R92>'2 Descrizione Progetto'!$D$19,R92<='2 Investimento'!$E$74),$D$94/'2 Investimento'!$E$73,0))","v":0},{"$f":"IF(S92>'2 Descrizione Progetto'!$D$22,0,IF(AND(S92>'2 Descrizione Progetto'!$D$19,S92<='2 Investimento'!$E$74),$D$94/'2 Investimento'!$E$73,0))","v":0},{"$f":"IF(T92>'2 Descrizione Progetto'!$D$22,0,IF(AND(T92>'2 Descrizione Progetto'!$D$19,T92<='2 Investimento'!$E$74),$D$94/'2 Investimento'!$E$73,0))","v":0},{"$f":"IF(U92>'2 Descrizione Progetto'!$D$22,0,IF(AND(U92>'2 Descrizione Progetto'!$D$19,U92<='2 Investimento'!$E$74),$D$94/'2 Investimento'!$E$73,0))","v":0},{"$f":"IF(V92>'2 Descrizione Progetto'!$D$22,0,IF(AND(V92>'2 Descrizione Progetto'!$D$19,V92<='2 Investimento'!$E$74),$D$94/'2 Investimento'!$E$73,0))","v":0},{"$f":"IF(W92>'2 Descrizione Progetto'!$D$22,0,IF(AND(W92>'2 Descrizione Progetto'!$D$19,W92<='2 Investimento'!$E$74),$D$94/'2 Investimento'!$E$73,0))","v":0},{"$f":"IF(X92>'2 Descrizione Progetto'!$D$22,0,IF(AND(X92>'2 Descrizione Progetto'!$D$19,X92<='2 Investimento'!$E$74),$D$94/'2 Investimento'!$E$73,0))","v":0},{"$f":"IF(Y92>'2 Descrizione Progetto'!$D$22,0,IF(AND(Y92>'2 Descrizione Progetto'!$D$19,Y92<='2 Investimento'!$E$74),$D$94/'2 Investimento'!$E$73,0))","v":0},{"$f":"IF(Z92>'2 Descrizione Progetto'!$D$22,0,IF(AND(Z92>'2 Descrizione Progetto'!$D$19,Z92<='2 Investimento'!$E$74),$D$94/'2 Investimento'!$E$73,0))","v":0},{"$f":"IF(AA92>'2 Descrizione Progetto'!$D$22,0,IF(AND(AA92>'2 Descrizione Progetto'!$D$19,AA92<='2 Investimento'!$E$74),$D$94/'2 Investimento'!$E$73,0))","v":0},{"$f":"IF(AB92>'2 Descrizione Progetto'!$D$22,0,IF(AND(AB92>'2 Descrizione Progetto'!$D$19,AB92<='2 Investimento'!$E$74),$D$94/'2 Investimento'!$E$73,0))","v":0},{"$f":"IF(AC92>'2 Descrizione Progetto'!$D$22,0,IF(AND(AC92>'2 Descrizione Progetto'!$D$19,AC92<='2 Investimento'!$E$74),$D$94/'2 Investimento'!$E$73,0))","v":0},{"$f":"IF(AD92>'2 Descrizione Progetto'!$D$22,0,IF(AND(AD92>'2 Descrizione Progetto'!$D$19,AD92<='2 Investimento'!$E$74),$D$94/'2 Investimento'!$E$73,0))","v":0},{"$f":"IF(AE92>'2 Descrizione Progetto'!$D$22,0,IF(AND(AE92>'2 Descrizione Progetto'!$D$19,AE92<='2 Investimento'!$E$74),$D$94/'2 Investimento'!$E$73,0))","v":0},{"$f":"IF(AF92>'2 Descrizione Progetto'!$D$22,0,IF(AND(AF92>'2 Descrizione Progetto'!$D$19,AF92<='2 Investimento'!$E$74),$D$94/'2 Investimento'!$E$73,0))","v":0},{"$f":"IF(AG92>'2 Descrizione Progetto'!$D$22,0,IF(AND(AG92>'2 Descrizione Progetto'!$D$19,AG92<='2 Investimento'!$E$74),$D$94/'2 Investimento'!$E$73,0))","v":0},{"$f":"IF(AH92>'2 Descrizione Progetto'!$D$22,0,IF(AND(AH92>'2 Descrizione Progetto'!$D$19,AH92<='2 Investimento'!$E$74),$D$94/'2 Investimento'!$E$73,0))","v":0},{"$f":"IF(AI92>'2 Descrizione Progetto'!$D$22,0,IF(AND(AI92>'2 Descrizione Progetto'!$D$19,AI92<='2 Investimento'!$E$74),$D$94/'2 Investimento'!$E$73,0))","v":0},{"$f":"IF(AJ92>'2 Descrizione Progetto'!$D$22,0,IF(AND(AJ92>'2 Descrizione Progetto'!$D$19,AJ92<='2 Investimento'!$E$74),$D$94/'2 Investimento'!$E$73,0))","v":0},{"$f":"IF(AK92>'2 Descrizione Progetto'!$D$22,0,IF(AND(AK92>'2 Descrizione Progetto'!$D$19,AK92<='2 Investimento'!$E$74),$D$94/'2 Investimento'!$E$73,0))","v":0},{"$f":"IF(AL92>'2 Descrizione Progetto'!$D$22,0,IF(AND(AL92>'2 Descrizione Progetto'!$D$19,AL92<='2 Investimento'!$E$74),$D$94/'2 Investimento'!$E$73,0))","v":0},{"$f":"IF(AM92>'2 Descrizione Progetto'!$D$22,0,IF(AND(AM92>'2 Descrizione Progetto'!$D$19,AM92<='2 Investimento'!$E$74),$D$94/'2 Investimento'!$E$73,0))","v":0},{"$f":"IF(AN92>'2 Descrizione Progetto'!$D$22,0,IF(AND(AN92>'2 Descrizione Progetto'!$D$19,AN92<='2 Investimento'!$E$74),$D$94/'2 Investimento'!$E$73,0))","v":0},{"$f":"IF(AO92>'2 Descrizione Progetto'!$D$22,0,IF(AND(AO92>'2 Descrizione Progetto'!$D$19,AO92<='2 Investimento'!$E$74),$D$94/'2 Investimento'!$E$73,0))","v":0},{"$f":"IF(AP92>'2 Descrizione Progetto'!$D$22,0,IF(AND(AP92>'2 Descrizione Progetto'!$D$19,AP92<='2 Investimento'!$E$74),$D$94/'2 Investimento'!$E$73,0))","v":0},{"$f":"IF(AQ92>'2 Descrizione Progetto'!$D$22,0,IF(AND(AQ92>'2 Descrizione Progetto'!$D$19,AQ92<='2 Investimento'!$E$74),$D$94/'2 Investimento'!$E$73,0))","v":0},{"$f":"IF(AR92>'2 Descrizione Progetto'!$D$22,0,IF(AND(AR92>'2 Descrizione Progetto'!$D$19,AR92<='2 Investimento'!$E$74),$D$94/'2 Investimento'!$E$73,0))","v":0},{"$f":"IF(AS92>'2 Descrizione Progetto'!$D$22,0,IF(AND(AS92>'2 Descrizione Progetto'!$D$19,AS92<='2 Investimento'!$E$74),$D$94/'2 Investimento'!$E$73,0))","v":0},{"$f":"IF(AT92>'2 Descrizione Progetto'!$D$22,0,IF(AND(AT92>'2 Descrizione Progetto'!$D$19,AT92<='2 Investimento'!$E$74),$D$94/'2 Investimento'!$E$73,0))","v":0},{"$f":"IF(AU92>'2 Descrizione Progetto'!$D$22,0,IF(AND(AU92>'2 Descrizione Progetto'!$D$19,AU92<='2 Investimento'!$E$74),$D$94/'2 Investimento'!$E$73,0))","v":0},{"$f":"IF(AV92>'2 Descrizione Progetto'!$D$22,0,IF(AND(AV92>'2 Descrizione Progetto'!$D$19,AV92<='2 Investimento'!$E$74),$D$94/'2 Investimento'!$E$73,0))","v":0},{"$f":"IF(AW92>'2 Descrizione Progetto'!$D$22,0,IF(AND(AW92>'2 Descrizione Progetto'!$D$19,AW92<='2 Investimento'!$E$74),$D$94/'2 Investimento'!$E$73,0))","v":0},{"$f":"IF(AX92>'2 Descrizione Progetto'!$D$22,0,IF(AND(AX92>'2 Descrizione Progetto'!$D$19,AX92<='2 Investimento'!$E$74),$D$94/'2 Investimento'!$E$73,0))","v":0},{"$f":"IF(AY92>'2 Descrizione Progetto'!$D$22,0,IF(AND(AY92>'2 Descrizione Progetto'!$D$19,AY92<='2 Investimento'!$E$74),$D$94/'2 Investimento'!$E$73,0))","v":0},{"$f":"IF(AZ92>'2 Descrizione Progetto'!$D$22,0,IF(AND(AZ92>'2 Descrizione Progetto'!$D$19,AZ92<='2 Investimento'!$E$74),$D$94/'2 Investimento'!$E$73,0))","v":0},{"$f":"IF(BA92>'2 Descrizione Progetto'!$D$22,0,IF(AND(BA92>'2 Descrizione Progetto'!$D$19,BA92<='2 Investimento'!$E$74),$D$94/'2 Investimento'!$E$73,0))","v":0},{"$f":"IF(BB92>'2 Descrizione Progetto'!$D$22,0,IF(AND(BB92>'2 Descrizione Progetto'!$D$19,BB92<='2 Investimento'!$E$74),$D$94/'2 Investimento'!$E$73,0))","v":0},{"$f":"IF(BC92>'2 Descrizione Progetto'!$D$22,0,IF(AND(BC92>'2 Descrizione Progetto'!$D$19,BC92<='2 Investimento'!$E$74),$D$94/'2 Investimento'!$E$73,0))","v":0},{"$f":"IF(BD92>'2 Descrizione Progetto'!$D$22,0,IF(AND(BD92>'2 Descrizione Progetto'!$D$19,BD92<='2 Investimento'!$E$74),$D$94/'2 Investimento'!$E$73,0))","v":0},{"$f":"IF(BE92>'2 Descrizione Progetto'!$D$22,0,IF(AND(BE92>'2 Descrizione Progetto'!$D$19,BE92<='2 Investimento'!$E$74),$D$94/'2 Investimento'!$E$73,0))","v":0},{"$f":"IF(BF92>'2 Descrizione Progetto'!$D$22,0,IF(AND(BF92>'2 Descrizione Progetto'!$D$19,BF92<='2 Investimento'!$E$74),$D$94/'2 Investimento'!$E$73,0))","v":0},{"$f":"IF(BG92>'2 Descrizione Progetto'!$D$22,0,IF(AND(BG92>'2 Descrizione Progetto'!$D$19,BG92<='2 Investimento'!$E$74),$D$94/'2 Investimento'!$E$73,0))","v":0},{"$f":"IF(BH92>'2 Descrizione Progetto'!$D$22,0,IF(AND(BH92>'2 Descrizione Progetto'!$D$19,BH92<='2 Investimento'!$E$74),$D$94/'2 Investimento'!$E$73,0))","v":0},{"$f":"IF(BI92>'2 Descrizione Progetto'!$D$22,0,IF(AND(BI92>'2 Descrizione Progetto'!$D$19,BI92<='2 Investimento'!$E$74),$D$94/'2 Investimento'!$E$73,0))","v":0},{"$f":"IF(BJ92>'2 Descrizione Progetto'!$D$22,0,IF(AND(BJ92>'2 Descrizione Progetto'!$D$19,BJ92<='2 Investimento'!$E$74),$D$94/'2 Investimento'!$E$73,0))","v":0},{"$f":"IF(BK92>'2 Descrizione Progetto'!$D$22,0,IF(AND(BK92>'2 Descrizione Progetto'!$D$19,BK92<='2 Investimento'!$E$74),$D$94/'2 Investimento'!$E$73,0))","v":0},{"$f":"IF(BL92>'2 Descrizione Progetto'!$D$22,0,IF(AND(BL92>'2 Descrizione Progetto'!$D$19,BL92<='2 Investimento'!$E$74),$D$94/'2 Investimento'!$E$73,0))","v":0},{"$f":"IF(BM92>'2 Descrizione Progetto'!$D$22,0,IF(AND(BM92>'2 Descrizione Progetto'!$D$19,BM92<='2 Investimento'!$E$74),$D$94/'2 Investimento'!$E$73,0))","v":0}]
[null,"(b)","Interessi (con pre-ammortamento iniziale)",0,{"$f":"'2 Investimento'!$E$72*((E93+E97)/2)","v":0},{"$f":"'2 Investimento'!$E$72*((F93+F97)/2)","v":0},{"$f":"'2 Investimento'!$E$72*((G93+G97)/2)","v":0},{"$f":"'2 Investimento'!$E$72*((H93+H97)/2)","v":0},{"$f":"'2 Investimento'!$E$72*((I93+I97)/2)","v":0},{"$f":"'2 Investimento'!$E$72*((J93+J97)/2)","v":0},{"$f":"'2 Investimento'!$E$72*((K93+K97)/2)","v":0},{"$f":"'2 Investimento'!$E$72*((L93+L97)/2)","v":0},{"$f":"'2 Investimento'!$E$72*((M93+M97)/2)","v":0},{"$f":"'2 Investimento'!$E$72*((N93+N97)/2)","v":0},{"$f":"'2 Investimento'!$E$72*((O93+O97)/2)","v":0},{"$f":"'2 Investimento'!$E$72*((P93+P97)/2)","v":0},{"$f":"'2 Investimento'!$E$72*((Q93+Q97)/2)","v":0},{"$f":"'2 Investimento'!$E$72*((R93+R97)/2)","v":0},{"$f":"'2 Investimento'!$E$72*((S93+S97)/2)","v":0},{"$f":"'2 Investimento'!$E$72*((T93+T97)/2)","v":0},{"$f":"'2 Investimento'!$E$72*((U93+U97)/2)","v":0},{"$f":"'2 Investimento'!$E$72*((V93+V97)/2)","v":0},{"$f":"'2 Investimento'!$E$72*((W93+W97)/2)","v":0},{"$f":"'2 Investimento'!$E$72*((X93+X97)/2)","v":0},{"$f":"'2 Investimento'!$E$72*((Y93+Y97)/2)","v":0},{"$f":"'2 Investimento'!$E$72*((Z93+Z97)/2)","v":0},{"$f":"'2 Investimento'!$E$72*((AA93+AA97)/2)","v":0},{"$f":"'2 Investimento'!$E$72*((AB93+AB97)/2)","v":0},{"$f":"'2 Investimento'!$E$72*((AC93+AC97)/2)","v":0},{"$f":"'2 Investimento'!$E$72*((AD93+AD97)/2)","v":0},{"$f":"'2 Investimento'!$E$72*((AE93+AE97)/2)","v":0},{"$f":"'2 Investimento'!$E$72*((AF93+AF97)/2)","v":0},{"$f":"'2 Investimento'!$E$72*((AG93+AG97)/2)","v":0},{"$f":"'2 Investimento'!$E$72*((AH93+AH97)/2)","v":0},{"$f":"'2 Investimento'!$E$72*((AI93+AI97)/2)","v":0},{"$f":"'2 Investimento'!$E$72*((AJ93+AJ97)/2)","v":0},{"$f":"'2 Investimento'!$E$72*((AK93+AK97)/2)","v":0},{"$f":"'2 Investimento'!$E$72*((AL93+AL97)/2)","v":0},{"$f":"'2 Investimento'!$E$72*((AM93+AM97)/2)","v":0},{"$f":"'2 Investimento'!$E$72*((AN93+AN97)/2)","v":0},{"$f":"'2 Investimento'!$E$72*((AO93+AO97)/2)","v":0},{"$f":"'2 Investimento'!$E$72*((AP93+AP97)/2)","v":0},{"$f":"'2 Investimento'!$E$72*((AQ93+AQ97)/2)","v":0},{"$f":"'2 Investimento'!$E$72*((AR93+AR97)/2)","v":0},{"$f":"'2 Investimento'!$E$72*((AS93+AS97)/2)","v":0},{"$f":"'2 Investimento'!$E$72*((AT93+AT97)/2)","v":0},{"$f":"'2 Investimento'!$E$72*((AU93+AU97)/2)","v":0},{"$f":"'2 Investimento'!$E$72*((AV93+AV97)/2)","v":0},{"$f":"'2 Investimento'!$E$72*((AW93+AW97)/2)","v":0},{"$f":"'2 Investimento'!$E$72*((AX93+AX97)/2)","v":0},{"$f":"'2 Investimento'!$E$72*((AY93+AY97)/2)","v":0},{"$f":"'2 Investimento'!$E$72*((AZ93+AZ97)/2)","v":0},{"$f":"'2 Investimento'!$E$72*((BA93+BA97)/2)","v":0},{"$f":"'2 Investimento'!$E$72*((BB93+BB97)/2)","v":0},{"$f":"'2 Investimento'!$E$72*((BC93+BC97)/2)","v":0},{"$f":"'2 Investimento'!$E$72*((BD93+BD97)/2)","v":0},{"$f":"'2 Investimento'!$E$72*((BE93+BE97)/2)","v":0},{"$f":"'2 Investimento'!$E$72*((BF93+BF97)/2)","v":0},{"$f":"'2 Investimento'!$E$72*((BG93+BG97)/2)","v":0},{"$f":"'2 Investimento'!$E$72*((BH93+BH97)/2)","v":0},{"$f":"'2 Investimento'!$E$72*((BI93+BI97)/2)","v":0},{"$f":"'2 Investimento'!$E$72*((BJ93+BJ97)/2)","v":0},{"$f":"'2 Investimento'!$E$72*((BK93+BK97)/2)","v":0},{"$f":"'2 Investimento'!$E$72*((BL93+BL97)/2)","v":0},{"$f":"'2 Investimento'!$E$72*((BM93+BM97)/2)","v":0}]
[null,null,"Debito di Fine Periodo",null,{"$f":"E93+E94-E95","v":0},0,0,0,0,0,0,0,0,0,0,0,0,0,0,0,0,0,0,0,0,0,0,0,0,0,0,0,0,0,0,0,0,0,0,0,0,0,0,0,0,0,0,0,0,0,0,0,0,0,0,0,0,0,0,0,0,0,0,0,0]
[null,"(a)+(b)","Servizio del debito"," ",{"$f":"E95+E96","v":0},0,0,0,0,0,0,0,0,0,0,0,0,0,0,0,0,0,0,0,0,0,0,0,0,0,0,0,0,0,0,0,0,0,0,0,0,0,0,0,0,0,0,0,0,0,0,0,0,0,0,0,0,0,0,0,0,0,0,0,0]
[]
[null,null,"Ipotesi su Capitale Circolante (giorni)",null,null,null,null,null,null,null,null,null,null,null,null,null,null," ",null,null,null,null,null,null,null,null,null,null,null,null,null,null,null,null," "]
[null,null,"Incasso da clienti",30," "]
[null,null,"Canone di disponibilità",0," "]
[null,null,"Pagamento a fornitori - conto gestione",60," ",null,null,null,null,null,null,null,null,null,null,null,null,null," "]
[null,null,"Pagamento a fornitori - conto investimenti",0," "]
[null,null,"Giorni utili annui (max 365)",365]
[null,null,"Remunerazione liquidità",{"$f":"'2 Investimento'!E65","v":0}]
[]
[null,null,"Piano di ammortamento"]
[]
[null,null,"Struttura dell'ammortamento",null,null,null,null,null,null,null,null,null,null,null,null,null,null," ",null,null,null,null,null,null,null,null,null,null,null,null,null,null,null,null," "]
[null," ",{"$f":"'2 Descrizione Progetto'!C20","v":"Anno di inizio gestione"},{"$f":"'2 Descrizione Progetto'!D20","v":1},null,null," "]
[null," ",{"$f":"'2 Descrizione Progetto'!C21","v":"Anni di gestione"},{"$f":"'2 Descrizione Progetto'!D21","v":10}]
[null," ",{"$f":"'2 Descrizione Progetto'!C22","v":"Anno di fine gestione                                                                                                                    "},{"$f":"'2 Descrizione Progetto'!D22","v":10}]
[null," ","Anno di inizio ammortamento",{"$f":"'2 Descrizione Progetto'!D20","v":1}]
[null," ","Anni di ammortamento",{"$f":"'2 Descrizione Progetto'!D23-'2 Descrizione Progetto'!D20+1","v":5}]
[null," ",{"$f":"'2 Descrizione Progetto'!C23","v":"Anno di fine ammortamento"},{"$f":"'2 Descrizione Progetto'!D23","v":5}]
[null," ","aliquota annua media di ammortamento (%)",{"$f":"100/D115","v":20}]
[null," ","Valore residuo contabile",{"$f":"D25-(MIN(D115,D112)*D117/100*D119)","v":0}]
[null," ","Valore dei cespiti ",{"$f":"D25","v":1E-10}," "]
[null," ","Totale contributi pubblici",{"$f":"'2 Investimento'!E59","v":0}]
[null," ","Valore dei cespiti da ammortizzare rivalutato (netto contributi)",{"$f":"D119-D120","v":1E-10}," "]
[null," ","Quota annua media di ammortamento",{"$f":"D121/D115","v":2.0000000000000002E-11}]
[null,null," "]
[]
[null,null,"Descrizione del profilo temporale dell'ammortamento del cespite",null,{"$f":"E15","v":1},2,3,4,5,6,7,8,9,10,11,"0","0","0","0","0","0","0","0","0","0","0","0","0","0","0","0","0","0","0","0","0","0","0","0","0","0","0","0","0","0","0","0","0","0","0","0","0","0","0","0","0","0","0","0","0","0","0","0","0","0"]
[null,null,"Valore del capitale ancora da ammortizzare",null,{"$f":"E25-E29","v":1E-10},{"$f":"E126-F127+F25-F29","v":2.0000000000000001E-10},3E-10,4.0000000000000001E-10,5.0000000000000003E-10,6E-10,6.9999999999999996E-10,7.9999999999999993E-10,8.9999999999999989E-10,9.9999999999999986E-10,1.0999999999999999E-9,0,0,0,0,0,0,0,0,0,0,0,0,0,0,0,0,0,0,0,0,0,0,0,0,0,0,0,0,0,0,0,0,0,0,0,0,0,0,0,0,0,0,0,0,0,0,0,0,0,0]
[null,null,"Rata ammortamento",null,{"$f":"IF(E125>'2 Descrizione Progetto'!$D$22,0,IF(AND(E125>'2 Descrizione Progetto'!$D$19,E125<=$D$116),$D$122,0))","v":0},{"$f":"(E126)/($BL$125-F125+1)+F34","v":-1E-10},-1E-10,-1E-10,-1E-10,-1E-10,-1E-10,-9.9999999999999991E-11,-9.9999999999999991E-11,-9.9999999999999991E-11,-9.9999999999999991E-11,1.0999999999999999E-9,0,0,0,0,0,0,0,0,0,0,0,0,0,0,0,0,0,0,0,0,0,0,0,0,0,0,0,0,0,0,0,0,0,0,0,0,0,0,0,0,0,0,0,0,0,0,0,0,0,0]
[null,null,null,null,null," "]
[null,null,"Stima Valore Residuo Finale",null,null,null,null,null,null,null,null,null,null,null,null,null,null,null,null,null,null,null,null,null,null,null,null,null,null,null,null,null,null,null,null,null,null,null,null,null,null,null,null,null,null,null,null,null,null,null,null,null,null,null,null,null,null,null,null,null,null,null,null,null," "]
[]
[null,null,null,null,{"$f":"E15","v":1},2,3,4,5,6,7,8,9,10,11,"0","0","0","0","0","0","0","0","0","0","0","0","0","0","0","0","0","0","0","0","0","0","0","0","0","0","0","0","0","0","0","0","0","0","0","0","0","0","0","0","0","0","0","0","0","0","0","0","0","0"]
[null,null,{"$f":"'2 Investimento'!D78","v":"Valore residuo contabile"},{"$f":"SUM(E132:BM132)","v":0},{"$f":"IF('2 Investimento'!$E$78=\"si\",IF(E131='2 Descrizione Progetto'!$D$22,$D$118,0),0)","v":0},{"$f":"IF('2 Investimento'!$E$78=\"si\",IF(F131='2 Descrizione Progetto'!$D$22,$D$118,0),0)","v":0},{"$f":"IF('2 Investimento'!$E$78=\"si\",IF(G131='2 Descrizione Progetto'!$D$22,$D$118,0),0)","v":0},{"$f":"IF('2 Investimento'!$E$78=\"si\",IF(H131='2 Descrizione Progetto'!$D$22,$D$118,0),0)","v":0},{"$f":"IF('2 Investimento'!$E$78=\"si\",IF(I131='2 Descrizione Progetto'!$D$22,$D$118,0),0)","v":0},{"$f":"IF('2 Investimento'!$E$78=\"si\",IF(J131='2 Descrizione Progetto'!$D$22,$D$118,0),0)","v":0},{"$f":"IF('2 Investimento'!$E$78=\"si\",IF(K131='2 Descrizione Progetto'!$D$22,$D$118,0),0)","v":0},{"$f":"IF('2 Investimento'!$E$78=\"si\",IF(L131='2 Descrizione Progetto'!$D$22,$D$118,0),0)","v":0},{"$f":"IF('2 Investimento'!$E$78=\"si\",IF(M131='2 Descrizione Progetto'!$D$22,$D$118,0),0)","v":0},{"$f":"IF('2 Investimento'!$E$78=\"si\",IF(N131='2 Descrizione Progetto'!$D$22,$D$118,0),0)","v":0},{"$f":"IF('2 Investimento'!$E$78=\"si\",IF(O131='2 Descrizione Progetto'!$D$22,$D$118,0),0)","v":0},{"$f":"IF('2 Investimento'!$E$78=\"si\",IF(P131='2 Descrizione Progetto'!$D$22,$D$118,0),0)","v":0},{"$f":"IF('2 Investimento'!$E$78=\"si\",IF(Q131='2 Descrizione Progetto'!$D$22,$D$118,0),0)","v":0},{"$f":"IF('2 Investimento'!$E$78=\"si\",IF(R131='2 Descrizione Progetto'!$D$22,$D$118,0),0)","v":0},{"$f":"IF('2 Investimento'!$E$78=\"si\",IF(S131='2 Descrizione Progetto'!$D$22,$D$118,0),0)","v":0},{"$f":"IF('2 Investimento'!$E$78=\"si\",IF(T131='2 Descrizione Progetto'!$D$22,$D$118,0),0)","v":0},{"$f":"IF('2 Investimento'!$E$78=\"si\",IF(U131='2 Descrizione Progetto'!$D$22,$D$118,0),0)","v":0},{"$f":"IF('2 Investimento'!$E$78=\"si\",IF(V131='2 Descrizione Progetto'!$D$22,$D$118,0),0)","v":0},{"$f":"IF('2 Investimento'!$E$78=\"si\",IF(W131='2 Descrizione Progetto'!$D$22,$D$118,0),0)","v":0},{"$f":"IF('2 Investimento'!$E$78=\"si\",IF(X131='2 Descrizione Progetto'!$D$22,$D$118,0),0)","v":0},{"$f":"IF('2 Investimento'!$E$78=\"si\",IF(Y131='2 Descrizione Progetto'!$D$22,$D$118,0),0)","v":0},{"$f":"IF('2 Investimento'!$E$78=\"si\",IF(Z131='2 Descrizione Progetto'!$D$22,$D$118,0),0)","v":0},{"$f":"IF('2 Investimento'!$E$78=\"si\",IF(AA131='2 Descrizione Progetto'!$D$22,$D$118,0),0)","v":0},{"$f":"IF('2 Investimento'!$E$78=\"si\",IF(AB131='2 Descrizione Progetto'!$D$22,$D$118,0),0)","v":0},{"$f":"IF('2 Investimento'!$E$78=\"si\",IF(AC131='2 Descrizione Progetto'!$D$22,$D$118,0),0)","v":0},{"$f":"IF('2 Investimento'!$E$78=\"si\",IF(AD131='2 Descrizione Progetto'!$D$22,$D$118,0),0)","v":0},{"$f":"IF('2 Investimento'!$E$78=\"si\",IF(AE131='2 Descrizione Progetto'!$D$22,$D$118,0),0)","v":0},{"$f":"IF('2 Investimento'!$E$78=\"si\",IF(AF131='2 Descrizione Progetto'!$D$22,$D$118,0),0)","v":0},{"$f":"IF('2 Investimento'!$E$78=\"si\",IF(AG131='2 Descrizione Progetto'!$D$22,$D$118,0),0)","v":0},{"$f":"IF('2 Investimento'!$E$78=\"si\",IF(AH131='2 Descrizione Progetto'!$D$22,$D$118,0),0)","v":0},{"$f":"IF('2 Investimento'!$E$78=\"si\",IF(AI131='2 Descrizione Progetto'!$D$22,$D$118,0),0)","v":0},{"$f":"IF('2 Investimento'!$E$78=\"si\",IF(AJ131='2 Descrizione Progetto'!$D$22,$D$118,0),0)","v":0},{"$f":"IF('2 Investimento'!$E$78=\"si\",IF(AK131='2 Descrizione Progetto'!$D$22,$D$118,0),0)","v":0},{"$f":"IF('2 Investimento'!$E$78=\"si\",IF(AL131='2 Descrizione Progetto'!$D$22,$D$118,0),0)","v":0},{"$f":"IF('2 Investimento'!$E$78=\"si\",IF(AM131='2 Descrizione Progetto'!$D$22,$D$118,0),0)","v":0},{"$f":"IF('2 Investimento'!$E$78=\"si\",IF(AN131='2 Descrizione Progetto'!$D$22,$D$118,0),0)","v":0},{"$f":"IF('2 Investimento'!$E$78=\"si\",IF(AO131='2 Descrizione Progetto'!$D$22,$D$118,0),0)","v":0},{"$f":"IF('2 Investimento'!$E$78=\"si\",IF(AP131='2 Descrizione Progetto'!$D$22,$D$118,0),0)","v":0},{"$f":"IF('2 Investimento'!$E$78=\"si\",IF(AQ131='2 Descrizione Progetto'!$D$22,$D$118,0),0)","v":0},{"$f":"IF('2 Investimento'!$E$78=\"si\",IF(AR131='2 Descrizione Progetto'!$D$22,$D$118,0),0)","v":0},{"$f":"IF('2 Investimento'!$E$78=\"si\",IF(AS131='2 Descrizione Progetto'!$D$22,$D$118,0),0)","v":0},{"$f":"IF('2 Investimento'!$E$78=\"si\",IF(AT131='2 Descrizione Progetto'!$D$22,$D$118,0),0)","v":0},{"$f":"IF('2 Investimento'!$E$78=\"si\",IF(AU131='2 Descrizione Progetto'!$D$22,$D$118,0),0)","v":0},{"$f":"IF('2 Investimento'!$E$78=\"si\",IF(AV131='2 Descrizione Progetto'!$D$22,$D$118,0),0)","v":0},{"$f":"IF('2 Investimento'!$E$78=\"si\",IF(AW131='2 Descrizione Progetto'!$D$22,$D$118,0),0)","v":0},{"$f":"IF('2 Investimento'!$E$78=\"si\",IF(AX131='2 Descrizione Progetto'!$D$22,$D$118,0),0)","v":0},{"$f":"IF('2 Investimento'!$E$78=\"si\",IF(AY131='2 Descrizione Progetto'!$D$22,$D$118,0),0)","v":0},{"$f":"IF('2 Investimento'!$E$78=\"si\",IF(AZ131='2 Descrizione Progetto'!$D$22,$D$118,0),0)","v":0},{"$f":"IF('2 Investimento'!$E$78=\"si\",IF(BA131='2 Descrizione Progetto'!$D$22,$D$118,0),0)","v":0},{"$f":"IF('2 Investimento'!$E$78=\"si\",IF(BB131='2 Descrizione Progetto'!$D$22,$D$118,0),0)","v":0},{"$f":"IF('2 Investimento'!$E$78=\"si\",IF(BC131='2 Descrizione Progetto'!$D$22,$D$118,0),0)","v":0},{"$f":"IF('2 Investimento'!$E$78=\"si\",IF(BD131='2 Descrizione Progetto'!$D$22,$D$118,0),0)","v":0},{"$f":"IF('2 Investimento'!$E$78=\"si\",IF(BE131='2 Descrizione Progetto'!$D$22,$D$118,0),0)","v":0},{"$f":"IF('2 Investimento'!$E$78=\"si\",IF(BF131='2 Descrizione Progetto'!$D$22,$D$118,0),0)","v":0},{"$f":"IF('2 Investimento'!$E$78=\"si\",IF(BG131='2 Descrizione Progetto'!$D$22,$D$118,0),0)","v":0},{"$f":"IF('2 Investimento'!$E$78=\"si\",IF(BH131='2 Descrizione Progetto'!$D$22,$D$118,0),0)","v":0},{"$f":"IF('2 Investimento'!$E$78=\"si\",IF(BI131='2 Descrizione Progetto'!$D$22,$D$118,0),0)","v":0},{"$f":"IF('2 Investimento'!$E$78=\"si\",IF(BJ131='2 Descrizione Progetto'!$D$22,$D$118,0),0)","v":0},{"$f":"IF('2 Investimento'!$E$78=\"si\",IF(BK131='2 Descrizione Progetto'!$D$22,$D$118,0),0)","v":0},{"$f":"IF('2 Investimento'!$E$78=\"si\",IF(BL131='2 Descrizione Progetto'!$D$22,$D$118,0),0)","v":0},{"$f":"IF('2 Investimento'!$E$78=\"si\",IF(BM131='2 Descrizione Progetto'!$D$22,$D$118,0),0)","v":0}]
[null,null,{"$f":"'2 Investimento'!D79","v":"Valore residuo finanziario (CCN ultimo anno esercizio)"},0,{"$f":"-IF('2 Investimento'!$E$79=\"si\",IF(E131='2 Descrizione Progetto'!$D$22,E77,0),0)","v":0},{"$f":"-IF('2 Investimento'!$E$79=\"si\",IF(F131='2 Descrizione Progetto'!$D$22,F77,0),0)","v":0},{"$f":"-IF('2 Investimento'!$E$79=\"si\",IF(G131='2 Descrizione Progetto'!$D$22,G77,0),0)","v":0},{"$f":"-IF('2 Investimento'!$E$79=\"si\",IF(H131='2 Descrizione Progetto'!$D$22,H77,0),0)","v":0},{"$f":"-IF('2 Investimento'!$E$79=\"si\",IF(I131='2 Descrizione Progetto'!$D$22,I77,0),0)","v":0},{"$f":"-IF('2 Investimento'!$E$79=\"si\",IF(J131='2 Descrizione Progetto'!$D$22,J77,0),0)","v":0},{"$f":"-IF('2 Investimento'!$E$79=\"si\",IF(K131='2 Descrizione Progetto'!$D$22,K77,0),0)","v":0},{"$f":"-IF('2 Investimento'!$E$79=\"si\",IF(L131='2 Descrizione Progetto'!$D$22,L77,0),0)","v":0},{"$f":"-IF('2 Investimento'!$E$79=\"si\",IF(M131='2 Descrizione Progetto'!$D$22,M77,0),0)","v":0},{"$f":"-IF('2 Investimento'!$E$79=\"si\",IF(N131='2 Descrizione Progetto'!$D$22,N77,0),0)","v":0},{"$f":"-IF('2 Investimento'!$E$79=\"si\",IF(O131='2 Descrizione Progetto'!$D$22,O77,0),0)","v":0},{"$f":"-IF('2 Investimento'!$E$79=\"si\",IF(P131='2 Descrizione Progetto'!$D$22,P77,0),0)","v":0},{"$f":"-IF('2 Investimento'!$E$79=\"si\",IF(Q131='2 Descrizione Progetto'!$D$22,Q77,0),0)","v":0},{"$f":"-IF('2 Investimento'!$E$79=\"si\",IF(R131='2 Descrizione Progetto'!$D$22,R77,0),0)","v":0},{"$f":"-IF('2 Investimento'!$E$79=\"si\",IF(S131='2 Descrizione Progetto'!$D$22,S77,0),0)","v":0},{"$f":"-IF('2 Investimento'!$E$79=\"si\",IF(T131='2 Descrizione Progetto'!$D$22,T77,0),0)","v":0},{"$f":"-IF('2 Investimento'!$E$79=\"si\",IF(U131='2 Descrizione Progetto'!$D$22,U77,0),0)","v":0},{"$f":"-IF('2 Investimento'!$E$79=\"si\",IF(V131='2 Descrizione Progetto'!$D$22,V77,0),0)","v":0},{"$f":"-IF('2 Investimento'!$E$79=\"si\",IF(W131='2 Descrizione Progetto'!$D$22,W77,0),0)","v":0},{"$f":"-IF('2 Investimento'!$E$79=\"si\",IF(X131='2 Descrizione Progetto'!$D$22,X77,0),0)","v":0},{"$f":"-IF('2 Investimento'!$E$79=\"si\",IF(Y131='2 Descrizione Progetto'!$D$22,Y77,0),0)","v":0},{"$f":"-IF('2 Investimento'!$E$79=\"si\",IF(Z131='2 Descrizione Progetto'!$D$22,Z77,0),0)","v":0},{"$f":"-IF('2 Investimento'!$E$79=\"si\",IF(AA131='2 Descrizione Progetto'!$D$22,AA77,0),0)","v":0},{"$f":"-IF('2 Investimento'!$E$79=\"si\",IF(AB131='2 Descrizione Progetto'!$D$22,AB77,0),0)","v":0},{"$f":"-IF('2 Investimento'!$E$79=\"si\",IF(AC131='2 Descrizione Progetto'!$D$22,AC77,0),0)","v":0},{"$f":"-IF('2 Investimento'!$E$79=\"si\",IF(AD131='2 Descrizione Progetto'!$D$22,AD77,0),0)","v":0},{"$f":"-IF('2 Investimento'!$E$79=\"si\",IF(AE131='2 Descrizione Progetto'!$D$22,AE77,0),0)","v":0},{"$f":"-IF('2 Investimento'!$E$79=\"si\",IF(AF131='2 Descrizione Progetto'!$D$22,AF77,0),0)","v":0},{"$f":"-IF('2 Investimento'!$E$79=\"si\",IF(AG131='2 Descrizione Progetto'!$D$22,AG77,0),0)","v":0},{"$f":"-IF('2 Investimento'!$E$79=\"si\",IF(AH131='2 Descrizione Progetto'!$D$22,AH77,0),0)","v":0},{"$f":"-IF('2 Investimento'!$E$79=\"si\",IF(AI131='2 Descrizione Progetto'!$D$22,AI77,0),0)","v":0},{"$f":"-IF('2 Investimento'!$E$79=\"si\",IF(AJ131='2 Descrizione Progetto'!$D$22,AJ77,0),0)","v":0},{"$f":"-IF('2 Investimento'!$E$79=\"si\",IF(AK131='2 Descrizione Progetto'!$D$22,AK77,0),0)","v":0},{"$f":"-IF('2 Investimento'!$E$79=\"si\",IF(AL131='2 Descrizione Progetto'!$D$22,AL77,0),0)","v":0},{"$f":"-IF('2 Investimento'!$E$79=\"si\",IF(AM131='2 Descrizione Progetto'!$D$22,AM77,0),0)","v":0},{"$f":"-IF('2 Investimento'!$E$79=\"si\",IF(AN131='2 Descrizione Progetto'!$D$22,AN77,0),0)","v":0},{"$f":"-IF('2 Investimento'!$E$79=\"si\",IF(AO131='2 Descrizione Progetto'!$D$22,AO77,0),0)","v":0},{"$f":"-IF('2 Investimento'!$E$79=\"si\",IF(AP131='2 Descrizione Progetto'!$D$22,AP77,0),0)","v":0},{"$f":"-IF('2 Investimento'!$E$79=\"si\",IF(AQ131='2 Descrizione Progetto'!$D$22,AQ77,0),0)","v":0},{"$f":"-IF('2 Investimento'!$E$79=\"si\",IF(AR131='2 Descrizione Progetto'!$D$22,AR77,0),0)","v":0},{"$f":"-IF('2 Investimento'!$E$79=\"si\",IF(AS131='2 Descrizione Progetto'!$D$22,AS77,0),0)","v":0},{"$f":"-IF('2 Investimento'!$E$79=\"si\",IF(AT131='2 Descrizione Progetto'!$D$22,AT77,0),0)","v":0},{"$f":"-IF('2 Investimento'!$E$79=\"si\",IF(AU131='2 Descrizione Progetto'!$D$22,AU77,0),0)","v":0},{"$f":"-IF('2 Investimento'!$E$79=\"si\",IF(AV131='2 Descrizione Progetto'!$D$22,AV77,0),0)","v":0},{"$f":"-IF('2 Investimento'!$E$79=\"si\",IF(AW131='2 Descrizione Progetto'!$D$22,AW77,0),0)","v":0},{"$f":"-IF('2 Investimento'!$E$79=\"si\",IF(AX131='2 Descrizione Progetto'!$D$22,AX77,0),0)","v":0},{"$f":"-IF('2 Investimento'!$E$79=\"si\",IF(AY131='2 Descrizione Progetto'!$D$22,AY77,0),0)","v":0},{"$f":"-IF('2 Investimento'!$E$79=\"si\",IF(AZ131='2 Descrizione Progetto'!$D$22,AZ77,0),0)","v":0},{"$f":"-IF('2 Investimento'!$E$79=\"si\",IF(BA131='2 Descrizione Progetto'!$D$22,BA77,0),0)","v":0},{"$f":"-IF('2 Investimento'!$E$79=\"si\",IF(BB131='2 Descrizione Progetto'!$D$22,BB77,0),0)","v":0},{"$f":"-IF('2 Investimento'!$E$79=\"si\",IF(BC131='2 Descrizione Progetto'!$D$22,BC77,0),0)","v":0},{"$f":"-IF('2 Investimento'!$E$79=\"si\",IF(BD131='2 Descrizione Progetto'!$D$22,BD77,0),0)","v":0},{"$f":"-IF('2 Investimento'!$E$79=\"si\",IF(BE131='2 Descrizione Progetto'!$D$22,BE77,0),0)","v":0},{"$f":"-IF('2 Investimento'!$E$79=\"si\",IF(BF131='2 Descrizione Progetto'!$D$22,BF77,0),0)","v":0},{"$f":"-IF('2 Investimento'!$E$79=\"si\",IF(BG131='2 Descrizione Progetto'!$D$22,BG77,0),0)","v":0},{"$f":"-IF('2 Investimento'!$E$79=\"si\",IF(BH131='2 Descrizione Progetto'!$D$22,BH77,0),0)","v":0},{"$f":"-IF('2 Investimento'!$E$79=\"si\",IF(BI131='2 Descrizione Progetto'!$D$22,BI77,0),0)","v":0},{"$f":"-IF('2 Investimento'!$E$79=\"si\",IF(BJ131='2 Descrizione Progetto'!$D$22,BJ77,0),0)","v":0},{"$f":"-IF('2 Investimento'!$E$79=\"si\",IF(BK131='2 Descrizione Progetto'!$D$22,BK77,0),0)","v":0},{"$f":"-IF('2 Investimento'!$E$79=\"si\",IF(BL131='2 Descrizione Progetto'!$D$22,BL77,0),0)","v":0},{"$f":"-IF('2 Investimento'!$E$79=\"si\",IF(BM131='2 Descrizione Progetto'!$D$22,BM77,0),0)","v":0}]
[null,null,{"$f":"'2 Investimento'!D80","v":"Valore residuo di avviamento"},0,{"$f":"IF('2 Investimento'!$E$80=\"si\",IF(E131='2 Descrizione Progetto'!$D$22,$D$158,0),0)","v":0},{"$f":"IF('2 Investimento'!$E$80=\"si\",IF(F131='2 Descrizione Progetto'!$D$22,$D$158,0),0)","v":0},{"$f":"IF('2 Investimento'!$E$80=\"si\",IF(G131='2 Descrizione Progetto'!$D$22,$D$158,0),0)","v":0},{"$f":"IF('2 Investimento'!$E$80=\"si\",IF(H131='2 Descrizione Progetto'!$D$22,$D$158,0),0)","v":0},{"$f":"IF('2 Investimento'!$E$80=\"si\",IF(I131='2 Descrizione Progetto'!$D$22,$D$158,0),0)","v":0},{"$f":"IF('2 Investimento'!$E$80=\"si\",IF(J131='2 Descrizione Progetto'!$D$22,$D$158,0),0)","v":0},{"$f":"IF('2 Investimento'!$E$80=\"si\",IF(K131='2 Descrizione Progetto'!$D$22,$D$158,0),0)","v":0},{"$f":"IF('2 Investimento'!$E$80=\"si\",IF(L131='2 Descrizione Progetto'!$D$22,$D$158,0),0)","v":0},{"$f":"IF('2 Investimento'!$E$80=\"si\",IF(M131='2 Descrizione Progetto'!$D$22,$D$158,0),0)","v":0},{"$f":"IF('2 Investimento'!$E$80=\"si\",IF(N131='2 Descrizione Progetto'!$D$22,$D$158,0),0)","v":0},{"$f":"IF('2 Investimento'!$E$80=\"si\",IF(O131='2 Descrizione Progetto'!$D$22,$D$158,0),0)","v":0},{"$f":"IF('2 Investimento'!$E$80=\"si\",IF(P131='2 Descrizione Progetto'!$D$22,$D$158,0),0)","v":0},{"$f":"IF('2 Investimento'!$E$80=\"si\",IF(Q131='2 Descrizione Progetto'!$D$22,$D$158,0),0)","v":0},{"$f":"IF('2 Investimento'!$E$80=\"si\",IF(R131='2 Descrizione Progetto'!$D$22,$D$158,0),0)","v":0},{"$f":"IF('2 Investimento'!$E$80=\"si\",IF(S131='2 Descrizione Progetto'!$D$22,$D$158,0),0)","v":0},{"$f":"IF('2 Investimento'!$E$80=\"si\",IF(T131='2 Descrizione Progetto'!$D$22,$D$158,0),0)","v":0},{"$f":"IF('2 Investimento'!$E$80=\"si\",IF(U131='2 Descrizione Progetto'!$D$22,$D$158,0),0)","v":0},{"$f":"IF('2 Investimento'!$E$80=\"si\",IF(V131='2 Descrizione Progetto'!$D$22,$D$158,0),0)","v":0},{"$f":"IF('2 Investimento'!$E$80=\"si\",IF(W131='2 Descrizione Progetto'!$D$22,$D$158,0),0)","v":0},{"$f":"IF('2 Investimento'!$E$80=\"si\",IF(X131='2 Descrizione Progetto'!$D$22,$D$158,0),0)","v":0},{"$f":"IF('2 Investimento'!$E$80=\"si\",IF(Y131='2 Descrizione Progetto'!$D$22,$D$158,0),0)","v":0},{"$f":"IF('2 Investimento'!$E$80=\"si\",IF(Z131='2 Descrizione Progetto'!$D$22,$D$158,0),0)","v":0},{"$f":"IF('2 Investimento'!$E$80=\"si\",IF(AA131='2 Descrizione Progetto'!$D$22,$D$158,0),0)","v":0},{"$f":"IF('2 Investimento'!$E$80=\"si\",IF(AB131='2 Descrizione Progetto'!$D$22,$D$158,0),0)","v":0},{"$f":"IF('2 Investimento'!$E$80=\"si\",IF(AC131='2 Descrizione Progetto'!$D$22,$D$158,0),0)","v":0},{"$f":"IF('2 Investimento'!$E$80=\"si\",IF(AD131='2 Descrizione Progetto'!$D$22,$D$158,0),0)","v":0},{"$f":"IF('2 Investimento'!$E$80=\"si\",IF(AE131='2 Descrizione Progetto'!$D$22,$D$158,0),0)","v":0},{"$f":"IF('2 Investimento'!$E$80=\"si\",IF(AF131='2 Descrizione Progetto'!$D$22,$D$158,0),0)","v":0},{"$f":"IF('2 Investimento'!$E$80=\"si\",IF(AG131='2 Descrizione Progetto'!$D$22,$D$158,0),0)","v":0},{"$f":"IF('2 Investimento'!$E$80=\"si\",IF(AH131='2 Descrizione Progetto'!$D$22,$D$158,0),0)","v":0},{"$f":"IF('2 Investimento'!$E$80=\"si\",IF(AI131='2 Descrizione Progetto'!$D$22,$D$158,0),0)","v":0},{"$f":"IF('2 Investimento'!$E$80=\"si\",IF(AJ131='2 Descrizione Progetto'!$D$22,$D$158,0),0)","v":0},{"$f":"IF('2 Investimento'!$E$80=\"si\",IF(AK131='2 Descrizione Progetto'!$D$22,$D$158,0),0)","v":0},{"$f":"IF('2 Investimento'!$E$80=\"si\",IF(AL131='2 Descrizione Progetto'!$D$22,$D$158,0),0)","v":0},{"$f":"IF('2 Investimento'!$E$80=\"si\",IF(AM131='2 Descrizione Progetto'!$D$22,$D$158,0),0)","v":0},{"$f":"IF('2 Investimento'!$E$80=\"si\",IF(AN131='2 Descrizione Progetto'!$D$22,$D$158,0),0)","v":0},{"$f":"IF('2 Investimento'!$E$80=\"si\",IF(AO131='2 Descrizione Progetto'!$D$22,$D$158,0),0)","v":0},{"$f":"IF('2 Investimento'!$E$80=\"si\",IF(AP131='2 Descrizione Progetto'!$D$22,$D$158,0),0)","v":0},{"$f":"IF('2 Investimento'!$E$80=\"si\",IF(AQ131='2 Descrizione Progetto'!$D$22,$D$158,0),0)","v":0},{"$f":"IF('2 Investimento'!$E$80=\"si\",IF(AR131='2 Descrizione Progetto'!$D$22,$D$158,0),0)","v":0},{"$f":"IF('2 Investimento'!$E$80=\"si\",IF(AS131='2 Descrizione Progetto'!$D$22,$D$158,0),0)","v":0},{"$f":"IF('2 Investimento'!$E$80=\"si\",IF(AT131='2 Descrizione Progetto'!$D$22,$D$158,0),0)","v":0},{"$f":"IF('2 Investimento'!$E$80=\"si\",IF(AU131='2 Descrizione Progetto'!$D$22,$D$158,0),0)","v":0},{"$f":"IF('2 Investimento'!$E$80=\"si\",IF(AV131='2 Descrizione Progetto'!$D$22,$D$158,0),0)","v":0},{"$f":"IF('2 Investimento'!$E$80=\"si\",IF(AW131='2 Descrizione Progetto'!$D$22,$D$158,0),0)","v":0},{"$f":"IF('2 Investimento'!$E$80=\"si\",IF(AX131='2 Descrizione Progetto'!$D$22,$D$158,0),0)","v":0},{"$f":"IF('2 Investimento'!$E$80=\"si\",IF(AY131='2 Descrizione Progetto'!$D$22,$D$158,0),0)","v":0},{"$f":"IF('2 Investimento'!$E$80=\"si\",IF(AZ131='2 Descrizione Progetto'!$D$22,$D$158,0),0)","v":0},{"$f":"IF('2 Investimento'!$E$80=\"si\",IF(BA131='2 Descrizione Progetto'!$D$22,$D$158,0),0)","v":0},{"$f":"IF('2 Investimento'!$E$80=\"si\",IF(BB131='2 Descrizione Progetto'!$D$22,$D$158,0),0)","v":0},{"$f":"IF('2 Investimento'!$E$80=\"si\",IF(BC131='2 Descrizione Progetto'!$D$22,$D$158,0),0)","v":0},{"$f":"IF('2 Investimento'!$E$80=\"si\",IF(BD131='2 Descrizione Progetto'!$D$22,$D$158,0),0)","v":0},{"$f":"IF('2 Investimento'!$E$80=\"si\",IF(BE131='2 Descrizione Progetto'!$D$22,$D$158,0),0)","v":0},{"$f":"IF('2 Investimento'!$E$80=\"si\",IF(BF131='2 Descrizione Progetto'!$D$22,$D$158,0),0)","v":0},{"$f":"IF('2 Investimento'!$E$80=\"si\",IF(BG131='2 Descrizione Progetto'!$D$22,$D$158,0),0)","v":0},{"$f":"IF('2 Investimento'!$E$80=\"si\",IF(BH131='2 Descrizione Progetto'!$D$22,$D$158,0),0)","v":0},{"$f":"IF('2 Investimento'!$E$80=\"si\",IF(BI131='2 Descrizione Progetto'!$D$22,$D$158,0),0)","v":0},{"$f":"IF('2 Investimento'!$E$80=\"si\",IF(BJ131='2 Descrizione Progetto'!$D$22,$D$158,0),0)","v":0},{"$f":"IF('2 Investimento'!$E$80=\"si\",IF(BK131='2 Descrizione Progetto'!$D$22,$D$158,0),0)","v":0},{"$f":"IF('2 Investimento'!$E$80=\"si\",IF(BL131='2 Descrizione Progetto'!$D$22,$D$158,0),0)","v":0},{"$f":"IF('2 Investimento'!$E$80=\"si\",IF(BM131='2 Descrizione Progetto'!$D$22,$D$158,0),0)","v":0}]
[null,null,"Valore residuo finale",{"$f":"+D132+D133+D134","v":0},{"$f":"SUM(E132:E134)","v":0},0,0,0,0,0,0,0,0,0,0,0,0,0,0,0,0,0,0,0,0,0,0,0,0,0,0,0,0,0,0,0,0,0,0,0,0,0,0,0,0,0,0,0,0,0,0,0,0,0,0,0,0,0,0,0,0,0,0,0,0]
[null,null,"Valore residuo finale attualizzato",{"$f":"NPV('6 Rendiconto Finanz'!D41,E135:BM135)","v":0}]
[null,null,null,null,null," "]
[null,"22a","RENDIMENTO ATTESO DAGLI INVESTITORI PER EQUITY (Ke)",0,"Il rendimento del capitale di rischio (Ke) esprime il tasso medio richiesto dagli azionisti per investire in un determinato progetto a copertura del rischio finanziario e del rischio di business. Tra le diverse metodologie applicabili nella determinazione del costo del capitale di rischio si è fatto riferimento (in linea di massima) al modello denominato Capital Asset Pricing Model (CAPM). Il modello spiega il rendimento di una attività finanziaria in funzione del suo rischio riconoscendo un prezzo più alto in termini di rendimento alle attività che sono soggette ad un rischio maggiore. Il rendimento del capitale di rischio è così calcolato: Ke= rf + ERP*Blevered  - dove: rf= rendimento dei titoli a rischio nullo; ERP= è l’Equity Risk Premium (premio per il rischio di mercato) e risulta pari alla differenza tra il rendimento atteso del mercato azionario (cioè il rendimento atteso per il progetto specifico) e il tasso privo di rischio e rappresenta il premio mediamente richiesto dai portatori di capitale di rischio; Blevered= detto anche Risk Index esprime sia il rischio finanziario che il rischio operativo sostenuto investendo in un determinato progetto.",null,null,null,null,null,null,null,null,null,"Il rendimento del capitale di rischio (Ke) esprime il tasso medio richiesto dagli azionisti per investire in un determinato progetto a copertura del rischio finanziario e del rischio di business. Tra le diverse metodologie applicabili nella determinazione del costo del capitale di rischio si è fatto riferimento (in linea di massima) al modello denominato Capital Asset Pricing Model (CAPM). Il modello spiega il rendimento di una attività finanziaria in funzione del suo rischio riconoscendo un prezzo più alto in termini di rendimento alle attività che sono soggette ad un rischio maggiore. Il rendimento del capitale di rischio è così calcolato: Ke= rf + ERP*Blevered  - dove: rf= rendimento dei titoli a rischio nullo; ERP= è l’Equity Risk Premium (premio per il rischio di mercato) e risulta pari alla differenza tra il rendimento atteso del mercato azionario (cioè il rendimento atteso per il progetto specifico) e il tasso privo di rischio e rappresenta il premio mediamente richiesto dai portatori di capitale di rischio; Blevered= detto anche Risk Index esprime sia il rischio finanziario che il rischio operativo sostenuto investendo in un determinato progetto.",null,null,null,null,null,null,null,null,null,"Il rendimento del capitale di rischio (Ke) esprime il tasso medio richiesto dagli azionisti per investire in un determinato progetto a copertura del rischio finanziario e del rischio di business. Tra le diverse metodologie applicabili nella determinazione del costo del capitale di rischio si è fatto riferimento (in linea di massima) al modello denominato Capital Asset Pricing Model (CAPM). Il modello spiega il rendimento di una attività finanziaria in funzione del suo rischio riconoscendo un prezzo più alto in termini di rendimento alle attività che sono soggette ad un rischio maggiore. Il rendimento del capitale di rischio è così calcolato: Ke= rf + ERP*Blevered  - dove: rf= rendimento dei titoli a rischio nullo; ERP= è l’Equity Risk Premium (premio per il rischio di mercato) e risulta pari alla differenza tra il rendimento atteso del mercato azionario (cioè il rendimento atteso per il progetto specifico) e il tasso privo di rischio e rappresenta il premio mediamente richiesto dai portatori di capitale di rischio; Blevered= detto anche Risk Index esprime sia il rischio finanziario che il rischio operativo sostenuto investendo in un determinato progetto.",null,null,null,null,null,null,null,null,null,"Il rendimento del capitale di rischio (Ke) esprime il tasso medio richiesto dagli azionisti per investire in un determinato progetto a copertura del rischio finanziario e del rischio di business. Tra le diverse metodologie applicabili nella determinazione del costo del capitale di rischio si è fatto riferimento (in linea di massima) al modello denominato Capital Asset Pricing Model (CAPM). Il modello spiega il rendimento di una attività finanziaria in funzione del suo rischio riconoscendo un prezzo più alto in termini di rendimento alle attività che sono soggette ad un rischio maggiore. Il rendimento del capitale di rischio è così calcolato: Ke= rf + ERP*Blevered  - dove: rf= rendimento dei titoli a rischio nullo; ERP= è l’Equity Risk Premium (premio per il rischio di mercato) e risulta pari alla differenza tra il rendimento atteso del mercato azionario (cioè il rendimento atteso per il progetto specifico) e il tasso privo di rischio e rappresenta il premio mediamente richiesto dai portatori di capitale di rischio; Blevered= detto anche Risk Index esprime sia il rischio finanziario che il rischio operativo sostenuto investendo in un determinato progetto.",null,null,null,null,null,null,null,null,null,"Il rendimento del capitale di rischio (Ke) esprime il tasso medio richiesto dagli azionisti per investire in un determinato progetto a copertura del rischio finanziario e del rischio di business. Tra le diverse metodologie applicabili nella determinazione del costo del capitale di rischio si è fatto riferimento (in linea di massima) al modello denominato Capital Asset Pricing Model (CAPM). Il modello spiega il rendimento di una attività finanziaria in funzione del suo rischio riconoscendo un prezzo più alto in termini di rendimento alle attività che sono soggette ad un rischio maggiore. Il rendimento del capitale di rischio è così calcolato: Ke= rf + ERP*Blevered  - dove: rf= rendimento dei titoli a rischio nullo; ERP= è l’Equity Risk Premium (premio per il rischio di mercato) e risulta pari alla differenza tra il rendimento atteso del mercato azionario (cioè il rendimento atteso per il progetto specifico) e il tasso privo di rischio e rappresenta il premio mediamente richiesto dai portatori di capitale di rischio; Blevered= detto anche Risk Index esprime sia il rischio finanziario che il rischio operativo sostenuto investendo in un determinato progetto.",null,null,null,null,null,null,null,null,null,"Il rendimento del capitale di rischio (Ke) esprime il tasso medio richiesto dagli azionisti per investire in un determinato progetto a copertura del rischio finanziario e del rischio di business. Tra le diverse metodologie applicabili nella determinazione del costo del capitale di rischio si è fatto riferimento (in linea di massima) al modello denominato Capital Asset Pricing Model (CAPM). Il modello spiega il rendimento di una attività finanziaria in funzione del suo rischio riconoscendo un prezzo più alto in termini di rendimento alle attività che sono soggette ad un rischio maggiore. Il rendimento del capitale di rischio è così calcolato: Ke= rf + ERP*Blevered  - dove: rf= rendimento dei titoli a rischio nullo; ERP= è l’Equity Risk Premium (premio per il rischio di mercato) e risulta pari alla differenza tra il rendimento atteso del mercato azionario (cioè il rendimento atteso per il progetto specifico) e il tasso privo di rischio e rappresenta il premio mediamente richiesto dai portatori di capitale di rischio; Blevered= detto anche Risk Index esprime sia il rischio finanziario che il rischio operativo sostenuto investendo in un determinato progetto."]
[null,null,null," "]
[]
[]
[null,null,"Calcolo del valore residuo di avviamento",null,{"$f":"E15","v":1},2,3,4,5,6,7,8,9,10,11,"0","0","0","0","0","0","0","0","0","0","0","0","0","0","0","0","0","0","0","0","0","0","0","0","0","0","0","0","0","0","0","0","0","0","0","0","0","0","0","0","0","0","0","0","0","0","0","0","0","0"]
[null,null,"Richiamo Cash Flow Operativo Netto ante imposte",null,{"$f":"'6 Rendiconto Finanz'!E15","v":-29370.679999999978},{"$f":"'6 Rendiconto Finanz'!F15","v":4719.866399999999},{"$f":"'6 Rendiconto Finanz'!G15","v":46139.992127999991},{"$f":"'6 Rendiconto Finanz'!H15","v":47062.791970560036},{"$f":"'6 Rendiconto Finanz'!I15","v":48004.047809971169},{"$f":"'6 Rendiconto Finanz'!J15","v":48964.128766170586},{"$f":"'6 Rendiconto Finanz'!K15","v":49943.411341494058},{"$f":"'6 Rendiconto Finanz'!L15","v":50942.279568323953},{"$f":"'6 Rendiconto Finanz'!M15","v":51961.125159690448},{"$f":"'6 Rendiconto Finanz'!N15","v":53000.347662884211},{"$f":"'6 Rendiconto Finanz'!O15","v":0},{"$f":"'6 Rendiconto Finanz'!P15","v":0},{"$f":"'6 Rendiconto Finanz'!Q15","v":0},{"$f":"'6 Rendiconto Finanz'!R15","v":0},{"$f":"'6 Rendiconto Finanz'!S15","v":0},{"$f":"'6 Rendiconto Finanz'!T15","v":0},{"$f":"'6 Rendiconto Finanz'!U15","v":0},{"$f":"'6 Rendiconto Finanz'!V15","v":0},{"$f":"'6 Rendiconto Finanz'!W15","v":0},{"$f":"'6 Rendiconto Finanz'!X15","v":0},{"$f":"'6 Rendiconto Finanz'!Y15","v":0},{"$f":"'6 Rendiconto Finanz'!Z15","v":0},{"$f":"'6 Rendiconto Finanz'!AA15","v":0},{"$f":"'6 Rendiconto Finanz'!AB15","v":0},{"$f":"'6 Rendiconto Finanz'!AC15","v":0},{"$f":"'6 Rendiconto Finanz'!AD15","v":0},{"$f":"'6 Rendiconto Finanz'!AE15","v":0},{"$f":"'6 Rendiconto Finanz'!AF15","v":0},{"$f":"'6 Rendiconto Finanz'!AG15","v":0},{"$f":"'6 Rendiconto Finanz'!AH15","v":0},{"$f":"'6 Rendiconto Finanz'!AI15","v":0},{"$f":"'6 Rendiconto Finanz'!AJ15","v":0},{"$f":"'6 Rendiconto Finanz'!AK15","v":0},{"$f":"'6 Rendiconto Finanz'!AL15","v":0},{"$f":"'6 Rendiconto Finanz'!AM15","v":0},{"$f":"'6 Rendiconto Finanz'!AN15","v":0},{"$f":"'6 Rendiconto Finanz'!AO15","v":0},{"$f":"'6 Rendiconto Finanz'!AP15","v":0},{"$f":"'6 Rendiconto Finanz'!AQ15","v":0},{"$f":"'6 Rendiconto Finanz'!AR15","v":0},{"$f":"'6 Rendiconto Finanz'!AS15","v":0},{"$f":"'6 Rendiconto Finanz'!AT15","v":0},{"$f":"'6 Rendiconto Finanz'!AU15","v":0},{"$f":"'6 Rendiconto Finanz'!AV15","v":0},{"$f":"'6 Rendiconto Finanz'!AW15","v":0},{"$f":"'6 Rendiconto Finanz'!AX15","v":0},{"$f":"'6 Rendiconto Finanz'!AY15","v":0},{"$f":"'6 Rendiconto Finanz'!AZ15","v":0},{"$f":"'6 Rendiconto Finanz'!BA15","v":0},{"$f":"'6 Rendiconto Finanz'!BB15","v":0},{"$f":"'6 Rendiconto Finanz'!BC15","v":0},{"$f":"'6 Rendiconto Finanz'!BD15","v":0},{"$f":"'6 Rendiconto Finanz'!BE15","v":0},{"$f":"'6 Rendiconto Finanz'!BF15","v":0},{"$f":"'6 Rendiconto Finanz'!BG15","v":0},{"$f":"'6 Rendiconto Finanz'!BH15","v":0},{"$f":"'6 Rendiconto Finanz'!BI15","v":0},{"$f":"'6 Rendiconto Finanz'!BJ15","v":0},{"$f":"'6 Rendiconto Finanz'!BK15","v":0},{"$f":"'6 Rendiconto Finanz'!BL15","v":0},0]
[]
[null,null,"Estrapolazione Cash Flow Operativo Netto ante imposte","Anni di gestione considerati per il calcolo del valore medio Cash Flow Operativo Netto dopo fine esercizio",null,null,null,null,null,null,null,null,null,"Anno Fine Gestione"]
[null,null,"Anni extra esercizio","VAN Cash Flow Operativo Netto dopo fine esercizio",{"$f":"'2 Descrizione Progetto'!$D$22-9","v":1},{"$f":"'2 Descrizione Progetto'!$D$22-8","v":2},{"$f":"'2 Descrizione Progetto'!$D$22-7","v":3},{"$f":"'2 Descrizione Progetto'!$D$22-6","v":4},{"$f":"'2 Descrizione Progetto'!$D$22-5","v":5},{"$f":"'2 Descrizione Progetto'!$D$22-4","v":6},{"$f":"'2 Descrizione Progetto'!$D$22-3","v":7},{"$f":"'2 Descrizione Progetto'!$D$22-2","v":8},{"$f":"'2 Descrizione Progetto'!$D$22-1","v":9},{"$f":"'2 Descrizione Progetto'!$D$22","v":10},{"$f":"N146+1","v":11},12,13,14,15,16,17,18,19,20]
[null,null,{"$f":"N146","v":10},"-",0,0,0,0,0,0,0,0,0,{"$f":"$N$157","v":53000.347662884211},0,0,0,0,0,0,0,0,0,0]
[null,null,{"$f":"O$146","v":11},{"$f":"NPV('6 Rendiconto Finanz'!$D$41,'5 Foglio di elaborazione'!O148)","v":50049.244037459452},0,0,0,0,0,0,0,0,0,53000.347662884211,{"$f":"N148","v":53000.347662884211},0,0,0,0,0,0,0,0,0]
[null,null,{"$f":"P$146","v":12},{"$f":"NPV('6 Rendiconto Finanz'!$D$41,'5 Foglio di elaborazione'!O149)","v":49558.565174347124},0,0,0,0,0,0,0,0,{"$f":"$M$157","v":51961.125159690448},53000.347662884211,{"$f":"AVERAGE(M149:N149)","v":52480.736411287333},52740.542037085776,0,0,0,0,0,0,0,0]
[null,null,{"$f":"Q$146","v":13},{"$f":"NPV('6 Rendiconto Finanz'!$D$41,'5 Foglio di elaborazione'!O150)","v":49074.300414020567},0,0,0,0,0,0,0,{"$f":"$L$157","v":50942.279568323953},51961.125159690448,53000.347662884211,{"$f":"AVERAGE(L150:N150)","v":51967.917463632875},52309.796762069185,52426.020629528757,0,0,0,0,0,0,0]
[null,null,{"$f":"R$146","v":14},{"$f":"NPV('6 Rendiconto Finanz'!$D$41,'5 Foglio di elaborazione'!O151)","v":48596.355431438809},0,0,0,0,0,0,{"$f":"$K$157","v":49943.411341494058},50942.279568323953,51961.125159690448,53000.347662884211,{"$f":"AVERAGE(K151:N151)","v":51461.790933098171},51841.385830999199,52066.162396668013,52092.421705912398,0,0,0,0,0,0]
[null,null,{"$f":"S$146","v":15},{"$f":"NPV('6 Rendiconto Finanz'!$D$41,'5 Foglio di elaborazione'!O152)","v":48124.637381169385},0,0,0,0,0,{"$f":"$J$157","v":48964.128766170586},49943.411341494058,50942.279568323953,51961.125159690448,53000.347662884211,{"$f":"AVERAGE(J152:N152)","v":50962.258499712654},51361.884446421071,51645.579067406463,51786.238967222976,51751.261728729485,0,0,0,0,0]
[null,null,{"$f":"T$146","v":16},{"$f":"NPV('6 Rendiconto Finanz'!$D$41,'5 Foglio di elaborazione'!O153)","v":47659.054873211688},0,0,0,0,{"$f":"$I$157","v":48004.047809971169},48964.128766170586,49943.411341494058,50942.279568323953,51961.125159690448,53000.347662884211,{"$f":"AVERAGE(I153:N153)","v":50469.223384755744},50880.085980553173,51199.412182950269,51408.745656526298,51486.49000456003,51407.384145371616,0,0,0,0]
[null,null,{"$f":"U$146","v":17},{"$f":"NPV('6 Rendiconto Finanz'!$D$41,'5 Foglio di elaborazione'!O154)","v":47199.51794922672},0,0,0,{"$f":"$H$157","v":47062.791970560036},48004.047809971169,48964.128766170586,49943.411341494058,50942.279568323953,51961.125159690448,53000.347662884211,{"$f":"AVERAGE(H154:N154)","v":49982.590325584926},50399.704376302769,50741.941028635847,50995.914208988026,51146.271761487173,51175.413503367628,51063.1689810358,0,0,0]
[null,null,{"$f":"V$146","v":18},{"$f":"NPV('6 Rendiconto Finanz'!$D$41,'5 Foglio di elaborazione'!O155)","v":46745.938059166132},0,0,{"$f":"$G$157","v":46139.992127999991},47062.791970560036,48004.047809971169,48964.128766170586,49943.411341494058,50942.279568323953,51961.125159690448,53000.347662884211,{"$f":"AVERAGE(G155:N155)","v":49502.265550886805},49922.549728747661,50280.01944852111,50564.515903339852,50764.564295486009,50867.208414735003,50857.824520536386,50719.911940642131,0,0]
[null,null,{"$f":"W$146","v":19},{"$f":"NPV('6 Rendiconto Finanz'!$D$41,'5 Foglio di elaborazione'!O156)","v":42047.17386333293},0,{"$f":"$F$157","v":4719.866399999999},46139.992127999991,47062.791970560036,48004.047809971169,48964.128766170586,49943.411341494058,50942.279568323953,51961.125159690448,53000.347662884211,{"$f":"AVERAGE(F156:N156)","v":44526.443423010496},48949.396425567218,49261.552458630242,49505.859179526939,49672.727109477572,49751.460258733903,49730.132360649441,49595.449337574501,49332.596468450494,0]
[null,null,{"$f":"X$146","v":20},{"$f":"NPV('6 Rendiconto Finanz'!$D$41,'5 Foglio di elaborazione'!O157)","v":42047.17386333293},{"$f":"INDIRECT(ADDRESS(ROW(E143),MATCH(E146,$A131:$IV131,0)))","v":-29370.679999999978},4719.866399999999,46139.992127999991,47062.791970560036,48004.047809971169,48964.128766170586,49943.411341494058,50942.279568323953,51961.125159690448,53000.347662884211,{"$f":"AVERAGE(F157:N157)","v":44526.443423010496},48949.396425567218,49261.552458630242,49505.859179526939,49672.727109477572,49751.460258733903,49730.132360649441,49595.449337574501,49332.596468450494,48925.068557957864]
[null,null,"VAN",{"$f":"INDIRECT(ADDRESS(ROW(D147)+'2 Descrizione Progetto'!$D$25,COLUMN(D147)))","v":47659.054873211688}]
[]
[]
[null,null,"CALCOLO QUOZIENTI DI INFLAZIONE","Annualità",{"$f":"E15","v":1},2,3,4,5,6,7,8,9,10,11,"0","0","0","0","0","0","0","0","0","0","0","0","0","0","0","0","0","0","0","0","0","0","0","0","0","0","0","0","0","0","0","0","0","0","0","0","0","0","0","0","0","0","0","0","0","0","0","0","0","0"]
[null,null,"QUOZIENTI DI RIVALUTAZIONE ANNO PER ANNO NUMERICO                  ",null,1,{"$f":"E162*(1+$D$163)","v":1.02},1.0404,1.0612079999999999,1.08243216,1.1040808032,1.1261624192640001,1.14868566764928,1.1716593810022657,1.1950925686223111,1.2189944199947573,1.2433743083946525,1.2682417945625455,1.2936066304537963,1.3194787630628724,1.3458683383241299,1.3727857050906125,1.4002414191924248,1.4282462475762734,1.4568111725277988,1.4859473959783549,1.5156663438979221,1.5459796707758806,1.5768992641913981,1.6084372494752261,1.6406059944647307,1.6734181143540252,1.7068864766411058,1.7410242061739281,1.7758446902974065,1.8113615841033548,1.8475888157854219,1.8845405921011305,1.9222314039431532,1.9606760320220162,1.9998895526624565,2.0398873437157055,2.0806850905900198,2.1222987924018204,2.1647447682498568,2.208039663614854,2.252200456887151,2.2972444660248938,2.343189355345392,2.3900531424522997,2.4378542053013459,2.4866112894073726,2.53634351519552,2.5870703854994304,2.6388117932094191,2.6915880290736074,2.7454197896550796,2.8003281854481812,2.8563347491571447,2.9134614441402875,2.9717306730230932,3.0311652864835552,3.0917885922132262,3.1536243640574906,3.2166968513386403,3.2810307883654133]
[null,null,"Istat",{"$f":"'2 Descrizione Progetto'!D27","v":0.02}," "]
[null,null,null,null," "]
[null,null,"1. MUTUO FONDIARIO ORDINARIO O AGEVOLATO (metodo a rata costante, eventuale alternativa a 18)",null,"ANNO 1",null,"ANNO 2",null,"ANNO 3",null,"ANNO 4",null,"ANNO 5",null,"ANNO 6",null,"ANNO 7",null,"ANNO 8",null,"ANNO 9",null,"ANNO 10",null,"ANNO 11",null,"ANNO 12",null,"ANNO 13",null,"ANNO 14",null,"ANNO 15",null,"ANNO 16",null,"ANNO 17",null,"ANNO 18",null,"ANNO 19",null,"ANNO 20",null,"Anno 21",null,"Anno 22",null,"Anno 23",null,"Anno 24",null,"Anno 25",null,"Anno 26",null,"Anno 27",null,"Anno 28",null,"Anno 29",null,"Anno 30",null,"Anno 31",null,"Anno 32",null,"Anno 33",null,"Anno 34",null,"Anno 35",null,"Anno 36",null,"Anno 37",null,"Anno 38",null,"Anno 39",null,"Anno 40"]
[null,null,"Importi in Euro",null,"1° semestre","2° semestre","3° semestre","4° semestre","5° semestre","6° semestre","7° semestre","8° semestre","9° semestre","10° semestre","11° semestre","12° semestre","13° semestre","14° semestre","15° semestre","16° semestre","17° semestre","18° semestre","19° semestre","20° semestre","21° semestre","22° semestre","23° semestre","24° semestre","25° semestre","26° semestre","27° semestre","28° semestre","29° semestre","30° semestre","31° semestre","32° semestre","33° semestre","34° semestre","35° semestre","36° semestre","37° semestre","38° semestre","39° semestre","40° semestre","41° semestre","42° semestre","43° semestre","44° semestre","45° semestre","46° semestre","47° semestre","48° semestre","49° semestre","50° semestre","51° semestre","52° semestre","53° semestre","54° semestre","55° semestre","56° semestre","57° semestre","58° semestre","59° semestre","60° semestre"]
[null,null,"Numero rata (semestrale)",0,1,2,3,4,5,6,7,8,9,10,11,12,13,14,15,16,17,18,19,20,21,22,23,24,25,26,27,28,29,30,31,32,33,34,35,36,37,38,39,40,41,42,43,44,45,46,47,48,49,50,51,52,53,54,55,56,57,58,59,60,61,62,63,64,65,66,67,68,69,70,71,72,73,74,75,76,77,78,79,80]
[null,null,"Capitale inizio semestre",{"$f":"SUM(E84:BL84)","v":0},{"$f":"D168-D170","v":0},0,0,0,0,0,0,0,0,0,0,0,0,0,0,0,0,0,0,0,0,0,0,0,0,0,0,0,0,0,0,0,0,0,0,0,0,0,0,0,0,0,0,0,0,0,0,0,0,0,0,0,0,0,0,0,0,0,0,0,0,0,0,0,0,0,0,0,0,0,0,0,0,0,0,0,0,0,0,0]
[null,null,"Tasso",{"$f":"'2 Investimento'!E69","v":1E-14},{"$f":"D169","v":1E-14},1E-14,1E-14,1E-14,1E-14,1E-14,1E-14,1E-14,1E-14,1E-14,1E-14,1E-14,1E-14,1E-14,1E-14,1E-14,1E-14,1E-14,1E-14,1E-14,1E-14,1E-14,1E-14,1E-14,1E-14,1E-14,1E-14,1E-14,1E-14,1E-14,1E-14,1E-14,1E-14,1E-14,1E-14,1E-14,1E-14,1E-14,1E-14,1E-14,1E-14,1E-14,1E-14,1E-14,1E-14,1E-14,1E-14,1E-14,1E-14,1E-14,1E-14,1E-14,1E-14,1E-14,1E-14,1E-14,1E-14,1E-14,1E-14,1E-14,1E-14,1E-14,1E-14,1E-14,1E-14,1E-14,1E-14,1E-14,1E-14,1E-14,1E-14,1E-14,1E-14,1E-14,1E-14,1E-14,1E-14,1E-14,1E-14,1E-14]
[null,null,"Quota Capitale",null,{"$f":"E174-E171","v":0},0,0,0,0,0,0,0,0,0,0,0,0,0,0,0,0,0,0,0,0,0,0,0,0,0,0,0,0,0,0,0,0,0,0,0,0,0,0,0,0,0,0,0,0,0,0,0,0,0,0,0,0,0,0,0,0,0,0,0,0,0,0,0,0,0,0,0,0,0,0,0,0,0,0,0,0,0,0,0]
[null,null,"Quota Interessi totale",null,{"$f":"E168*E169/E185","v":0},{"$f":"F169/F185*F168","v":0},0,0,0,0,0,0,0,0,0,0,0,0,0,0,0,0,0,0,0,0,0,0,0,0,0,0,0,0,0,0,0,0,0,0,0,0,0,0,0,0,0,0,0,0,0,0,0,0,0,0,0,0,0,0,0,0,0,0,0,0,0,0,0,0,0,0,0,0,0,0,0,0,0,0,0,0,0,0]
[null,null,"Quota Interessi rimborso",null,{"$f":"E171*E183","v":0},0,0,0,0,0,0,0,0,0,0,0,0,0,0,0,0,0,0,0,0,0,0,0,0,0,0,0,0,0,0,0,0,0,0,0,0,0,0,0,0,0,0,0,0,0,0,0,0,0,0,0,0,0,0,0,0,0,0,0,0,0,0,0,0,0,0,0,0,0,0,0,0,0,0,0,0,0,0,0]
[null,null,"Quota interessi (costo)",null,{"$f":"E171-E172","v":0},0,0,0,0,0,0,0,0,0,0,0,0,0,0,0,0,0,0,0,0,0,0,0,0,0,0,0,0,0,0,0,0,0,0,0,0,0,0,0,0,0,0,0,0,0,0,0,0,0,0,0,0,0,0,0,0,0,0,0,0,0,0,0,0,0,0,0,0,0,0,0,0,0,0,0,0,0,0,0]
[null,null,"Importo rata (senza agevolazione)",null,{"$f":"PMT(E169/E185,E186,-E168)","v":0},{"$f":"PMT(F169/F185,F186-E167,-F168)","v":0},0,0,0,0,0,0,0,0,0,0,0,0,0,0,0,0,0,0,0,0,0,0,0,0,0,0,0,0,0,0,0,0,0,0,0,0,0,0,0,0,0,0,0,0,0,0,0,0,0,0,0,0,0,0,0,0,0,0,0,0,0,0,0,0,0,0,0,0,0,0,0,0,0,0,0,0,0,0]
[null,null,"Importo rata (con agevolazione)",null,{"$f":"E170+E173","v":0},0,0,0,0,0,0,0,0,0,0,0,0,0,0,0,0,0,0,0,0,0,0,0,0,0,0,0,0,0,0,0,0,0,0,0,0,0,0,0,0,0,0,0,0,0,0,0,0,0,0,0,0,0,0,0,0,0,0,0,0,0,0,0,0,0,0,0,0,0,0,0,0,0,0,0,0,0,0,0]
[]
[null,null,"Quota capitale anno per anno",{"$f":"E170+F170","v":0},{"$f":"G170+H170","v":0},{"$f":"I170+J170","v":0},{"$f":"K170+L170","v":0},{"$f":"M170+N170","v":0},{"$f":"O170+P170","v":0},{"$f":"Q170+R170","v":0},{"$f":"S170+T170","v":0},{"$f":"U170+V170","v":0},{"$f":"W170+X170","v":0},{"$f":"Y170+Z170","v":0},{"$f":"AA170+AB170","v":0},{"$f":"AC170+AD170","v":0},{"$f":"AE170+AF170","v":0},{"$f":"AG170+AH170","v":0},{"$f":"AI170+AJ170","v":0},{"$f":"AK170+AL170","v":0},{"$f":"AM170+AN170","v":0},{"$f":"AO170+AP170","v":0},{"$f":"AQ170+AR170","v":0},{"$f":"AS170+AT170","v":0},{"$f":"AU170+AV170","v":0},{"$f":"AW170+AX170","v":0},{"$f":"AY170+AZ170","v":0},{"$f":"BA170+BB170","v":0},{"$f":"BC170+BD170","v":0},{"$f":"BE170+BF170","v":0},{"$f":"BG170+BH170","v":0},{"$f":"BI170+BJ170","v":0},{"$f":"BK170+BL170","v":0},{"$f":"BM170+BN170","v":0},{"$f":"BO170+BP170","v":0},{"$f":"BQ170+BR170","v":0},{"$f":"BS170+BT170","v":0},{"$f":"BU170+BV170","v":0},{"$f":"BW170+BX170","v":0},{"$f":"BY170+BZ170","v":0},{"$f":"CA170+CB170","v":0},{"$f":"CC170+CD170","v":0},{"$f":"CE170+CF170","v":0}]
[null,null,"Quota interessi anno per anno",0,0,0,0,0,0,0,0,0,0,0,0,0,0,0,0,0,0,0,0,0,0,0,0,0,0,0,0,0,0,0,0,0,0,0,0,0,0,0,0]
[null,null,null,1,{"$f":"D179+1","v":2},3,4,5,6,7,8,9,10,11,12,13,14,15,16,17,18,19,20,21,22,23,24,25,26,27,28,29,30,31,32,33,34,35,36,37,38,39,40]
[null,null,null,null,null,null,null,null,null,null,null,null,null,null,null,null,null,null,null,null,null,null,null,null,null,null,null,null,null,null,null,null,null,null,null,null,null,null,null,null,null,null,null,null,null,null,null,null,null,null,null,null," "]
[null,null,"MUTUO FONDIARIO ORDINARIO O AGEVOLATO (piano di ammortamento alla francese)",{"$f":"D168","v":0},{"$f":"D181","v":0},0,0,0,0,0,0,0,0,0,0,0,0,0,0,0,0,0,0,0,0,0,0,0,0,0,0,0,0,0,0,0,0,0,0,0,0,0,0,0,0,0,0,0,0,0,0,0,0,0,0,0,0,0,0,0,0,0,0,0,0,0,0,0,0,0,0,0,0,0,0,0,0,0,0,0,0,0,0,0]
[null,null,"Tasso interesse (Mutuo fondiario standard a tasso fisso) - TAEG",1E-14,{"$f":"E169","v":1E-14},1E-14,1E-14,1E-14,1E-14,1E-14,1E-14,1E-14,1E-14,1E-14,1E-14,1E-14,1E-14,1E-14,1E-14,1E-14,1E-14,1E-14,1E-14,1E-14,1E-14,1E-14,1E-14,1E-14,1E-14,1E-14,1E-14,1E-14,1E-14,1E-14,1E-14,1E-14,1E-14,1E-14,1E-14,1E-14,1E-14,1E-14,1E-14,1E-14,1E-14,1E-14,1E-14,1E-14,1E-14,1E-14,1E-14,1E-14,1E-14,1E-14,1E-14,1E-14,1E-14,1E-14,1E-14,1E-14,1E-14,1E-14,1E-14,1E-14,1E-14,1E-14,1E-14,1E-14,1E-14,1E-14,1E-14,1E-14,1E-14,1E-14,1E-14,1E-14,1E-14,1E-14,1E-14,1E-14,1E-14,1E-14,1E-14,1E-14]
[null,null,"Quota rimborso interessi mutuo agevolato",0,{"$f":"D183","v":0},0,0,0,0,0,0,0,0,0,0,0,0,0,0,0,0,0,0,0,0,0,0,0,0,0,0,0,0,0,0,0,0,0,0,0,0,0,0,0,0,0,0,0,0,0,0,0,0,0,0,0,0,0,0,0,0,0,0,0,0,0,0,0,0,0,0,0,0,0,0,0,0,0,0,0,0,0,0,0]
[null,null,"Periodo di ammortamento (ANNI)",{"$f":"'2 Investimento'!E70","v":1.0000000000000001E-9},{"$f":"D184","v":1.0000000000000001E-9},1.0000000000000001E-9,1.0000000000000001E-9,1.0000000000000001E-9,1.0000000000000001E-9,1.0000000000000001E-9,1.0000000000000001E-9,1.0000000000000001E-9,1.0000000000000001E-9,1.0000000000000001E-9,1.0000000000000001E-9,1.0000000000000001E-9,1.0000000000000001E-9,1.0000000000000001E-9,1.0000000000000001E-9,1.0000000000000001E-9,1.0000000000000001E-9,1.0000000000000001E-9,1.0000000000000001E-9,1.0000000000000001E-9,1.0000000000000001E-9,1.0000000000000001E-9,1.0000000000000001E-9,1.0000000000000001E-9,1.0000000000000001E-9,1.0000000000000001E-9,1.0000000000000001E-9,1.0000000000000001E-9,1.0000000000000001E-9,1.0000000000000001E-9,1.0000000000000001E-9,1.0000000000000001E-9,1.0000000000000001E-9,1.0000000000000001E-9,1.0000000000000001E-9,1.0000000000000001E-9,1.0000000000000001E-9,1.0000000000000001E-9,1.0000000000000001E-9,1.0000000000000001E-9,1.0000000000000001E-9,1.0000000000000001E-9,1.0000000000000001E-9,1.0000000000000001E-9,1.0000000000000001E-9,1.0000000000000001E-9,1.0000000000000001E-9,1.0000000000000001E-9,1.0000000000000001E-9,1.0000000000000001E-9,1.0000000000000001E-9,1.0000000000000001E-9,1.0000000000000001E-9,1.0000000000000001E-9,1.0000000000000001E-9,1.0000000000000001E-9,1.0000000000000001E-9,1.0000000000000001E-9,1.0000000000000001E-9,1.0000000000000001E-9,1.0000000000000001E-9,1.0000000000000001E-9,1.0000000000000001E-9,1.0000000000000001E-9,1.0000000000000001E-9,1.0000000000000001E-9,1.0000000000000001E-9,1.0000000000000001E-9,1.0000000000000001E-9,1.0000000000000001E-9,1.0000000000000001E-9,1.0000000000000001E-9,1.0000000000000001E-9,1.0000000000000001E-9,1.0000000000000001E-9,1.0000000000000001E-9,1.0000000000000001E-9,1.0000000000000001E-9,1.0000000000000001E-9,1.0000000000000001E-9]
[null,null,"Numero rate pagate in un anno",2,{"$f":"D185","v":2},2,2,2,2,2,2,2,2,2,2,2,2,2,2,2,2,2,2,2,2,2,2,2,2,2,2,2,2,2,2,2,2,2,2,2,2,2,2,2,2,2,2,2,2,2,2,2,2,2,2,2,2,2,2,2,2,2,2,2,2,2,2,2,2,2,2,2,2,2,2,2,2,2,2,2,2,2,2,2]
[null,null,"Numero di rate totali",{"$f":"D184*D185","v":2.0000000000000001E-9},{"$f":"D186","v":2.0000000000000001E-9},2.0000000000000001E-9,2.0000000000000001E-9,2.0000000000000001E-9,2.0000000000000001E-9,2.0000000000000001E-9,2.0000000000000001E-9,2.0000000000000001E-9,2.0000000000000001E-9,2.0000000000000001E-9,2.0000000000000001E-9,2.0000000000000001E-9,2.0000000000000001E-9,2.0000000000000001E-9,2.0000000000000001E-9,2.0000000000000001E-9,2.0000000000000001E-9,2.0000000000000001E-9,2.0000000000000001E-9,2.0000000000000001E-9,2.0000000000000001E-9,2.0000000000000001E-9,2.0000000000000001E-9,2.0000000000000001E-9,2.0000000000000001E-9,2.0000000000000001E-9,2.0000000000000001E-9,2.0000000000000001E-9,2.0000000000000001E-9,2.0000000000000001E-9,2.0000000000000001E-9,2.0000000000000001E-9,2.0000000000000001E-9,2.0000000000000001E-9,2.0000000000000001E-9,2.0000000000000001E-9,2.0000000000000001E-9,2.0000000000000001E-9,2.0000000000000001E-9,2.0000000000000001E-9,2.0000000000000001E-9,2.0000000000000001E-9,2.0000000000000001E-9,2.0000000000000001E-9,2.0000000000000001E-9,2.0000000000000001E-9,2.0000000000000001E-9,2.0000000000000001E-9,2.0000000000000001E-9,2.0000000000000001E-9,2.0000000000000001E-9,2.0000000000000001E-9,2.0000000000000001E-9,2.0000000000000001E-9,2.0000000000000001E-9,2.0000000000000001E-9,2.0000000000000001E-9,2.0000000000000001E-9,2.0000000000000001E-9,2.0000000000000001E-9,2.0000000000000001E-9,2.0000000000000001E-9,2.0000000000000001E-9,2.0000000000000001E-9,2.0000000000000001E-9,2.0000000000000001E-9,2.0000000000000001E-9,2.0000000000000001E-9,2.0000000000000001E-9,2.0000000000000001E-9,2.0000000000000001E-9,2.0000000000000001E-9,2.0000000000000001E-9,2.0000000000000001E-9,2.0000000000000001E-9,2.0000000000000001E-9,2.0000000000000001E-9,2.0000000000000001E-9,2.0000000000000001E-9,2.0000000000000001E-9]
[]
[null,null,"Totale rate",{"$f":"SUM(E174:BB174)","v":0}]
[null,null,"Totale interessi",{"$f":"SUM(E171:BB171)","v":0}]
[]
[null,null," -----------------------------------------------------------------------------------------------------------------------"]
[]
[null,null,"2. MUTUO FONDIARIO ORDINARIO O AGEVOLATO (metodo a rata costante, eventuale alternativa a 19)",null,"ANNO 1",null,"ANNO 2",null,"ANNO 3",null,"ANNO 4",null,"ANNO 5",null,"ANNO 6",null,"ANNO 7",null,"ANNO 8",null,"ANNO 9",null,"ANNO 10",null,"ANNO 11",null,"ANNO 12",null,"ANNO 13",null,"ANNO 14",null,"ANNO 15",null,"ANNO 16",null,"ANNO 17",null,"ANNO 18",null,"ANNO 19",null,"ANNO 20",null,"Anno 21",null,"Anno 22",null,"Anno 23",null,"Anno 24",null,"Anno 25",null,"Anno 26",null,"Anno 27",null,"Anno 28",null,"Anno 29",null,"Anno 30",null,"Anno 31",null,"Anno 32",null,"Anno 33",null,"Anno 34",null,"Anno 35",null,"Anno 36",null,"Anno 37",null,"Anno 38",null,"Anno 39",null,"Anno 40"]
[null,null,"Importi in Euro",null,"1° semestre","2° semestre","3° semestre","4° semestre","5° semestre","6° semestre","7° semestre","8° semestre","9° semestre","10° semestre","11° semestre","12° semestre","13° semestre","14° semestre","15° semestre","16° semestre","17° semestre","18° semestre","19° semestre","20° semestre","21° semestre","22° semestre","23° semestre","24° semestre","25° semestre","26° semestre","27° semestre","28° semestre","29° semestre","30° semestre","31° semestre","32° semestre","33° semestre","34° semestre","35° semestre","36° semestre","37° semestre","38° semestre","39° semestre","40° semestre","41° semestre","42° semestre","43° semestre","44° semestre","45° semestre","46° semestre","47° semestre","48° semestre","49° semestre","50° semestre","51° semestre","52° semestre","53° semestre","54° semestre","55° semestre","56° semestre","57° semestre","58° semestre","59° semestre","60° semestre"]
[null,null,"Numero rata (semestrale)",0,1,2,3,4,5,6,7,8,9,10,11,12,13,14,15,16,17,18,19,20,21,22,23,24,25,26,27,28,29,30,31,32,33,34,35,36,37,38,39,40,41,42,43,44,45,46,47,48,49,50,51,52,53,54,55,56,57,58,59,60,61,62,63,64,65,66,67,68,69,70,71,72,73,74,75,76,77,78,79,80]
[null,null,"Capitale inizio semestre",{"$f":"SUM(E94:BL94)","v":0},{"$f":"D196-D198","v":0},{"$error":"#NUM!"},{"$error":"#NUM!"},{"$error":"#NUM!"},{"$error":"#NUM!"},{"$error":"#NUM!"},{"$error":"#NUM!"},{"$error":"#NUM!"},{"$error":"#NUM!"},{"$error":"#NUM!"},{"$error":"#NUM!"},{"$error":"#NUM!"},{"$error":"#NUM!"},{"$error":"#NUM!"},{"$error":"#NUM!"},{"$error":"#NUM!"},{"$error":"#NUM!"},{"$error":"#NUM!"},{"$error":"#NUM!"},{"$error":"#NUM!"},{"$error":"#NUM!"},{"$error":"#NUM!"},{"$error":"#NUM!"},{"$error":"#NUM!"},{"$error":"#NUM!"},{"$error":"#NUM!"},{"$error":"#NUM!"},{"$error":"#NUM!"},{"$error":"#NUM!"},{"$error":"#NUM!"},{"$error":"#NUM!"},{"$error":"#NUM!"},{"$error":"#NUM!"},{"$error":"#NUM!"},{"$error":"#NUM!"},{"$error":"#NUM!"},{"$error":"#NUM!"},{"$error":"#NUM!"},{"$error":"#NUM!"},{"$error":"#NUM!"},{"$error":"#NUM!"},{"$error":"#NUM!"},{"$error":"#NUM!"},{"$error":"#NUM!"},{"$error":"#NUM!"},{"$error":"#NUM!"},{"$error":"#NUM!"},{"$error":"#NUM!"},{"$error":"#NUM!"},{"$error":"#NUM!"},{"$error":"#NUM!"},{"$error":"#NUM!"},{"$error":"#NUM!"},{"$error":"#NUM!"},{"$error":"#NUM!"},{"$error":"#NUM!"},{"$error":"#NUM!"},{"$error":"#NUM!"},{"$error":"#NUM!"},{"$error":"#NUM!"},{"$error":"#NUM!"},{"$error":"#NUM!"},{"$error":"#NUM!"},{"$error":"#NUM!"},{"$error":"#NUM!"},{"$error":"#NUM!"},{"$error":"#NUM!"},{"$error":"#NUM!"},{"$error":"#NUM!"},{"$error":"#NUM!"},{"$error":"#NUM!"},{"$error":"#NUM!"},{"$error":"#NUM!"},{"$error":"#NUM!"},{"$error":"#NUM!"},{"$error":"#NUM!"},{"$error":"#NUM!"},{"$error":"#NUM!"},{"$error":"#NUM!"},{"$error":"#NUM!"}]
[null,null,"Tasso",{"$f":"'2 Investimento'!E72","v":0},{"$f":"D197","v":0},0,0,0,0,0,0,0,0,0,0,0,0,0,0,0,0,0,0,0,0,0,0,0,0,0,0,0,0,0,0,0,0,0,0,0,0,0,0,0,0,0,0,0,0,0,0,0,0,0,0,0,0,0,0,0,0,0,0,0,0,0,0,0,0,0,0,0,0,0,0,0,0,0,0,0,0,0,0,0]
[null,null,"Quota Capitale",null,{"$f":"E202-E199","v":{"$error":"#NUM!"}},{"$error":"#NUM!"},{"$error":"#NUM!"},{"$error":"#NUM!"},{"$error":"#NUM!"},{"$error":"#NUM!"},{"$error":"#NUM!"},{"$error":"#NUM!"},{"$error":"#NUM!"},{"$error":"#NUM!"},{"$error":"#NUM!"},{"$error":"#NUM!"},{"$error":"#NUM!"},{"$error":"#NUM!"},{"$error":"#NUM!"},{"$error":"#NUM!"},{"$error":"#NUM!"},{"$error":"#NUM!"},{"$error":"#NUM!"},{"$error":"#NUM!"},{"$error":"#NUM!"},{"$error":"#NUM!"},{"$error":"#NUM!"},{"$error":"#NUM!"},{"$error":"#NUM!"},{"$error":"#NUM!"},{"$error":"#NUM!"},{"$error":"#NUM!"},{"$error":"#NUM!"},{"$error":"#NUM!"},{"$error":"#NUM!"},{"$error":"#NUM!"},{"$error":"#NUM!"},{"$error":"#NUM!"},{"$error":"#NUM!"},{"$error":"#NUM!"},{"$error":"#NUM!"},{"$error":"#NUM!"},{"$error":"#NUM!"},{"$error":"#NUM!"},{"$error":"#NUM!"},{"$error":"#NUM!"},{"$error":"#NUM!"},{"$error":"#NUM!"},{"$error":"#NUM!"},{"$error":"#NUM!"},{"$error":"#NUM!"},{"$error":"#NUM!"},{"$error":"#NUM!"},{"$error":"#NUM!"},{"$error":"#NUM!"},{"$error":"#NUM!"},{"$error":"#NUM!"},{"$error":"#NUM!"},{"$error":"#NUM!"},{"$error":"#NUM!"},{"$error":"#NUM!"},{"$error":"#NUM!"},{"$error":"#NUM!"},{"$error":"#NUM!"},{"$error":"#NUM!"},{"$error":"#NUM!"},{"$error":"#NUM!"},{"$error":"#NUM!"},{"$error":"#NUM!"},{"$error":"#NUM!"},{"$error":"#NUM!"},{"$error":"#NUM!"},{"$error":"#NUM!"},{"$error":"#NUM!"},{"$error":"#NUM!"},{"$error":"#NUM!"},{"$error":"#NUM!"},{"$error":"#NUM!"},{"$error":"#NUM!"},{"$error":"#NUM!"},{"$error":"#NUM!"},{"$error":"#NUM!"},{"$error":"#NUM!"},{"$error":"#NUM!"}]
[null,null,"Quota Interessi totale",null,{"$f":"E196*E197/E213","v":0},{"$f":"F197/F213*F196","v":{"$error":"#NUM!"}},{"$error":"#NUM!"},{"$error":"#NUM!"},{"$error":"#NUM!"},{"$error":"#NUM!"},{"$error":"#NUM!"},{"$error":"#NUM!"},{"$error":"#NUM!"},{"$error":"#NUM!"},{"$error":"#NUM!"},{"$error":"#NUM!"},{"$error":"#NUM!"},{"$error":"#NUM!"},{"$error":"#NUM!"},{"$error":"#NUM!"},{"$error":"#NUM!"},{"$error":"#NUM!"},{"$error":"#NUM!"},{"$error":"#NUM!"},{"$error":"#NUM!"},{"$error":"#NUM!"},{"$error":"#NUM!"},{"$error":"#NUM!"},{"$error":"#NUM!"},{"$error":"#NUM!"},{"$error":"#NUM!"},{"$error":"#NUM!"},{"$error":"#NUM!"},{"$error":"#NUM!"},{"$error":"#NUM!"},{"$error":"#NUM!"},{"$error":"#NUM!"},{"$error":"#NUM!"},{"$error":"#NUM!"},{"$error":"#NUM!"},{"$error":"#NUM!"},{"$error":"#NUM!"},{"$error":"#NUM!"},{"$error":"#NUM!"},{"$error":"#NUM!"},{"$error":"#NUM!"},{"$error":"#NUM!"},{"$error":"#NUM!"},{"$error":"#NUM!"},{"$error":"#NUM!"},{"$error":"#NUM!"},{"$error":"#NUM!"},{"$error":"#NUM!"},{"$error":"#NUM!"},{"$error":"#NUM!"},{"$error":"#NUM!"},{"$error":"#NUM!"},{"$error":"#NUM!"},{"$error":"#NUM!"},{"$error":"#NUM!"},{"$error":"#NUM!"},{"$error":"#NUM!"},{"$error":"#NUM!"},{"$error":"#NUM!"},{"$error":"#NUM!"},{"$error":"#NUM!"},{"$error":"#NUM!"},{"$error":"#NUM!"},{"$error":"#NUM!"},{"$error":"#NUM!"},{"$error":"#NUM!"},{"$error":"#NUM!"},{"$error":"#NUM!"},{"$error":"#NUM!"},{"$error":"#NUM!"},{"$error":"#NUM!"},{"$error":"#NUM!"},{"$error":"#NUM!"},{"$error":"#NUM!"},{"$error":"#NUM!"},{"$error":"#NUM!"},{"$error":"#NUM!"},{"$error":"#NUM!"},{"$error":"#NUM!"}]
[null,null,"Quota Interessi rimborso",null,{"$f":"E199*E211","v":0},{"$error":"#NUM!"},{"$error":"#NUM!"},{"$error":"#NUM!"},{"$error":"#NUM!"},{"$error":"#NUM!"},{"$error":"#NUM!"},{"$error":"#NUM!"},{"$error":"#NUM!"},{"$error":"#NUM!"},{"$error":"#NUM!"},{"$error":"#NUM!"},{"$error":"#NUM!"},{"$error":"#NUM!"},{"$error":"#NUM!"},{"$error":"#NUM!"},{"$error":"#NUM!"},{"$error":"#NUM!"},{"$error":"#NUM!"},{"$error":"#NUM!"},{"$error":"#NUM!"},{"$error":"#NUM!"},{"$error":"#NUM!"},{"$error":"#NUM!"},{"$error":"#NUM!"},{"$error":"#NUM!"},{"$error":"#NUM!"},{"$error":"#NUM!"},{"$error":"#NUM!"},{"$error":"#NUM!"},{"$error":"#NUM!"},{"$error":"#NUM!"},{"$error":"#NUM!"},{"$error":"#NUM!"},{"$error":"#NUM!"},{"$error":"#NUM!"},{"$error":"#NUM!"},{"$error":"#NUM!"},{"$error":"#NUM!"},{"$error":"#NUM!"},{"$error":"#NUM!"},{"$error":"#NUM!"},{"$error":"#NUM!"},{"$error":"#NUM!"},{"$error":"#NUM!"},{"$error":"#NUM!"},{"$error":"#NUM!"},{"$error":"#NUM!"},{"$error":"#NUM!"},{"$error":"#NUM!"},{"$error":"#NUM!"},{"$error":"#NUM!"},{"$error":"#NUM!"},{"$error":"#NUM!"},{"$error":"#NUM!"},{"$error":"#NUM!"},{"$error":"#NUM!"},{"$error":"#NUM!"},{"$error":"#NUM!"},{"$error":"#NUM!"},{"$error":"#NUM!"},{"$error":"#NUM!"},{"$error":"#NUM!"},{"$error":"#NUM!"},{"$error":"#NUM!"},{"$error":"#NUM!"},{"$error":"#NUM!"},{"$error":"#NUM!"},{"$error":"#NUM!"},{"$error":"#NUM!"},{"$error":"#NUM!"},{"$error":"#NUM!"},{"$error":"#NUM!"},{"$error":"#NUM!"},{"$error":"#NUM!"},{"$error":"#NUM!"},{"$error":"#NUM!"},{"$error":"#NUM!"},{"$error":"#NUM!"},{"$error":"#NUM!"}]
[null,null,"Quota interessi (costo)",null,{"$f":"E199-E200","v":0},{"$error":"#NUM!"},{"$error":"#NUM!"},{"$error":"#NUM!"},{"$error":"#NUM!"},{"$error":"#NUM!"},{"$error":"#NUM!"},{"$error":"#NUM!"},{"$error":"#NUM!"},{"$error":"#NUM!"},{"$error":"#NUM!"},{"$error":"#NUM!"},{"$error":"#NUM!"},{"$error":"#NUM!"},{"$error":"#NUM!"},{"$error":"#NUM!"},{"$error":"#NUM!"},{"$error":"#NUM!"},{"$error":"#NUM!"},{"$error":"#NUM!"},{"$error":"#NUM!"},{"$error":"#NUM!"},{"$error":"#NUM!"},{"$error":"#NUM!"},{"$error":"#NUM!"},{"$error":"#NUM!"},{"$error":"#NUM!"},{"$error":"#NUM!"},{"$error":"#NUM!"},{"$error":"#NUM!"},{"$error":"#NUM!"},{"$error":"#NUM!"},{"$error":"#NUM!"},{"$error":"#NUM!"},{"$error":"#NUM!"},{"$error":"#NUM!"},{"$error":"#NUM!"},{"$error":"#NUM!"},{"$error":"#NUM!"},{"$error":"#NUM!"},{"$error":"#NUM!"},{"$error":"#NUM!"},{"$error":"#NUM!"},{"$error":"#NUM!"},{"$error":"#NUM!"},{"$error":"#NUM!"},{"$error":"#NUM!"},{"$error":"#NUM!"},{"$error":"#NUM!"},{"$error":"#NUM!"},{"$error":"#NUM!"},{"$error":"#NUM!"},{"$error":"#NUM!"},{"$error":"#NUM!"},{"$error":"#NUM!"},{"$error":"#NUM!"},{"$error":"#NUM!"},{"$error":"#NUM!"},{"$error":"#NUM!"},{"$error":"#NUM!"},{"$error":"#NUM!"},{"$error":"#NUM!"},{"$error":"#NUM!"},{"$error":"#NUM!"},{"$error":"#NUM!"},{"$error":"#NUM!"},{"$error":"#NUM!"},{"$error":"#NUM!"},{"$error":"#NUM!"},{"$error":"#NUM!"},{"$error":"#NUM!"},{"$error":"#NUM!"},{"$error":"#NUM!"},{"$error":"#NUM!"},{"$error":"#NUM!"},{"$error":"#NUM!"},{"$error":"#NUM!"},{"$error":"#NUM!"},{"$error":"#NUM!"},{"$error":"#NUM!"}]
[null,null,"Importo rata (senza agevolazione)",null,{"$f":"PMT(E197/E213,E214,-E196)","v":{"$error":"#NUM!"}},{"$f":"PMT(F197/F213,F214-E195,-F196)","v":{"$error":"#NUM!"}},{"$error":"#NUM!"},{"$error":"#NUM!"},{"$error":"#NUM!"},{"$error":"#NUM!"},{"$error":"#NUM!"},{"$error":"#NUM!"},{"$error":"#NUM!"},{"$error":"#NUM!"},{"$error":"#NUM!"},{"$error":"#NUM!"},{"$error":"#NUM!"},{"$error":"#NUM!"},{"$error":"#NUM!"},{"$error":"#NUM!"},{"$error":"#NUM!"},{"$error":"#NUM!"},{"$error":"#NUM!"},{"$error":"#NUM!"},{"$error":"#NUM!"},{"$error":"#NUM!"},{"$error":"#NUM!"},{"$error":"#NUM!"},{"$error":"#NUM!"},{"$error":"#NUM!"},{"$error":"#NUM!"},{"$error":"#NUM!"},{"$error":"#NUM!"},{"$error":"#NUM!"},{"$error":"#NUM!"},{"$error":"#NUM!"},{"$error":"#NUM!"},{"$error":"#NUM!"},{"$error":"#NUM!"},{"$error":"#NUM!"},{"$error":"#NUM!"},{"$error":"#NUM!"},{"$error":"#NUM!"},{"$error":"#NUM!"},{"$error":"#NUM!"},{"$error":"#NUM!"},{"$error":"#NUM!"},{"$error":"#NUM!"},{"$error":"#NUM!"},{"$error":"#NUM!"},{"$error":"#NUM!"},{"$error":"#NUM!"},{"$error":"#NUM!"},{"$error":"#NUM!"},{"$error":"#NUM!"},{"$error":"#NUM!"},{"$error":"#NUM!"},{"$error":"#NUM!"},{"$error":"#NUM!"},{"$error":"#NUM!"},{"$error":"#NUM!"},{"$error":"#NUM!"},{"$error":"#NUM!"},{"$error":"#NUM!"},{"$error":"#NUM!"},{"$error":"#NUM!"},{"$error":"#NUM!"},{"$error":"#NUM!"},{"$error":"#NUM!"},{"$error":"#NUM!"},{"$error":"#NUM!"},{"$error":"#NUM!"},{"$error":"#NUM!"},{"$error":"#NUM!"},{"$error":"#NUM!"},{"$error":"#NUM!"},{"$error":"#NUM!"},{"$error":"#NUM!"},{"$error":"#NUM!"},{"$error":"#NUM!"},{"$error":"#NUM!"},{"$error":"#NUM!"},{"$error":"#NUM!"},{"$error":"#NUM!"}]
[null,null,"Importo rata (con agevolazione)",null,{"$f":"E198+E201","v":{"$error":"#NUM!"}},{"$error":"#NUM!"},{"$error":"#NUM!"},{"$error":"#NUM!"},{"$error":"#NUM!"},{"$error":"#NUM!"},{"$error":"#NUM!"},{"$error":"#NUM!"},{"$error":"#NUM!"},{"$error":"#NUM!"},{"$error":"#NUM!"},{"$error":"#NUM!"},{"$error":"#NUM!"},{"$error":"#NUM!"},{"$error":"#NUM!"},{"$error":"#NUM!"},{"$error":"#NUM!"},{"$error":"#NUM!"},{"$error":"#NUM!"},{"$error":"#NUM!"},{"$error":"#NUM!"},{"$error":"#NUM!"},{"$error":"#NUM!"},{"$error":"#NUM!"},{"$error":"#NUM!"},{"$error":"#NUM!"},{"$error":"#NUM!"},{"$error":"#NUM!"},{"$error":"#NUM!"},{"$error":"#NUM!"},{"$error":"#NUM!"},{"$error":"#NUM!"},{"$error":"#NUM!"},{"$error":"#NUM!"},{"$error":"#NUM!"},{"$error":"#NUM!"},{"$error":"#NUM!"},{"$error":"#NUM!"},{"$error":"#NUM!"},{"$error":"#NUM!"},{"$error":"#NUM!"},{"$error":"#NUM!"},{"$error":"#NUM!"},{"$error":"#NUM!"},{"$error":"#NUM!"},{"$error":"#NUM!"},{"$error":"#NUM!"},{"$error":"#NUM!"},{"$error":"#NUM!"},{"$error":"#NUM!"},{"$error":"#NUM!"},{"$error":"#NUM!"},{"$error":"#NUM!"},{"$error":"#NUM!"},{"$error":"#NUM!"},{"$error":"#NUM!"},{"$error":"#NUM!"},{"$error":"#NUM!"},{"$error":"#NUM!"},{"$error":"#NUM!"},{"$error":"#NUM!"},{"$error":"#NUM!"},{"$error":"#NUM!"},{"$error":"#NUM!"},{"$error":"#NUM!"},{"$error":"#NUM!"},{"$error":"#NUM!"},{"$error":"#NUM!"},{"$error":"#NUM!"},{"$error":"#NUM!"},{"$error":"#NUM!"},{"$error":"#NUM!"},{"$error":"#NUM!"},{"$error":"#NUM!"},{"$error":"#NUM!"},{"$error":"#NUM!"},{"$error":"#NUM!"},{"$error":"#NUM!"},{"$error":"#NUM!"},{"$error":"#NUM!"}]
[]
[null,null,"Quota capitale anno per anno",{"$f":"E198+F198","v":{"$error":"#NUM!"}},{"$f":"G198+H198","v":{"$error":"#NUM!"}},{"$f":"I198+J198","v":{"$error":"#NUM!"}},{"$f":"K198+L198","v":{"$error":"#NUM!"}},{"$f":"M198+N198","v":{"$error":"#NUM!"}},{"$f":"O198+P198","v":{"$error":"#NUM!"}},{"$f":"Q198+R198","v":{"$error":"#NUM!"}},{"$f":"S198+T198","v":{"$error":"#NUM!"}},{"$f":"U198+V198","v":{"$error":"#NUM!"}},{"$f":"W198+X198","v":{"$error":"#NUM!"}},{"$f":"Y198+Z198","v":{"$error":"#NUM!"}},{"$f":"AA198+AB198","v":{"$error":"#NUM!"}},{"$f":"AC198+AD198","v":{"$error":"#NUM!"}},{"$f":"AE198+AF198","v":{"$error":"#NUM!"}},{"$f":"AG198+AH198","v":{"$error":"#NUM!"}},{"$f":"AI198+AJ198","v":{"$error":"#NUM!"}},{"$f":"AK198+AL198","v":{"$error":"#NUM!"}},{"$f":"AM198+AN198","v":{"$error":"#NUM!"}},{"$f":"AO198+AP198","v":{"$error":"#NUM!"}},{"$f":"AQ198+AR198","v":{"$error":"#NUM!"}},{"$f":"AS198+AT198","v":{"$error":"#NUM!"}},{"$f":"AU198+AV198","v":{"$error":"#NUM!"}},{"$f":"AW198+AX198","v":{"$error":"#NUM!"}},{"$f":"AY198+AZ198","v":{"$error":"#NUM!"}},{"$f":"BA198+BB198","v":{"$error":"#NUM!"}},{"$f":"BC198+BD198","v":{"$error":"#NUM!"}},{"$f":"BE198+BF198","v":{"$error":"#NUM!"}},{"$f":"BG198+BH198","v":{"$error":"#NUM!"}},{"$f":"BI198+BJ198","v":{"$error":"#NUM!"}},{"$f":"BK198+BL198","v":{"$error":"#NUM!"}},{"$f":"BM198+BN198","v":{"$error":"#NUM!"}},{"$f":"BO198+BP198","v":{"$error":"#NUM!"}},{"$f":"BQ198+BR198","v":{"$error":"#NUM!"}},{"$f":"BS198+BT198","v":{"$error":"#NUM!"}},{"$f":"BU198+BV198","v":{"$error":"#NUM!"}},{"$f":"BW198+BX198","v":{"$error":"#NUM!"}},{"$f":"BY198+BZ198","v":{"$error":"#NUM!"}},{"$f":"CA198+CB198","v":{"$error":"#NUM!"}},{"$f":"CC198+CD198","v":{"$error":"#NUM!"}},{"$f":"CE198+CF198","v":{"$error":"#NUM!"}}]
[null,null,"Quota interessi anno per anno",{"$error":"#NUM!"},{"$error":"#NUM!"},{"$error":"#NUM!"},{"$error":"#NUM!"},{"$error":"#NUM!"},{"$error":"#NUM!"},{"$error":"#NUM!"},{"$error":"#NUM!"},{"$error":"#NUM!"},{"$error":"#NUM!"},{"$error":"#NUM!"},{"$error":"#NUM!"},{"$error":"#NUM!"},{"$error":"#NUM!"},{"$error":"#NUM!"},{"$error":"#NUM!"},{"$error":"#NUM!"},{"$error":"#NUM!"},{"$error":"#NUM!"},{"$error":"#NUM!"},{"$error":"#NUM!"},{"$error":"#NUM!"},{"$error":"#NUM!"},{"$error":"#NUM!"},{"$error":"#NUM!"},{"$error":"#NUM!"},{"$error":"#NUM!"},{"$error":"#NUM!"},{"$error":"#NUM!"},{"$error":"#NUM!"},{"$error":"#NUM!"},{"$error":"#NUM!"},{"$error":"#NUM!"},{"$error":"#NUM!"},{"$error":"#NUM!"},{"$error":"#NUM!"},{"$error":"#NUM!"},{"$error":"#NUM!"},{"$error":"#NUM!"},{"$error":"#NUM!"}]
[null,null,null,1,{"$f":"D207+1","v":2},3,4,5,6,7,8,9,10,11,12,13,14,15,16,17,18,19,20,21,22,23,24,25,26,27,28,29,30,31,32,33,34,35,36,37,38,39,40]
[null,null,null,null,null,null,null,null,null,null,null,null,null,null,null,null,null,null,null,null,null,null,null,null,null,null,null,null,null,null,null,null,null,null,null,null,null,null,null,null,null,null,null,null,null,null,null,null,null,null,null,null," "]
[null,null,"MUTUO FONDIARIO ORDINARIO O AGEVOLATO (piano di ammortamento alla francese)",{"$f":"D196","v":0},{"$f":"D209","v":0},0,0,0,0,0,0,0,0,0,0,0,0,0,0,0,0,0,0,0,0,0,0,0,0,0,0,0,0,0,0,0,0,0,0,0,0,0,0,0,0,0,0,0,0,0,0,0,0,0,0,0,0,0,0,0,0,0,0,0,0,0,0,0,0,0,0,0,0,0,0,0,0,0,0,0,0,0,0,0]
[null,null,"Tasso interesse (Mutuo fondiario standard a tasso fisso) - TAEG",0,{"$f":"E197","v":0},0,0,0,0,0,0,0,0,0,0,0,0,0,0,0,0,0,0,0,0,0,0,0,0,0,0,0,0,0,0,0,0,0,0,0,0,0,0,0,0,0,0,0,0,0,0,0,0,0,0,0,0,0,0,0,0,0,0,0,0,0,0,0,0,0,0,0,0,0,0,0,0,0,0,0,0,0,0,0]
[null,null,"Quota rimborso interessi mutuo agevolato",0,{"$f":"D211","v":0},0,0,0,0,0,0,0,0,0,0,0,0,0,0,0,0,0,0,0,0,0,0,0,0,0,0,0,0,0,0,0,0,0,0,0,0,0,0,0,0,0,0,0,0,0,0,0,0,0,0,0,0,0,0,0,0,0,0,0,0,0,0,0,0,0,0,0,0,0,0,0,0,0,0,0,0,0,0,0]
[null,null,"Periodo di ammortamento (ANNI)",{"$f":"'2 Investimento'!E73","v":0},{"$f":"D212","v":0},0,0,0,0,0,0,0,0,0,0,0,0,0,0,0,0,0,0,0,0,0,0,0,0,0,0,0,0,0,0,0,0,0,0,0,0,0,0,0,0,0,0,0,0,0,0,0,0,0,0,0,0,0,0,0,0,0,0,0,0,0,0,0,0,0,0,0,0,0,0,0,0,0,0,0,0,0,0,0]
[null,null,"Numero rate pagate in un anno",2,{"$f":"D213","v":2},2,2,2,2,2,2,2,2,2,2,2,2,2,2,2,2,2,2,2,2,2,2,2,2,2,2,2,2,2,2,2,2,2,2,2,2,2,2,2,2,2,2,2,2,2,2,2,2,2,2,2,2,2,2,2,2,2,2,2,2,2,2,2,2,2,2,2,2,2,2,2,2,2,2,2,2,2,2,2]
[null,null,"Numero di rate totali",{"$f":"D212*D213","v":0},{"$f":"D214","v":0},0,0,0,0,0,0,0,0,0,0,0,0,0,0,0,0,0,0,0,0,0,0,0,0,0,0,0,0,0,0,0,0,0,0,0,0,0,0,0,0,0,0,0,0,0,0,0,0,0,0,0,0,0,0,0,0,0,0,0,0,0,0,0,0,0,0,0,0,0,0,0,0,0,0,0,0,0,0,0]
[]
[null,null,"Totale rate",{"$f":"SUM(E202:BB202)","v":{"$error":"#NUM!"}}]
[null,null,"Totale interessi",{"$f":"SUM(E199:BB199)","v":{"$error":"#NUM!"}}]

{"sheet":"6 Rendiconto Finanz","index":9,"n_rows":171,"n_cols":69,"rows_kept":171,"cut":false,"hidden":false,"merged":[[146,4,146,15],[166,1,166,9],[167,1,167,9],[168,1,168,9],[169,1,169,9],[42,4,43,5],[66,3,66,9],[118,2,118,3],[119,2,119,3],[138,4,138,15],[67,4,67,9],[68,4,68,9],[69,4,69,9],[70,4,70,9],[71,4,71,9],[74,4,74,9],[87,1,87,3],[39,1,40,1],[39,4,40,5],[39,65,39,67],[1,9,1,13],[1,3,1,8]]}
[null,null,null,null," "," "," "]
[null,6,"Analisi Finanziaria ",{"$f":"'2 Descrizione Progetto'!C4","v":"Concessione per l'affidamento dei lavori di efficientamento energetico della piscina comunale e del successivo servizio di gestione dell'impianto natatorio "},null,null,null,null,null,{"$f":"'2 Descrizione Progetto'!C3","v":"Comune di Guardiagrele"}]
[null,null,null," "]
[null,null,"Flusso di Cassa Operativo","Totale\n(dati nominali)",{"$f":"'5 Foglio di elaborazione'!E15","v":1},{"$f":"'5 Foglio di elaborazione'!F15","v":2},{"$f":"'5 Foglio di elaborazione'!G15","v":3},{"$f":"'5 Foglio di elaborazione'!H15","v":4},{"$f":"'5 Foglio di elaborazione'!I15","v":5},{"$f":"'5 Foglio di elaborazione'!J15","v":6},{"$f":"'5 Foglio di elaborazione'!K15","v":7},{"$f":"'5 Foglio di elaborazione'!L15","v":8},{"$f":"'5 Foglio di elaborazione'!M15","v":9},{"$f":"'5 Foglio di elaborazione'!N15","v":10},{"$f":"'5 Foglio di elaborazione'!O15","v":11},{"$f":"'5 Foglio di elaborazione'!P15","v":"0"},{"$f":"'5 Foglio di elaborazione'!Q15","v":"0"},{"$f":"'5 Foglio di elaborazione'!R15","v":"0"},{"$f":"'5 Foglio di elaborazione'!S15","v":"0"},{"$f":"'5 Foglio di elaborazione'!T15","v":"0"},{"$f":"'5 Foglio di elaborazione'!U15","v":"0"},{"$f":"'5 Foglio di elaborazione'!V15","v":"0"},{"$f":"'5 Foglio di elaborazione'!W15","v":"0"},{"$f":"'5 Foglio di elaborazione'!X15","v":"0"},{"$f":"'5 Foglio di elaborazione'!Y15","v":"0"},{"$f":"'5 Foglio di elaborazione'!Z15","v":"0"},{"$f":"'5 Foglio di elaborazione'!AA15","v":"0"},{"$f":"'5 Foglio di elaborazione'!AB15","v":"0"},{"$f":"'5 Foglio di elaborazione'!AC15","v":"0"},{"$f":"'5 Foglio di elaborazione'!AD15","v":"0"},{"$f":"'5 Foglio di elaborazione'!AE15","v":"0"},{"$f":"'5 Foglio di elaborazione'!AF15","v":"0"},{"$f":"'5 Foglio di elaborazione'!AG15","v":"0"},{"$f":"'5 Foglio di elaborazione'!AH15","v":"0"},{"$f":"'5 Foglio di elaborazione'!AI15","v":"0"},{"$f":"'5 Foglio di elaborazione'!AJ15","v":"0"},{"$f":"'5 Foglio di elaborazione'!AK15","v":"0"},{"$f":"'5 Foglio di elaborazione'!AL15","v":"0"},{"$f":"'5 Foglio di elaborazione'!AM15","v":"0"},{"$f":"'5 Foglio di elaborazione'!AN15","v":"0"},{"$f":"'5 Foglio di elaborazione'!AO15","v":"0"},{"$f":"'5 Foglio di elaborazione'!AP15","v":"0"},{"$f":"'5 Foglio di elaborazione'!AQ15","v":"0"},{"$f":"'5 Foglio di elaborazione'!AR15","v":"0"},{"$f":"'5 Foglio di elaborazione'!AS15","v":"0"},{"$f":"'5 Foglio di elaborazione'!AT15","v":"0"},{"$f":"'5 Foglio di elaborazione'!AU15","v":"0"},{"$f":"'5 Foglio di elaborazione'!AV15","v":"0"},{"$f":"'5 Foglio di elaborazione'!AW15","v":"0"},{"$f":"'5 Foglio di elaborazione'!AX15","v":"0"},{"$f":"'5 Foglio di elaborazione'!AY15","v":"0"},{"$f":"'5 Foglio di elaborazione'!AZ15","v":"0"},{"$f":"'5 Foglio di elaborazione'!BA15","v":"0"},{"$f":"'5 Foglio di elaborazione'!BB15","v":"0"},{"$f":"'5 Foglio di elaborazione'!BC15","v":"0"},{"$f":"'5 Foglio di elaborazione'!BD15","v":"0"},{"$f":"'5 Foglio di elaborazione'!BE15","v":"0"},{"$f":"'5 Foglio di elaborazione'!BF15","v":"0"},{"$f":"'5 Foglio di elaborazione'!BG15","v":"0"},{"$f":"'5 Foglio di elaborazione'!BH15","v":"0"},{"$f":"'5 Foglio di elaborazione'!BI15","v":"0"},{"$f":"'5 Foglio di elaborazione'!BJ15","v":"0"},{"$f":"'5 Foglio di elaborazione'!BK15","v":"0"},{"$f":"'5 Foglio di elaborazione'!BL15","v":"0"}]
[null,"+",{"$f":"'4 Sviluppo Domanda e Gestione'!C164","v":"Ricavi tariffari utilizzati nel flusso di cassa   "},{"$f":"SUM(E5:BL5)","v":4527622.0971056474},{"$f":"'4 Sviluppo Domanda e Gestione'!E164","v":345250},{"$f":"IF(F$4>'2 Descrizione Progetto'!$D$22,0,IF(AND(F$4>='2 Descrizione Progetto'!$D$17,F$4<='2 Descrizione Progetto'!$D$19),0,INDIRECT(CONCATENATE(\"'4 Sviluppo Domanda e Gestione'!\",\"r\",ROW('4 Sviluppo Domanda e Gestione'!F164),\"c\",F$4-'5 Foglio di elaborazione'!$E$3+5),0)*(1+'10 Schema Sintesi'!$E$201)))","v":389232},{"$f":"IF(G$4>'2 Descrizione Progetto'!$D$22,0,IF(AND(G$4>='2 Descrizione Progetto'!$D$17,G$4<='2 Descrizione Progetto'!$D$19),0,INDIRECT(CONCATENATE(\"'4 Sviluppo Domanda e Gestione'!\",\"r\",ROW('4 Sviluppo Domanda e Gestione'!G164),\"c\",G$4-'5 Foglio di elaborazione'!$E$3+5),0)*(1+'10 Schema Sintesi'!$E$201)))","v":441937.99079999997},{"$f":"IF(H$4>'2 Descrizione Progetto'!$D$22,0,IF(AND(H$4>='2 Descrizione Progetto'!$D$17,H$4<='2 Descrizione Progetto'!$D$19),0,INDIRECT(CONCATENATE(\"'4 Sviluppo Domanda e Gestione'!\",\"r\",ROW('4 Sviluppo Domanda e Gestione'!H164),\"c\",H$4-'5 Foglio di elaborazione'!$E$3+5),0)*(1+'10 Schema Sintesi'!$E$201)))","v":450776.75061599998},{"$f":"IF(I$4>'2 Descrizione Progetto'!$D$22,0,IF(AND(I$4>='2 Descrizione Progetto'!$D$17,I$4<='2 Descrizione Progetto'!$D$19),0,INDIRECT(CONCATENATE(\"'4 Sviluppo Domanda e Gestione'!\",\"r\",ROW('4 Sviluppo Domanda e Gestione'!I164),\"c\",I$4-'5 Foglio di elaborazione'!$E$3+5),0)*(1+'10 Schema Sintesi'!$E$201)))","v":459792.28562831995},{"$f":"IF(J$4>'2 Descrizione Progetto'!$D$22,0,IF(AND(J$4>='2 Descrizione Progetto'!$D$17,J$4<='2 Descrizione Progetto'!$D$19),0,INDIRECT(CONCATENATE(\"'4 Sviluppo Domanda e Gestione'!\",\"r\",ROW('4 Sviluppo Domanda e Gestione'!J164),\"c\",J$4-'5 Foglio di elaborazione'!$E$3+5),0)*(1+'10 Schema Sintesi'!$E$201)))","v":468988.13134088635},{"$f":"IF(K$4>'2 Descrizione Progetto'!$D$22,0,IF(AND(K$4>='2 Descrizione Progetto'!$D$17,K$4<='2 Descrizione Progetto'!$D$19),0,INDIRECT(CONCATENATE(\"'4 Sviluppo Domanda e Gestione'!\",\"r\",ROW('4 Sviluppo Domanda e Gestione'!K164),\"c\",K$4-'5 Foglio di elaborazione'!$E$3+5),0)*(1+'10 Schema Sintesi'!$E$201)))","v":478367.89396770415},{"$f":"IF(L$4>'2 Descrizione Progetto'!$D$22,0,IF(AND(L$4>='2 Descrizione Progetto'!$D$17,L$4<='2 Descrizione Progetto'!$D$19),0,INDIRECT(CONCATENATE(\"'4 Sviluppo Domanda e Gestione'!\",\"r\",ROW('4 Sviluppo Domanda e Gestione'!L164),\"c\",L$4-'5 Foglio di elaborazione'!$E$3+5),0)*(1+'10 Schema Sintesi'!$E$201)))","v":487935.25184705824},{"$f":"IF(M$4>'2 Descrizione Progetto'!$D$22,0,IF(AND(M$4>='2 Descrizione Progetto'!$D$17,M$4<='2 Descrizione Progetto'!$D$19),0,INDIRECT(CONCATENATE(\"'4 Sviluppo Domanda e Gestione'!\",\"r\",ROW('4 Sviluppo Domanda e Gestione'!M164),\"c\",M$4-'5 Foglio di elaborazione'!$E$3+5),0)*(1+'10 Schema Sintesi'!$E$201)))","v":497693.95688399946},{"$f":"IF(N$4>'2 Descrizione Progetto'!$D$22,0,IF(AND(N$4>='2 Descrizione Progetto'!$D$17,N$4<='2 Descrizione Progetto'!$D$19),0,INDIRECT(CONCATENATE(\"'4 Sviluppo Domanda e Gestione'!\",\"r\",ROW('4 Sviluppo Domanda e Gestione'!N164),\"c\",N$4-'5 Foglio di elaborazione'!$E$3+5),0)*(1+'10 Schema Sintesi'!$E$201)))","v":507647.8360216794},{"$f":"IF(O$4>'2 Descrizione Progetto'!$D$22,0,IF(AND(O$4>='2 Descrizione Progetto'!$D$17,O$4<='2 Descrizione Progetto'!$D$19),0,INDIRECT(CONCATENATE(\"'4 Sviluppo Domanda e Gestione'!\",\"r\",ROW('4 Sviluppo Domanda e Gestione'!O164),\"c\",O$4-'5 Foglio di elaborazione'!$E$3+5),0)*(1+'10 Schema Sintesi'!$E$201)))","v":0},{"$f":"IF(P$4>'2 Descrizione Progetto'!$D$22,0,IF(AND(P$4>='2 Descrizione Progetto'!$D$17,P$4<='2 Descrizione Progetto'!$D$19),0,INDIRECT(CONCATENATE(\"'4 Sviluppo Domanda e Gestione'!\",\"r\",ROW('4 Sviluppo Domanda e Gestione'!P164),\"c\",P$4-'5 Foglio di elaborazione'!$E$3+5),0)*(1+'10 Schema Sintesi'!$E$201)))","v":0},{"$f":"IF(Q$4>'2 Descrizione Progetto'!$D$22,0,IF(AND(Q$4>='2 Descrizione Progetto'!$D$17,Q$4<='2 Descrizione Progetto'!$D$19),0,INDIRECT(CONCATENATE(\"'4 Sviluppo Domanda e Gestione'!\",\"r\",ROW('4 Sviluppo Domanda e Gestione'!Q164),\"c\",Q$4-'5 Foglio di elaborazione'!$E$3+5),0)*(1+'10 Schema Sintesi'!$E$201)))","v":0},{"$f":"IF(R$4>'2 Descrizione Progetto'!$D$22,0,IF(AND(R$4>='2 Descrizione Progetto'!$D$17,R$4<='2 Descrizione Progetto'!$D$19),0,INDIRECT(CONCATENATE(\"'4 Sviluppo Domanda e Gestione'!\",\"r\",ROW('4 Sviluppo Domanda e Gestione'!R164),\"c\",R$4-'5 Foglio di elaborazione'!$E$3+5),0)*(1+'10 Schema Sintesi'!$E$201)))","v":0},{"$f":"IF(S$4>'2 Descrizione Progetto'!$D$22,0,IF(AND(S$4>='2 Descrizione Progetto'!$D$17,S$4<='2 Descrizione Progetto'!$D$19),0,INDIRECT(CONCATENATE(\"'4 Sviluppo Domanda e Gestione'!\",\"r\",ROW('4 Sviluppo Domanda e Gestione'!S164),\"c\",S$4-'5 Foglio di elaborazione'!$E$3+5),0)*(1+'10 Schema Sintesi'!$E$201)))","v":0},{"$f":"IF(T$4>'2 Descrizione Progetto'!$D$22,0,IF(AND(T$4>='2 Descrizione Progetto'!$D$17,T$4<='2 Descrizione Progetto'!$D$19),0,INDIRECT(CONCATENATE(\"'4 Sviluppo Domanda e Gestione'!\",\"r\",ROW('4 Sviluppo Domanda e Gestione'!T164),\"c\",T$4-'5 Foglio di elaborazione'!$E$3+5),0)*(1+'10 Schema Sintesi'!$E$201)))","v":0},{"$f":"IF(U$4>'2 Descrizione Progetto'!$D$22,0,IF(AND(U$4>='2 Descrizione Progetto'!$D$17,U$4<='2 Descrizione Progetto'!$D$19),0,INDIRECT(CONCATENATE(\"'4 Sviluppo Domanda e Gestione'!\",\"r\",ROW('4 Sviluppo Domanda e Gestione'!U164),\"c\",U$4-'5 Foglio di elaborazione'!$E$3+5),0)*(1+'10 Schema Sintesi'!$E$201)))","v":0},{"$f":"IF(V$4>'2 Descrizione Progetto'!$D$22,0,IF(AND(V$4>='2 Descrizione Progetto'!$D$17,V$4<='2 Descrizione Progetto'!$D$19),0,INDIRECT(CONCATENATE(\"'4 Sviluppo Domanda e Gestione'!\",\"r\",ROW('4 Sviluppo Domanda e Gestione'!V164),\"c\",V$4-'5 Foglio di elaborazione'!$E$3+5),0)*(1+'10 Schema Sintesi'!$E$201)))","v":0},{"$f":"IF(W$4>'2 Descrizione Progetto'!$D$22,0,IF(AND(W$4>='2 Descrizione Progetto'!$D$17,W$4<='2 Descrizione Progetto'!$D$19),0,INDIRECT(CONCATENATE(\"'4 Sviluppo Domanda e Gestione'!\",\"r\",ROW('4 Sviluppo Domanda e Gestione'!W164),\"c\",W$4-'5 Foglio di elaborazione'!$E$3+5),0)*(1+'10 Schema Sintesi'!$E$201)))","v":0},{"$f":"IF(X$4>'2 Descrizione Progetto'!$D$22,0,IF(AND(X$4>='2 Descrizione Progetto'!$D$17,X$4<='2 Descrizione Progetto'!$D$19),0,INDIRECT(CONCATENATE(\"'4 Sviluppo Domanda e Gestione'!\",\"r\",ROW('4 Sviluppo Domanda e Gestione'!X164),\"c\",X$4-'5 Foglio di elaborazione'!$E$3+5),0)*(1+'10 Schema Sintesi'!$E$201)))","v":0},{"$f":"IF(Y$4>'2 Descrizione Progetto'!$D$22,0,IF(AND(Y$4>='2 Descrizione Progetto'!$D$17,Y$4<='2 Descrizione Progetto'!$D$19),0,INDIRECT(CONCATENATE(\"'4 Sviluppo Domanda e Gestione'!\",\"r\",ROW('4 Sviluppo Domanda e Gestione'!Y164),\"c\",Y$4-'5 Foglio di elaborazione'!$E$3+5),0)*(1+'10 Schema Sintesi'!$E$201)))","v":0},{"$f":"IF(Z$4>'2 Descrizione Progetto'!$D$22,0,IF(AND(Z$4>='2 Descrizione Progetto'!$D$17,Z$4<='2 Descrizione Progetto'!$D$19),0,INDIRECT(CONCATENATE(\"'4 Sviluppo Domanda e Gestione'!\",\"r\",ROW('4 Sviluppo Domanda e Gestione'!Z164),\"c\",Z$4-'5 Foglio di elaborazione'!$E$3+5),0)*(1+'10 Schema Sintesi'!$E$201)))","v":0},{"$f":"IF(AA$4>'2 Descrizione Progetto'!$D$22,0,IF(AND(AA$4>='2 Descrizione Progetto'!$D$17,AA$4<='2 Descrizione Progetto'!$D$19),0,INDIRECT(CONCATENATE(\"'4 Sviluppo Domanda e Gestione'!\",\"r\",ROW('4 Sviluppo Domanda e Gestione'!AA164),\"c\",AA$4-'5 Foglio di elaborazione'!$E$3+5),0)*(1+'10 Schema Sintesi'!$E$201)))","v":0},{"$f":"IF(AB$4>'2 Descrizione Progetto'!$D$22,0,IF(AND(AB$4>='2 Descrizione Progetto'!$D$17,AB$4<='2 Descrizione Progetto'!$D$19),0,INDIRECT(CONCATENATE(\"'4 Sviluppo Domanda e Gestione'!\",\"r\",ROW('4 Sviluppo Domanda e Gestione'!AB164),\"c\",AB$4-'5 Foglio di elaborazione'!$E$3+5),0)*(1+'10 Schema Sintesi'!$E$201)))","v":0},{"$f":"IF(AC$4>'2 Descrizione Progetto'!$D$22,0,IF(AND(AC$4>='2 Descrizione Progetto'!$D$17,AC$4<='2 Descrizione Progetto'!$D$19),0,INDIRECT(CONCATENATE(\"'4 Sviluppo Domanda e Gestione'!\",\"r\",ROW('4 Sviluppo Domanda e Gestione'!AC164),\"c\",AC$4-'5 Foglio di elaborazione'!$E$3+5),0)*(1+'10 Schema Sintesi'!$E$201)))","v":0},{"$f":"IF(AD$4>'2 Descrizione Progetto'!$D$22,0,IF(AND(AD$4>='2 Descrizione Progetto'!$D$17,AD$4<='2 Descrizione Progetto'!$D$19),0,INDIRECT(CONCATENATE(\"'4 Sviluppo Domanda e Gestione'!\",\"r\",ROW('4 Sviluppo Domanda e Gestione'!AD164),\"c\",AD$4-'5 Foglio di elaborazione'!$E$3+5),0)*(1+'10 Schema Sintesi'!$E$201)))","v":0},{"$f":"IF(AE$4>'2 Descrizione Progetto'!$D$22,0,IF(AND(AE$4>='2 Descrizione Progetto'!$D$17,AE$4<='2 Descrizione Progetto'!$D$19),0,INDIRECT(CONCATENATE(\"'4 Sviluppo Domanda e Gestione'!\",\"r\",ROW('4 Sviluppo Domanda e Gestione'!AE164),\"c\",AE$4-'5 Foglio di elaborazione'!$E$3+5),0)*(1+'10 Schema Sintesi'!$E$201)))","v":0},{"$f":"IF(AF$4>'2 Descrizione Progetto'!$D$22,0,IF(AND(AF$4>='2 Descrizione Progetto'!$D$17,AF$4<='2 Descrizione Progetto'!$D$19),0,INDIRECT(CONCATENATE(\"'4 Sviluppo Domanda e Gestione'!\",\"r\",ROW('4 Sviluppo Domanda e Gestione'!AF164),\"c\",AF$4-'5 Foglio di elaborazione'!$E$3+5),0)*(1+'10 Schema Sintesi'!$E$201)))","v":0},{"$f":"IF(AG$4>'2 Descrizione Progetto'!$D$22,0,IF(AND(AG$4>='2 Descrizione Progetto'!$D$17,AG$4<='2 Descrizione Progetto'!$D$19),0,INDIRECT(CONCATENATE(\"'4 Sviluppo Domanda e Gestione'!\",\"r\",ROW('4 Sviluppo Domanda e Gestione'!AG164),\"c\",AG$4-'5 Foglio di elaborazione'!$E$3+5),0)*(1+'10 Schema Sintesi'!$E$201)))","v":0},{"$f":"IF(AH$4>'2 Descrizione Progetto'!$D$22,0,IF(AND(AH$4>='2 Descrizione Progetto'!$D$17,AH$4<='2 Descrizione Progetto'!$D$19),0,INDIRECT(CONCATENATE(\"'4 Sviluppo Domanda e Gestione'!\",\"r\",ROW('4 Sviluppo Domanda e Gestione'!AH164),\"c\",AH$4-'5 Foglio di elaborazione'!$E$3+5),0)*(1+'10 Schema Sintesi'!$E$201)))","v":0},{"$f":"IF(AI$4>'2 Descrizione Progetto'!$D$22,0,IF(AND(AI$4>='2 Descrizione Progetto'!$D$17,AI$4<='2 Descrizione Progetto'!$D$19),0,INDIRECT(CONCATENATE(\"'4 Sviluppo Domanda e Gestione'!\",\"r\",ROW('4 Sviluppo Domanda e Gestione'!AI164),\"c\",AI$4-'5 Foglio di elaborazione'!$E$3+5),0)*(1+'10 Schema Sintesi'!$E$201)))","v":0},{"$f":"IF(AJ$4>'2 Descrizione Progetto'!$D$22,0,IF(AND(AJ$4>='2 Descrizione Progetto'!$D$17,AJ$4<='2 Descrizione Progetto'!$D$19),0,INDIRECT(CONCATENATE(\"'4 Sviluppo Domanda e Gestione'!\",\"r\",ROW('4 Sviluppo Domanda e Gestione'!AJ164),\"c\",AJ$4-'5 Foglio di elaborazione'!$E$3+5),0)*(1+'10 Schema Sintesi'!$E$201)))","v":0},{"$f":"IF(AK$4>'2 Descrizione Progetto'!$D$22,0,IF(AND(AK$4>='2 Descrizione Progetto'!$D$17,AK$4<='2 Descrizione Progetto'!$D$19),0,INDIRECT(CONCATENATE(\"'4 Sviluppo Domanda e Gestione'!\",\"r\",ROW('4 Sviluppo Domanda e Gestione'!AK164),\"c\",AK$4-'5 Foglio di elaborazione'!$E$3+5),0)*(1+'10 Schema Sintesi'!$E$201)))","v":0},{"$f":"IF(AL$4>'2 Descrizione Progetto'!$D$22,0,IF(AND(AL$4>='2 Descrizione Progetto'!$D$17,AL$4<='2 Descrizione Progetto'!$D$19),0,INDIRECT(CONCATENATE(\"'4 Sviluppo Domanda e Gestione'!\",\"r\",ROW('4 Sviluppo Domanda e Gestione'!AL164),\"c\",AL$4-'5 Foglio di elaborazione'!$E$3+5),0)*(1+'10 Schema Sintesi'!$E$201)))","v":0},{"$f":"IF(AM$4>'2 Descrizione Progetto'!$D$22,0,IF(AND(AM$4>='2 Descrizione Progetto'!$D$17,AM$4<='2 Descrizione Progetto'!$D$19),0,INDIRECT(CONCATENATE(\"'4 Sviluppo Domanda e Gestione'!\",\"r\",ROW('4 Sviluppo Domanda e Gestione'!AM164),\"c\",AM$4-'5 Foglio di elaborazione'!$E$3+5),0)*(1+'10 Schema Sintesi'!$E$201)))","v":0},{"$f":"IF(AN$4>'2 Descrizione Progetto'!$D$22,0,IF(AND(AN$4>='2 Descrizione Progetto'!$D$17,AN$4<='2 Descrizione Progetto'!$D$19),0,INDIRECT(CONCATENATE(\"'4 Sviluppo Domanda e Gestione'!\",\"r\",ROW('4 Sviluppo Domanda e Gestione'!AN164),\"c\",AN$4-'5 Foglio di elaborazione'!$E$3+5),0)*(1+'10 Schema Sintesi'!$E$201)))","v":0},{"$f":"IF(AO$4>'2 Descrizione Progetto'!$D$22,0,IF(AND(AO$4>='2 Descrizione Progetto'!$D$17,AO$4<='2 Descrizione Progetto'!$D$19),0,INDIRECT(CONCATENATE(\"'4 Sviluppo Domanda e Gestione'!\",\"r\",ROW('4 Sviluppo Domanda e Gestione'!AO164),\"c\",AO$4-'5 Foglio di elaborazione'!$E$3+5),0)*(1+'10 Schema Sintesi'!$E$201)))","v":0},{"$f":"IF(AP$4>'2 Descrizione Progetto'!$D$22,0,IF(AND(AP$4>='2 Descrizione Progetto'!$D$17,AP$4<='2 Descrizione Progetto'!$D$19),0,INDIRECT(CONCATENATE(\"'4 Sviluppo Domanda e Gestione'!\",\"r\",ROW('4 Sviluppo Domanda e Gestione'!AP164),\"c\",AP$4-'5 Foglio di elaborazione'!$E$3+5),0)*(1+'10 Schema Sintesi'!$E$201)))","v":0},{"$f":"IF(AQ$4>'2 Descrizione Progetto'!$D$22,0,IF(AND(AQ$4>='2 Descrizione Progetto'!$D$17,AQ$4<='2 Descrizione Progetto'!$D$19),0,INDIRECT(CONCATENATE(\"'4 Sviluppo Domanda e Gestione'!\",\"r\",ROW('4 Sviluppo Domanda e Gestione'!AQ164),\"c\",AQ$4-'5 Foglio di elaborazione'!$E$3+5),0)*(1+'10 Schema Sintesi'!$E$201)))","v":0},{"$f":"IF(AR$4>'2 Descrizione Progetto'!$D$22,0,IF(AND(AR$4>='2 Descrizione Progetto'!$D$17,AR$4<='2 Descrizione Progetto'!$D$19),0,INDIRECT(CONCATENATE(\"'4 Sviluppo Domanda e Gestione'!\",\"r\",ROW('4 Sviluppo Domanda e Gestione'!AR164),\"c\",AR$4-'5 Foglio di elaborazione'!$E$3+5),0)*(1+'10 Schema Sintesi'!$E$201)))","v":0},{"$f":"IF(AS$4>'2 Descrizione Progetto'!$D$22,0,IF(AND(AS$4>='2 Descrizione Progetto'!$D$17,AS$4<='2 Descrizione Progetto'!$D$19),0,INDIRECT(CONCATENATE(\"'4 Sviluppo Domanda e Gestione'!\",\"r\",ROW('4 Sviluppo Domanda e Gestione'!AS164),\"c\",AS$4-'5 Foglio di elaborazione'!$E$3+5),0)*(1+'10 Schema Sintesi'!$E$201)))","v":0},{"$f":"IF(AT$4>'2 Descrizione Progetto'!$D$22,0,IF(AND(AT$4>='2 Descrizione Progetto'!$D$17,AT$4<='2 Descrizione Progetto'!$D$19),0,INDIRECT(CONCATENATE(\"'4 Sviluppo Domanda e Gestione'!\",\"r\",ROW('4 Sviluppo Domanda e Gestione'!AT164),\"c\",AT$4-'5 Foglio di elaborazione'!$E$3+5),0)*(1+'10 Schema Sintesi'!$E$201)))","v":0},{"$f":"IF(AU$4>'2 Descrizione Progetto'!$D$22,0,IF(AND(AU$4>='2 Descrizione Progetto'!$D$17,AU$4<='2 Descrizione Progetto'!$D$19),0,INDIRECT(CONCATENATE(\"'4 Sviluppo Domanda e Gestione'!\",\"r\",ROW('4 Sviluppo Domanda e Gestione'!AU164),\"c\",AU$4-'5 Foglio di elaborazione'!$E$3+5),0)*(1+'10 Schema Sintesi'!$E$201)))","v":0},{"$f":"IF(AV$4>'2 Descrizione Progetto'!$D$22,0,IF(AND(AV$4>='2 Descrizione Progetto'!$D$17,AV$4<='2 Descrizione Progetto'!$D$19),0,INDIRECT(CONCATENATE(\"'4 Sviluppo Domanda e Gestione'!\",\"r\",ROW('4 Sviluppo Domanda e Gestione'!AV164),\"c\",AV$4-'5 Foglio di elaborazione'!$E$3+5),0)*(1+'10 Schema Sintesi'!$E$201)))","v":0},{"$f":"IF(AW$4>'2 Descrizione Progetto'!$D$22,0,IF(AND(AW$4>='2 Descrizione Progetto'!$D$17,AW$4<='2 Descrizione Progetto'!$D$19),0,INDIRECT(CONCATENATE(\"'4 Sviluppo Domanda e Gestione'!\",\"r\",ROW('4 Sviluppo Domanda e Gestione'!AW164),\"c\",AW$4-'5 Foglio di elaborazione'!$E$3+5),0)*(1+'10 Schema Sintesi'!$E$201)))","v":0},{"$f":"IF(AX$4>'2 Descrizione Progetto'!$D$22,0,IF(AND(AX$4>='2 Descrizione Progetto'!$D$17,AX$4<='2 Descrizione Progetto'!$D$19),0,INDIRECT(CONCATENATE(\"'4 Sviluppo Domanda e Gestione'!\",\"r\",ROW('4 Sviluppo Domanda e Gestione'!AX164),\"c\",AX$4-'5 Foglio di elaborazione'!$E$3+5),0)*(1+'10 Schema Sintesi'!$E$201)))","v":0},{"$f":"IF(AY$4>'2 Descrizione Progetto'!$D$22,0,IF(AND(AY$4>='2 Descrizione Progetto'!$D$17,AY$4<='2 Descrizione Progetto'!$D$19),0,INDIRECT(CONCATENATE(\"'4 Sviluppo Domanda e Gestione'!\",\"r\",ROW('4 Sviluppo Domanda e Gestione'!AY164),\"c\",AY$4-'5 Foglio di elaborazione'!$E$3+5),0)*(1+'10 Schema Sintesi'!$E$201)))","v":0},{"$f":"IF(AZ$4>'2 Descrizione Progetto'!$D$22,0,IF(AND(AZ$4>='2 Descrizione Progetto'!$D$17,AZ$4<='2 Descrizione Progetto'!$D$19),0,INDIRECT(CONCATENATE(\"'4 Sviluppo Domanda e Gestione'!\",\"r\",ROW('4 Sviluppo Domanda e Gestione'!AZ164),\"c\",AZ$4-'5 Foglio di elaborazione'!$E$3+5),0)*(1+'10 Schema Sintesi'!$E$201)))","v":0},{"$f":"IF(BA$4>'2 Descrizione Progetto'!$D$22,0,IF(AND(BA$4>='2 Descrizione Progetto'!$D$17,BA$4<='2 Descrizione Progetto'!$D$19),0,INDIRECT(CONCATENATE(\"'4 Sviluppo Domanda e Gestione'!\",\"r\",ROW('4 Sviluppo Domanda e Gestione'!BA164),\"c\",BA$4-'5 Foglio di elaborazione'!$E$3+5),0)*(1+'10 Schema Sintesi'!$E$201)))","v":0},{"$f":"IF(BB$4>'2 Descrizione Progetto'!$D$22,0,IF(AND(BB$4>='2 Descrizione Progetto'!$D$17,BB$4<='2 Descrizione Progetto'!$D$19),0,INDIRECT(CONCATENATE(\"'4 Sviluppo Domanda e Gestione'!\",\"r\",ROW('4 Sviluppo Domanda e Gestione'!BB164),\"c\",BB$4-'5 Foglio di elaborazione'!$E$3+5),0)*(1+'10 Schema Sintesi'!$E$201)))","v":0},{"$f":"IF(BC$4>'2 Descrizione Progetto'!$D$22,0,IF(AND(BC$4>='2 Descrizione Progetto'!$D$17,BC$4<='2 Descrizione Progetto'!$D$19),0,INDIRECT(CONCATENATE(\"'4 Sviluppo Domanda e Gestione'!\",\"r\",ROW('4 Sviluppo Domanda e Gestione'!BC164),\"c\",BC$4-'5 Foglio di elaborazione'!$E$3+5),0)*(1+'10 Schema Sintesi'!$E$201)))","v":0},{"$f":"IF(BD$4>'2 Descrizione Progetto'!$D$22,0,IF(AND(BD$4>='2 Descrizione Progetto'!$D$17,BD$4<='2 Descrizione Progetto'!$D$19),0,INDIRECT(CONCATENATE(\"'4 Sviluppo Domanda e Gestione'!\",\"r\",ROW('4 Sviluppo Domanda e Gestione'!BD164),\"c\",BD$4-'5 Foglio di elaborazione'!$E$3+5),0)*(1+'10 Schema Sintesi'!$E$201)))","v":0},{"$f":"IF(BE$4>'2 Descrizione Progetto'!$D$22,0,IF(AND(BE$4>='2 Descrizione Progetto'!$D$17,BE$4<='2 Descrizione Progetto'!$D$19),0,INDIRECT(CONCATENATE(\"'4 Sviluppo Domanda e Gestione'!\",\"r\",ROW('4 Sviluppo Domanda e Gestione'!BE164),\"c\",BE$4-'5 Foglio di elaborazione'!$E$3+5),0)*(1+'10 Schema Sintesi'!$E$201)))","v":0},{"$f":"IF(BF$4>'2 Descrizione Progetto'!$D$22,0,IF(AND(BF$4>='2 Descrizione Progetto'!$D$17,BF$4<='2 Descrizione Progetto'!$D$19),0,INDIRECT(CONCATENATE(\"'4 Sviluppo Domanda e Gestione'!\",\"r\",ROW('4 Sviluppo Domanda e Gestione'!BF164),\"c\",BF$4-'5 Foglio di elaborazione'!$E$3+5),0)*(1+'10 Schema Sintesi'!$E$201)))","v":0},{"$f":"IF(BG$4>'2 Descrizione Progetto'!$D$22,0,IF(AND(BG$4>='2 Descrizione Progetto'!$D$17,BG$4<='2 Descrizione Progetto'!$D$19),0,INDIRECT(CONCATENATE(\"'4 Sviluppo Domanda e Gestione'!\",\"r\",ROW('4 Sviluppo Domanda e Gestione'!BG164),\"c\",BG$4-'5 Foglio di elaborazione'!$E$3+5),0)*(1+'10 Schema Sintesi'!$E$201)))","v":0},{"$f":"IF(BH$4>'2 Descrizione Progetto'!$D$22,0,IF(AND(BH$4>='2 Descrizione Progetto'!$D$17,BH$4<='2 Descrizione Progetto'!$D$19),0,INDIRECT(CONCATENATE(\"'4 Sviluppo Domanda e Gestione'!\",\"r\",ROW('4 Sviluppo Domanda e Gestione'!BH164),\"c\",BH$4-'5 Foglio di elaborazione'!$E$3+5),0)*(1+'10 Schema Sintesi'!$E$201)))","v":0},{"$f":"IF(BI$4>'2 Descrizione Progetto'!$D$22,0,IF(AND(BI$4>='2 Descrizione Progetto'!$D$17,BI$4<='2 Descrizione Progetto'!$D$19),0,INDIRECT(CONCATENATE(\"'4 Sviluppo Domanda e Gestione'!\",\"r\",ROW('4 Sviluppo Domanda e Gestione'!BI164),\"c\",BI$4-'5 Foglio di elaborazione'!$E$3+5),0)*(1+'10 Schema Sintesi'!$E$201)))","v":0},{"$f":"IF(BJ$4>'2 Descrizione Progetto'!$D$22,0,IF(AND(BJ$4>='2 Descrizione Progetto'!$D$17,BJ$4<='2 Descrizione Progetto'!$D$19),0,INDIRECT(CONCATENATE(\"'4 Sviluppo Domanda e Gestione'!\",\"r\",ROW('4 Sviluppo Domanda e Gestione'!BJ164),\"c\",BJ$4-'5 Foglio di elaborazione'!$E$3+5),0)*(1+'10 Schema Sintesi'!$E$201)))","v":0},{"$f":"IF(BK$4>'2 Descrizione Progetto'!$D$22,0,IF(AND(BK$4>='2 Descrizione Progetto'!$D$17,BK$4<='2 Descrizione Progetto'!$D$19),0,INDIRECT(CONCATENATE(\"'4 Sviluppo Domanda e Gestione'!\",\"r\",ROW('4 Sviluppo Domanda e Gestione'!BK164),\"c\",BK$4-'5 Foglio di elaborazione'!$E$3+5),0)*(1+'10 Schema Sintesi'!$E$201)))","v":0},{"$f":"IF(BL$4>'2 Descrizione Progetto'!$D$22,0,IF(AND(BL$4>='2 Descrizione Progetto'!$D$17,BL$4<='2 Descrizione Progetto'!$D$19),0,INDIRECT(CONCATENATE(\"'4 Sviluppo Domanda e Gestione'!\",\"r\",ROW('4 Sviluppo Domanda e Gestione'!BL164),\"c\",BL$4-'5 Foglio di elaborazione'!$E$3+5),0)*(1+'10 Schema Sintesi'!$E$201)))","v":0}]
[null,{"$f":"IF('4 Sviluppo Domanda e Gestione'!D274=\"Canone di disponibilità\",\"+\",\"-\")","v":"-"},{"$f":"'4 Sviluppo Domanda e Gestione'!D274","v":"Canone di concessione"},0,{"$f":"SUM('4 Sviluppo Domanda e Gestione'!F286)","v":0},{"$f":"IF(F4>'2 Descrizione Progetto'!$D$22,0,IF(AND(F4>='2 Descrizione Progetto'!$D$17,F4<='2 Descrizione Progetto'!$D$19),0,'4 Sviluppo Domanda e Gestione'!$F$286*(1+'10 Schema Sintesi'!$E$203)))*F138","v":0},{"$f":"IF(G4>'2 Descrizione Progetto'!$D$22,0,IF(AND(G4>='2 Descrizione Progetto'!$D$17,G4<='2 Descrizione Progetto'!$D$19),0,'4 Sviluppo Domanda e Gestione'!$F$286*(1+'10 Schema Sintesi'!$E$203)))*G138","v":0},{"$f":"IF(H4>'2 Descrizione Progetto'!$D$22,0,IF(AND(H4>='2 Descrizione Progetto'!$D$17,H4<='2 Descrizione Progetto'!$D$19),0,'4 Sviluppo Domanda e Gestione'!$F$286*(1+'10 Schema Sintesi'!$E$203)))*H138","v":0},{"$f":"IF(I4>'2 Descrizione Progetto'!$D$22,0,IF(AND(I4>='2 Descrizione Progetto'!$D$17,I4<='2 Descrizione Progetto'!$D$19),0,'4 Sviluppo Domanda e Gestione'!$F$286*(1+'10 Schema Sintesi'!$E$203)))*I138","v":0},{"$f":"IF(J4>'2 Descrizione Progetto'!$D$22,0,IF(AND(J4>='2 Descrizione Progetto'!$D$17,J4<='2 Descrizione Progetto'!$D$19),0,'4 Sviluppo Domanda e Gestione'!$F$286*(1+'10 Schema Sintesi'!$E$203)))*J138","v":0},{"$f":"IF(K4>'2 Descrizione Progetto'!$D$22,0,IF(AND(K4>='2 Descrizione Progetto'!$D$17,K4<='2 Descrizione Progetto'!$D$19),0,'4 Sviluppo Domanda e Gestione'!$F$286*(1+'10 Schema Sintesi'!$E$203)))*K138","v":0},{"$f":"IF(L4>'2 Descrizione Progetto'!$D$22,0,IF(AND(L4>='2 Descrizione Progetto'!$D$17,L4<='2 Descrizione Progetto'!$D$19),0,'4 Sviluppo Domanda e Gestione'!$F$286*(1+'10 Schema Sintesi'!$E$203)))*L138","v":0},{"$f":"IF(M4>'2 Descrizione Progetto'!$D$22,0,IF(AND(M4>='2 Descrizione Progetto'!$D$17,M4<='2 Descrizione Progetto'!$D$19),0,'4 Sviluppo Domanda e Gestione'!$F$286*(1+'10 Schema Sintesi'!$E$203)))*M138","v":0},{"$f":"IF(N4>'2 Descrizione Progetto'!$D$22,0,IF(AND(N4>='2 Descrizione Progetto'!$D$17,N4<='2 Descrizione Progetto'!$D$19),0,'4 Sviluppo Domanda e Gestione'!$F$286*(1+'10 Schema Sintesi'!$E$203)))*N138","v":0},{"$f":"IF(O4>'2 Descrizione Progetto'!$D$22,0,IF(AND(O4>='2 Descrizione Progetto'!$D$17,O4<='2 Descrizione Progetto'!$D$19),0,'4 Sviluppo Domanda e Gestione'!$F$286*(1+'10 Schema Sintesi'!$E$203)))*O138","v":0},{"$f":"IF(P4>'2 Descrizione Progetto'!$D$22,0,IF(AND(P4>='2 Descrizione Progetto'!$D$17,P4<='2 Descrizione Progetto'!$D$19),0,'4 Sviluppo Domanda e Gestione'!$F$286*(1+'10 Schema Sintesi'!$E$203)))*P138","v":0},{"$f":"IF(Q4>'2 Descrizione Progetto'!$D$22,0,IF(AND(Q4>='2 Descrizione Progetto'!$D$17,Q4<='2 Descrizione Progetto'!$D$19),0,'4 Sviluppo Domanda e Gestione'!$F$286*(1+'10 Schema Sintesi'!$E$203)))*Q138","v":0},{"$f":"IF(R4>'2 Descrizione Progetto'!$D$22,0,IF(AND(R4>='2 Descrizione Progetto'!$D$17,R4<='2 Descrizione Progetto'!$D$19),0,'4 Sviluppo Domanda e Gestione'!$F$286*(1+'10 Schema Sintesi'!$E$203)))*R138","v":0},{"$f":"IF(S4>'2 Descrizione Progetto'!$D$22,0,IF(AND(S4>='2 Descrizione Progetto'!$D$17,S4<='2 Descrizione Progetto'!$D$19),0,'4 Sviluppo Domanda e Gestione'!$F$286*(1+'10 Schema Sintesi'!$E$203)))*S138","v":0},{"$f":"IF(T4>'2 Descrizione Progetto'!$D$22,0,IF(AND(T4>='2 Descrizione Progetto'!$D$17,T4<='2 Descrizione Progetto'!$D$19),0,'4 Sviluppo Domanda e Gestione'!$F$286*(1+'10 Schema Sintesi'!$E$203)))*T138","v":0},{"$f":"IF(U4>'2 Descrizione Progetto'!$D$22,0,IF(AND(U4>='2 Descrizione Progetto'!$D$17,U4<='2 Descrizione Progetto'!$D$19),0,'4 Sviluppo Domanda e Gestione'!$F$286*(1+'10 Schema Sintesi'!$E$203)))*U138","v":0},{"$f":"IF(V4>'2 Descrizione Progetto'!$D$22,0,IF(AND(V4>='2 Descrizione Progetto'!$D$17,V4<='2 Descrizione Progetto'!$D$19),0,'4 Sviluppo Domanda e Gestione'!$F$286*(1+'10 Schema Sintesi'!$E$203)))*V138","v":0},{"$f":"IF(W4>'2 Descrizione Progetto'!$D$22,0,IF(AND(W4>='2 Descrizione Progetto'!$D$17,W4<='2 Descrizione Progetto'!$D$19),0,'4 Sviluppo Domanda e Gestione'!$F$286*(1+'10 Schema Sintesi'!$E$203)))*W138","v":0},{"$f":"IF(X4>'2 Descrizione Progetto'!$D$22,0,IF(AND(X4>='2 Descrizione Progetto'!$D$17,X4<='2 Descrizione Progetto'!$D$19),0,'4 Sviluppo Domanda e Gestione'!$F$286*(1+'10 Schema Sintesi'!$E$203)))*X138","v":0},{"$f":"IF(Y4>'2 Descrizione Progetto'!$D$22,0,IF(AND(Y4>='2 Descrizione Progetto'!$D$17,Y4<='2 Descrizione Progetto'!$D$19),0,'4 Sviluppo Domanda e Gestione'!$F$286*(1+'10 Schema Sintesi'!$E$203)))*Y138","v":0},{"$f":"IF(Z4>'2 Descrizione Progetto'!$D$22,0,IF(AND(Z4>='2 Descrizione Progetto'!$D$17,Z4<='2 Descrizione Progetto'!$D$19),0,'4 Sviluppo Domanda e Gestione'!$F$286*(1+'10 Schema Sintesi'!$E$203)))*Z138","v":0},{"$f":"IF(AA4>'2 Descrizione Progetto'!$D$22,0,IF(AND(AA4>='2 Descrizione Progetto'!$D$17,AA4<='2 Descrizione Progetto'!$D$19),0,'4 Sviluppo Domanda e Gestione'!$F$286*(1+'10 Schema Sintesi'!$E$203)))*AA138","v":0},{"$f":"IF(AB4>'2 Descrizione Progetto'!$D$22,0,IF(AND(AB4>='2 Descrizione Progetto'!$D$17,AB4<='2 Descrizione Progetto'!$D$19),0,'4 Sviluppo Domanda e Gestione'!$F$286*(1+'10 Schema Sintesi'!$E$203)))*AB138","v":0},{"$f":"IF(AC4>'2 Descrizione Progetto'!$D$22,0,IF(AND(AC4>='2 Descrizione Progetto'!$D$17,AC4<='2 Descrizione Progetto'!$D$19),0,'4 Sviluppo Domanda e Gestione'!$F$286*(1+'10 Schema Sintesi'!$E$203)))*AC138","v":0},{"$f":"IF(AD4>'2 Descrizione Progetto'!$D$22,0,IF(AND(AD4>='2 Descrizione Progetto'!$D$17,AD4<='2 Descrizione Progetto'!$D$19),0,'4 Sviluppo Domanda e Gestione'!$F$286*(1+'10 Schema Sintesi'!$E$203)))*AD138","v":0},{"$f":"IF(AE4>'2 Descrizione Progetto'!$D$22,0,IF(AND(AE4>='2 Descrizione Progetto'!$D$17,AE4<='2 Descrizione Progetto'!$D$19),0,'4 Sviluppo Domanda e Gestione'!$F$286*(1+'10 Schema Sintesi'!$E$203)))*AE138","v":0},{"$f":"IF(AF4>'2 Descrizione Progetto'!$D$22,0,IF(AND(AF4>='2 Descrizione Progetto'!$D$17,AF4<='2 Descrizione Progetto'!$D$19),0,'4 Sviluppo Domanda e Gestione'!$F$286*(1+'10 Schema Sintesi'!$E$203)))*AF138","v":0},{"$f":"IF(AG4>'2 Descrizione Progetto'!$D$22,0,IF(AND(AG4>='2 Descrizione Progetto'!$D$17,AG4<='2 Descrizione Progetto'!$D$19),0,'4 Sviluppo Domanda e Gestione'!$F$286*(1+'10 Schema Sintesi'!$E$203)))*AG138","v":0},{"$f":"IF(AH4>'2 Descrizione Progetto'!$D$22,0,IF(AND(AH4>='2 Descrizione Progetto'!$D$17,AH4<='2 Descrizione Progetto'!$D$19),0,'4 Sviluppo Domanda e Gestione'!$F$286*(1+'10 Schema Sintesi'!$E$203)))*AH138","v":0},{"$f":"IF(AI4>'2 Descrizione Progetto'!$D$22,0,IF(AND(AI4>='2 Descrizione Progetto'!$D$17,AI4<='2 Descrizione Progetto'!$D$19),0,'4 Sviluppo Domanda e Gestione'!$F$286*(1+'10 Schema Sintesi'!$E$203)))*AI138","v":0},{"$f":"IF(AJ4>'2 Descrizione Progetto'!$D$22,0,IF(AND(AJ4>='2 Descrizione Progetto'!$D$17,AJ4<='2 Descrizione Progetto'!$D$19),0,'4 Sviluppo Domanda e Gestione'!$F$286*(1+'10 Schema Sintesi'!$E$203)))*AJ138","v":0},{"$f":"IF(AK4>'2 Descrizione Progetto'!$D$22,0,IF(AND(AK4>='2 Descrizione Progetto'!$D$17,AK4<='2 Descrizione Progetto'!$D$19),0,'4 Sviluppo Domanda e Gestione'!$F$286*(1+'10 Schema Sintesi'!$E$203)))*AK138","v":0},{"$f":"IF(AL4>'2 Descrizione Progetto'!$D$22,0,IF(AND(AL4>='2 Descrizione Progetto'!$D$17,AL4<='2 Descrizione Progetto'!$D$19),0,'4 Sviluppo Domanda e Gestione'!$F$286*(1+'10 Schema Sintesi'!$E$203)))*AL138","v":0},{"$f":"IF(AM4>'2 Descrizione Progetto'!$D$22,0,IF(AND(AM4>='2 Descrizione Progetto'!$D$17,AM4<='2 Descrizione Progetto'!$D$19),0,'4 Sviluppo Domanda e Gestione'!$F$286*(1+'10 Schema Sintesi'!$E$203)))*AM138","v":0},{"$f":"IF(AN4>'2 Descrizione Progetto'!$D$22,0,IF(AND(AN4>='2 Descrizione Progetto'!$D$17,AN4<='2 Descrizione Progetto'!$D$19),0,'4 Sviluppo Domanda e Gestione'!$F$286*(1+'10 Schema Sintesi'!$E$203)))*AN138","v":0},{"$f":"IF(AO4>'2 Descrizione Progetto'!$D$22,0,IF(AND(AO4>='2 Descrizione Progetto'!$D$17,AO4<='2 Descrizione Progetto'!$D$19),0,'4 Sviluppo Domanda e Gestione'!$F$286*(1+'10 Schema Sintesi'!$E$203)))*AO138","v":0},{"$f":"IF(AP4>'2 Descrizione Progetto'!$D$22,0,IF(AND(AP4>='2 Descrizione Progetto'!$D$17,AP4<='2 Descrizione Progetto'!$D$19),0,'4 Sviluppo Domanda e Gestione'!$F$286*(1+'10 Schema Sintesi'!$E$203)))*AP138","v":0},{"$f":"IF(AQ4>'2 Descrizione Progetto'!$D$22,0,IF(AND(AQ4>='2 Descrizione Progetto'!$D$17,AQ4<='2 Descrizione Progetto'!$D$19),0,'4 Sviluppo Domanda e Gestione'!$F$286*(1+'10 Schema Sintesi'!$E$203)))*AQ138","v":0},{"$f":"IF(AR4>'2 Descrizione Progetto'!$D$22,0,IF(AND(AR4>='2 Descrizione Progetto'!$D$17,AR4<='2 Descrizione Progetto'!$D$19),0,'4 Sviluppo Domanda e Gestione'!$F$286*(1+'10 Schema Sintesi'!$E$203)))*AR138","v":0},{"$f":"IF(AS4>'2 Descrizione Progetto'!$D$22,0,IF(AND(AS4>='2 Descrizione Progetto'!$D$17,AS4<='2 Descrizione Progetto'!$D$19),0,'4 Sviluppo Domanda e Gestione'!$F$286*(1+'10 Schema Sintesi'!$E$203)))*AS138","v":0},{"$f":"IF(AT4>'2 Descrizione Progetto'!$D$22,0,IF(AND(AT4>='2 Descrizione Progetto'!$D$17,AT4<='2 Descrizione Progetto'!$D$19),0,'4 Sviluppo Domanda e Gestione'!$F$286*(1+'10 Schema Sintesi'!$E$203)))*AT138","v":0},{"$f":"IF(AU4>'2 Descrizione Progetto'!$D$22,0,IF(AND(AU4>='2 Descrizione Progetto'!$D$17,AU4<='2 Descrizione Progetto'!$D$19),0,'4 Sviluppo Domanda e Gestione'!$F$286*(1+'10 Schema Sintesi'!$E$203)))*AU138","v":0},{"$f":"IF(AV4>'2 Descrizione Progetto'!$D$22,0,IF(AND(AV4>='2 Descrizione Progetto'!$D$17,AV4<='2 Descrizione Progetto'!$D$19),0,'4 Sviluppo Domanda e Gestione'!$F$286*(1+'10 Schema Sintesi'!$E$203)))*AV138","v":0},{"$f":"IF(AW4>'2 Descrizione Progetto'!$D$22,0,IF(AND(AW4>='2 Descrizione Progetto'!$D$17,AW4<='2 Descrizione Progetto'!$D$19),0,'4 Sviluppo Domanda e Gestione'!$F$286*(1+'10 Schema Sintesi'!$E$203)))*AW138","v":0},{"$f":"IF(AX4>'2 Descrizione Progetto'!$D$22,0,IF(AND(AX4>='2 Descrizione Progetto'!$D$17,AX4<='2 Descrizione Progetto'!$D$19),0,'4 Sviluppo Domanda e Gestione'!$F$286*(1+'10 Schema Sintesi'!$E$203)))*AX138","v":0},{"$f":"IF(AY4>'2 Descrizione Progetto'!$D$22,0,IF(AND(AY4>='2 Descrizione Progetto'!$D$17,AY4<='2 Descrizione Progetto'!$D$19),0,'4 Sviluppo Domanda e Gestione'!$F$286*(1+'10 Schema Sintesi'!$E$203)))*AY138","v":0},{"$f":"IF(AZ4>'2 Descrizione Progetto'!$D$22,0,IF(AND(AZ4>='2 Descrizione Progetto'!$D$17,AZ4<='2 Descrizione Progetto'!$D$19),0,'4 Sviluppo Domanda e Gestione'!$F$286*(1+'10 Schema Sintesi'!$E$203)))*AZ138","v":0},{"$f":"IF(BA4>'2 Descrizione Progetto'!$D$22,0,IF(AND(BA4>='2 Descrizione Progetto'!$D$17,BA4<='2 Descrizione Progetto'!$D$19),0,'4 Sviluppo Domanda e Gestione'!$F$286*(1+'10 Schema Sintesi'!$E$203)))*BA138","v":0},{"$f":"IF(BB4>'2 Descrizione Progetto'!$D$22,0,IF(AND(BB4>='2 Descrizione Progetto'!$D$17,BB4<='2 Descrizione Progetto'!$D$19),0,'4 Sviluppo Domanda e Gestione'!$F$286*(1+'10 Schema Sintesi'!$E$203)))*BB138","v":0},{"$f":"IF(BC4>'2 Descrizione Progetto'!$D$22,0,IF(AND(BC4>='2 Descrizione Progetto'!$D$17,BC4<='2 Descrizione Progetto'!$D$19),0,'4 Sviluppo Domanda e Gestione'!$F$286*(1+'10 Schema Sintesi'!$E$203)))*BC138","v":0},{"$f":"IF(BD4>'2 Descrizione Progetto'!$D$22,0,IF(AND(BD4>='2 Descrizione Progetto'!$D$17,BD4<='2 Descrizione Progetto'!$D$19),0,'4 Sviluppo Domanda e Gestione'!$F$286*(1+'10 Schema Sintesi'!$E$203)))*BD138","v":0},{"$f":"IF(BE4>'2 Descrizione Progetto'!$D$22,0,IF(AND(BE4>='2 Descrizione Progetto'!$D$17,BE4<='2 Descrizione Progetto'!$D$19),0,'4 Sviluppo Domanda e Gestione'!$F$286*(1+'10 Schema Sintesi'!$E$203)))*BE138","v":0},{"$f":"IF(BF4>'2 Descrizione Progetto'!$D$22,0,IF(AND(BF4>='2 Descrizione Progetto'!$D$17,BF4<='2 Descrizione Progetto'!$D$19),0,'4 Sviluppo Domanda e Gestione'!$F$286*(1+'10 Schema Sintesi'!$E$203)))*BF138","v":0},{"$f":"IF(BG4>'2 Descrizione Progetto'!$D$22,0,IF(AND(BG4>='2 Descrizione Progetto'!$D$17,BG4<='2 Descrizione Progetto'!$D$19),0,'4 Sviluppo Domanda e Gestione'!$F$286*(1+'10 Schema Sintesi'!$E$203)))*BG138","v":0},{"$f":"IF(BH4>'2 Descrizione Progetto'!$D$22,0,IF(AND(BH4>='2 Descrizione Progetto'!$D$17,BH4<='2 Descrizione Progetto'!$D$19),0,'4 Sviluppo Domanda e Gestione'!$F$286*(1+'10 Schema Sintesi'!$E$203)))*BH138","v":0},{"$f":"IF(BI4>'2 Descrizione Progetto'!$D$22,0,IF(AND(BI4>='2 Descrizione Progetto'!$D$17,BI4<='2 Descrizione Progetto'!$D$19),0,'4 Sviluppo Domanda e Gestione'!$F$286*(1+'10 Schema Sintesi'!$E$203)))*BI138","v":0},{"$f":"IF(BJ4>'2 Descrizione Progetto'!$D$22,0,IF(AND(BJ4>='2 Descrizione Progetto'!$D$17,BJ4<='2 Descrizione Progetto'!$D$19),0,'4 Sviluppo Domanda e Gestione'!$F$286*(1+'10 Schema Sintesi'!$E$203)))*BJ138","v":0},{"$f":"IF(BK4>'2 Descrizione Progetto'!$D$22,0,IF(AND(BK4>='2 Descrizione Progetto'!$D$17,BK4<='2 Descrizione Progetto'!$D$19),0,'4 Sviluppo Domanda e Gestione'!$F$286*(1+'10 Schema Sintesi'!$E$203)))*BK138","v":0},{"$f":"IF(BL4>'2 Descrizione Progetto'!$D$22,0,IF(AND(BL4>='2 Descrizione Progetto'!$D$17,BL4<='2 Descrizione Progetto'!$D$19),0,'4 Sviluppo Domanda e Gestione'!$F$286*(1+'10 Schema Sintesi'!$E$203)))*BL138","v":0}]
[null,"+","Altri ricavi - imposte anticipate per acc.to a Fondo O&MRA",0,{"$f":"E17*$J$43","v":0},0,0,0,0,0,0,0,0,0,0,0,0,0,0,0,0,0,0,0,0,0,0,0,0,0,0,0,0,0,0,0,0,0,0,0,0,0,0,0,0,0,0,0,0,0,0,0,0,0,0,0,0,0,0,0,0,0,0,0]
[null,"+","Altri ricavi - da utilizzo Fondo O&MRA",0,0,0,0,0,0,0,0,0,0,0,0,0,0,0,0,0,0,0,0,0,0,0,0,0,0,0,0,0,0,0,0,0,0,0,0,0,0,0,0,0,0,0,0,0,0,0,0,0,0,0,0,0,0,0,0,0,0,0,0,0]
[null,"+ / -","Altri costi o ricavi",0,{"$f":"('5 Foglio di elaborazione'!E53+'5 Foglio di elaborazione'!E54+'5 Foglio di elaborazione'!E55)*'5 Foglio di elaborazione'!E63","v":0},{"$f":"('5 Foglio di elaborazione'!F53+'5 Foglio di elaborazione'!F54+'5 Foglio di elaborazione'!F55)*'5 Foglio di elaborazione'!F63","v":0},{"$f":"('5 Foglio di elaborazione'!G53+'5 Foglio di elaborazione'!G54+'5 Foglio di elaborazione'!G55)*'5 Foglio di elaborazione'!G63","v":0},{"$f":"('5 Foglio di elaborazione'!H53+'5 Foglio di elaborazione'!H54+'5 Foglio di elaborazione'!H55)*'5 Foglio di elaborazione'!H63","v":0},{"$f":"('5 Foglio di elaborazione'!I53+'5 Foglio di elaborazione'!I54+'5 Foglio di elaborazione'!I55)*'5 Foglio di elaborazione'!I63","v":0},{"$f":"('5 Foglio di elaborazione'!J53+'5 Foglio di elaborazione'!J54+'5 Foglio di elaborazione'!J55)*'5 Foglio di elaborazione'!J63","v":0},{"$f":"('5 Foglio di elaborazione'!K53+'5 Foglio di elaborazione'!K54+'5 Foglio di elaborazione'!K55)*'5 Foglio di elaborazione'!K63","v":0},{"$f":"('5 Foglio di elaborazione'!L53+'5 Foglio di elaborazione'!L54+'5 Foglio di elaborazione'!L55)*'5 Foglio di elaborazione'!L63","v":0},{"$f":"('5 Foglio di elaborazione'!M53+'5 Foglio di elaborazione'!M54+'5 Foglio di elaborazione'!M55)*'5 Foglio di elaborazione'!M63","v":0},{"$f":"('5 Foglio di elaborazione'!N53+'5 Foglio di elaborazione'!N54+'5 Foglio di elaborazione'!N55)*'5 Foglio di elaborazione'!N63","v":0},{"$f":"('5 Foglio di elaborazione'!O53+'5 Foglio di elaborazione'!O54+'5 Foglio di elaborazione'!O55)*'5 Foglio di elaborazione'!O63","v":0},{"$f":"('5 Foglio di elaborazione'!P53+'5 Foglio di elaborazione'!P54+'5 Foglio di elaborazione'!P55)*'5 Foglio di elaborazione'!P63","v":0},{"$f":"('5 Foglio di elaborazione'!Q53+'5 Foglio di elaborazione'!Q54+'5 Foglio di elaborazione'!Q55)*'5 Foglio di elaborazione'!Q63","v":0},{"$f":"('5 Foglio di elaborazione'!R53+'5 Foglio di elaborazione'!R54+'5 Foglio di elaborazione'!R55)*'5 Foglio di elaborazione'!R63","v":0},{"$f":"('5 Foglio di elaborazione'!S53+'5 Foglio di elaborazione'!S54+'5 Foglio di elaborazione'!S55)*'5 Foglio di elaborazione'!S63","v":0},{"$f":"('5 Foglio di elaborazione'!T53+'5 Foglio di elaborazione'!T54+'5 Foglio di elaborazione'!T55)*'5 Foglio di elaborazione'!T63","v":0},{"$f":"('5 Foglio di elaborazione'!U53+'5 Foglio di elaborazione'!U54+'5 Foglio di elaborazione'!U55)*'5 Foglio di elaborazione'!U63","v":0},{"$f":"('5 Foglio di elaborazione'!V53+'5 Foglio di elaborazione'!V54+'5 Foglio di elaborazione'!V55)*'5 Foglio di elaborazione'!V63","v":0},{"$f":"('5 Foglio di elaborazione'!W53+'5 Foglio di elaborazione'!W54+'5 Foglio di elaborazione'!W55)*'5 Foglio di elaborazione'!W63","v":0},{"$f":"('5 Foglio di elaborazione'!X53+'5 Foglio di elaborazione'!X54+'5 Foglio di elaborazione'!X55)*'5 Foglio di elaborazione'!X63","v":0},{"$f":"('5 Foglio di elaborazione'!Y53+'5 Foglio di elaborazione'!Y54+'5 Foglio di elaborazione'!Y55)*'5 Foglio di elaborazione'!Y63","v":0},{"$f":"('5 Foglio di elaborazione'!Z53+'5 Foglio di elaborazione'!Z54+'5 Foglio di elaborazione'!Z55)*'5 Foglio di elaborazione'!Z63","v":0},{"$f":"('5 Foglio di elaborazione'!AA53+'5 Foglio di elaborazione'!AA54+'5 Foglio di elaborazione'!AA55)*'5 Foglio di elaborazione'!AA63","v":0},{"$f":"('5 Foglio di elaborazione'!AB53+'5 Foglio di elaborazione'!AB54+'5 Foglio di elaborazione'!AB55)*'5 Foglio di elaborazione'!AB63","v":0},{"$f":"('5 Foglio di elaborazione'!AC53+'5 Foglio di elaborazione'!AC54+'5 Foglio di elaborazione'!AC55)*'5 Foglio di elaborazione'!AC63","v":0},{"$f":"('5 Foglio di elaborazione'!AD53+'5 Foglio di elaborazione'!AD54+'5 Foglio di elaborazione'!AD55)*'5 Foglio di elaborazione'!AD63","v":0},{"$f":"('5 Foglio di elaborazione'!AE53+'5 Foglio di elaborazione'!AE54+'5 Foglio di elaborazione'!AE55)*'5 Foglio di elaborazione'!AE63","v":0},{"$f":"('5 Foglio di elaborazione'!AF53+'5 Foglio di elaborazione'!AF54+'5 Foglio di elaborazione'!AF55)*'5 Foglio di elaborazione'!AF63","v":0},{"$f":"('5 Foglio di elaborazione'!AG53+'5 Foglio di elaborazione'!AG54+'5 Foglio di elaborazione'!AG55)*'5 Foglio di elaborazione'!AG63","v":0},{"$f":"('5 Foglio di elaborazione'!AH53+'5 Foglio di elaborazione'!AH54+'5 Foglio di elaborazione'!AH55)*'5 Foglio di elaborazione'!AH63","v":0},{"$f":"('5 Foglio di elaborazione'!AI53+'5 Foglio di elaborazione'!AI54+'5 Foglio di elaborazione'!AI55)*'5 Foglio di elaborazione'!AI63","v":0},{"$f":"('5 Foglio di elaborazione'!AJ53+'5 Foglio di elaborazione'!AJ54+'5 Foglio di elaborazione'!AJ55)*'5 Foglio di elaborazione'!AJ63","v":0},{"$f":"('5 Foglio di elaborazione'!AK53+'5 Foglio di elaborazione'!AK54+'5 Foglio di elaborazione'!AK55)*'5 Foglio di elaborazione'!AK63","v":0},{"$f":"('5 Foglio di elaborazione'!AL53+'5 Foglio di elaborazione'!AL54+'5 Foglio di elaborazione'!AL55)*'5 Foglio di elaborazione'!AL63","v":0},{"$f":"('5 Foglio di elaborazione'!AM53+'5 Foglio di elaborazione'!AM54+'5 Foglio di elaborazione'!AM55)*'5 Foglio di elaborazione'!AM63","v":0},{"$f":"('5 Foglio di elaborazione'!AN53+'5 Foglio di elaborazione'!AN54+'5 Foglio di elaborazione'!AN55)*'5 Foglio di elaborazione'!AN63","v":0},{"$f":"('5 Foglio di elaborazione'!AO53+'5 Foglio di elaborazione'!AO54+'5 Foglio di elaborazione'!AO55)*'5 Foglio di elaborazione'!AO63","v":0},{"$f":"('5 Foglio di elaborazione'!AP53+'5 Foglio di elaborazione'!AP54+'5 Foglio di elaborazione'!AP55)*'5 Foglio di elaborazione'!AP63","v":0},{"$f":"('5 Foglio di elaborazione'!AQ53+'5 Foglio di elaborazione'!AQ54+'5 Foglio di elaborazione'!AQ55)*'5 Foglio di elaborazione'!AQ63","v":0},{"$f":"('5 Foglio di elaborazione'!AR53+'5 Foglio di elaborazione'!AR54+'5 Foglio di elaborazione'!AR55)*'5 Foglio di elaborazione'!AR63","v":0},{"$f":"('5 Foglio di elaborazione'!AS53+'5 Foglio di elaborazione'!AS54+'5 Foglio di elaborazione'!AS55)*'5 Foglio di elaborazione'!AS63","v":0},{"$f":"('5 Foglio di elaborazione'!AT53+'5 Foglio di elaborazione'!AT54+'5 Foglio di elaborazione'!AT55)*'5 Foglio di elaborazione'!AT63","v":0},{"$f":"('5 Foglio di elaborazione'!AU53+'5 Foglio di elaborazione'!AU54+'5 Foglio di elaborazione'!AU55)*'5 Foglio di elaborazione'!AU63","v":0},{"$f":"('5 Foglio di elaborazione'!AV53+'5 Foglio di elaborazione'!AV54+'5 Foglio di elaborazione'!AV55)*'5 Foglio di elaborazione'!AV63","v":0},{"$f":"('5 Foglio di elaborazione'!AW53+'5 Foglio di elaborazione'!AW54+'5 Foglio di elaborazione'!AW55)*'5 Foglio di elaborazione'!AW63","v":0},{"$f":"('5 Foglio di elaborazione'!AX53+'5 Foglio di elaborazione'!AX54+'5 Foglio di elaborazione'!AX55)*'5 Foglio di elaborazione'!AX63","v":0},{"$f":"('5 Foglio di elaborazione'!AY53+'5 Foglio di elaborazione'!AY54+'5 Foglio di elaborazione'!AY55)*'5 Foglio di elaborazione'!AY63","v":0},{"$f":"('5 Foglio di elaborazione'!AZ53+'5 Foglio di elaborazione'!AZ54+'5 Foglio di elaborazione'!AZ55)*'5 Foglio di elaborazione'!AZ63","v":0},{"$f":"('5 Foglio di elaborazione'!BA53+'5 Foglio di elaborazione'!BA54+'5 Foglio di elaborazione'!BA55)*'5 Foglio di elaborazione'!BA63","v":0},{"$f":"('5 Foglio di elaborazione'!BB53+'5 Foglio di elaborazione'!BB54+'5 Foglio di elaborazione'!BB55)*'5 Foglio di elaborazione'!BB63","v":0},{"$f":"('5 Foglio di elaborazione'!BC53+'5 Foglio di elaborazione'!BC54+'5 Foglio di elaborazione'!BC55)*'5 Foglio di elaborazione'!BC63","v":0},{"$f":"('5 Foglio di elaborazione'!BD53+'5 Foglio di elaborazione'!BD54+'5 Foglio di elaborazione'!BD55)*'5 Foglio di elaborazione'!BD63","v":0},{"$f":"('5 Foglio di elaborazione'!BE53+'5 Foglio di elaborazione'!BE54+'5 Foglio di elaborazione'!BE55)*'5 Foglio di elaborazione'!BE63","v":0},{"$f":"('5 Foglio di elaborazione'!BF53+'5 Foglio di elaborazione'!BF54+'5 Foglio di elaborazione'!BF55)*'5 Foglio di elaborazione'!BF63","v":0},{"$f":"('5 Foglio di elaborazione'!BG53+'5 Foglio di elaborazione'!BG54+'5 Foglio di elaborazione'!BG55)*'5 Foglio di elaborazione'!BG63","v":0},{"$f":"('5 Foglio di elaborazione'!BH53+'5 Foglio di elaborazione'!BH54+'5 Foglio di elaborazione'!BH55)*'5 Foglio di elaborazione'!BH63","v":0},{"$f":"('5 Foglio di elaborazione'!BI53+'5 Foglio di elaborazione'!BI54+'5 Foglio di elaborazione'!BI55)*'5 Foglio di elaborazione'!BI63","v":0},{"$f":"('5 Foglio di elaborazione'!BJ53+'5 Foglio di elaborazione'!BJ54+'5 Foglio di elaborazione'!BJ55)*'5 Foglio di elaborazione'!BJ63","v":0},{"$f":"('5 Foglio di elaborazione'!BK53+'5 Foglio di elaborazione'!BK54+'5 Foglio di elaborazione'!BK55)*'5 Foglio di elaborazione'!BK63","v":0},{"$f":"('5 Foglio di elaborazione'!BL53+'5 Foglio di elaborazione'!BL54+'5 Foglio di elaborazione'!BL55)*'5 Foglio di elaborazione'!BL63","v":0}]
[null,"-","Costi per servizi",-2253336.5536433952,{"$f":"-'4 Sviluppo Domanda e Gestione'!E214","v":-200833.76499999998},{"$f":"-IF(F$4>'2 Descrizione Progetto'!$D$22,0,IF(AND(F$4>='2 Descrizione Progetto'!$D$17,F$4<='2 Descrizione Progetto'!$D$19),0,INDIRECT(CONCATENATE(\"'5 Foglio di elaborazione'!\",\"r\",'5 Foglio di elaborazione'!$B4,\"c\",F$4-'5 Foglio di elaborazione'!$E$3+5),0)))","v":-207249.4803},{"$f":"-IF(G$4>'2 Descrizione Progetto'!$D$22,0,IF(AND(G$4>='2 Descrizione Progetto'!$D$17,G$4<='2 Descrizione Progetto'!$D$19),0,INDIRECT(CONCATENATE(\"'5 Foglio di elaborazione'!\",\"r\",'5 Foglio di elaborazione'!$B4,\"c\",G$4-'5 Foglio di elaborazione'!$E$3+5),0)))","v":-214990.09230599998},{"$f":"-IF(H$4>'2 Descrizione Progetto'!$D$22,0,IF(AND(H$4>='2 Descrizione Progetto'!$D$17,H$4<='2 Descrizione Progetto'!$D$19),0,INDIRECT(CONCATENATE(\"'5 Foglio di elaborazione'!\",\"r\",'5 Foglio di elaborazione'!$B4,\"c\",H$4-'5 Foglio di elaborazione'!$E$3+5),0)))","v":-219289.89415211996},{"$f":"-IF(I$4>'2 Descrizione Progetto'!$D$22,0,IF(AND(I$4>='2 Descrizione Progetto'!$D$17,I$4<='2 Descrizione Progetto'!$D$19),0,INDIRECT(CONCATENATE(\"'5 Foglio di elaborazione'!\",\"r\",'5 Foglio di elaborazione'!$B4,\"c\",I$4-'5 Foglio di elaborazione'!$E$3+5),0)))","v":-223675.69203516238},{"$f":"-IF(J$4>'2 Descrizione Progetto'!$D$22,0,IF(AND(J$4>='2 Descrizione Progetto'!$D$17,J$4<='2 Descrizione Progetto'!$D$19),0,INDIRECT(CONCATENATE(\"'5 Foglio di elaborazione'!\",\"r\",'5 Foglio di elaborazione'!$B4,\"c\",J$4-'5 Foglio di elaborazione'!$E$3+5),0)))","v":-228149.20587586562},{"$f":"-IF(K$4>'2 Descrizione Progetto'!$D$22,0,IF(AND(K$4>='2 Descrizione Progetto'!$D$17,K$4<='2 Descrizione Progetto'!$D$19),0,INDIRECT(CONCATENATE(\"'5 Foglio di elaborazione'!\",\"r\",'5 Foglio di elaborazione'!$B4,\"c\",K$4-'5 Foglio di elaborazione'!$E$3+5),0)))","v":-232712.18999338296},{"$f":"-IF(L$4>'2 Descrizione Progetto'!$D$22,0,IF(AND(L$4>='2 Descrizione Progetto'!$D$17,L$4<='2 Descrizione Progetto'!$D$19),0,INDIRECT(CONCATENATE(\"'5 Foglio di elaborazione'!\",\"r\",'5 Foglio di elaborazione'!$B4,\"c\",L$4-'5 Foglio di elaborazione'!$E$3+5),0)))","v":-237366.43379325062},{"$f":"-IF(M$4>'2 Descrizione Progetto'!$D$22,0,IF(AND(M$4>='2 Descrizione Progetto'!$D$17,M$4<='2 Descrizione Progetto'!$D$19),0,INDIRECT(CONCATENATE(\"'5 Foglio di elaborazione'!\",\"r\",'5 Foglio di elaborazione'!$B4,\"c\",M$4-'5 Foglio di elaborazione'!$E$3+5),0)))","v":-242113.76246911564},{"$f":"-IF(N$4>'2 Descrizione Progetto'!$D$22,0,IF(AND(N$4>='2 Descrizione Progetto'!$D$17,N$4<='2 Descrizione Progetto'!$D$19),0,INDIRECT(CONCATENATE(\"'5 Foglio di elaborazione'!\",\"r\",'5 Foglio di elaborazione'!$B4,\"c\",N$4-'5 Foglio di elaborazione'!$E$3+5),0)))","v":-246956.03771849794},{"$f":"-IF(O$4>'2 Descrizione Progetto'!$D$22,0,IF(AND(O$4>='2 Descrizione Progetto'!$D$17,O$4<='2 Descrizione Progetto'!$D$19),0,INDIRECT(CONCATENATE(\"'5 Foglio di elaborazione'!\",\"r\",'5 Foglio di elaborazione'!$B4,\"c\",O$4-'5 Foglio di elaborazione'!$E$3+5),0)))","v":0},{"$f":"-IF(P$4>'2 Descrizione Progetto'!$D$22,0,IF(AND(P$4>='2 Descrizione Progetto'!$D$17,P$4<='2 Descrizione Progetto'!$D$19),0,INDIRECT(CONCATENATE(\"'5 Foglio di elaborazione'!\",\"r\",'5 Foglio di elaborazione'!$B4,\"c\",P$4-'5 Foglio di elaborazione'!$E$3+5),0)))","v":0},{"$f":"-IF(Q$4>'2 Descrizione Progetto'!$D$22,0,IF(AND(Q$4>='2 Descrizione Progetto'!$D$17,Q$4<='2 Descrizione Progetto'!$D$19),0,INDIRECT(CONCATENATE(\"'5 Foglio di elaborazione'!\",\"r\",'5 Foglio di elaborazione'!$B4,\"c\",Q$4-'5 Foglio di elaborazione'!$E$3+5),0)))","v":0},{"$f":"-IF(R$4>'2 Descrizione Progetto'!$D$22,0,IF(AND(R$4>='2 Descrizione Progetto'!$D$17,R$4<='2 Descrizione Progetto'!$D$19),0,INDIRECT(CONCATENATE(\"'5 Foglio di elaborazione'!\",\"r\",'5 Foglio di elaborazione'!$B4,\"c\",R$4-'5 Foglio di elaborazione'!$E$3+5),0)))","v":0},{"$f":"-IF(S$4>'2 Descrizione Progetto'!$D$22,0,IF(AND(S$4>='2 Descrizione Progetto'!$D$17,S$4<='2 Descrizione Progetto'!$D$19),0,INDIRECT(CONCATENATE(\"'5 Foglio di elaborazione'!\",\"r\",'5 Foglio di elaborazione'!$B4,\"c\",S$4-'5 Foglio di elaborazione'!$E$3+5),0)))","v":0},{"$f":"-IF(T$4>'2 Descrizione Progetto'!$D$22,0,IF(AND(T$4>='2 Descrizione Progetto'!$D$17,T$4<='2 Descrizione Progetto'!$D$19),0,INDIRECT(CONCATENATE(\"'5 Foglio di elaborazione'!\",\"r\",'5 Foglio di elaborazione'!$B4,\"c\",T$4-'5 Foglio di elaborazione'!$E$3+5),0)))","v":0},{"$f":"-IF(U$4>'2 Descrizione Progetto'!$D$22,0,IF(AND(U$4>='2 Descrizione Progetto'!$D$17,U$4<='2 Descrizione Progetto'!$D$19),0,INDIRECT(CONCATENATE(\"'5 Foglio di elaborazione'!\",\"r\",'5 Foglio di elaborazione'!$B4,\"c\",U$4-'5 Foglio di elaborazione'!$E$3+5),0)))","v":0},{"$f":"-IF(V$4>'2 Descrizione Progetto'!$D$22,0,IF(AND(V$4>='2 Descrizione Progetto'!$D$17,V$4<='2 Descrizione Progetto'!$D$19),0,INDIRECT(CONCATENATE(\"'5 Foglio di elaborazione'!\",\"r\",'5 Foglio di elaborazione'!$B4,\"c\",V$4-'5 Foglio di elaborazione'!$E$3+5),0)))","v":0},{"$f":"-IF(W$4>'2 Descrizione Progetto'!$D$22,0,IF(AND(W$4>='2 Descrizione Progetto'!$D$17,W$4<='2 Descrizione Progetto'!$D$19),0,INDIRECT(CONCATENATE(\"'5 Foglio di elaborazione'!\",\"r\",'5 Foglio di elaborazione'!$B4,\"c\",W$4-'5 Foglio di elaborazione'!$E$3+5),0)))","v":0},{"$f":"-IF(X$4>'2 Descrizione Progetto'!$D$22,0,IF(AND(X$4>='2 Descrizione Progetto'!$D$17,X$4<='2 Descrizione Progetto'!$D$19),0,INDIRECT(CONCATENATE(\"'5 Foglio di elaborazione'!\",\"r\",'5 Foglio di elaborazione'!$B4,\"c\",X$4-'5 Foglio di elaborazione'!$E$3+5),0)))","v":0},{"$f":"-IF(Y$4>'2 Descrizione Progetto'!$D$22,0,IF(AND(Y$4>='2 Descrizione Progetto'!$D$17,Y$4<='2 Descrizione Progetto'!$D$19),0,INDIRECT(CONCATENATE(\"'5 Foglio di elaborazione'!\",\"r\",'5 Foglio di elaborazione'!$B4,\"c\",Y$4-'5 Foglio di elaborazione'!$E$3+5),0)))","v":0},{"$f":"-IF(Z$4>'2 Descrizione Progetto'!$D$22,0,IF(AND(Z$4>='2 Descrizione Progetto'!$D$17,Z$4<='2 Descrizione Progetto'!$D$19),0,INDIRECT(CONCATENATE(\"'5 Foglio di elaborazione'!\",\"r\",'5 Foglio di elaborazione'!$B4,\"c\",Z$4-'5 Foglio di elaborazione'!$E$3+5),0)))","v":0},{"$f":"-IF(AA$4>'2 Descrizione Progetto'!$D$22,0,IF(AND(AA$4>='2 Descrizione Progetto'!$D$17,AA$4<='2 Descrizione Progetto'!$D$19),0,INDIRECT(CONCATENATE(\"'5 Foglio di elaborazione'!\",\"r\",'5 Foglio di elaborazione'!$B4,\"c\",AA$4-'5 Foglio di elaborazione'!$E$3+5),0)))","v":0},{"$f":"-IF(AB$4>'2 Descrizione Progetto'!$D$22,0,IF(AND(AB$4>='2 Descrizione Progetto'!$D$17,AB$4<='2 Descrizione Progetto'!$D$19),0,INDIRECT(CONCATENATE(\"'5 Foglio di elaborazione'!\",\"r\",'5 Foglio di elaborazione'!$B4,\"c\",AB$4-'5 Foglio di elaborazione'!$E$3+5),0)))","v":0},{"$f":"-IF(AC$4>'2 Descrizione Progetto'!$D$22,0,IF(AND(AC$4>='2 Descrizione Progetto'!$D$17,AC$4<='2 Descrizione Progetto'!$D$19),0,INDIRECT(CONCATENATE(\"'5 Foglio di elaborazione'!\",\"r\",'5 Foglio di elaborazione'!$B4,\"c\",AC$4-'5 Foglio di elaborazione'!$E$3+5),0)))","v":0},{"$f":"-IF(AD$4>'2 Descrizione Progetto'!$D$22,0,IF(AND(AD$4>='2 Descrizione Progetto'!$D$17,AD$4<='2 Descrizione Progetto'!$D$19),0,INDIRECT(CONCATENATE(\"'5 Foglio di elaborazione'!\",\"r\",'5 Foglio di elaborazione'!$B4,\"c\",AD$4-'5 Foglio di elaborazione'!$E$3+5),0)))","v":0},{"$f":"-IF(AE$4>'2 Descrizione Progetto'!$D$22,0,IF(AND(AE$4>='2 Descrizione Progetto'!$D$17,AE$4<='2 Descrizione Progetto'!$D$19),0,INDIRECT(CONCATENATE(\"'5 Foglio di elaborazione'!\",\"r\",'5 Foglio di elaborazione'!$B4,\"c\",AE$4-'5 Foglio di elaborazione'!$E$3+5),0)))","v":0},{"$f":"-IF(AF$4>'2 Descrizione Progetto'!$D$22,0,IF(AND(AF$4>='2 Descrizione Progetto'!$D$17,AF$4<='2 Descrizione Progetto'!$D$19),0,INDIRECT(CONCATENATE(\"'5 Foglio di elaborazione'!\",\"r\",'5 Foglio di elaborazione'!$B4,\"c\",AF$4-'5 Foglio di elaborazione'!$E$3+5),0)))","v":0},{"$f":"-IF(AG$4>'2 Descrizione Progetto'!$D$22,0,IF(AND(AG$4>='2 Descrizione Progetto'!$D$17,AG$4<='2 Descrizione Progetto'!$D$19),0,INDIRECT(CONCATENATE(\"'5 Foglio di elaborazione'!\",\"r\",'5 Foglio di elaborazione'!$B4,\"c\",AG$4-'5 Foglio di elaborazione'!$E$3+5),0)))","v":0},{"$f":"-IF(AH$4>'2 Descrizione Progetto'!$D$22,0,IF(AND(AH$4>='2 Descrizione Progetto'!$D$17,AH$4<='2 Descrizione Progetto'!$D$19),0,INDIRECT(CONCATENATE(\"'5 Foglio di elaborazione'!\",\"r\",'5 Foglio di elaborazione'!$B4,\"c\",AH$4-'5 Foglio di elaborazione'!$E$3+5),0)))","v":0},{"$f":"-IF(AI$4>'2 Descrizione Progetto'!$D$22,0,IF(AND(AI$4>='2 Descrizione Progetto'!$D$17,AI$4<='2 Descrizione Progetto'!$D$19),0,INDIRECT(CONCATENATE(\"'5 Foglio di elaborazione'!\",\"r\",'5 Foglio di elaborazione'!$B4,\"c\",AI$4-'5 Foglio di elaborazione'!$E$3+5),0)))","v":0},{"$f":"-IF(AJ$4>'2 Descrizione Progetto'!$D$22,0,IF(AND(AJ$4>='2 Descrizione Progetto'!$D$17,AJ$4<='2 Descrizione Progetto'!$D$19),0,INDIRECT(CONCATENATE(\"'5 Foglio di elaborazione'!\",\"r\",'5 Foglio di elaborazione'!$B4,\"c\",AJ$4-'5 Foglio di elaborazione'!$E$3+5),0)))","v":0},{"$f":"-IF(AK$4>'2 Descrizione Progetto'!$D$22,0,IF(AND(AK$4>='2 Descrizione Progetto'!$D$17,AK$4<='2 Descrizione Progetto'!$D$19),0,INDIRECT(CONCATENATE(\"'5 Foglio di elaborazione'!\",\"r\",'5 Foglio di elaborazione'!$B4,\"c\",AK$4-'5 Foglio di elaborazione'!$E$3+5),0)))","v":0},{"$f":"-IF(AL$4>'2 Descrizione Progetto'!$D$22,0,IF(AND(AL$4>='2 Descrizione Progetto'!$D$17,AL$4<='2 Descrizione Progetto'!$D$19),0,INDIRECT(CONCATENATE(\"'5 Foglio di elaborazione'!\",\"r\",'5 Foglio di elaborazione'!$B4,\"c\",AL$4-'5 Foglio di elaborazione'!$E$3+5),0)))","v":0},{"$f":"-IF(AM$4>'2 Descrizione Progetto'!$D$22,0,IF(AND(AM$4>='2 Descrizione Progetto'!$D$17,AM$4<='2 Descrizione Progetto'!$D$19),0,INDIRECT(CONCATENATE(\"'5 Foglio di elaborazione'!\",\"r\",'5 Foglio di elaborazione'!$B4,\"c\",AM$4-'5 Foglio di elaborazione'!$E$3+5),0)))","v":0},{"$f":"-IF(AN$4>'2 Descrizione Progetto'!$D$22,0,IF(AND(AN$4>='2 Descrizione Progetto'!$D$17,AN$4<='2 Descrizione Progetto'!$D$19),0,INDIRECT(CONCATENATE(\"'5 Foglio di elaborazione'!\",\"r\",'5 Foglio di elaborazione'!$B4,\"c\",AN$4-'5 Foglio di elaborazione'!$E$3+5),0)))","v":0},{"$f":"-IF(AO$4>'2 Descrizione Progetto'!$D$22,0,IF(AND(AO$4>='2 Descrizione Progetto'!$D$17,AO$4<='2 Descrizione Progetto'!$D$19),0,INDIRECT(CONCATENATE(\"'5 Foglio di elaborazione'!\",\"r\",'5 Foglio di elaborazione'!$B4,\"c\",AO$4-'5 Foglio di elaborazione'!$E$3+5),0)))","v":0},{"$f":"-IF(AP$4>'2 Descrizione Progetto'!$D$22,0,IF(AND(AP$4>='2 Descrizione Progetto'!$D$17,AP$4<='2 Descrizione Progetto'!$D$19),0,INDIRECT(CONCATENATE(\"'5 Foglio di elaborazione'!\",\"r\",'5 Foglio di elaborazione'!$B4,\"c\",AP$4-'5 Foglio di elaborazione'!$E$3+5),0)))","v":0},{"$f":"-IF(AQ$4>'2 Descrizione Progetto'!$D$22,0,IF(AND(AQ$4>='2 Descrizione Progetto'!$D$17,AQ$4<='2 Descrizione Progetto'!$D$19),0,INDIRECT(CONCATENATE(\"'5 Foglio di elaborazione'!\",\"r\",'5 Foglio di elaborazione'!$B4,\"c\",AQ$4-'5 Foglio di elaborazione'!$E$3+5),0)))","v":0},{"$f":"-IF(AR$4>'2 Descrizione Progetto'!$D$22,0,IF(AND(AR$4>='2 Descrizione Progetto'!$D$17,AR$4<='2 Descrizione Progetto'!$D$19),0,INDIRECT(CONCATENATE(\"'5 Foglio di elaborazione'!\",\"r\",'5 Foglio di elaborazione'!$B4,\"c\",AR$4-'5 Foglio di elaborazione'!$E$3+5),0)))","v":0},{"$f":"-IF(AS$4>'2 Descrizione Progetto'!$D$22,0,IF(AND(AS$4>='2 Descrizione Progetto'!$D$17,AS$4<='2 Descrizione Progetto'!$D$19),0,INDIRECT(CONCATENATE(\"'5 Foglio di elaborazione'!\",\"r\",'5 Foglio di elaborazione'!$B4,\"c\",AS$4-'5 Foglio di elaborazione'!$E$3+5),0)))","v":0},{"$f":"-IF(AT$4>'2 Descrizione Progetto'!$D$22,0,IF(AND(AT$4>='2 Descrizione Progetto'!$D$17,AT$4<='2 Descrizione Progetto'!$D$19),0,INDIRECT(CONCATENATE(\"'5 Foglio di elaborazione'!\",\"r\",'5 Foglio di elaborazione'!$B4,\"c\",AT$4-'5 Foglio di elaborazione'!$E$3+5),0)))","v":0},{"$f":"-IF(AU$4>'2 Descrizione Progetto'!$D$22,0,IF(AND(AU$4>='2 Descrizione Progetto'!$D$17,AU$4<='2 Descrizione Progetto'!$D$19),0,INDIRECT(CONCATENATE(\"'5 Foglio di elaborazione'!\",\"r\",'5 Foglio di elaborazione'!$B4,\"c\",AU$4-'5 Foglio di elaborazione'!$E$3+5),0)))","v":0},{"$f":"-IF(AV$4>'2 Descrizione Progetto'!$D$22,0,IF(AND(AV$4>='2 Descrizione Progetto'!$D$17,AV$4<='2 Descrizione Progetto'!$D$19),0,INDIRECT(CONCATENATE(\"'5 Foglio di elaborazione'!\",\"r\",'5 Foglio di elaborazione'!$B4,\"c\",AV$4-'5 Foglio di elaborazione'!$E$3+5),0)))","v":0},{"$f":"-IF(AW$4>'2 Descrizione Progetto'!$D$22,0,IF(AND(AW$4>='2 Descrizione Progetto'!$D$17,AW$4<='2 Descrizione Progetto'!$D$19),0,INDIRECT(CONCATENATE(\"'5 Foglio di elaborazione'!\",\"r\",'5 Foglio di elaborazione'!$B4,\"c\",AW$4-'5 Foglio di elaborazione'!$E$3+5),0)))","v":0},{"$f":"-IF(AX$4>'2 Descrizione Progetto'!$D$22,0,IF(AND(AX$4>='2 Descrizione Progetto'!$D$17,AX$4<='2 Descrizione Progetto'!$D$19),0,INDIRECT(CONCATENATE(\"'5 Foglio di elaborazione'!\",\"r\",'5 Foglio di elaborazione'!$B4,\"c\",AX$4-'5 Foglio di elaborazione'!$E$3+5),0)))","v":0},{"$f":"-IF(AY$4>'2 Descrizione Progetto'!$D$22,0,IF(AND(AY$4>='2 Descrizione Progetto'!$D$17,AY$4<='2 Descrizione Progetto'!$D$19),0,INDIRECT(CONCATENATE(\"'5 Foglio di elaborazione'!\",\"r\",'5 Foglio di elaborazione'!$B4,\"c\",AY$4-'5 Foglio di elaborazione'!$E$3+5),0)))","v":0},{"$f":"-IF(AZ$4>'2 Descrizione Progetto'!$D$22,0,IF(AND(AZ$4>='2 Descrizione Progetto'!$D$17,AZ$4<='2 Descrizione Progetto'!$D$19),0,INDIRECT(CONCATENATE(\"'5 Foglio di elaborazione'!\",\"r\",'5 Foglio di elaborazione'!$B4,\"c\",AZ$4-'5 Foglio di elaborazione'!$E$3+5),0)))","v":0},{"$f":"-IF(BA$4>'2 Descrizione Progetto'!$D$22,0,IF(AND(BA$4>='2 Descrizione Progetto'!$D$17,BA$4<='2 Descrizione Progetto'!$D$19),0,INDIRECT(CONCATENATE(\"'5 Foglio di elaborazione'!\",\"r\",'5 Foglio di elaborazione'!$B4,\"c\",BA$4-'5 Foglio di elaborazione'!$E$3+5),0)))","v":0},{"$f":"-IF(BB$4>'2 Descrizione Progetto'!$D$22,0,IF(AND(BB$4>='2 Descrizione Progetto'!$D$17,BB$4<='2 Descrizione Progetto'!$D$19),0,INDIRECT(CONCATENATE(\"'5 Foglio di elaborazione'!\",\"r\",'5 Foglio di elaborazione'!$B4,\"c\",BB$4-'5 Foglio di elaborazione'!$E$3+5),0)))","v":0},{"$f":"-IF(BC$4>'2 Descrizione Progetto'!$D$22,0,IF(AND(BC$4>='2 Descrizione Progetto'!$D$17,BC$4<='2 Descrizione Progetto'!$D$19),0,INDIRECT(CONCATENATE(\"'5 Foglio di elaborazione'!\",\"r\",'5 Foglio di elaborazione'!$B4,\"c\",BC$4-'5 Foglio di elaborazione'!$E$3+5),0)))","v":0},{"$f":"-IF(BD$4>'2 Descrizione Progetto'!$D$22,0,IF(AND(BD$4>='2 Descrizione Progetto'!$D$17,BD$4<='2 Descrizione Progetto'!$D$19),0,INDIRECT(CONCATENATE(\"'5 Foglio di elaborazione'!\",\"r\",'5 Foglio di elaborazione'!$B4,\"c\",BD$4-'5 Foglio di elaborazione'!$E$3+5),0)))","v":0},{"$f":"-IF(BE$4>'2 Descrizione Progetto'!$D$22,0,IF(AND(BE$4>='2 Descrizione Progetto'!$D$17,BE$4<='2 Descrizione Progetto'!$D$19),0,INDIRECT(CONCATENATE(\"'5 Foglio di elaborazione'!\",\"r\",'5 Foglio di elaborazione'!$B4,\"c\",BE$4-'5 Foglio di elaborazione'!$E$3+5),0)))","v":0},{"$f":"-IF(BF$4>'2 Descrizione Progetto'!$D$22,0,IF(AND(BF$4>='2 Descrizione Progetto'!$D$17,BF$4<='2 Descrizione Progetto'!$D$19),0,INDIRECT(CONCATENATE(\"'5 Foglio di elaborazione'!\",\"r\",'5 Foglio di elaborazione'!$B4,\"c\",BF$4-'5 Foglio di elaborazione'!$E$3+5),0)))","v":0},{"$f":"-IF(BG$4>'2 Descrizione Progetto'!$D$22,0,IF(AND(BG$4>='2 Descrizione Progetto'!$D$17,BG$4<='2 Descrizione Progetto'!$D$19),0,INDIRECT(CONCATENATE(\"'5 Foglio di elaborazione'!\",\"r\",'5 Foglio di elaborazione'!$B4,\"c\",BG$4-'5 Foglio di elaborazione'!$E$3+5),0)))","v":0},{"$f":"-IF(BH$4>'2 Descrizione Progetto'!$D$22,0,IF(AND(BH$4>='2 Descrizione Progetto'!$D$17,BH$4<='2 Descrizione Progetto'!$D$19),0,INDIRECT(CONCATENATE(\"'5 Foglio di elaborazione'!\",\"r\",'5 Foglio di elaborazione'!$B4,\"c\",BH$4-'5 Foglio di elaborazione'!$E$3+5),0)))","v":0},{"$f":"-IF(BI$4>'2 Descrizione Progetto'!$D$22,0,IF(AND(BI$4>='2 Descrizione Progetto'!$D$17,BI$4<='2 Descrizione Progetto'!$D$19),0,INDIRECT(CONCATENATE(\"'5 Foglio di elaborazione'!\",\"r\",'5 Foglio di elaborazione'!$B4,\"c\",BI$4-'5 Foglio di elaborazione'!$E$3+5),0)))","v":0},{"$f":"-IF(BJ$4>'2 Descrizione Progetto'!$D$22,0,IF(AND(BJ$4>='2 Descrizione Progetto'!$D$17,BJ$4<='2 Descrizione Progetto'!$D$19),0,INDIRECT(CONCATENATE(\"'5 Foglio di elaborazione'!\",\"r\",'5 Foglio di elaborazione'!$B4,\"c\",BJ$4-'5 Foglio di elaborazione'!$E$3+5),0)))","v":0},{"$f":"-IF(BK$4>'2 Descrizione Progetto'!$D$22,0,IF(AND(BK$4>='2 Descrizione Progetto'!$D$17,BK$4<='2 Descrizione Progetto'!$D$19),0,INDIRECT(CONCATENATE(\"'5 Foglio di elaborazione'!\",\"r\",'5 Foglio di elaborazione'!$B4,\"c\",BK$4-'5 Foglio di elaborazione'!$E$3+5),0)))","v":0},{"$f":"-IF(BL$4>'2 Descrizione Progetto'!$D$22,0,IF(AND(BL$4>='2 Descrizione Progetto'!$D$17,BL$4<='2 Descrizione Progetto'!$D$19),0,INDIRECT(CONCATENATE(\"'5 Foglio di elaborazione'!\",\"r\",'5 Foglio di elaborazione'!$B4,\"c\",BL$4-'5 Foglio di elaborazione'!$E$3+5),0)))","v":0}]
[null,"-","Costi del personale e Oneri Sicurezza",-1660474.700446716,{"$f":"-'4 Sviluppo Domanda e Gestione'!E215","v":-151645.389},{"$f":"-IF(F$4>'2 Descrizione Progetto'!$D$22,0,IF(AND(F$4>='2 Descrizione Progetto'!$D$17,F$4<='2 Descrizione Progetto'!$D$19),0,INDIRECT(CONCATENATE(\"'5 Foglio di elaborazione'!\",\"r\",'5 Foglio di elaborazione'!$B5,\"c\",F$4-'5 Foglio di elaborazione'!$E$3+5),0)))","v":-154678.29678},{"$f":"-IF(G$4>'2 Descrizione Progetto'!$D$22,0,IF(AND(G$4>='2 Descrizione Progetto'!$D$17,G$4<='2 Descrizione Progetto'!$D$19),0,INDIRECT(CONCATENATE(\"'5 Foglio di elaborazione'!\",\"r\",'5 Foglio di elaborazione'!$B5,\"c\",G$4-'5 Foglio di elaborazione'!$E$3+5),0)))","v":-157771.8627156},{"$f":"-IF(H$4>'2 Descrizione Progetto'!$D$22,0,IF(AND(H$4>='2 Descrizione Progetto'!$D$17,H$4<='2 Descrizione Progetto'!$D$19),0,INDIRECT(CONCATENATE(\"'5 Foglio di elaborazione'!\",\"r\",'5 Foglio di elaborazione'!$B5,\"c\",H$4-'5 Foglio di elaborazione'!$E$3+5),0)))","v":-160927.29996991198},{"$f":"-IF(I$4>'2 Descrizione Progetto'!$D$22,0,IF(AND(I$4>='2 Descrizione Progetto'!$D$17,I$4<='2 Descrizione Progetto'!$D$19),0,INDIRECT(CONCATENATE(\"'5 Foglio di elaborazione'!\",\"r\",'5 Foglio di elaborazione'!$B5,\"c\",I$4-'5 Foglio di elaborazione'!$E$3+5),0)))","v":-164145.84596931023},{"$f":"-IF(J$4>'2 Descrizione Progetto'!$D$22,0,IF(AND(J$4>='2 Descrizione Progetto'!$D$17,J$4<='2 Descrizione Progetto'!$D$19),0,INDIRECT(CONCATENATE(\"'5 Foglio di elaborazione'!\",\"r\",'5 Foglio di elaborazione'!$B5,\"c\",J$4-'5 Foglio di elaborazione'!$E$3+5),0)))","v":-167428.76288869645},{"$f":"-IF(K$4>'2 Descrizione Progetto'!$D$22,0,IF(AND(K$4>='2 Descrizione Progetto'!$D$17,K$4<='2 Descrizione Progetto'!$D$19),0,INDIRECT(CONCATENATE(\"'5 Foglio di elaborazione'!\",\"r\",'5 Foglio di elaborazione'!$B5,\"c\",K$4-'5 Foglio di elaborazione'!$E$3+5),0)))","v":-170777.33814647037},{"$f":"-IF(L$4>'2 Descrizione Progetto'!$D$22,0,IF(AND(L$4>='2 Descrizione Progetto'!$D$17,L$4<='2 Descrizione Progetto'!$D$19),0,INDIRECT(CONCATENATE(\"'5 Foglio di elaborazione'!\",\"r\",'5 Foglio di elaborazione'!$B5,\"c\",L$4-'5 Foglio di elaborazione'!$E$3+5),0)))","v":-174192.88490939979},{"$f":"-IF(M$4>'2 Descrizione Progetto'!$D$22,0,IF(AND(M$4>='2 Descrizione Progetto'!$D$17,M$4<='2 Descrizione Progetto'!$D$19),0,INDIRECT(CONCATENATE(\"'5 Foglio di elaborazione'!\",\"r\",'5 Foglio di elaborazione'!$B5,\"c\",M$4-'5 Foglio di elaborazione'!$E$3+5),0)))","v":-177676.7426075878},{"$f":"-IF(N$4>'2 Descrizione Progetto'!$D$22,0,IF(AND(N$4>='2 Descrizione Progetto'!$D$17,N$4<='2 Descrizione Progetto'!$D$19),0,INDIRECT(CONCATENATE(\"'5 Foglio di elaborazione'!\",\"r\",'5 Foglio di elaborazione'!$B5,\"c\",N$4-'5 Foglio di elaborazione'!$E$3+5),0)))","v":-181230.27745973956},{"$f":"-IF(O$4>'2 Descrizione Progetto'!$D$22,0,IF(AND(O$4>='2 Descrizione Progetto'!$D$17,O$4<='2 Descrizione Progetto'!$D$19),0,INDIRECT(CONCATENATE(\"'5 Foglio di elaborazione'!\",\"r\",'5 Foglio di elaborazione'!$B5,\"c\",O$4-'5 Foglio di elaborazione'!$E$3+5),0)))","v":0},{"$f":"-IF(P$4>'2 Descrizione Progetto'!$D$22,0,IF(AND(P$4>='2 Descrizione Progetto'!$D$17,P$4<='2 Descrizione Progetto'!$D$19),0,INDIRECT(CONCATENATE(\"'5 Foglio di elaborazione'!\",\"r\",'5 Foglio di elaborazione'!$B5,\"c\",P$4-'5 Foglio di elaborazione'!$E$3+5),0)))","v":0},{"$f":"-IF(Q$4>'2 Descrizione Progetto'!$D$22,0,IF(AND(Q$4>='2 Descrizione Progetto'!$D$17,Q$4<='2 Descrizione Progetto'!$D$19),0,INDIRECT(CONCATENATE(\"'5 Foglio di elaborazione'!\",\"r\",'5 Foglio di elaborazione'!$B5,\"c\",Q$4-'5 Foglio di elaborazione'!$E$3+5),0)))","v":0},{"$f":"-IF(R$4>'2 Descrizione Progetto'!$D$22,0,IF(AND(R$4>='2 Descrizione Progetto'!$D$17,R$4<='2 Descrizione Progetto'!$D$19),0,INDIRECT(CONCATENATE(\"'5 Foglio di elaborazione'!\",\"r\",'5 Foglio di elaborazione'!$B5,\"c\",R$4-'5 Foglio di elaborazione'!$E$3+5),0)))","v":0},{"$f":"-IF(S$4>'2 Descrizione Progetto'!$D$22,0,IF(AND(S$4>='2 Descrizione Progetto'!$D$17,S$4<='2 Descrizione Progetto'!$D$19),0,INDIRECT(CONCATENATE(\"'5 Foglio di elaborazione'!\",\"r\",'5 Foglio di elaborazione'!$B5,\"c\",S$4-'5 Foglio di elaborazione'!$E$3+5),0)))","v":0},{"$f":"-IF(T$4>'2 Descrizione Progetto'!$D$22,0,IF(AND(T$4>='2 Descrizione Progetto'!$D$17,T$4<='2 Descrizione Progetto'!$D$19),0,INDIRECT(CONCATENATE(\"'5 Foglio di elaborazione'!\",\"r\",'5 Foglio di elaborazione'!$B5,\"c\",T$4-'5 Foglio di elaborazione'!$E$3+5),0)))","v":0},{"$f":"-IF(U$4>'2 Descrizione Progetto'!$D$22,0,IF(AND(U$4>='2 Descrizione Progetto'!$D$17,U$4<='2 Descrizione Progetto'!$D$19),0,INDIRECT(CONCATENATE(\"'5 Foglio di elaborazione'!\",\"r\",'5 Foglio di elaborazione'!$B5,\"c\",U$4-'5 Foglio di elaborazione'!$E$3+5),0)))","v":0},{"$f":"-IF(V$4>'2 Descrizione Progetto'!$D$22,0,IF(AND(V$4>='2 Descrizione Progetto'!$D$17,V$4<='2 Descrizione Progetto'!$D$19),0,INDIRECT(CONCATENATE(\"'5 Foglio di elaborazione'!\",\"r\",'5 Foglio di elaborazione'!$B5,\"c\",V$4-'5 Foglio di elaborazione'!$E$3+5),0)))","v":0},{"$f":"-IF(W$4>'2 Descrizione Progetto'!$D$22,0,IF(AND(W$4>='2 Descrizione Progetto'!$D$17,W$4<='2 Descrizione Progetto'!$D$19),0,INDIRECT(CONCATENATE(\"'5 Foglio di elaborazione'!\",\"r\",'5 Foglio di elaborazione'!$B5,\"c\",W$4-'5 Foglio di elaborazione'!$E$3+5),0)))","v":0},{"$f":"-IF(X$4>'2 Descrizione Progetto'!$D$22,0,IF(AND(X$4>='2 Descrizione Progetto'!$D$17,X$4<='2 Descrizione Progetto'!$D$19),0,INDIRECT(CONCATENATE(\"'5 Foglio di elaborazione'!\",\"r\",'5 Foglio di elaborazione'!$B5,\"c\",X$4-'5 Foglio di elaborazione'!$E$3+5),0)))","v":0},{"$f":"-IF(Y$4>'2 Descrizione Progetto'!$D$22,0,IF(AND(Y$4>='2 Descrizione Progetto'!$D$17,Y$4<='2 Descrizione Progetto'!$D$19),0,INDIRECT(CONCATENATE(\"'5 Foglio di elaborazione'!\",\"r\",'5 Foglio di elaborazione'!$B5,\"c\",Y$4-'5 Foglio di elaborazione'!$E$3+5),0)))","v":0},{"$f":"-IF(Z$4>'2 Descrizione Progetto'!$D$22,0,IF(AND(Z$4>='2 Descrizione Progetto'!$D$17,Z$4<='2 Descrizione Progetto'!$D$19),0,INDIRECT(CONCATENATE(\"'5 Foglio di elaborazione'!\",\"r\",'5 Foglio di elaborazione'!$B5,\"c\",Z$4-'5 Foglio di elaborazione'!$E$3+5),0)))","v":0},{"$f":"-IF(AA$4>'2 Descrizione Progetto'!$D$22,0,IF(AND(AA$4>='2 Descrizione Progetto'!$D$17,AA$4<='2 Descrizione Progetto'!$D$19),0,INDIRECT(CONCATENATE(\"'5 Foglio di elaborazione'!\",\"r\",'5 Foglio di elaborazione'!$B5,\"c\",AA$4-'5 Foglio di elaborazione'!$E$3+5),0)))","v":0},{"$f":"-IF(AB$4>'2 Descrizione Progetto'!$D$22,0,IF(AND(AB$4>='2 Descrizione Progetto'!$D$17,AB$4<='2 Descrizione Progetto'!$D$19),0,INDIRECT(CONCATENATE(\"'5 Foglio di elaborazione'!\",\"r\",'5 Foglio di elaborazione'!$B5,\"c\",AB$4-'5 Foglio di elaborazione'!$E$3+5),0)))","v":0},{"$f":"-IF(AC$4>'2 Descrizione Progetto'!$D$22,0,IF(AND(AC$4>='2 Descrizione Progetto'!$D$17,AC$4<='2 Descrizione Progetto'!$D$19),0,INDIRECT(CONCATENATE(\"'5 Foglio di elaborazione'!\",\"r\",'5 Foglio di elaborazione'!$B5,\"c\",AC$4-'5 Foglio di elaborazione'!$E$3+5),0)))","v":0},{"$f":"-IF(AD$4>'2 Descrizione Progetto'!$D$22,0,IF(AND(AD$4>='2 Descrizione Progetto'!$D$17,AD$4<='2 Descrizione Progetto'!$D$19),0,INDIRECT(CONCATENATE(\"'5 Foglio di elaborazione'!\",\"r\",'5 Foglio di elaborazione'!$B5,\"c\",AD$4-'5 Foglio di elaborazione'!$E$3+5),0)))","v":0},{"$f":"-IF(AE$4>'2 Descrizione Progetto'!$D$22,0,IF(AND(AE$4>='2 Descrizione Progetto'!$D$17,AE$4<='2 Descrizione Progetto'!$D$19),0,INDIRECT(CONCATENATE(\"'5 Foglio di elaborazione'!\",\"r\",'5 Foglio di elaborazione'!$B5,\"c\",AE$4-'5 Foglio di elaborazione'!$E$3+5),0)))","v":0},{"$f":"-IF(AF$4>'2 Descrizione Progetto'!$D$22,0,IF(AND(AF$4>='2 Descrizione Progetto'!$D$17,AF$4<='2 Descrizione Progetto'!$D$19),0,INDIRECT(CONCATENATE(\"'5 Foglio di elaborazione'!\",\"r\",'5 Foglio di elaborazione'!$B5,\"c\",AF$4-'5 Foglio di elaborazione'!$E$3+5),0)))","v":0},{"$f":"-IF(AG$4>'2 Descrizione Progetto'!$D$22,0,IF(AND(AG$4>='2 Descrizione Progetto'!$D$17,AG$4<='2 Descrizione Progetto'!$D$19),0,INDIRECT(CONCATENATE(\"'5 Foglio di elaborazione'!\",\"r\",'5 Foglio di elaborazione'!$B5,\"c\",AG$4-'5 Foglio di elaborazione'!$E$3+5),0)))","v":0},{"$f":"-IF(AH$4>'2 Descrizione Progetto'!$D$22,0,IF(AND(AH$4>='2 Descrizione Progetto'!$D$17,AH$4<='2 Descrizione Progetto'!$D$19),0,INDIRECT(CONCATENATE(\"'5 Foglio di elaborazione'!\",\"r\",'5 Foglio di elaborazione'!$B5,\"c\",AH$4-'5 Foglio di elaborazione'!$E$3+5),0)))","v":0},{"$f":"-IF(AI$4>'2 Descrizione Progetto'!$D$22,0,IF(AND(AI$4>='2 Descrizione Progetto'!$D$17,AI$4<='2 Descrizione Progetto'!$D$19),0,INDIRECT(CONCATENATE(\"'5 Foglio di elaborazione'!\",\"r\",'5 Foglio di elaborazione'!$B5,\"c\",AI$4-'5 Foglio di elaborazione'!$E$3+5),0)))","v":0},{"$f":"-IF(AJ$4>'2 Descrizione Progetto'!$D$22,0,IF(AND(AJ$4>='2 Descrizione Progetto'!$D$17,AJ$4<='2 Descrizione Progetto'!$D$19),0,INDIRECT(CONCATENATE(\"'5 Foglio di elaborazione'!\",\"r\",'5 Foglio di elaborazione'!$B5,\"c\",AJ$4-'5 Foglio di elaborazione'!$E$3+5),0)))","v":0},{"$f":"-IF(AK$4>'2 Descrizione Progetto'!$D$22,0,IF(AND(AK$4>='2 Descrizione Progetto'!$D$17,AK$4<='2 Descrizione Progetto'!$D$19),0,INDIRECT(CONCATENATE(\"'5 Foglio di elaborazione'!\",\"r\",'5 Foglio di elaborazione'!$B5,\"c\",AK$4-'5 Foglio di elaborazione'!$E$3+5),0)))","v":0},{"$f":"-IF(AL$4>'2 Descrizione Progetto'!$D$22,0,IF(AND(AL$4>='2 Descrizione Progetto'!$D$17,AL$4<='2 Descrizione Progetto'!$D$19),0,INDIRECT(CONCATENATE(\"'5 Foglio di elaborazione'!\",\"r\",'5 Foglio di elaborazione'!$B5,\"c\",AL$4-'5 Foglio di elaborazione'!$E$3+5),0)))","v":0},{"$f":"-IF(AM$4>'2 Descrizione Progetto'!$D$22,0,IF(AND(AM$4>='2 Descrizione Progetto'!$D$17,AM$4<='2 Descrizione Progetto'!$D$19),0,INDIRECT(CONCATENATE(\"'5 Foglio di elaborazione'!\",\"r\",'5 Foglio di elaborazione'!$B5,\"c\",AM$4-'5 Foglio di elaborazione'!$E$3+5),0)))","v":0},{"$f":"-IF(AN$4>'2 Descrizione Progetto'!$D$22,0,IF(AND(AN$4>='2 Descrizione Progetto'!$D$17,AN$4<='2 Descrizione Progetto'!$D$19),0,INDIRECT(CONCATENATE(\"'5 Foglio di elaborazione'!\",\"r\",'5 Foglio di elaborazione'!$B5,\"c\",AN$4-'5 Foglio di elaborazione'!$E$3+5),0)))","v":0},{"$f":"-IF(AO$4>'2 Descrizione Progetto'!$D$22,0,IF(AND(AO$4>='2 Descrizione Progetto'!$D$17,AO$4<='2 Descrizione Progetto'!$D$19),0,INDIRECT(CONCATENATE(\"'5 Foglio di elaborazione'!\",\"r\",'5 Foglio di elaborazione'!$B5,\"c\",AO$4-'5 Foglio di elaborazione'!$E$3+5),0)))","v":0},{"$f":"-IF(AP$4>'2 Descrizione Progetto'!$D$22,0,IF(AND(AP$4>='2 Descrizione Progetto'!$D$17,AP$4<='2 Descrizione Progetto'!$D$19),0,INDIRECT(CONCATENATE(\"'5 Foglio di elaborazione'!\",\"r\",'5 Foglio di elaborazione'!$B5,\"c\",AP$4-'5 Foglio di elaborazione'!$E$3+5),0)))","v":0},{"$f":"-IF(AQ$4>'2 Descrizione Progetto'!$D$22,0,IF(AND(AQ$4>='2 Descrizione Progetto'!$D$17,AQ$4<='2 Descrizione Progetto'!$D$19),0,INDIRECT(CONCATENATE(\"'5 Foglio di elaborazione'!\",\"r\",'5 Foglio di elaborazione'!$B5,\"c\",AQ$4-'5 Foglio di elaborazione'!$E$3+5),0)))","v":0},{"$f":"-IF(AR$4>'2 Descrizione Progetto'!$D$22,0,IF(AND(AR$4>='2 Descrizione Progetto'!$D$17,AR$4<='2 Descrizione Progetto'!$D$19),0,INDIRECT(CONCATENATE(\"'5 Foglio di elaborazione'!\",\"r\",'5 Foglio di elaborazione'!$B5,\"c\",AR$4-'5 Foglio di elaborazione'!$E$3+5),0)))","v":0},{"$f":"-IF(AS$4>'2 Descrizione Progetto'!$D$22,0,IF(AND(AS$4>='2 Descrizione Progetto'!$D$17,AS$4<='2 Descrizione Progetto'!$D$19),0,INDIRECT(CONCATENATE(\"'5 Foglio di elaborazione'!\",\"r\",'5 Foglio di elaborazione'!$B5,\"c\",AS$4-'5 Foglio di elaborazione'!$E$3+5),0)))","v":0},{"$f":"-IF(AT$4>'2 Descrizione Progetto'!$D$22,0,IF(AND(AT$4>='2 Descrizione Progetto'!$D$17,AT$4<='2 Descrizione Progetto'!$D$19),0,INDIRECT(CONCATENATE(\"'5 Foglio di elaborazione'!\",\"r\",'5 Foglio di elaborazione'!$B5,\"c\",AT$4-'5 Foglio di elaborazione'!$E$3+5),0)))","v":0},{"$f":"-IF(AU$4>'2 Descrizione Progetto'!$D$22,0,IF(AND(AU$4>='2 Descrizione Progetto'!$D$17,AU$4<='2 Descrizione Progetto'!$D$19),0,INDIRECT(CONCATENATE(\"'5 Foglio di elaborazione'!\",\"r\",'5 Foglio di elaborazione'!$B5,\"c\",AU$4-'5 Foglio di elaborazione'!$E$3+5),0)))","v":0},{"$f":"-IF(AV$4>'2 Descrizione Progetto'!$D$22,0,IF(AND(AV$4>='2 Descrizione Progetto'!$D$17,AV$4<='2 Descrizione Progetto'!$D$19),0,INDIRECT(CONCATENATE(\"'5 Foglio di elaborazione'!\",\"r\",'5 Foglio di elaborazione'!$B5,\"c\",AV$4-'5 Foglio di elaborazione'!$E$3+5),0)))","v":0},{"$f":"-IF(AW$4>'2 Descrizione Progetto'!$D$22,0,IF(AND(AW$4>='2 Descrizione Progetto'!$D$17,AW$4<='2 Descrizione Progetto'!$D$19),0,INDIRECT(CONCATENATE(\"'5 Foglio di elaborazione'!\",\"r\",'5 Foglio di elaborazione'!$B5,\"c\",AW$4-'5 Foglio di elaborazione'!$E$3+5),0)))","v":0},{"$f":"-IF(AX$4>'2 Descrizione Progetto'!$D$22,0,IF(AND(AX$4>='2 Descrizione Progetto'!$D$17,AX$4<='2 Descrizione Progetto'!$D$19),0,INDIRECT(CONCATENATE(\"'5 Foglio di elaborazione'!\",\"r\",'5 Foglio di elaborazione'!$B5,\"c\",AX$4-'5 Foglio di elaborazione'!$E$3+5),0)))","v":0},{"$f":"-IF(AY$4>'2 Descrizione Progetto'!$D$22,0,IF(AND(AY$4>='2 Descrizione Progetto'!$D$17,AY$4<='2 Descrizione Progetto'!$D$19),0,INDIRECT(CONCATENATE(\"'5 Foglio di elaborazione'!\",\"r\",'5 Foglio di elaborazione'!$B5,\"c\",AY$4-'5 Foglio di elaborazione'!$E$3+5),0)))","v":0},{"$f":"-IF(AZ$4>'2 Descrizione Progetto'!$D$22,0,IF(AND(AZ$4>='2 Descrizione Progetto'!$D$17,AZ$4<='2 Descrizione Progetto'!$D$19),0,INDIRECT(CONCATENATE(\"'5 Foglio di elaborazione'!\",\"r\",'5 Foglio di elaborazione'!$B5,\"c\",AZ$4-'5 Foglio di elaborazione'!$E$3+5),0)))","v":0},{"$f":"-IF(BA$4>'2 Descrizione Progetto'!$D$22,0,IF(AND(BA$4>='2 Descrizione Progetto'!$D$17,BA$4<='2 Descrizione Progetto'!$D$19),0,INDIRECT(CONCATENATE(\"'5 Foglio di elaborazione'!\",\"r\",'5 Foglio di elaborazione'!$B5,\"c\",BA$4-'5 Foglio di elaborazione'!$E$3+5),0)))","v":0},{"$f":"-IF(BB$4>'2 Descrizione Progetto'!$D$22,0,IF(AND(BB$4>='2 Descrizione Progetto'!$D$17,BB$4<='2 Descrizione Progetto'!$D$19),0,INDIRECT(CONCATENATE(\"'5 Foglio di elaborazione'!\",\"r\",'5 Foglio di elaborazione'!$B5,\"c\",BB$4-'5 Foglio di elaborazione'!$E$3+5),0)))","v":0},{"$f":"-IF(BC$4>'2 Descrizione Progetto'!$D$22,0,IF(AND(BC$4>='2 Descrizione Progetto'!$D$17,BC$4<='2 Descrizione Progetto'!$D$19),0,INDIRECT(CONCATENATE(\"'5 Foglio di elaborazione'!\",\"r\",'5 Foglio di elaborazione'!$B5,\"c\",BC$4-'5 Foglio di elaborazione'!$E$3+5),0)))","v":0},{"$f":"-IF(BD$4>'2 Descrizione Progetto'!$D$22,0,IF(AND(BD$4>='2 Descrizione Progetto'!$D$17,BD$4<='2 Descrizione Progetto'!$D$19),0,INDIRECT(CONCATENATE(\"'5 Foglio di elaborazione'!\",\"r\",'5 Foglio di elaborazione'!$B5,\"c\",BD$4-'5 Foglio di elaborazione'!$E$3+5),0)))","v":0},{"$f":"-IF(BE$4>'2 Descrizione Progetto'!$D$22,0,IF(AND(BE$4>='2 Descrizione Progetto'!$D$17,BE$4<='2 Descrizione Progetto'!$D$19),0,INDIRECT(CONCATENATE(\"'5 Foglio di elaborazione'!\",\"r\",'5 Foglio di elaborazione'!$B5,\"c\",BE$4-'5 Foglio di elaborazione'!$E$3+5),0)))","v":0},{"$f":"-IF(BF$4>'2 Descrizione Progetto'!$D$22,0,IF(AND(BF$4>='2 Descrizione Progetto'!$D$17,BF$4<='2 Descrizione Progetto'!$D$19),0,INDIRECT(CONCATENATE(\"'5 Foglio di elaborazione'!\",\"r\",'5 Foglio di elaborazione'!$B5,\"c\",BF$4-'5 Foglio di elaborazione'!$E$3+5),0)))","v":0},{"$f":"-IF(BG$4>'2 Descrizione Progetto'!$D$22,0,IF(AND(BG$4>='2 Descrizione Progetto'!$D$17,BG$4<='2 Descrizione Progetto'!$D$19),0,INDIRECT(CONCATENATE(\"'5 Foglio di elaborazione'!\",\"r\",'5 Foglio di elaborazione'!$B5,\"c\",BG$4-'5 Foglio di elaborazione'!$E$3+5),0)))","v":0},{"$f":"-IF(BH$4>'2 Descrizione Progetto'!$D$22,0,IF(AND(BH$4>='2 Descrizione Progetto'!$D$17,BH$4<='2 Descrizione Progetto'!$D$19),0,INDIRECT(CONCATENATE(\"'5 Foglio di elaborazione'!\",\"r\",'5 Foglio di elaborazione'!$B5,\"c\",BH$4-'5 Foglio di elaborazione'!$E$3+5),0)))","v":0},{"$f":"-IF(BI$4>'2 Descrizione Progetto'!$D$22,0,IF(AND(BI$4>='2 Descrizione Progetto'!$D$17,BI$4<='2 Descrizione Progetto'!$D$19),0,INDIRECT(CONCATENATE(\"'5 Foglio di elaborazione'!\",\"r\",'5 Foglio di elaborazione'!$B5,\"c\",BI$4-'5 Foglio di elaborazione'!$E$3+5),0)))","v":0},{"$f":"-IF(BJ$4>'2 Descrizione Progetto'!$D$22,0,IF(AND(BJ$4>='2 Descrizione Progetto'!$D$17,BJ$4<='2 Descrizione Progetto'!$D$19),0,INDIRECT(CONCATENATE(\"'5 Foglio di elaborazione'!\",\"r\",'5 Foglio di elaborazione'!$B5,\"c\",BJ$4-'5 Foglio di elaborazione'!$E$3+5),0)))","v":0},{"$f":"-IF(BK$4>'2 Descrizione Progetto'!$D$22,0,IF(AND(BK$4>='2 Descrizione Progetto'!$D$17,BK$4<='2 Descrizione Progetto'!$D$19),0,INDIRECT(CONCATENATE(\"'5 Foglio di elaborazione'!\",\"r\",'5 Foglio di elaborazione'!$B5,\"c\",BK$4-'5 Foglio di elaborazione'!$E$3+5),0)))","v":0},{"$f":"-IF(BL$4>'2 Descrizione Progetto'!$D$22,0,IF(AND(BL$4>='2 Descrizione Progetto'!$D$17,BL$4<='2 Descrizione Progetto'!$D$19),0,INDIRECT(CONCATENATE(\"'5 Foglio di elaborazione'!\",\"r\",'5 Foglio di elaborazione'!$B5,\"c\",BL$4-'5 Foglio di elaborazione'!$E$3+5),0)))","v":0}]
[null,"-","Canone di Concessione",-65698.325998427143,{"$f":"-'4 Sviluppo Domanda e Gestione'!E216","v":-6000},{"$f":"-IF(F$4>'2 Descrizione Progetto'!$D$22,0,IF(AND(F$4>='2 Descrizione Progetto'!$D$17,F$4<='2 Descrizione Progetto'!$D$19),0,INDIRECT(CONCATENATE(\"'5 Foglio di elaborazione'!\",\"r\",'5 Foglio di elaborazione'!$B6,\"c\",F$4-'5 Foglio di elaborazione'!$E$3+5),0)))","v":-6120},{"$f":"-IF(G$4>'2 Descrizione Progetto'!$D$22,0,IF(AND(G$4>='2 Descrizione Progetto'!$D$17,G$4<='2 Descrizione Progetto'!$D$19),0,INDIRECT(CONCATENATE(\"'5 Foglio di elaborazione'!\",\"r\",'5 Foglio di elaborazione'!$B6,\"c\",G$4-'5 Foglio di elaborazione'!$E$3+5),0)))","v":-6242.4},{"$f":"-IF(H$4>'2 Descrizione Progetto'!$D$22,0,IF(AND(H$4>='2 Descrizione Progetto'!$D$17,H$4<='2 Descrizione Progetto'!$D$19),0,INDIRECT(CONCATENATE(\"'5 Foglio di elaborazione'!\",\"r\",'5 Foglio di elaborazione'!$B6,\"c\",H$4-'5 Foglio di elaborazione'!$E$3+5),0)))","v":-6367.2479999999996},{"$f":"-IF(I$4>'2 Descrizione Progetto'!$D$22,0,IF(AND(I$4>='2 Descrizione Progetto'!$D$17,I$4<='2 Descrizione Progetto'!$D$19),0,INDIRECT(CONCATENATE(\"'5 Foglio di elaborazione'!\",\"r\",'5 Foglio di elaborazione'!$B6,\"c\",I$4-'5 Foglio di elaborazione'!$E$3+5),0)))","v":-6494.5929599999999},{"$f":"-IF(J$4>'2 Descrizione Progetto'!$D$22,0,IF(AND(J$4>='2 Descrizione Progetto'!$D$17,J$4<='2 Descrizione Progetto'!$D$19),0,INDIRECT(CONCATENATE(\"'5 Foglio di elaborazione'!\",\"r\",'5 Foglio di elaborazione'!$B6,\"c\",J$4-'5 Foglio di elaborazione'!$E$3+5),0)))","v":-6624.4848191999999},{"$f":"-IF(K$4>'2 Descrizione Progetto'!$D$22,0,IF(AND(K$4>='2 Descrizione Progetto'!$D$17,K$4<='2 Descrizione Progetto'!$D$19),0,INDIRECT(CONCATENATE(\"'5 Foglio di elaborazione'!\",\"r\",'5 Foglio di elaborazione'!$B6,\"c\",K$4-'5 Foglio di elaborazione'!$E$3+5),0)))","v":-6756.9745155840001},{"$f":"-IF(L$4>'2 Descrizione Progetto'!$D$22,0,IF(AND(L$4>='2 Descrizione Progetto'!$D$17,L$4<='2 Descrizione Progetto'!$D$19),0,INDIRECT(CONCATENATE(\"'5 Foglio di elaborazione'!\",\"r\",'5 Foglio di elaborazione'!$B6,\"c\",L$4-'5 Foglio di elaborazione'!$E$3+5),0)))","v":-6892.1140058956798},{"$f":"-IF(M$4>'2 Descrizione Progetto'!$D$22,0,IF(AND(M$4>='2 Descrizione Progetto'!$D$17,M$4<='2 Descrizione Progetto'!$D$19),0,INDIRECT(CONCATENATE(\"'5 Foglio di elaborazione'!\",\"r\",'5 Foglio di elaborazione'!$B6,\"c\",M$4-'5 Foglio di elaborazione'!$E$3+5),0)))","v":-7029.9562860135948},{"$f":"-IF(N$4>'2 Descrizione Progetto'!$D$22,0,IF(AND(N$4>='2 Descrizione Progetto'!$D$17,N$4<='2 Descrizione Progetto'!$D$19),0,INDIRECT(CONCATENATE(\"'5 Foglio di elaborazione'!\",\"r\",'5 Foglio di elaborazione'!$B6,\"c\",N$4-'5 Foglio di elaborazione'!$E$3+5),0)))","v":-7170.5554117338661},{"$f":"-IF(O$4>'2 Descrizione Progetto'!$D$22,0,IF(AND(O$4>='2 Descrizione Progetto'!$D$17,O$4<='2 Descrizione Progetto'!$D$19),0,INDIRECT(CONCATENATE(\"'5 Foglio di elaborazione'!\",\"r\",'5 Foglio di elaborazione'!$B6,\"c\",O$4-'5 Foglio di elaborazione'!$E$3+5),0)))","v":0},{"$f":"-IF(P$4>'2 Descrizione Progetto'!$D$22,0,IF(AND(P$4>='2 Descrizione Progetto'!$D$17,P$4<='2 Descrizione Progetto'!$D$19),0,INDIRECT(CONCATENATE(\"'5 Foglio di elaborazione'!\",\"r\",'5 Foglio di elaborazione'!$B6,\"c\",P$4-'5 Foglio di elaborazione'!$E$3+5),0)))","v":0},{"$f":"-IF(Q$4>'2 Descrizione Progetto'!$D$22,0,IF(AND(Q$4>='2 Descrizione Progetto'!$D$17,Q$4<='2 Descrizione Progetto'!$D$19),0,INDIRECT(CONCATENATE(\"'5 Foglio di elaborazione'!\",\"r\",'5 Foglio di elaborazione'!$B6,\"c\",Q$4-'5 Foglio di elaborazione'!$E$3+5),0)))","v":0},{"$f":"-IF(R$4>'2 Descrizione Progetto'!$D$22,0,IF(AND(R$4>='2 Descrizione Progetto'!$D$17,R$4<='2 Descrizione Progetto'!$D$19),0,INDIRECT(CONCATENATE(\"'5 Foglio di elaborazione'!\",\"r\",'5 Foglio di elaborazione'!$B6,\"c\",R$4-'5 Foglio di elaborazione'!$E$3+5),0)))","v":0},{"$f":"-IF(S$4>'2 Descrizione Progetto'!$D$22,0,IF(AND(S$4>='2 Descrizione Progetto'!$D$17,S$4<='2 Descrizione Progetto'!$D$19),0,INDIRECT(CONCATENATE(\"'5 Foglio di elaborazione'!\",\"r\",'5 Foglio di elaborazione'!$B6,\"c\",S$4-'5 Foglio di elaborazione'!$E$3+5),0)))","v":0},{"$f":"-IF(T$4>'2 Descrizione Progetto'!$D$22,0,IF(AND(T$4>='2 Descrizione Progetto'!$D$17,T$4<='2 Descrizione Progetto'!$D$19),0,INDIRECT(CONCATENATE(\"'5 Foglio di elaborazione'!\",\"r\",'5 Foglio di elaborazione'!$B6,\"c\",T$4-'5 Foglio di elaborazione'!$E$3+5),0)))","v":0},{"$f":"-IF(U$4>'2 Descrizione Progetto'!$D$22,0,IF(AND(U$4>='2 Descrizione Progetto'!$D$17,U$4<='2 Descrizione Progetto'!$D$19),0,INDIRECT(CONCATENATE(\"'5 Foglio di elaborazione'!\",\"r\",'5 Foglio di elaborazione'!$B6,\"c\",U$4-'5 Foglio di elaborazione'!$E$3+5),0)))","v":0},{"$f":"-IF(V$4>'2 Descrizione Progetto'!$D$22,0,IF(AND(V$4>='2 Descrizione Progetto'!$D$17,V$4<='2 Descrizione Progetto'!$D$19),0,INDIRECT(CONCATENATE(\"'5 Foglio di elaborazione'!\",\"r\",'5 Foglio di elaborazione'!$B6,\"c\",V$4-'5 Foglio di elaborazione'!$E$3+5),0)))","v":0},{"$f":"-IF(W$4>'2 Descrizione Progetto'!$D$22,0,IF(AND(W$4>='2 Descrizione Progetto'!$D$17,W$4<='2 Descrizione Progetto'!$D$19),0,INDIRECT(CONCATENATE(\"'5 Foglio di elaborazione'!\",\"r\",'5 Foglio di elaborazione'!$B6,\"c\",W$4-'5 Foglio di elaborazione'!$E$3+5),0)))","v":0},{"$f":"-IF(X$4>'2 Descrizione Progetto'!$D$22,0,IF(AND(X$4>='2 Descrizione Progetto'!$D$17,X$4<='2 Descrizione Progetto'!$D$19),0,INDIRECT(CONCATENATE(\"'5 Foglio di elaborazione'!\",\"r\",'5 Foglio di elaborazione'!$B6,\"c\",X$4-'5 Foglio di elaborazione'!$E$3+5),0)))","v":0},{"$f":"-IF(Y$4>'2 Descrizione Progetto'!$D$22,0,IF(AND(Y$4>='2 Descrizione Progetto'!$D$17,Y$4<='2 Descrizione Progetto'!$D$19),0,INDIRECT(CONCATENATE(\"'5 Foglio di elaborazione'!\",\"r\",'5 Foglio di elaborazione'!$B6,\"c\",Y$4-'5 Foglio di elaborazione'!$E$3+5),0)))","v":0},{"$f":"-IF(Z$4>'2 Descrizione Progetto'!$D$22,0,IF(AND(Z$4>='2 Descrizione Progetto'!$D$17,Z$4<='2 Descrizione Progetto'!$D$19),0,INDIRECT(CONCATENATE(\"'5 Foglio di elaborazione'!\",\"r\",'5 Foglio di elaborazione'!$B6,\"c\",Z$4-'5 Foglio di elaborazione'!$E$3+5),0)))","v":0},{"$f":"-IF(AA$4>'2 Descrizione Progetto'!$D$22,0,IF(AND(AA$4>='2 Descrizione Progetto'!$D$17,AA$4<='2 Descrizione Progetto'!$D$19),0,INDIRECT(CONCATENATE(\"'5 Foglio di elaborazione'!\",\"r\",'5 Foglio di elaborazione'!$B6,\"c\",AA$4-'5 Foglio di elaborazione'!$E$3+5),0)))","v":0},{"$f":"-IF(AB$4>'2 Descrizione Progetto'!$D$22,0,IF(AND(AB$4>='2 Descrizione Progetto'!$D$17,AB$4<='2 Descrizione Progetto'!$D$19),0,INDIRECT(CONCATENATE(\"'5 Foglio di elaborazione'!\",\"r\",'5 Foglio di elaborazione'!$B6,\"c\",AB$4-'5 Foglio di elaborazione'!$E$3+5),0)))","v":0},{"$f":"-IF(AC$4>'2 Descrizione Progetto'!$D$22,0,IF(AND(AC$4>='2 Descrizione Progetto'!$D$17,AC$4<='2 Descrizione Progetto'!$D$19),0,INDIRECT(CONCATENATE(\"'5 Foglio di elaborazione'!\",\"r\",'5 Foglio di elaborazione'!$B6,\"c\",AC$4-'5 Foglio di elaborazione'!$E$3+5),0)))","v":0},{"$f":"-IF(AD$4>'2 Descrizione Progetto'!$D$22,0,IF(AND(AD$4>='2 Descrizione Progetto'!$D$17,AD$4<='2 Descrizione Progetto'!$D$19),0,INDIRECT(CONCATENATE(\"'5 Foglio di elaborazione'!\",\"r\",'5 Foglio di elaborazione'!$B6,\"c\",AD$4-'5 Foglio di elaborazione'!$E$3+5),0)))","v":0},{"$f":"-IF(AE$4>'2 Descrizione Progetto'!$D$22,0,IF(AND(AE$4>='2 Descrizione Progetto'!$D$17,AE$4<='2 Descrizione Progetto'!$D$19),0,INDIRECT(CONCATENATE(\"'5 Foglio di elaborazione'!\",\"r\",'5 Foglio di elaborazione'!$B6,\"c\",AE$4-'5 Foglio di elaborazione'!$E$3+5),0)))","v":0},{"$f":"-IF(AF$4>'2 Descrizione Progetto'!$D$22,0,IF(AND(AF$4>='2 Descrizione Progetto'!$D$17,AF$4<='2 Descrizione Progetto'!$D$19),0,INDIRECT(CONCATENATE(\"'5 Foglio di elaborazione'!\",\"r\",'5 Foglio di elaborazione'!$B6,\"c\",AF$4-'5 Foglio di elaborazione'!$E$3+5),0)))","v":0},{"$f":"-IF(AG$4>'2 Descrizione Progetto'!$D$22,0,IF(AND(AG$4>='2 Descrizione Progetto'!$D$17,AG$4<='2 Descrizione Progetto'!$D$19),0,INDIRECT(CONCATENATE(\"'5 Foglio di elaborazione'!\",\"r\",'5 Foglio di elaborazione'!$B6,\"c\",AG$4-'5 Foglio di elaborazione'!$E$3+5),0)))","v":0},{"$f":"-IF(AH$4>'2 Descrizione Progetto'!$D$22,0,IF(AND(AH$4>='2 Descrizione Progetto'!$D$17,AH$4<='2 Descrizione Progetto'!$D$19),0,INDIRECT(CONCATENATE(\"'5 Foglio di elaborazione'!\",\"r\",'5 Foglio di elaborazione'!$B6,\"c\",AH$4-'5 Foglio di elaborazione'!$E$3+5),0)))","v":0},{"$f":"-IF(AI$4>'2 Descrizione Progetto'!$D$22,0,IF(AND(AI$4>='2 Descrizione Progetto'!$D$17,AI$4<='2 Descrizione Progetto'!$D$19),0,INDIRECT(CONCATENATE(\"'5 Foglio di elaborazione'!\",\"r\",'5 Foglio di elaborazione'!$B6,\"c\",AI$4-'5 Foglio di elaborazione'!$E$3+5),0)))","v":0},{"$f":"-IF(AJ$4>'2 Descrizione Progetto'!$D$22,0,IF(AND(AJ$4>='2 Descrizione Progetto'!$D$17,AJ$4<='2 Descrizione Progetto'!$D$19),0,INDIRECT(CONCATENATE(\"'5 Foglio di elaborazione'!\",\"r\",'5 Foglio di elaborazione'!$B6,\"c\",AJ$4-'5 Foglio di elaborazione'!$E$3+5),0)))","v":0},{"$f":"-IF(AK$4>'2 Descrizione Progetto'!$D$22,0,IF(AND(AK$4>='2 Descrizione Progetto'!$D$17,AK$4<='2 Descrizione Progetto'!$D$19),0,INDIRECT(CONCATENATE(\"'5 Foglio di elaborazione'!\",\"r\",'5 Foglio di elaborazione'!$B6,\"c\",AK$4-'5 Foglio di elaborazione'!$E$3+5),0)))","v":0},{"$f":"-IF(AL$4>'2 Descrizione Progetto'!$D$22,0,IF(AND(AL$4>='2 Descrizione Progetto'!$D$17,AL$4<='2 Descrizione Progetto'!$D$19),0,INDIRECT(CONCATENATE(\"'5 Foglio di elaborazione'!\",\"r\",'5 Foglio di elaborazione'!$B6,\"c\",AL$4-'5 Foglio di elaborazione'!$E$3+5),0)))","v":0},{"$f":"-IF(AM$4>'2 Descrizione Progetto'!$D$22,0,IF(AND(AM$4>='2 Descrizione Progetto'!$D$17,AM$4<='2 Descrizione Progetto'!$D$19),0,INDIRECT(CONCATENATE(\"'5 Foglio di elaborazione'!\",\"r\",'5 Foglio di elaborazione'!$B6,\"c\",AM$4-'5 Foglio di elaborazione'!$E$3+5),0)))","v":0},{"$f":"-IF(AN$4>'2 Descrizione Progetto'!$D$22,0,IF(AND(AN$4>='2 Descrizione Progetto'!$D$17,AN$4<='2 Descrizione Progetto'!$D$19),0,INDIRECT(CONCATENATE(\"'5 Foglio di elaborazione'!\",\"r\",'5 Foglio di elaborazione'!$B6,\"c\",AN$4-'5 Foglio di elaborazione'!$E$3+5),0)))","v":0},{"$f":"-IF(AO$4>'2 Descrizione Progetto'!$D$22,0,IF(AND(AO$4>='2 Descrizione Progetto'!$D$17,AO$4<='2 Descrizione Progetto'!$D$19),0,INDIRECT(CONCATENATE(\"'5 Foglio di elaborazione'!\",\"r\",'5 Foglio di elaborazione'!$B6,\"c\",AO$4-'5 Foglio di elaborazione'!$E$3+5),0)))","v":0},{"$f":"-IF(AP$4>'2 Descrizione Progetto'!$D$22,0,IF(AND(AP$4>='2 Descrizione Progetto'!$D$17,AP$4<='2 Descrizione Progetto'!$D$19),0,INDIRECT(CONCATENATE(\"'5 Foglio di elaborazione'!\",\"r\",'5 Foglio di elaborazione'!$B6,\"c\",AP$4-'5 Foglio di elaborazione'!$E$3+5),0)))","v":0},{"$f":"-IF(AQ$4>'2 Descrizione Progetto'!$D$22,0,IF(AND(AQ$4>='2 Descrizione Progetto'!$D$17,AQ$4<='2 Descrizione Progetto'!$D$19),0,INDIRECT(CONCATENATE(\"'5 Foglio di elaborazione'!\",\"r\",'5 Foglio di elaborazione'!$B6,\"c\",AQ$4-'5 Foglio di elaborazione'!$E$3+5),0)))","v":0},{"$f":"-IF(AR$4>'2 Descrizione Progetto'!$D$22,0,IF(AND(AR$4>='2 Descrizione Progetto'!$D$17,AR$4<='2 Descrizione Progetto'!$D$19),0,INDIRECT(CONCATENATE(\"'5 Foglio di elaborazione'!\",\"r\",'5 Foglio di elaborazione'!$B6,\"c\",AR$4-'5 Foglio di elaborazione'!$E$3+5),0)))","v":0},{"$f":"-IF(AS$4>'2 Descrizione Progetto'!$D$22,0,IF(AND(AS$4>='2 Descrizione Progetto'!$D$17,AS$4<='2 Descrizione Progetto'!$D$19),0,INDIRECT(CONCATENATE(\"'5 Foglio di elaborazione'!\",\"r\",'5 Foglio di elaborazione'!$B6,\"c\",AS$4-'5 Foglio di elaborazione'!$E$3+5),0)))","v":0},{"$f":"-IF(AT$4>'2 Descrizione Progetto'!$D$22,0,IF(AND(AT$4>='2 Descrizione Progetto'!$D$17,AT$4<='2 Descrizione Progetto'!$D$19),0,INDIRECT(CONCATENATE(\"'5 Foglio di elaborazione'!\",\"r\",'5 Foglio di elaborazione'!$B6,\"c\",AT$4-'5 Foglio di elaborazione'!$E$3+5),0)))","v":0},{"$f":"-IF(AU$4>'2 Descrizione Progetto'!$D$22,0,IF(AND(AU$4>='2 Descrizione Progetto'!$D$17,AU$4<='2 Descrizione Progetto'!$D$19),0,INDIRECT(CONCATENATE(\"'5 Foglio di elaborazione'!\",\"r\",'5 Foglio di elaborazione'!$B6,\"c\",AU$4-'5 Foglio di elaborazione'!$E$3+5),0)))","v":0},{"$f":"-IF(AV$4>'2 Descrizione Progetto'!$D$22,0,IF(AND(AV$4>='2 Descrizione Progetto'!$D$17,AV$4<='2 Descrizione Progetto'!$D$19),0,INDIRECT(CONCATENATE(\"'5 Foglio di elaborazione'!\",\"r\",'5 Foglio di elaborazione'!$B6,\"c\",AV$4-'5 Foglio di elaborazione'!$E$3+5),0)))","v":0},{"$f":"-IF(AW$4>'2 Descrizione Progetto'!$D$22,0,IF(AND(AW$4>='2 Descrizione Progetto'!$D$17,AW$4<='2 Descrizione Progetto'!$D$19),0,INDIRECT(CONCATENATE(\"'5 Foglio di elaborazione'!\",\"r\",'5 Foglio di elaborazione'!$B6,\"c\",AW$4-'5 Foglio di elaborazione'!$E$3+5),0)))","v":0},{"$f":"-IF(AX$4>'2 Descrizione Progetto'!$D$22,0,IF(AND(AX$4>='2 Descrizione Progetto'!$D$17,AX$4<='2 Descrizione Progetto'!$D$19),0,INDIRECT(CONCATENATE(\"'5 Foglio di elaborazione'!\",\"r\",'5 Foglio di elaborazione'!$B6,\"c\",AX$4-'5 Foglio di elaborazione'!$E$3+5),0)))","v":0},{"$f":"-IF(AY$4>'2 Descrizione Progetto'!$D$22,0,IF(AND(AY$4>='2 Descrizione Progetto'!$D$17,AY$4<='2 Descrizione Progetto'!$D$19),0,INDIRECT(CONCATENATE(\"'5 Foglio di elaborazione'!\",\"r\",'5 Foglio di elaborazione'!$B6,\"c\",AY$4-'5 Foglio di elaborazione'!$E$3+5),0)))","v":0},{"$f":"-IF(AZ$4>'2 Descrizione Progetto'!$D$22,0,IF(AND(AZ$4>='2 Descrizione Progetto'!$D$17,AZ$4<='2 Descrizione Progetto'!$D$19),0,INDIRECT(CONCATENATE(\"'5 Foglio di elaborazione'!\",\"r\",'5 Foglio di elaborazione'!$B6,\"c\",AZ$4-'5 Foglio di elaborazione'!$E$3+5),0)))","v":0},{"$f":"-IF(BA$4>'2 Descrizione Progetto'!$D$22,0,IF(AND(BA$4>='2 Descrizione Progetto'!$D$17,BA$4<='2 Descrizione Progetto'!$D$19),0,INDIRECT(CONCATENATE(\"'5 Foglio di elaborazione'!\",\"r\",'5 Foglio di elaborazione'!$B6,\"c\",BA$4-'5 Foglio di elaborazione'!$E$3+5),0)))","v":0},{"$f":"-IF(BB$4>'2 Descrizione Progetto'!$D$22,0,IF(AND(BB$4>='2 Descrizione Progetto'!$D$17,BB$4<='2 Descrizione Progetto'!$D$19),0,INDIRECT(CONCATENATE(\"'5 Foglio di elaborazione'!\",\"r\",'5 Foglio di elaborazione'!$B6,\"c\",BB$4-'5 Foglio di elaborazione'!$E$3+5),0)))","v":0},{"$f":"-IF(BC$4>'2 Descrizione Progetto'!$D$22,0,IF(AND(BC$4>='2 Descrizione Progetto'!$D$17,BC$4<='2 Descrizione Progetto'!$D$19),0,INDIRECT(CONCATENATE(\"'5 Foglio di elaborazione'!\",\"r\",'5 Foglio di elaborazione'!$B6,\"c\",BC$4-'5 Foglio di elaborazione'!$E$3+5),0)))","v":0},{"$f":"-IF(BD$4>'2 Descrizione Progetto'!$D$22,0,IF(AND(BD$4>='2 Descrizione Progetto'!$D$17,BD$4<='2 Descrizione Progetto'!$D$19),0,INDIRECT(CONCATENATE(\"'5 Foglio di elaborazione'!\",\"r\",'5 Foglio di elaborazione'!$B6,\"c\",BD$4-'5 Foglio di elaborazione'!$E$3+5),0)))","v":0},{"$f":"-IF(BE$4>'2 Descrizione Progetto'!$D$22,0,IF(AND(BE$4>='2 Descrizione Progetto'!$D$17,BE$4<='2 Descrizione Progetto'!$D$19),0,INDIRECT(CONCATENATE(\"'5 Foglio di elaborazione'!\",\"r\",'5 Foglio di elaborazione'!$B6,\"c\",BE$4-'5 Foglio di elaborazione'!$E$3+5),0)))","v":0},{"$f":"-IF(BF$4>'2 Descrizione Progetto'!$D$22,0,IF(AND(BF$4>='2 Descrizione Progetto'!$D$17,BF$4<='2 Descrizione Progetto'!$D$19),0,INDIRECT(CONCATENATE(\"'5 Foglio di elaborazione'!\",\"r\",'5 Foglio di elaborazione'!$B6,\"c\",BF$4-'5 Foglio di elaborazione'!$E$3+5),0)))","v":0},{"$f":"-IF(BG$4>'2 Descrizione Progetto'!$D$22,0,IF(AND(BG$4>='2 Descrizione Progetto'!$D$17,BG$4<='2 Descrizione Progetto'!$D$19),0,INDIRECT(CONCATENATE(\"'5 Foglio di elaborazione'!\",\"r\",'5 Foglio di elaborazione'!$B6,\"c\",BG$4-'5 Foglio di elaborazione'!$E$3+5),0)))","v":0},{"$f":"-IF(BH$4>'2 Descrizione Progetto'!$D$22,0,IF(AND(BH$4>='2 Descrizione Progetto'!$D$17,BH$4<='2 Descrizione Progetto'!$D$19),0,INDIRECT(CONCATENATE(\"'5 Foglio di elaborazione'!\",\"r\",'5 Foglio di elaborazione'!$B6,\"c\",BH$4-'5 Foglio di elaborazione'!$E$3+5),0)))","v":0},{"$f":"-IF(BI$4>'2 Descrizione Progetto'!$D$22,0,IF(AND(BI$4>='2 Descrizione Progetto'!$D$17,BI$4<='2 Descrizione Progetto'!$D$19),0,INDIRECT(CONCATENATE(\"'5 Foglio di elaborazione'!\",\"r\",'5 Foglio di elaborazione'!$B6,\"c\",BI$4-'5 Foglio di elaborazione'!$E$3+5),0)))","v":0},{"$f":"-IF(BJ$4>'2 Descrizione Progetto'!$D$22,0,IF(AND(BJ$4>='2 Descrizione Progetto'!$D$17,BJ$4<='2 Descrizione Progetto'!$D$19),0,INDIRECT(CONCATENATE(\"'5 Foglio di elaborazione'!\",\"r\",'5 Foglio di elaborazione'!$B6,\"c\",BJ$4-'5 Foglio di elaborazione'!$E$3+5),0)))","v":0},{"$f":"-IF(BK$4>'2 Descrizione Progetto'!$D$22,0,IF(AND(BK$4>='2 Descrizione Progetto'!$D$17,BK$4<='2 Descrizione Progetto'!$D$19),0,INDIRECT(CONCATENATE(\"'5 Foglio di elaborazione'!\",\"r\",'5 Foglio di elaborazione'!$B6,\"c\",BK$4-'5 Foglio di elaborazione'!$E$3+5),0)))","v":0},{"$f":"-IF(BL$4>'2 Descrizione Progetto'!$D$22,0,IF(AND(BL$4>='2 Descrizione Progetto'!$D$17,BL$4<='2 Descrizione Progetto'!$D$19),0,INDIRECT(CONCATENATE(\"'5 Foglio di elaborazione'!\",\"r\",'5 Foglio di elaborazione'!$B6,\"c\",BL$4-'5 Foglio di elaborazione'!$E$3+5),0)))","v":0}]
[null,"-","Manutenzioni ordinarie ",-176745.20621001461,{"$f":"-'4 Sviluppo Domanda e Gestione'!E217","v":-16141.526},{"$f":"-IF(F$4>'2 Descrizione Progetto'!$D$22,0,IF(AND(F$4>='2 Descrizione Progetto'!$D$17,F$4<='2 Descrizione Progetto'!$D$19),0,INDIRECT(CONCATENATE(\"'5 Foglio di elaborazione'!\",\"r\",'5 Foglio di elaborazione'!$B7,\"c\",F$4-'5 Foglio di elaborazione'!$E$3+5),0)))","v":-16464.356520000001},{"$f":"-IF(G$4>'2 Descrizione Progetto'!$D$22,0,IF(AND(G$4>='2 Descrizione Progetto'!$D$17,G$4<='2 Descrizione Progetto'!$D$19),0,INDIRECT(CONCATENATE(\"'5 Foglio di elaborazione'!\",\"r\",'5 Foglio di elaborazione'!$B7,\"c\",G$4-'5 Foglio di elaborazione'!$E$3+5),0)))","v":-16793.643650400001},{"$f":"-IF(H$4>'2 Descrizione Progetto'!$D$22,0,IF(AND(H$4>='2 Descrizione Progetto'!$D$17,H$4<='2 Descrizione Progetto'!$D$19),0,INDIRECT(CONCATENATE(\"'5 Foglio di elaborazione'!\",\"r\",'5 Foglio di elaborazione'!$B7,\"c\",H$4-'5 Foglio di elaborazione'!$E$3+5),0)))","v":-17129.516523407998},{"$f":"-IF(I$4>'2 Descrizione Progetto'!$D$22,0,IF(AND(I$4>='2 Descrizione Progetto'!$D$17,I$4<='2 Descrizione Progetto'!$D$19),0,INDIRECT(CONCATENATE(\"'5 Foglio di elaborazione'!\",\"r\",'5 Foglio di elaborazione'!$B7,\"c\",I$4-'5 Foglio di elaborazione'!$E$3+5),0)))","v":-17472.106853876161},{"$f":"-IF(J$4>'2 Descrizione Progetto'!$D$22,0,IF(AND(J$4>='2 Descrizione Progetto'!$D$17,J$4<='2 Descrizione Progetto'!$D$19),0,INDIRECT(CONCATENATE(\"'5 Foglio di elaborazione'!\",\"r\",'5 Foglio di elaborazione'!$B7,\"c\",J$4-'5 Foglio di elaborazione'!$E$3+5),0)))","v":-17821.548990953685},{"$f":"-IF(K$4>'2 Descrizione Progetto'!$D$22,0,IF(AND(K$4>='2 Descrizione Progetto'!$D$17,K$4<='2 Descrizione Progetto'!$D$19),0,INDIRECT(CONCATENATE(\"'5 Foglio di elaborazione'!\",\"r\",'5 Foglio di elaborazione'!$B7,\"c\",K$4-'5 Foglio di elaborazione'!$E$3+5),0)))","v":-18177.979970772758},{"$f":"-IF(L$4>'2 Descrizione Progetto'!$D$22,0,IF(AND(L$4>='2 Descrizione Progetto'!$D$17,L$4<='2 Descrizione Progetto'!$D$19),0,INDIRECT(CONCATENATE(\"'5 Foglio di elaborazione'!\",\"r\",'5 Foglio di elaborazione'!$B7,\"c\",L$4-'5 Foglio di elaborazione'!$E$3+5),0)))","v":-18541.539570188212},{"$f":"-IF(M$4>'2 Descrizione Progetto'!$D$22,0,IF(AND(M$4>='2 Descrizione Progetto'!$D$17,M$4<='2 Descrizione Progetto'!$D$19),0,INDIRECT(CONCATENATE(\"'5 Foglio di elaborazione'!\",\"r\",'5 Foglio di elaborazione'!$B7,\"c\",M$4-'5 Foglio di elaborazione'!$E$3+5),0)))","v":-18912.370361591977},{"$f":"-IF(N$4>'2 Descrizione Progetto'!$D$22,0,IF(AND(N$4>='2 Descrizione Progetto'!$D$17,N$4<='2 Descrizione Progetto'!$D$19),0,INDIRECT(CONCATENATE(\"'5 Foglio di elaborazione'!\",\"r\",'5 Foglio di elaborazione'!$B7,\"c\",N$4-'5 Foglio di elaborazione'!$E$3+5),0)))","v":-19290.617768823817},{"$f":"-IF(O$4>'2 Descrizione Progetto'!$D$22,0,IF(AND(O$4>='2 Descrizione Progetto'!$D$17,O$4<='2 Descrizione Progetto'!$D$19),0,INDIRECT(CONCATENATE(\"'5 Foglio di elaborazione'!\",\"r\",'5 Foglio di elaborazione'!$B7,\"c\",O$4-'5 Foglio di elaborazione'!$E$3+5),0)))","v":0},{"$f":"-IF(P$4>'2 Descrizione Progetto'!$D$22,0,IF(AND(P$4>='2 Descrizione Progetto'!$D$17,P$4<='2 Descrizione Progetto'!$D$19),0,INDIRECT(CONCATENATE(\"'5 Foglio di elaborazione'!\",\"r\",'5 Foglio di elaborazione'!$B7,\"c\",P$4-'5 Foglio di elaborazione'!$E$3+5),0)))","v":0},{"$f":"-IF(Q$4>'2 Descrizione Progetto'!$D$22,0,IF(AND(Q$4>='2 Descrizione Progetto'!$D$17,Q$4<='2 Descrizione Progetto'!$D$19),0,INDIRECT(CONCATENATE(\"'5 Foglio di elaborazione'!\",\"r\",'5 Foglio di elaborazione'!$B7,\"c\",Q$4-'5 Foglio di elaborazione'!$E$3+5),0)))","v":0},{"$f":"-IF(R$4>'2 Descrizione Progetto'!$D$22,0,IF(AND(R$4>='2 Descrizione Progetto'!$D$17,R$4<='2 Descrizione Progetto'!$D$19),0,INDIRECT(CONCATENATE(\"'5 Foglio di elaborazione'!\",\"r\",'5 Foglio di elaborazione'!$B7,\"c\",R$4-'5 Foglio di elaborazione'!$E$3+5),0)))","v":0},{"$f":"-IF(S$4>'2 Descrizione Progetto'!$D$22,0,IF(AND(S$4>='2 Descrizione Progetto'!$D$17,S$4<='2 Descrizione Progetto'!$D$19),0,INDIRECT(CONCATENATE(\"'5 Foglio di elaborazione'!\",\"r\",'5 Foglio di elaborazione'!$B7,\"c\",S$4-'5 Foglio di elaborazione'!$E$3+5),0)))","v":0},{"$f":"-IF(T$4>'2 Descrizione Progetto'!$D$22,0,IF(AND(T$4>='2 Descrizione Progetto'!$D$17,T$4<='2 Descrizione Progetto'!$D$19),0,INDIRECT(CONCATENATE(\"'5 Foglio di elaborazione'!\",\"r\",'5 Foglio di elaborazione'!$B7,\"c\",T$4-'5 Foglio di elaborazione'!$E$3+5),0)))","v":0},{"$f":"-IF(U$4>'2 Descrizione Progetto'!$D$22,0,IF(AND(U$4>='2 Descrizione Progetto'!$D$17,U$4<='2 Descrizione Progetto'!$D$19),0,INDIRECT(CONCATENATE(\"'5 Foglio di elaborazione'!\",\"r\",'5 Foglio di elaborazione'!$B7,\"c\",U$4-'5 Foglio di elaborazione'!$E$3+5),0)))","v":0},{"$f":"-IF(V$4>'2 Descrizione Progetto'!$D$22,0,IF(AND(V$4>='2 Descrizione Progetto'!$D$17,V$4<='2 Descrizione Progetto'!$D$19),0,INDIRECT(CONCATENATE(\"'5 Foglio di elaborazione'!\",\"r\",'5 Foglio di elaborazione'!$B7,\"c\",V$4-'5 Foglio di elaborazione'!$E$3+5),0)))","v":0},{"$f":"-IF(W$4>'2 Descrizione Progetto'!$D$22,0,IF(AND(W$4>='2 Descrizione Progetto'!$D$17,W$4<='2 Descrizione Progetto'!$D$19),0,INDIRECT(CONCATENATE(\"'5 Foglio di elaborazione'!\",\"r\",'5 Foglio di elaborazione'!$B7,\"c\",W$4-'5 Foglio di elaborazione'!$E$3+5),0)))","v":0},{"$f":"-IF(X$4>'2 Descrizione Progetto'!$D$22,0,IF(AND(X$4>='2 Descrizione Progetto'!$D$17,X$4<='2 Descrizione Progetto'!$D$19),0,INDIRECT(CONCATENATE(\"'5 Foglio di elaborazione'!\",\"r\",'5 Foglio di elaborazione'!$B7,\"c\",X$4-'5 Foglio di elaborazione'!$E$3+5),0)))","v":0},{"$f":"-IF(Y$4>'2 Descrizione Progetto'!$D$22,0,IF(AND(Y$4>='2 Descrizione Progetto'!$D$17,Y$4<='2 Descrizione Progetto'!$D$19),0,INDIRECT(CONCATENATE(\"'5 Foglio di elaborazione'!\",\"r\",'5 Foglio di elaborazione'!$B7,\"c\",Y$4-'5 Foglio di elaborazione'!$E$3+5),0)))","v":0},{"$f":"-IF(Z$4>'2 Descrizione Progetto'!$D$22,0,IF(AND(Z$4>='2 Descrizione Progetto'!$D$17,Z$4<='2 Descrizione Progetto'!$D$19),0,INDIRECT(CONCATENATE(\"'5 Foglio di elaborazione'!\",\"r\",'5 Foglio di elaborazione'!$B7,\"c\",Z$4-'5 Foglio di elaborazione'!$E$3+5),0)))","v":0},{"$f":"-IF(AA$4>'2 Descrizione Progetto'!$D$22,0,IF(AND(AA$4>='2 Descrizione Progetto'!$D$17,AA$4<='2 Descrizione Progetto'!$D$19),0,INDIRECT(CONCATENATE(\"'5 Foglio di elaborazione'!\",\"r\",'5 Foglio di elaborazione'!$B7,\"c\",AA$4-'5 Foglio di elaborazione'!$E$3+5),0)))","v":0},{"$f":"-IF(AB$4>'2 Descrizione Progetto'!$D$22,0,IF(AND(AB$4>='2 Descrizione Progetto'!$D$17,AB$4<='2 Descrizione Progetto'!$D$19),0,INDIRECT(CONCATENATE(\"'5 Foglio di elaborazione'!\",\"r\",'5 Foglio di elaborazione'!$B7,\"c\",AB$4-'5 Foglio di elaborazione'!$E$3+5),0)))","v":0},{"$f":"-IF(AC$4>'2 Descrizione Progetto'!$D$22,0,IF(AND(AC$4>='2 Descrizione Progetto'!$D$17,AC$4<='2 Descrizione Progetto'!$D$19),0,INDIRECT(CONCATENATE(\"'5 Foglio di elaborazione'!\",\"r\",'5 Foglio di elaborazione'!$B7,\"c\",AC$4-'5 Foglio di elaborazione'!$E$3+5),0)))","v":0},{"$f":"-IF(AD$4>'2 Descrizione Progetto'!$D$22,0,IF(AND(AD$4>='2 Descrizione Progetto'!$D$17,AD$4<='2 Descrizione Progetto'!$D$19),0,INDIRECT(CONCATENATE(\"'5 Foglio di elaborazione'!\",\"r\",'5 Foglio di elaborazione'!$B7,\"c\",AD$4-'5 Foglio di elaborazione'!$E$3+5),0)))","v":0},{"$f":"-IF(AE$4>'2 Descrizione Progetto'!$D$22,0,IF(AND(AE$4>='2 Descrizione Progetto'!$D$17,AE$4<='2 Descrizione Progetto'!$D$19),0,INDIRECT(CONCATENATE(\"'5 Foglio di elaborazione'!\",\"r\",'5 Foglio di elaborazione'!$B7,\"c\",AE$4-'5 Foglio di elaborazione'!$E$3+5),0)))","v":0},{"$f":"-IF(AF$4>'2 Descrizione Progetto'!$D$22,0,IF(AND(AF$4>='2 Descrizione Progetto'!$D$17,AF$4<='2 Descrizione Progetto'!$D$19),0,INDIRECT(CONCATENATE(\"'5 Foglio di elaborazione'!\",\"r\",'5 Foglio di elaborazione'!$B7,\"c\",AF$4-'5 Foglio di elaborazione'!$E$3+5),0)))","v":0},{"$f":"-IF(AG$4>'2 Descrizione Progetto'!$D$22,0,IF(AND(AG$4>='2 Descrizione Progetto'!$D$17,AG$4<='2 Descrizione Progetto'!$D$19),0,INDIRECT(CONCATENATE(\"'5 Foglio di elaborazione'!\",\"r\",'5 Foglio di elaborazione'!$B7,\"c\",AG$4-'5 Foglio di elaborazione'!$E$3+5),0)))","v":0},{"$f":"-IF(AH$4>'2 Descrizione Progetto'!$D$22,0,IF(AND(AH$4>='2 Descrizione Progetto'!$D$17,AH$4<='2 Descrizione Progetto'!$D$19),0,INDIRECT(CONCATENATE(\"'5 Foglio di elaborazione'!\",\"r\",'5 Foglio di elaborazione'!$B7,\"c\",AH$4-'5 Foglio di elaborazione'!$E$3+5),0)))","v":0},{"$f":"-IF(AI$4>'2 Descrizione Progetto'!$D$22,0,IF(AND(AI$4>='2 Descrizione Progetto'!$D$17,AI$4<='2 Descrizione Progetto'!$D$19),0,INDIRECT(CONCATENATE(\"'5 Foglio di elaborazione'!\",\"r\",'5 Foglio di elaborazione'!$B7,\"c\",AI$4-'5 Foglio di elaborazione'!$E$3+5),0)))","v":0},{"$f":"-IF(AJ$4>'2 Descrizione Progetto'!$D$22,0,IF(AND(AJ$4>='2 Descrizione Progetto'!$D$17,AJ$4<='2 Descrizione Progetto'!$D$19),0,INDIRECT(CONCATENATE(\"'5 Foglio di elaborazione'!\",\"r\",'5 Foglio di elaborazione'!$B7,\"c\",AJ$4-'5 Foglio di elaborazione'!$E$3+5),0)))","v":0},{"$f":"-IF(AK$4>'2 Descrizione Progetto'!$D$22,0,IF(AND(AK$4>='2 Descrizione Progetto'!$D$17,AK$4<='2 Descrizione Progetto'!$D$19),0,INDIRECT(CONCATENATE(\"'5 Foglio di elaborazione'!\",\"r\",'5 Foglio di elaborazione'!$B7,\"c\",AK$4-'5 Foglio di elaborazione'!$E$3+5),0)))","v":0},{"$f":"-IF(AL$4>'2 Descrizione Progetto'!$D$22,0,IF(AND(AL$4>='2 Descrizione Progetto'!$D$17,AL$4<='2 Descrizione Progetto'!$D$19),0,INDIRECT(CONCATENATE(\"'5 Foglio di elaborazione'!\",\"r\",'5 Foglio di elaborazione'!$B7,\"c\",AL$4-'5 Foglio di elaborazione'!$E$3+5),0)))","v":0},{"$f":"-IF(AM$4>'2 Descrizione Progetto'!$D$22,0,IF(AND(AM$4>='2 Descrizione Progetto'!$D$17,AM$4<='2 Descrizione Progetto'!$D$19),0,INDIRECT(CONCATENATE(\"'5 Foglio di elaborazione'!\",\"r\",'5 Foglio di elaborazione'!$B7,\"c\",AM$4-'5 Foglio di elaborazione'!$E$3+5),0)))","v":0},{"$f":"-IF(AN$4>'2 Descrizione Progetto'!$D$22,0,IF(AND(AN$4>='2 Descrizione Progetto'!$D$17,AN$4<='2 Descrizione Progetto'!$D$19),0,INDIRECT(CONCATENATE(\"'5 Foglio di elaborazione'!\",\"r\",'5 Foglio di elaborazione'!$B7,\"c\",AN$4-'5 Foglio di elaborazione'!$E$3+5),0)))","v":0},{"$f":"-IF(AO$4>'2 Descrizione Progetto'!$D$22,0,IF(AND(AO$4>='2 Descrizione Progetto'!$D$17,AO$4<='2 Descrizione Progetto'!$D$19),0,INDIRECT(CONCATENATE(\"'5 Foglio di elaborazione'!\",\"r\",'5 Foglio di elaborazione'!$B7,\"c\",AO$4-'5 Foglio di elaborazione'!$E$3+5),0)))","v":0},{"$f":"-IF(AP$4>'2 Descrizione Progetto'!$D$22,0,IF(AND(AP$4>='2 Descrizione Progetto'!$D$17,AP$4<='2 Descrizione Progetto'!$D$19),0,INDIRECT(CONCATENATE(\"'5 Foglio di elaborazione'!\",\"r\",'5 Foglio di elaborazione'!$B7,\"c\",AP$4-'5 Foglio di elaborazione'!$E$3+5),0)))","v":0},{"$f":"-IF(AQ$4>'2 Descrizione Progetto'!$D$22,0,IF(AND(AQ$4>='2 Descrizione Progetto'!$D$17,AQ$4<='2 Descrizione Progetto'!$D$19),0,INDIRECT(CONCATENATE(\"'5 Foglio di elaborazione'!\",\"r\",'5 Foglio di elaborazione'!$B7,\"c\",AQ$4-'5 Foglio di elaborazione'!$E$3+5),0)))","v":0},{"$f":"-IF(AR$4>'2 Descrizione Progetto'!$D$22,0,IF(AND(AR$4>='2 Descrizione Progetto'!$D$17,AR$4<='2 Descrizione Progetto'!$D$19),0,INDIRECT(CONCATENATE(\"'5 Foglio di elaborazione'!\",\"r\",'5 Foglio di elaborazione'!$B7,\"c\",AR$4-'5 Foglio di elaborazione'!$E$3+5),0)))","v":0},{"$f":"-IF(AS$4>'2 Descrizione Progetto'!$D$22,0,IF(AND(AS$4>='2 Descrizione Progetto'!$D$17,AS$4<='2 Descrizione Progetto'!$D$19),0,INDIRECT(CONCATENATE(\"'5 Foglio di elaborazione'!\",\"r\",'5 Foglio di elaborazione'!$B7,\"c\",AS$4-'5 Foglio di elaborazione'!$E$3+5),0)))","v":0},{"$f":"-IF(AT$4>'2 Descrizione Progetto'!$D$22,0,IF(AND(AT$4>='2 Descrizione Progetto'!$D$17,AT$4<='2 Descrizione Progetto'!$D$19),0,INDIRECT(CONCATENATE(\"'5 Foglio di elaborazione'!\",\"r\",'5 Foglio di elaborazione'!$B7,\"c\",AT$4-'5 Foglio di elaborazione'!$E$3+5),0)))","v":0},{"$f":"-IF(AU$4>'2 Descrizione Progetto'!$D$22,0,IF(AND(AU$4>='2 Descrizione Progetto'!$D$17,AU$4<='2 Descrizione Progetto'!$D$19),0,INDIRECT(CONCATENATE(\"'5 Foglio di elaborazione'!\",\"r\",'5 Foglio di elaborazione'!$B7,\"c\",AU$4-'5 Foglio di elaborazione'!$E$3+5),0)))","v":0},{"$f":"-IF(AV$4>'2 Descrizione Progetto'!$D$22,0,IF(AND(AV$4>='2 Descrizione Progetto'!$D$17,AV$4<='2 Descrizione Progetto'!$D$19),0,INDIRECT(CONCATENATE(\"'5 Foglio di elaborazione'!\",\"r\",'5 Foglio di elaborazione'!$B7,\"c\",AV$4-'5 Foglio di elaborazione'!$E$3+5),0)))","v":0},{"$f":"-IF(AW$4>'2 Descrizione Progetto'!$D$22,0,IF(AND(AW$4>='2 Descrizione Progetto'!$D$17,AW$4<='2 Descrizione Progetto'!$D$19),0,INDIRECT(CONCATENATE(\"'5 Foglio di elaborazione'!\",\"r\",'5 Foglio di elaborazione'!$B7,\"c\",AW$4-'5 Foglio di elaborazione'!$E$3+5),0)))","v":0},{"$f":"-IF(AX$4>'2 Descrizione Progetto'!$D$22,0,IF(AND(AX$4>='2 Descrizione Progetto'!$D$17,AX$4<='2 Descrizione Progetto'!$D$19),0,INDIRECT(CONCATENATE(\"'5 Foglio di elaborazione'!\",\"r\",'5 Foglio di elaborazione'!$B7,\"c\",AX$4-'5 Foglio di elaborazione'!$E$3+5),0)))","v":0},{"$f":"-IF(AY$4>'2 Descrizione Progetto'!$D$22,0,IF(AND(AY$4>='2 Descrizione Progetto'!$D$17,AY$4<='2 Descrizione Progetto'!$D$19),0,INDIRECT(CONCATENATE(\"'5 Foglio di elaborazione'!\",\"r\",'5 Foglio di elaborazione'!$B7,\"c\",AY$4-'5 Foglio di elaborazione'!$E$3+5),0)))","v":0},{"$f":"-IF(AZ$4>'2 Descrizione Progetto'!$D$22,0,IF(AND(AZ$4>='2 Descrizione Progetto'!$D$17,AZ$4<='2 Descrizione Progetto'!$D$19),0,INDIRECT(CONCATENATE(\"'5 Foglio di elaborazione'!\",\"r\",'5 Foglio di elaborazione'!$B7,\"c\",AZ$4-'5 Foglio di elaborazione'!$E$3+5),0)))","v":0},{"$f":"-IF(BA$4>'2 Descrizione Progetto'!$D$22,0,IF(AND(BA$4>='2 Descrizione Progetto'!$D$17,BA$4<='2 Descrizione Progetto'!$D$19),0,INDIRECT(CONCATENATE(\"'5 Foglio di elaborazione'!\",\"r\",'5 Foglio di elaborazione'!$B7,\"c\",BA$4-'5 Foglio di elaborazione'!$E$3+5),0)))","v":0},{"$f":"-IF(BB$4>'2 Descrizione Progetto'!$D$22,0,IF(AND(BB$4>='2 Descrizione Progetto'!$D$17,BB$4<='2 Descrizione Progetto'!$D$19),0,INDIRECT(CONCATENATE(\"'5 Foglio di elaborazione'!\",\"r\",'5 Foglio di elaborazione'!$B7,\"c\",BB$4-'5 Foglio di elaborazione'!$E$3+5),0)))","v":0},{"$f":"-IF(BC$4>'2 Descrizione Progetto'!$D$22,0,IF(AND(BC$4>='2 Descrizione Progetto'!$D$17,BC$4<='2 Descrizione Progetto'!$D$19),0,INDIRECT(CONCATENATE(\"'5 Foglio di elaborazione'!\",\"r\",'5 Foglio di elaborazione'!$B7,\"c\",BC$4-'5 Foglio di elaborazione'!$E$3+5),0)))","v":0},{"$f":"-IF(BD$4>'2 Descrizione Progetto'!$D$22,0,IF(AND(BD$4>='2 Descrizione Progetto'!$D$17,BD$4<='2 Descrizione Progetto'!$D$19),0,INDIRECT(CONCATENATE(\"'5 Foglio di elaborazione'!\",\"r\",'5 Foglio di elaborazione'!$B7,\"c\",BD$4-'5 Foglio di elaborazione'!$E$3+5),0)))","v":0},{"$f":"-IF(BE$4>'2 Descrizione Progetto'!$D$22,0,IF(AND(BE$4>='2 Descrizione Progetto'!$D$17,BE$4<='2 Descrizione Progetto'!$D$19),0,INDIRECT(CONCATENATE(\"'5 Foglio di elaborazione'!\",\"r\",'5 Foglio di elaborazione'!$B7,\"c\",BE$4-'5 Foglio di elaborazione'!$E$3+5),0)))","v":0},{"$f":"-IF(BF$4>'2 Descrizione Progetto'!$D$22,0,IF(AND(BF$4>='2 Descrizione Progetto'!$D$17,BF$4<='2 Descrizione Progetto'!$D$19),0,INDIRECT(CONCATENATE(\"'5 Foglio di elaborazione'!\",\"r\",'5 Foglio di elaborazione'!$B7,\"c\",BF$4-'5 Foglio di elaborazione'!$E$3+5),0)))","v":0},{"$f":"-IF(BG$4>'2 Descrizione Progetto'!$D$22,0,IF(AND(BG$4>='2 Descrizione Progetto'!$D$17,BG$4<='2 Descrizione Progetto'!$D$19),0,INDIRECT(CONCATENATE(\"'5 Foglio di elaborazione'!\",\"r\",'5 Foglio di elaborazione'!$B7,\"c\",BG$4-'5 Foglio di elaborazione'!$E$3+5),0)))","v":0},{"$f":"-IF(BH$4>'2 Descrizione Progetto'!$D$22,0,IF(AND(BH$4>='2 Descrizione Progetto'!$D$17,BH$4<='2 Descrizione Progetto'!$D$19),0,INDIRECT(CONCATENATE(\"'5 Foglio di elaborazione'!\",\"r\",'5 Foglio di elaborazione'!$B7,\"c\",BH$4-'5 Foglio di elaborazione'!$E$3+5),0)))","v":0},{"$f":"-IF(BI$4>'2 Descrizione Progetto'!$D$22,0,IF(AND(BI$4>='2 Descrizione Progetto'!$D$17,BI$4<='2 Descrizione Progetto'!$D$19),0,INDIRECT(CONCATENATE(\"'5 Foglio di elaborazione'!\",\"r\",'5 Foglio di elaborazione'!$B7,\"c\",BI$4-'5 Foglio di elaborazione'!$E$3+5),0)))","v":0},{"$f":"-IF(BJ$4>'2 Descrizione Progetto'!$D$22,0,IF(AND(BJ$4>='2 Descrizione Progetto'!$D$17,BJ$4<='2 Descrizione Progetto'!$D$19),0,INDIRECT(CONCATENATE(\"'5 Foglio di elaborazione'!\",\"r\",'5 Foglio di elaborazione'!$B7,\"c\",BJ$4-'5 Foglio di elaborazione'!$E$3+5),0)))","v":0},{"$f":"-IF(BK$4>'2 Descrizione Progetto'!$D$22,0,IF(AND(BK$4>='2 Descrizione Progetto'!$D$17,BK$4<='2 Descrizione Progetto'!$D$19),0,INDIRECT(CONCATENATE(\"'5 Foglio di elaborazione'!\",\"r\",'5 Foglio di elaborazione'!$B7,\"c\",BK$4-'5 Foglio di elaborazione'!$E$3+5),0)))","v":0},{"$f":"-IF(BL$4>'2 Descrizione Progetto'!$D$22,0,IF(AND(BL$4>='2 Descrizione Progetto'!$D$17,BL$4<='2 Descrizione Progetto'!$D$19),0,INDIRECT(CONCATENATE(\"'5 Foglio di elaborazione'!\",\"r\",'5 Foglio di elaborazione'!$B7,\"c\",BL$4-'5 Foglio di elaborazione'!$E$3+5),0)))","v":0}]
[null,"-","Costi per nuove attrezzature e migliorie",0,{"$f":"-'4 Sviluppo Domanda e Gestione'!E221*(1+'10 Schema Sintesi'!$E$202)","v":0},{"$f":"-'4 Sviluppo Domanda e Gestione'!F221*(1+'10 Schema Sintesi'!$E$202)","v":0},{"$f":"-'4 Sviluppo Domanda e Gestione'!G221*(1+'10 Schema Sintesi'!$E$202)","v":0},{"$f":"-'4 Sviluppo Domanda e Gestione'!H221*(1+'10 Schema Sintesi'!$E$202)","v":0},{"$f":"-'4 Sviluppo Domanda e Gestione'!I221*(1+'10 Schema Sintesi'!$E$202)","v":0},{"$f":"-'4 Sviluppo Domanda e Gestione'!J221*(1+'10 Schema Sintesi'!$E$202)","v":0},{"$f":"-'4 Sviluppo Domanda e Gestione'!K221*(1+'10 Schema Sintesi'!$E$202)","v":0},{"$f":"-'4 Sviluppo Domanda e Gestione'!L221*(1+'10 Schema Sintesi'!$E$202)","v":0},{"$f":"-'4 Sviluppo Domanda e Gestione'!M221*(1+'10 Schema Sintesi'!$E$202)","v":0},{"$f":"-'4 Sviluppo Domanda e Gestione'!N221*(1+'10 Schema Sintesi'!$E$202)","v":0},{"$f":"-'4 Sviluppo Domanda e Gestione'!O221*(1+'10 Schema Sintesi'!$E$202)","v":0},{"$f":"-'4 Sviluppo Domanda e Gestione'!P221*(1+'10 Schema Sintesi'!$E$202)","v":0},{"$f":"-'4 Sviluppo Domanda e Gestione'!Q221*(1+'10 Schema Sintesi'!$E$202)","v":0},{"$f":"-'4 Sviluppo Domanda e Gestione'!R221*(1+'10 Schema Sintesi'!$E$202)","v":0},{"$f":"-'4 Sviluppo Domanda e Gestione'!S221*(1+'10 Schema Sintesi'!$E$202)","v":0},{"$f":"-'4 Sviluppo Domanda e Gestione'!T221*(1+'10 Schema Sintesi'!$E$202)","v":0},{"$f":"-'4 Sviluppo Domanda e Gestione'!U221*(1+'10 Schema Sintesi'!$E$202)","v":0},{"$f":"-'4 Sviluppo Domanda e Gestione'!V221*(1+'10 Schema Sintesi'!$E$202)","v":0},{"$f":"-'4 Sviluppo Domanda e Gestione'!W221*(1+'10 Schema Sintesi'!$E$202)","v":0},{"$f":"-'4 Sviluppo Domanda e Gestione'!X221*(1+'10 Schema Sintesi'!$E$202)","v":0},{"$f":"-'4 Sviluppo Domanda e Gestione'!Y221*(1+'10 Schema Sintesi'!$E$202)","v":0},{"$f":"-'4 Sviluppo Domanda e Gestione'!Z221*(1+'10 Schema Sintesi'!$E$202)","v":0},{"$f":"-'4 Sviluppo Domanda e Gestione'!AA221*(1+'10 Schema Sintesi'!$E$202)","v":0},{"$f":"-'4 Sviluppo Domanda e Gestione'!AB221*(1+'10 Schema Sintesi'!$E$202)","v":0},{"$f":"-'4 Sviluppo Domanda e Gestione'!AC221*(1+'10 Schema Sintesi'!$E$202)","v":0},{"$f":"-'4 Sviluppo Domanda e Gestione'!AD221*(1+'10 Schema Sintesi'!$E$202)","v":0},{"$f":"-'4 Sviluppo Domanda e Gestione'!AE221*(1+'10 Schema Sintesi'!$E$202)","v":0},{"$f":"-'4 Sviluppo Domanda e Gestione'!AF221*(1+'10 Schema Sintesi'!$E$202)","v":0},{"$f":"-'4 Sviluppo Domanda e Gestione'!AG221*(1+'10 Schema Sintesi'!$E$202)","v":0},{"$f":"-'4 Sviluppo Domanda e Gestione'!AH221*(1+'10 Schema Sintesi'!$E$202)","v":0},{"$f":"-'4 Sviluppo Domanda e Gestione'!AI221*(1+'10 Schema Sintesi'!$E$202)","v":0},{"$f":"-'4 Sviluppo Domanda e Gestione'!AJ221*(1+'10 Schema Sintesi'!$E$202)","v":0},{"$f":"-'4 Sviluppo Domanda e Gestione'!AK221*(1+'10 Schema Sintesi'!$E$202)","v":0},{"$f":"-'4 Sviluppo Domanda e Gestione'!AL221*(1+'10 Schema Sintesi'!$E$202)","v":0},{"$f":"-'4 Sviluppo Domanda e Gestione'!AM221*(1+'10 Schema Sintesi'!$E$202)","v":0},{"$f":"-'4 Sviluppo Domanda e Gestione'!AN221*(1+'10 Schema Sintesi'!$E$202)","v":0},{"$f":"-'4 Sviluppo Domanda e Gestione'!AO221*(1+'10 Schema Sintesi'!$E$202)","v":0},{"$f":"-'4 Sviluppo Domanda e Gestione'!AP221*(1+'10 Schema Sintesi'!$E$202)","v":0},{"$f":"-'4 Sviluppo Domanda e Gestione'!AQ221*(1+'10 Schema Sintesi'!$E$202)","v":0},{"$f":"-'4 Sviluppo Domanda e Gestione'!AR221*(1+'10 Schema Sintesi'!$E$202)","v":0},{"$f":"-'4 Sviluppo Domanda e Gestione'!AS221*(1+'10 Schema Sintesi'!$E$202)","v":0},{"$f":"-'4 Sviluppo Domanda e Gestione'!AT221*(1+'10 Schema Sintesi'!$E$202)","v":0},{"$f":"-'4 Sviluppo Domanda e Gestione'!AU221*(1+'10 Schema Sintesi'!$E$202)","v":0},{"$f":"-'4 Sviluppo Domanda e Gestione'!AV221*(1+'10 Schema Sintesi'!$E$202)","v":0},{"$f":"-'4 Sviluppo Domanda e Gestione'!AW221*(1+'10 Schema Sintesi'!$E$202)","v":0},{"$f":"-'4 Sviluppo Domanda e Gestione'!AX221*(1+'10 Schema Sintesi'!$E$202)","v":0},{"$f":"-'4 Sviluppo Domanda e Gestione'!AY221*(1+'10 Schema Sintesi'!$E$202)","v":0},{"$f":"-'4 Sviluppo Domanda e Gestione'!AZ221*(1+'10 Schema Sintesi'!$E$202)","v":0},{"$f":"-'4 Sviluppo Domanda e Gestione'!BA221*(1+'10 Schema Sintesi'!$E$202)","v":0},{"$f":"-'4 Sviluppo Domanda e Gestione'!BB221*(1+'10 Schema Sintesi'!$E$202)","v":0},{"$f":"-'4 Sviluppo Domanda e Gestione'!BC221*(1+'10 Schema Sintesi'!$E$202)","v":0},{"$f":"-'4 Sviluppo Domanda e Gestione'!BD221*(1+'10 Schema Sintesi'!$E$202)","v":0},{"$f":"-'4 Sviluppo Domanda e Gestione'!BE221*(1+'10 Schema Sintesi'!$E$202)","v":0},{"$f":"-'4 Sviluppo Domanda e Gestione'!BF221*(1+'10 Schema Sintesi'!$E$202)","v":0},{"$f":"-'4 Sviluppo Domanda e Gestione'!BG221*(1+'10 Schema Sintesi'!$E$202)","v":0},{"$f":"-'4 Sviluppo Domanda e Gestione'!BH221*(1+'10 Schema Sintesi'!$E$202)","v":0},{"$f":"-'4 Sviluppo Domanda e Gestione'!BI221*(1+'10 Schema Sintesi'!$E$202)","v":0},{"$f":"-'4 Sviluppo Domanda e Gestione'!BJ221*(1+'10 Schema Sintesi'!$E$202)","v":0},{"$f":"-'4 Sviluppo Domanda e Gestione'!BK221*(1+'10 Schema Sintesi'!$E$202)","v":0},{"$f":"-'4 Sviluppo Domanda e Gestione'!BL221*(1+'10 Schema Sintesi'!$E$202)","v":0}]
[null,"=","MOL / EBITDA (con  altri costi e ricavi non caratteristici)",371367.3108070945,{"$f":"SUM(E5:E14)","v":-29370.679999999978},4719.866399999999,46139.992127999991,47062.791970560036,48004.047809971169,48964.128766170586,49943.411341494058,50942.279568323953,51961.125159690448,53000.347662884211,0,0,0,0,0,0,0,0,0,0,0,0,0,0,0,0,0,0,0,0,0,0,0,0,0,0,0,0,0,0,0,0,0,0,0,0,0,0,0,0,0,0,0,0,0,0,0,0,0,0]
[null,"-",{"$f":"'5 Foglio di elaborazione'!C127","v":"Rata ammortamento"},1.0000000000000007E-10,{"$f":"'5 Foglio di elaborazione'!E127","v":0},{"$f":"'5 Foglio di elaborazione'!F127","v":-1E-10},{"$f":"'5 Foglio di elaborazione'!G127","v":-1E-10},{"$f":"'5 Foglio di elaborazione'!H127","v":-1E-10},{"$f":"'5 Foglio di elaborazione'!I127","v":-1E-10},{"$f":"'5 Foglio di elaborazione'!J127","v":-1E-10},{"$f":"'5 Foglio di elaborazione'!K127","v":-1E-10},{"$f":"'5 Foglio di elaborazione'!L127","v":-9.9999999999999991E-11},{"$f":"'5 Foglio di elaborazione'!M127","v":-9.9999999999999991E-11},{"$f":"'5 Foglio di elaborazione'!N127","v":-9.9999999999999991E-11},{"$f":"'5 Foglio di elaborazione'!O127","v":-9.9999999999999991E-11},{"$f":"'5 Foglio di elaborazione'!P127","v":1.0999999999999999E-9},{"$f":"'5 Foglio di elaborazione'!Q127","v":0},{"$f":"'5 Foglio di elaborazione'!R127","v":0},{"$f":"'5 Foglio di elaborazione'!S127","v":0},{"$f":"'5 Foglio di elaborazione'!T127","v":0},{"$f":"'5 Foglio di elaborazione'!U127","v":0},{"$f":"'5 Foglio di elaborazione'!V127","v":0},{"$f":"'5 Foglio di elaborazione'!W127","v":0},{"$f":"'5 Foglio di elaborazione'!X127","v":0},{"$f":"'5 Foglio di elaborazione'!Y127","v":0},{"$f":"'5 Foglio di elaborazione'!Z127","v":0},{"$f":"'5 Foglio di elaborazione'!AA127","v":0},{"$f":"'5 Foglio di elaborazione'!AB127","v":0},{"$f":"'5 Foglio di elaborazione'!AC127","v":0},{"$f":"'5 Foglio di elaborazione'!AD127","v":0},{"$f":"'5 Foglio di elaborazione'!AE127","v":0},{"$f":"'5 Foglio di elaborazione'!AF127","v":0},{"$f":"'5 Foglio di elaborazione'!AG127","v":0},{"$f":"'5 Foglio di elaborazione'!AH127","v":0},{"$f":"'5 Foglio di elaborazione'!AI127","v":0},{"$f":"'5 Foglio di elaborazione'!AJ127","v":0},{"$f":"'5 Foglio di elaborazione'!AK127","v":0},{"$f":"'5 Foglio di elaborazione'!AL127","v":0},{"$f":"'5 Foglio di elaborazione'!AM127","v":0},{"$f":"'5 Foglio di elaborazione'!AN127","v":0},{"$f":"'5 Foglio di elaborazione'!AO127","v":0},{"$f":"'5 Foglio di elaborazione'!AP127","v":0},{"$f":"'5 Foglio di elaborazione'!AQ127","v":0},{"$f":"'5 Foglio di elaborazione'!AR127","v":0},{"$f":"'5 Foglio di elaborazione'!AS127","v":0},{"$f":"'5 Foglio di elaborazione'!AT127","v":0},{"$f":"'5 Foglio di elaborazione'!AU127","v":0},{"$f":"'5 Foglio di elaborazione'!AV127","v":0},{"$f":"'5 Foglio di elaborazione'!AW127","v":0},{"$f":"'5 Foglio di elaborazione'!AX127","v":0},{"$f":"'5 Foglio di elaborazione'!AY127","v":0},{"$f":"'5 Foglio di elaborazione'!AZ127","v":0},{"$f":"'5 Foglio di elaborazione'!BA127","v":0},{"$f":"'5 Foglio di elaborazione'!BB127","v":0},{"$f":"'5 Foglio di elaborazione'!BC127","v":0},{"$f":"'5 Foglio di elaborazione'!BD127","v":0},{"$f":"'5 Foglio di elaborazione'!BE127","v":0},{"$f":"'5 Foglio di elaborazione'!BF127","v":0},{"$f":"'5 Foglio di elaborazione'!BG127","v":0},{"$f":"'5 Foglio di elaborazione'!BH127","v":0},{"$f":"'5 Foglio di elaborazione'!BI127","v":0},{"$f":"'5 Foglio di elaborazione'!BJ127","v":0},{"$f":"'5 Foglio di elaborazione'!BK127","v":0},{"$f":"'5 Foglio di elaborazione'!BL127","v":0}]
[null,"-","Accantonamento Fondo O&MRA",0,0,0,{"$f":"F17","v":0},0,0,0,0,0,0,0,0,0,0,0,0,0,0,0,0,0,0,0,0,0,0,0,0,0,0,0,0,0,0,0,0,0,0,0,0,0,0,0,0,0,0,0,0,0,0,0,0,0,0,0,0,0,0,0,0,0]
[null,null,"Reddito operativo aziendale - EBIT ",371367.31080709444,{"$f":"E15-E16-E17","v":-29370.679999999978},4719.866400000099,46139.992128000093,47062.791970560138,48004.047809971271,48964.128766170688,49943.41134149416,50942.279568324055,51961.125159690549,53000.347662884313,9.9999999999999991E-11,-1.0999999999999999E-9,0,0,0,0,0,0,0,0,0,0,0,0,0,0,0,0,0,0,0,0,0,0,0,0,0,0,0,0,0,0,0,0,0,0,0,0,0,0,0,0,0,0,0,0,0,0,0,0]
[null,null,"Reddito Operativo ",371367.31080709223,{"$f":"E15-E16-E17+E55+E60","v":-29370.680000000579},4719.8663999989994,46139.992127999591,47062.791970560138,48004.047809971271,48964.128766170688,49943.41134149416,50942.279568324055,51961.125159690549,53000.347662884313,9.9999999999999991E-11,-1.0999999999999999E-9,0,0,0,0,0,0,0,0,0,0,0,0,0,0,0,0,0,0,0,0,0,0,0,0,0,0,0,0,0,0,0,0,0,0,0,0,0,0,0,0,0,0,0,0,0,0,0,0]
[null,"-","Imposte sul reddito netto operativo ",-111055.73236302572,{"$f":"'9 Riep. Imposte Dir'!E15","v":0},{"$f":"'9 Riep. Imposte Dir'!F15","v":-241.65715968000509},{"$f":"'9 Riep. Imposte Dir'!G15","v":-8929.5630836731543},{"$f":"'9 Riep. Imposte Dir'!H15","v":-13704.685021827112},{"$f":"'9 Riep. Imposte Dir'!I15","v":-13978.778722263634},{"$f":"'9 Riep. Imposte Dir'!J15","v":-14258.354296708905},{"$f":"'9 Riep. Imposte Dir'!K15","v":-14543.521382643099},{"$f":"'9 Riep. Imposte Dir'!L15","v":-14834.391810295965},{"$f":"'9 Riep. Imposte Dir'!M15","v":-15131.079646501888},{"$f":"'9 Riep. Imposte Dir'!N15","v":-15433.701239431914},{"$f":"'9 Riep. Imposte Dir'!O15","v":-2.9119999999999999E-11},{"$f":"'9 Riep. Imposte Dir'!P15","v":0},{"$f":"'9 Riep. Imposte Dir'!Q15","v":0},{"$f":"'9 Riep. Imposte Dir'!R15","v":0},{"$f":"'9 Riep. Imposte Dir'!S15","v":0},{"$f":"'9 Riep. Imposte Dir'!T15","v":0},{"$f":"'9 Riep. Imposte Dir'!U15","v":0},{"$f":"'9 Riep. Imposte Dir'!V15","v":0},{"$f":"'9 Riep. Imposte Dir'!W15","v":0},{"$f":"'9 Riep. Imposte Dir'!X15","v":0},{"$f":"'9 Riep. Imposte Dir'!Y15","v":0},{"$f":"'9 Riep. Imposte Dir'!Z15","v":0},{"$f":"'9 Riep. Imposte Dir'!AA15","v":0},{"$f":"'9 Riep. Imposte Dir'!AB15","v":0},{"$f":"'9 Riep. Imposte Dir'!AC15","v":0},{"$f":"'9 Riep. Imposte Dir'!AD15","v":0},{"$f":"'9 Riep. Imposte Dir'!AE15","v":0},{"$f":"'9 Riep. Imposte Dir'!AF15","v":0},{"$f":"'9 Riep. Imposte Dir'!AG15","v":0},{"$f":"'9 Riep. Imposte Dir'!AH15","v":0},{"$f":"'9 Riep. Imposte Dir'!AI15","v":0},{"$f":"'9 Riep. Imposte Dir'!AJ15","v":0},{"$f":"'9 Riep. Imposte Dir'!AK15","v":0},{"$f":"'9 Riep. Imposte Dir'!AL15","v":0},{"$f":"'9 Riep. Imposte Dir'!AM15","v":0},{"$f":"'9 Riep. Imposte Dir'!AN15","v":0},{"$f":"'9 Riep. Imposte Dir'!AO15","v":0},{"$f":"'9 Riep. Imposte Dir'!AP15","v":0},{"$f":"'9 Riep. Imposte Dir'!AQ15","v":0},{"$f":"'9 Riep. Imposte Dir'!AR15","v":0},{"$f":"'9 Riep. Imposte Dir'!AS15","v":0},{"$f":"'9 Riep. Imposte Dir'!AT15","v":0},{"$f":"'9 Riep. Imposte Dir'!AU15","v":0},{"$f":"'9 Riep. Imposte Dir'!AV15","v":0},{"$f":"'9 Riep. Imposte Dir'!AW15","v":0},{"$f":"'9 Riep. Imposte Dir'!AX15","v":0},{"$f":"'9 Riep. Imposte Dir'!AY15","v":0},{"$f":"'9 Riep. Imposte Dir'!AZ15","v":0},{"$f":"'9 Riep. Imposte Dir'!BA15","v":0},{"$f":"'9 Riep. Imposte Dir'!BB15","v":0},{"$f":"'9 Riep. Imposte Dir'!BC15","v":0},{"$f":"'9 Riep. Imposte Dir'!BD15","v":0},{"$f":"'9 Riep. Imposte Dir'!BE15","v":0},{"$f":"'9 Riep. Imposte Dir'!BF15","v":0},{"$f":"'9 Riep. Imposte Dir'!BG15","v":0},{"$f":"'9 Riep. Imposte Dir'!BH15","v":0},{"$f":"'9 Riep. Imposte Dir'!BI15","v":0},{"$f":"'9 Riep. Imposte Dir'!BJ15","v":0},{"$f":"'9 Riep. Imposte Dir'!BK15","v":0},{"$f":"'9 Riep. Imposte Dir'!BL15","v":0}]
[null,"+ / -","Utile Netto /Perdita",260311.57844406646,{"$f":"E19+E20","v":-29370.680000000579},4478.2092403189945,37210.429044326433,33358.106948733024,34025.269087707638,34705.774469461787,35399.889958851061,36107.88775802809,36830.045513188663,37566.646423452403,7.0879999999999992E-11,-1.0999999999999999E-9,0,0,0,0,0,0,0,0,0,0,0,0,0,0,0,0,0,0,0,0,0,0,0,0,0,0,0,0,0,0,0,0,0,0,0,0,0,0,0,0,0,0,0,0,0,0,0,0]
[null,"=","Flusso di Cassa Operativo (MOL - Imposte)",260311.57844406879,{"$f":"+E15+E20","v":-29370.679999999978},4478.209240319994,37210.42904432684,33358.106948732922,34025.269087707537,34705.774469461685,35399.889958850959,36107.887758027988,36830.045513188561,37566.646423452301,-2.9119999999999999E-11,0,0,0,0,0,0,0,0,0,0,0,0,0,0,0,0,0,0,0,0,0,0,0,0,0,0,0,0,0,0,0,0,0,0,0,0,0,0,0,0,0,0,0,0,0,0,0,0,0]
[null,"-",{"$f":"'5 Foglio di elaborazione'!C25","v":"Costo totale investimento rivalutato"},-1E-10,{"$f":"-'5 Foglio di elaborazione'!E25","v":-1E-10},{"$f":"-'5 Foglio di elaborazione'!F25","v":0},{"$f":"-'5 Foglio di elaborazione'!G25","v":0},{"$f":"-'5 Foglio di elaborazione'!H25","v":0},{"$f":"-'5 Foglio di elaborazione'!I25","v":0},{"$f":"-'5 Foglio di elaborazione'!J25","v":0},{"$f":"-'5 Foglio di elaborazione'!K25","v":0},{"$f":"-'5 Foglio di elaborazione'!L25","v":0},{"$f":"-'5 Foglio di elaborazione'!M25","v":0},{"$f":"-'5 Foglio di elaborazione'!N25","v":0},{"$f":"-'5 Foglio di elaborazione'!O25","v":0},{"$f":"-'5 Foglio di elaborazione'!P25","v":0},{"$f":"-'5 Foglio di elaborazione'!Q25","v":0},{"$f":"-'5 Foglio di elaborazione'!R25","v":0},{"$f":"-'5 Foglio di elaborazione'!S25","v":0},{"$f":"-'5 Foglio di elaborazione'!T25","v":0},{"$f":"-'5 Foglio di elaborazione'!U25","v":0},{"$f":"-'5 Foglio di elaborazione'!V25","v":0},{"$f":"-'5 Foglio di elaborazione'!W25","v":0},{"$f":"-'5 Foglio di elaborazione'!X25","v":0},{"$f":"-'5 Foglio di elaborazione'!Y25","v":0},{"$f":"-'5 Foglio di elaborazione'!Z25","v":0},{"$f":"-'5 Foglio di elaborazione'!AA25","v":0},{"$f":"-'5 Foglio di elaborazione'!AB25","v":0},{"$f":"-'5 Foglio di elaborazione'!AC25","v":0},{"$f":"-'5 Foglio di elaborazione'!AD25","v":0},{"$f":"-'5 Foglio di elaborazione'!AE25","v":0},{"$f":"-'5 Foglio di elaborazione'!AF25","v":0},{"$f":"-'5 Foglio di elaborazione'!AG25","v":0},{"$f":"-'5 Foglio di elaborazione'!AH25","v":0},{"$f":"-'5 Foglio di elaborazione'!AI25","v":0},{"$f":"-'5 Foglio di elaborazione'!AJ25","v":0},{"$f":"-'5 Foglio di elaborazione'!AK25","v":0},{"$f":"-'5 Foglio di elaborazione'!AL25","v":0},{"$f":"-'5 Foglio di elaborazione'!AM25","v":0},{"$f":"-'5 Foglio di elaborazione'!AN25","v":0},{"$f":"-'5 Foglio di elaborazione'!AO25","v":0},{"$f":"-'5 Foglio di elaborazione'!AP25","v":0},{"$f":"-'5 Foglio di elaborazione'!AQ25","v":0},{"$f":"-'5 Foglio di elaborazione'!AR25","v":0},{"$f":"-'5 Foglio di elaborazione'!AS25","v":0},{"$f":"-'5 Foglio di elaborazione'!AT25","v":0},{"$f":"-'5 Foglio di elaborazione'!AU25","v":0},{"$f":"-'5 Foglio di elaborazione'!AV25","v":0},{"$f":"-'5 Foglio di elaborazione'!AW25","v":0},{"$f":"-'5 Foglio di elaborazione'!AX25","v":0},{"$f":"-'5 Foglio di elaborazione'!AY25","v":0},{"$f":"-'5 Foglio di elaborazione'!AZ25","v":0},{"$f":"-'5 Foglio di elaborazione'!BA25","v":0},{"$f":"-'5 Foglio di elaborazione'!BB25","v":0},{"$f":"-'5 Foglio di elaborazione'!BC25","v":0},{"$f":"-'5 Foglio di elaborazione'!BD25","v":0},{"$f":"-'5 Foglio di elaborazione'!BE25","v":0},{"$f":"-'5 Foglio di elaborazione'!BF25","v":0},{"$f":"-'5 Foglio di elaborazione'!BG25","v":0},{"$f":"-'5 Foglio di elaborazione'!BH25","v":0},{"$f":"-'5 Foglio di elaborazione'!BI25","v":0},{"$f":"-'5 Foglio di elaborazione'!BJ25","v":0},{"$f":"-'5 Foglio di elaborazione'!BK25","v":0},{"$f":"-'5 Foglio di elaborazione'!BL25","v":0}]
[null,"+","Riduzione investimento per Contributi Pubblici",0,{"$f":"'5 Foglio di elaborazione'!E29","v":0},{"$f":"'5 Foglio di elaborazione'!F29","v":0},{"$f":"'5 Foglio di elaborazione'!G29","v":0},{"$f":"'5 Foglio di elaborazione'!H29","v":0},{"$f":"'5 Foglio di elaborazione'!I29","v":0},{"$f":"'5 Foglio di elaborazione'!J29","v":0},{"$f":"'5 Foglio di elaborazione'!K29","v":0},{"$f":"'5 Foglio di elaborazione'!L29","v":0},{"$f":"'5 Foglio di elaborazione'!M29","v":0},{"$f":"'5 Foglio di elaborazione'!N29","v":0},{"$f":"'5 Foglio di elaborazione'!O29","v":0},{"$f":"'5 Foglio di elaborazione'!P29","v":0},{"$f":"'5 Foglio di elaborazione'!Q29","v":0},{"$f":"'5 Foglio di elaborazione'!R29","v":0},{"$f":"'5 Foglio di elaborazione'!S29","v":0},{"$f":"'5 Foglio di elaborazione'!T29","v":0},{"$f":"'5 Foglio di elaborazione'!U29","v":0},{"$f":"'5 Foglio di elaborazione'!V29","v":0},{"$f":"'5 Foglio di elaborazione'!W29","v":0},{"$f":"'5 Foglio di elaborazione'!X29","v":0},{"$f":"'5 Foglio di elaborazione'!Y29","v":0},{"$f":"'5 Foglio di elaborazione'!Z29","v":0},{"$f":"'5 Foglio di elaborazione'!AA29","v":0},{"$f":"'5 Foglio di elaborazione'!AB29","v":0},{"$f":"'5 Foglio di elaborazione'!AC29","v":0},{"$f":"'5 Foglio di elaborazione'!AD29","v":0},{"$f":"'5 Foglio di elaborazione'!AE29","v":0},{"$f":"'5 Foglio di elaborazione'!AF29","v":0},{"$f":"'5 Foglio di elaborazione'!AG29","v":0},{"$f":"'5 Foglio di elaborazione'!AH29","v":0},{"$f":"'5 Foglio di elaborazione'!AI29","v":0},{"$f":"'5 Foglio di elaborazione'!AJ29","v":0},{"$f":"'5 Foglio di elaborazione'!AK29","v":0},{"$f":"'5 Foglio di elaborazione'!AL29","v":0},{"$f":"'5 Foglio di elaborazione'!AM29","v":0},{"$f":"'5 Foglio di elaborazione'!AN29","v":0},{"$f":"'5 Foglio di elaborazione'!AO29","v":0},{"$f":"'5 Foglio di elaborazione'!AP29","v":0},{"$f":"'5 Foglio di elaborazione'!AQ29","v":0},{"$f":"'5 Foglio di elaborazione'!AR29","v":0},{"$f":"'5 Foglio di elaborazione'!AS29","v":0},{"$f":"'5 Foglio di elaborazione'!AT29","v":0},{"$f":"'5 Foglio di elaborazione'!AU29","v":0},{"$f":"'5 Foglio di elaborazione'!AV29","v":0},{"$f":"'5 Foglio di elaborazione'!AW29","v":0},{"$f":"'5 Foglio di elaborazione'!AX29","v":0},{"$f":"'5 Foglio di elaborazione'!AY29","v":0},{"$f":"'5 Foglio di elaborazione'!AZ29","v":0},{"$f":"'5 Foglio di elaborazione'!BA29","v":0},{"$f":"'5 Foglio di elaborazione'!BB29","v":0},{"$f":"'5 Foglio di elaborazione'!BC29","v":0},{"$f":"'5 Foglio di elaborazione'!BD29","v":0},{"$f":"'5 Foglio di elaborazione'!BE29","v":0},{"$f":"'5 Foglio di elaborazione'!BF29","v":0},{"$f":"'5 Foglio di elaborazione'!BG29","v":0},{"$f":"'5 Foglio di elaborazione'!BH29","v":0},{"$f":"'5 Foglio di elaborazione'!BI29","v":0},{"$f":"'5 Foglio di elaborazione'!BJ29","v":0},{"$f":"'5 Foglio di elaborazione'!BK29","v":0},{"$f":"'5 Foglio di elaborazione'!BL29","v":0}]
[null,"+ / -","Variazione del CCN ",3301.4330737255832,{"$f":"'5 Foglio di elaborazione'!E78","v":8028.0835335314923},{"$f":"'5 Foglio di elaborazione'!F78","v":-2221.3735883890749},{"$f":"'5 Foglio di elaborazione'!G78","v":5491.8418372015594},{"$f":"'5 Foglio di elaborazione'!H78","v":-3860.5710686721741},{"$f":"'5 Foglio di elaborazione'!I78","v":-4447.7710622070699},{"$f":"'5 Foglio di elaborazione'!J78","v":59.804193029317048},{"$f":"'5 Foglio di elaborazione'!K78","v":61.000276889894394},{"$f":"'5 Foglio di elaborazione'!L78","v":62.220282427670099},{"$f":"'5 Foglio di elaborazione'!M78","v":63.464688076210678},{"$f":"'5 Foglio di elaborazione'!N78","v":64.733981837758165},{"$f":"'5 Foglio di elaborazione'!O78","v":0},{"$f":"'5 Foglio di elaborazione'!P78","v":0},{"$f":"'5 Foglio di elaborazione'!Q78","v":0},{"$f":"'5 Foglio di elaborazione'!R78","v":0},{"$f":"'5 Foglio di elaborazione'!S78","v":0},{"$f":"'5 Foglio di elaborazione'!T78","v":0},{"$f":"'5 Foglio di elaborazione'!U78","v":0},{"$f":"'5 Foglio di elaborazione'!V78","v":0},{"$f":"'5 Foglio di elaborazione'!W78","v":0},{"$f":"'5 Foglio di elaborazione'!X78","v":0},{"$f":"'5 Foglio di elaborazione'!Y78","v":0},{"$f":"'5 Foglio di elaborazione'!Z78","v":0},{"$f":"'5 Foglio di elaborazione'!AA78","v":0},{"$f":"'5 Foglio di elaborazione'!AB78","v":0},{"$f":"'5 Foglio di elaborazione'!AC78","v":0},{"$f":"'5 Foglio di elaborazione'!AD78","v":0},{"$f":"'5 Foglio di elaborazione'!AE78","v":0},{"$f":"'5 Foglio di elaborazione'!AF78","v":0},{"$f":"'5 Foglio di elaborazione'!AG78","v":0},{"$f":"'5 Foglio di elaborazione'!AH78","v":0},{"$f":"'5 Foglio di elaborazione'!AI78","v":0},{"$f":"'5 Foglio di elaborazione'!AJ78","v":0},{"$f":"'5 Foglio di elaborazione'!AK78","v":0},{"$f":"'5 Foglio di elaborazione'!AL78","v":0},{"$f":"'5 Foglio di elaborazione'!AM78","v":0},{"$f":"'5 Foglio di elaborazione'!AN78","v":0},{"$f":"'5 Foglio di elaborazione'!AO78","v":0},{"$f":"'5 Foglio di elaborazione'!AP78","v":0},{"$f":"'5 Foglio di elaborazione'!AQ78","v":0},{"$f":"'5 Foglio di elaborazione'!AR78","v":0},{"$f":"'5 Foglio di elaborazione'!AS78","v":0},{"$f":"'5 Foglio di elaborazione'!AT78","v":0},{"$f":"'5 Foglio di elaborazione'!AU78","v":0},{"$f":"'5 Foglio di elaborazione'!AV78","v":0},{"$f":"'5 Foglio di elaborazione'!AW78","v":0},{"$f":"'5 Foglio di elaborazione'!AX78","v":0},{"$f":"'5 Foglio di elaborazione'!AY78","v":0},{"$f":"'5 Foglio di elaborazione'!AZ78","v":0},{"$f":"'5 Foglio di elaborazione'!BA78","v":0},{"$f":"'5 Foglio di elaborazione'!BB78","v":0},{"$f":"'5 Foglio di elaborazione'!BC78","v":0},{"$f":"'5 Foglio di elaborazione'!BD78","v":0},{"$f":"'5 Foglio di elaborazione'!BE78","v":0},{"$f":"'5 Foglio di elaborazione'!BF78","v":0},{"$f":"'5 Foglio di elaborazione'!BG78","v":0},{"$f":"'5 Foglio di elaborazione'!BH78","v":0},{"$f":"'5 Foglio di elaborazione'!BI78","v":0},{"$f":"'5 Foglio di elaborazione'!BJ78","v":0},{"$f":"'5 Foglio di elaborazione'!BK78","v":0},{"$f":"'5 Foglio di elaborazione'!BL78","v":0}]
[null,"+ / -","Variazioni imposte a credito O&MRA",0,{"$f":"-'7 Stato-Patr'!C10","v":0},{"$f":"-'7 Stato-Patr'!D10+'7 Stato-Patr'!C10","v":0},{"$f":"-'7 Stato-Patr'!E10+'7 Stato-Patr'!D10","v":0},{"$f":"-'7 Stato-Patr'!F10+'7 Stato-Patr'!E10","v":0},{"$f":"-'7 Stato-Patr'!G10+'7 Stato-Patr'!F10","v":0},{"$f":"-'7 Stato-Patr'!H10+'7 Stato-Patr'!G10","v":0},{"$f":"-'7 Stato-Patr'!I10+'7 Stato-Patr'!H10","v":0},{"$f":"-'7 Stato-Patr'!J10+'7 Stato-Patr'!I10","v":0},{"$f":"-'7 Stato-Patr'!K10+'7 Stato-Patr'!J10","v":0},{"$f":"-'7 Stato-Patr'!L10+'7 Stato-Patr'!K10","v":0},{"$f":"-'7 Stato-Patr'!M10+'7 Stato-Patr'!L10","v":0},{"$f":"-'7 Stato-Patr'!N10+'7 Stato-Patr'!M10","v":0},{"$f":"-'7 Stato-Patr'!O10+'7 Stato-Patr'!N10","v":0},{"$f":"-'7 Stato-Patr'!P10+'7 Stato-Patr'!O10","v":0},{"$f":"-'7 Stato-Patr'!Q10+'7 Stato-Patr'!P10","v":0},{"$f":"-'7 Stato-Patr'!R10+'7 Stato-Patr'!Q10","v":0},{"$f":"-'7 Stato-Patr'!S10+'7 Stato-Patr'!R10","v":0},{"$f":"-'7 Stato-Patr'!T10+'7 Stato-Patr'!S10","v":0},{"$f":"-'7 Stato-Patr'!U10+'7 Stato-Patr'!T10","v":0},{"$f":"-'7 Stato-Patr'!V10+'7 Stato-Patr'!U10","v":0},{"$f":"-'7 Stato-Patr'!W10+'7 Stato-Patr'!V10","v":0},{"$f":"-'7 Stato-Patr'!X10+'7 Stato-Patr'!W10","v":0},{"$f":"-'7 Stato-Patr'!Y10+'7 Stato-Patr'!X10","v":0},{"$f":"-'7 Stato-Patr'!Z10+'7 Stato-Patr'!Y10","v":0},{"$f":"-'7 Stato-Patr'!AA10+'7 Stato-Patr'!Z10","v":0},{"$f":"-'7 Stato-Patr'!AB10+'7 Stato-Patr'!AA10","v":0},{"$f":"-'7 Stato-Patr'!AC10+'7 Stato-Patr'!AB10","v":0},{"$f":"-'7 Stato-Patr'!AD10+'7 Stato-Patr'!AC10","v":0},{"$f":"-'7 Stato-Patr'!AE10+'7 Stato-Patr'!AD10","v":0},{"$f":"-'7 Stato-Patr'!AF10+'7 Stato-Patr'!AE10","v":0},{"$f":"-'7 Stato-Patr'!AG10+'7 Stato-Patr'!AF10","v":0},{"$f":"-'7 Stato-Patr'!AH10+'7 Stato-Patr'!AG10","v":0},{"$f":"-'7 Stato-Patr'!AI10+'7 Stato-Patr'!AH10","v":0},{"$f":"-'7 Stato-Patr'!AJ10+'7 Stato-Patr'!AI10","v":0},{"$f":"-'7 Stato-Patr'!AK10+'7 Stato-Patr'!AJ10","v":0},{"$f":"-'7 Stato-Patr'!AL10+'7 Stato-Patr'!AK10","v":0},{"$f":"-'7 Stato-Patr'!AM10+'7 Stato-Patr'!AL10","v":0},{"$f":"-'7 Stato-Patr'!AN10+'7 Stato-Patr'!AM10","v":0},{"$f":"-'7 Stato-Patr'!AO10+'7 Stato-Patr'!AN10","v":0},{"$f":"-'7 Stato-Patr'!AP10+'7 Stato-Patr'!AO10","v":0},{"$f":"-'7 Stato-Patr'!AQ10+'7 Stato-Patr'!AP10","v":0},{"$f":"-'7 Stato-Patr'!AR10+'7 Stato-Patr'!AQ10","v":0},{"$f":"-'7 Stato-Patr'!AS10+'7 Stato-Patr'!AR10","v":0},{"$f":"-'7 Stato-Patr'!AT10+'7 Stato-Patr'!AS10","v":0},{"$f":"-'7 Stato-Patr'!AU10+'7 Stato-Patr'!AT10","v":0},{"$f":"-'7 Stato-Patr'!AV10+'7 Stato-Patr'!AU10","v":0},{"$f":"-'7 Stato-Patr'!AW10+'7 Stato-Patr'!AV10","v":0},{"$f":"-'7 Stato-Patr'!AX10+'7 Stato-Patr'!AW10","v":0},{"$f":"-'7 Stato-Patr'!AY10+'7 Stato-Patr'!AX10","v":0},{"$f":"-'7 Stato-Patr'!AZ10+'7 Stato-Patr'!AY10","v":0},{"$f":"-'7 Stato-Patr'!BA10+'7 Stato-Patr'!AZ10","v":0},{"$f":"-'7 Stato-Patr'!BB10+'7 Stato-Patr'!BA10","v":0},{"$f":"-'7 Stato-Patr'!BC10+'7 Stato-Patr'!BB10","v":0},{"$f":"-'7 Stato-Patr'!BD10+'7 Stato-Patr'!BC10","v":0},{"$f":"-'7 Stato-Patr'!BE10+'7 Stato-Patr'!BD10","v":0},{"$f":"-'7 Stato-Patr'!BF10+'7 Stato-Patr'!BE10","v":0},{"$f":"-'7 Stato-Patr'!BG10+'7 Stato-Patr'!BF10","v":0},{"$f":"-'7 Stato-Patr'!BH10+'7 Stato-Patr'!BG10","v":0},{"$f":"-'7 Stato-Patr'!BI10+'7 Stato-Patr'!BH10","v":0},{"$f":"-'7 Stato-Patr'!BJ10+'7 Stato-Patr'!BI10","v":0}]
[null,"-","Utilizzo da Fondo O&MRA",0,{"$f":"-E8","v":0},0,0,0,0,0,0,0,0,0,0,0,0,0,0,0,0,0,0,0,0,0,0,0,0,0,0,0,0,0,0,0,0,0,0,0,0,0,0,0,0,0,0,0,0,0,0,0,0,0,0,0,0,0,0,0,0,0,0,0]
[null,"+","Valore residuo finale",0,{"$f":"'5 Foglio di elaborazione'!E135","v":0},{"$f":"'5 Foglio di elaborazione'!F135","v":0},{"$f":"'5 Foglio di elaborazione'!G135","v":0},{"$f":"'5 Foglio di elaborazione'!H135","v":0},{"$f":"'5 Foglio di elaborazione'!I135","v":0},{"$f":"'5 Foglio di elaborazione'!J135","v":0},{"$f":"'5 Foglio di elaborazione'!K135","v":0},{"$f":"'5 Foglio di elaborazione'!L135","v":0},{"$f":"'5 Foglio di elaborazione'!M135","v":0},{"$f":"'5 Foglio di elaborazione'!N135","v":0},{"$f":"'5 Foglio di elaborazione'!O135","v":0},{"$f":"'5 Foglio di elaborazione'!P135","v":0},{"$f":"'5 Foglio di elaborazione'!Q135","v":0},{"$f":"'5 Foglio di elaborazione'!R135","v":0},{"$f":"'5 Foglio di elaborazione'!S135","v":0},{"$f":"'5 Foglio di elaborazione'!T135","v":0},{"$f":"'5 Foglio di elaborazione'!U135","v":0},{"$f":"'5 Foglio di elaborazione'!V135","v":0},{"$f":"'5 Foglio di elaborazione'!W135","v":0},{"$f":"'5 Foglio di elaborazione'!X135","v":0},{"$f":"'5 Foglio di elaborazione'!Y135","v":0},{"$f":"'5 Foglio di elaborazione'!Z135","v":0},{"$f":"'5 Foglio di elaborazione'!AA135","v":0},{"$f":"'5 Foglio di elaborazione'!AB135","v":0},{"$f":"'5 Foglio di elaborazione'!AC135","v":0},{"$f":"'5 Foglio di elaborazione'!AD135","v":0},{"$f":"'5 Foglio di elaborazione'!AE135","v":0},{"$f":"'5 Foglio di elaborazione'!AF135","v":0},{"$f":"'5 Foglio di elaborazione'!AG135","v":0},{"$f":"'5 Foglio di elaborazione'!AH135","v":0},{"$f":"'5 Foglio di elaborazione'!AI135","v":0},{"$f":"'5 Foglio di elaborazione'!AJ135","v":0},{"$f":"'5 Foglio di elaborazione'!AK135","v":0},{"$f":"'5 Foglio di elaborazione'!AL135","v":0},{"$f":"'5 Foglio di elaborazione'!AM135","v":0},{"$f":"'5 Foglio di elaborazione'!AN135","v":0},{"$f":"'5 Foglio di elaborazione'!AO135","v":0},{"$f":"'5 Foglio di elaborazione'!AP135","v":0},{"$f":"'5 Foglio di elaborazione'!AQ135","v":0},{"$f":"'5 Foglio di elaborazione'!AR135","v":0},{"$f":"'5 Foglio di elaborazione'!AS135","v":0},{"$f":"'5 Foglio di elaborazione'!AT135","v":0},{"$f":"'5 Foglio di elaborazione'!AU135","v":0},{"$f":"'5 Foglio di elaborazione'!AV135","v":0},{"$f":"'5 Foglio di elaborazione'!AW135","v":0},{"$f":"'5 Foglio di elaborazione'!AX135","v":0},{"$f":"'5 Foglio di elaborazione'!AY135","v":0},{"$f":"'5 Foglio di elaborazione'!AZ135","v":0},{"$f":"'5 Foglio di elaborazione'!BA135","v":0},{"$f":"'5 Foglio di elaborazione'!BB135","v":0},{"$f":"'5 Foglio di elaborazione'!BC135","v":0},{"$f":"'5 Foglio di elaborazione'!BD135","v":0},{"$f":"'5 Foglio di elaborazione'!BE135","v":0},{"$f":"'5 Foglio di elaborazione'!BF135","v":0},{"$f":"'5 Foglio di elaborazione'!BG135","v":0},{"$f":"'5 Foglio di elaborazione'!BH135","v":0},{"$f":"'5 Foglio di elaborazione'!BI135","v":0},{"$f":"'5 Foglio di elaborazione'!BJ135","v":0},{"$f":"'5 Foglio di elaborazione'!BK135","v":0},{"$f":"'5 Foglio di elaborazione'!BL135","v":0}]
[null,"=","Flusso di Cassa Operativo Netto ",263613.01151779422,{"$f":"SUM(E22:E28)","v":-21342.596466468585},2256.8356519309191,42702.270881528399,29497.53588006075,29577.498025500467,34765.578662491003,35460.890235740851,36170.108040455656,36893.510201264769,37631.38040529006,-2.9119999999999999E-11,0,0,0,0,0,0,0,0,0,0,0,0,0,0,0,0,0,0,0,0,0,0,0,0,0,0,0,0,0,0,0,0,0,0,0,0,0,0,0,0,0,0,0,0,0,0,0,0,0]
[null,null,"Variazione dei flussi delle somme vincolate ",null,{"$f":"'7 Stato-Patr'!C44","v":0},{"$f":"'7 Stato-Patr'!D44","v":0},{"$f":"'7 Stato-Patr'!E44","v":0},{"$f":"'7 Stato-Patr'!F44","v":0},{"$f":"'7 Stato-Patr'!G44","v":0},{"$f":"'7 Stato-Patr'!H44","v":0},{"$f":"'7 Stato-Patr'!I44","v":0},{"$f":"'7 Stato-Patr'!J44","v":0},{"$f":"'7 Stato-Patr'!K44","v":0},{"$f":"'7 Stato-Patr'!L44","v":0},{"$f":"'7 Stato-Patr'!M44","v":0},{"$f":"'7 Stato-Patr'!N44","v":0},{"$f":"'7 Stato-Patr'!O44","v":0},{"$f":"'7 Stato-Patr'!P44","v":0},{"$f":"'7 Stato-Patr'!Q44","v":0},{"$f":"'7 Stato-Patr'!R44","v":0},{"$f":"'7 Stato-Patr'!S44","v":0},{"$f":"'7 Stato-Patr'!T44","v":0},{"$f":"'7 Stato-Patr'!U44","v":0},{"$f":"'7 Stato-Patr'!V44","v":0},{"$f":"'7 Stato-Patr'!W44","v":0},{"$f":"'7 Stato-Patr'!X44","v":0},{"$f":"'7 Stato-Patr'!Y44","v":0},{"$f":"'7 Stato-Patr'!Z44","v":0},{"$f":"'7 Stato-Patr'!AA44","v":0},{"$f":"'7 Stato-Patr'!AB44","v":0},{"$f":"'7 Stato-Patr'!AC44","v":0},{"$f":"'7 Stato-Patr'!AD44","v":0},{"$f":"'7 Stato-Patr'!AE44","v":0},{"$f":"'7 Stato-Patr'!AF44","v":0},{"$f":"'7 Stato-Patr'!AG44","v":0},{"$f":"'7 Stato-Patr'!AH44","v":0},{"$f":"'7 Stato-Patr'!AI44","v":0},{"$f":"'7 Stato-Patr'!AJ44","v":0},{"$f":"'7 Stato-Patr'!AK44","v":0},{"$f":"'7 Stato-Patr'!AL44","v":0},{"$f":"'7 Stato-Patr'!AM44","v":0},{"$f":"'7 Stato-Patr'!AN44","v":0},{"$f":"'7 Stato-Patr'!AO44","v":0},{"$f":"'7 Stato-Patr'!AP44","v":0},{"$f":"'7 Stato-Patr'!AQ44","v":0},{"$f":"'7 Stato-Patr'!AR44","v":0},{"$f":"'7 Stato-Patr'!AS44","v":0},{"$f":"'7 Stato-Patr'!AT44","v":0},{"$f":"'7 Stato-Patr'!AU44","v":0},{"$f":"'7 Stato-Patr'!AV44","v":0},{"$f":"'7 Stato-Patr'!AW44","v":0},{"$f":"'7 Stato-Patr'!AX44","v":0},{"$f":"'7 Stato-Patr'!AY44","v":0},{"$f":"'7 Stato-Patr'!AZ44","v":0},{"$f":"'7 Stato-Patr'!BA44","v":0},{"$f":"'7 Stato-Patr'!BB44","v":0},{"$f":"'7 Stato-Patr'!BC44","v":0},{"$f":"'7 Stato-Patr'!BD44","v":0},{"$f":"'7 Stato-Patr'!BE44","v":0},{"$f":"'7 Stato-Patr'!BF44","v":0},{"$f":"'7 Stato-Patr'!BG44","v":0},{"$f":"'7 Stato-Patr'!BH44","v":0},{"$f":"'7 Stato-Patr'!BI44","v":0},{"$f":"'7 Stato-Patr'!BJ44","v":0}]
[null,null,"FLUSSI DI CASSA ",{"$f":"-'2 Investimento'!E27+'2 Investimento'!E26+'2 Investimento'!E59","v":-1E-10},{"$f":"E29-E23-E24-'5 Foglio di elaborazione'!E24+E30","v":-21342.596466468487},{"$f":"F29-F23-F24-'5 Foglio di elaborazione'!F24+F30","v":2256.8356519309191},{"$f":"G29-G23-G24-'5 Foglio di elaborazione'!G24+G30","v":42702.270881528399},{"$f":"H29-H23-H24-'5 Foglio di elaborazione'!H24+H30","v":29497.53588006075},{"$f":"I29-I23-I24-'5 Foglio di elaborazione'!I24+I30","v":29577.498025500467},{"$f":"J29-J23-J24-'5 Foglio di elaborazione'!J24+J30","v":34765.578662491003},{"$f":"K29-K23-K24-'5 Foglio di elaborazione'!K24+K30","v":35460.890235740851},{"$f":"L29-L23-L24-'5 Foglio di elaborazione'!L24+L30","v":36170.108040455656},{"$f":"M29-M23-M24-'5 Foglio di elaborazione'!M24+M30","v":36893.510201264769},{"$f":"N29-N23-N24-'5 Foglio di elaborazione'!N24+N30","v":37631.38040529006},{"$f":"O29-O23-O24-'5 Foglio di elaborazione'!O24+O30","v":-2.9119999999999999E-11},{"$f":"P29-P23-P24-'5 Foglio di elaborazione'!P24+P30","v":0},{"$f":"Q29-Q23-Q24-'5 Foglio di elaborazione'!Q24+Q30","v":0},{"$f":"R29-R23-R24-'5 Foglio di elaborazione'!R24+R30","v":0},{"$f":"S29-S23-S24-'5 Foglio di elaborazione'!S24+S30","v":0},{"$f":"T29-T23-T24-'5 Foglio di elaborazione'!T24+T30","v":0},{"$f":"U29-U23-U24-'5 Foglio di elaborazione'!U24+U30","v":0},{"$f":"V29-V23-V24-'5 Foglio di elaborazione'!V24+V30","v":0},{"$f":"W29-W23-W24-'5 Foglio di elaborazione'!W24+W30","v":0},{"$f":"X29-X23-X24-'5 Foglio di elaborazione'!X24+X30","v":0},{"$f":"Y29-Y23-Y24-'5 Foglio di elaborazione'!Y24+Y30","v":0},{"$f":"Z29-Z23-Z24-'5 Foglio di elaborazione'!Z24+Z30","v":0},{"$f":"AA29-AA23-AA24-'5 Foglio di elaborazione'!AA24+AA30","v":0},{"$f":"AB29-AB23-AB24-'5 Foglio di elaborazione'!AB24+AB30","v":0},{"$f":"AC29-AC23-AC24-'5 Foglio di elaborazione'!AC24+AC30","v":0},{"$f":"AD29-AD23-AD24-'5 Foglio di elaborazione'!AD24+AD30","v":0},{"$f":"AE29-AE23-AE24-'5 Foglio di elaborazione'!AE24+AE30","v":0},{"$f":"AF29-AF23-AF24-'5 Foglio di elaborazione'!AF24+AF30","v":0},{"$f":"AG29-AG23-AG24-'5 Foglio di elaborazione'!AG24+AG30","v":0},{"$f":"AH29-AH23-AH24-'5 Foglio di elaborazione'!AH24+AH30","v":0},{"$f":"AI29-AI23-AI24-'5 Foglio di elaborazione'!AI24+AI30","v":0},{"$f":"AJ29-AJ23-AJ24-'5 Foglio di elaborazione'!AJ24+AJ30","v":0},{"$f":"AK29-AK23-AK24-'5 Foglio di elaborazione'!AK24+AK30","v":0},{"$f":"AL29-AL23-AL24-'5 Foglio di elaborazione'!AL24+AL30","v":0},{"$f":"AM29-AM23-AM24-'5 Foglio di elaborazione'!AM24+AM30","v":0},{"$f":"AN29-AN23-AN24-'5 Foglio di elaborazione'!AN24+AN30","v":0},{"$f":"AO29-AO23-AO24-'5 Foglio di elaborazione'!AO24+AO30","v":0},{"$f":"AP29-AP23-AP24-'5 Foglio di elaborazione'!AP24+AP30","v":0},{"$f":"AQ29-AQ23-AQ24-'5 Foglio di elaborazione'!AQ24+AQ30","v":0},{"$f":"AR29-AR23-AR24-'5 Foglio di elaborazione'!AR24+AR30","v":0},{"$f":"AS29-AS23-AS24-'5 Foglio di elaborazione'!AS24+AS30","v":0},{"$f":"AT29-AT23-AT24-'5 Foglio di elaborazione'!AT24+AT30","v":0},{"$f":"AU29-AU23-AU24-'5 Foglio di elaborazione'!AU24+AU30","v":0},{"$f":"AV29-AV23-AV24-'5 Foglio di elaborazione'!AV24+AV30","v":0},{"$f":"AW29-AW23-AW24-'5 Foglio di elaborazione'!AW24+AW30","v":0},{"$f":"AX29-AX23-AX24-'5 Foglio di elaborazione'!AX24+AX30","v":0},{"$f":"AY29-AY23-AY24-'5 Foglio di elaborazione'!AY24+AY30","v":0},{"$f":"AZ29-AZ23-AZ24-'5 Foglio di elaborazione'!AZ24+AZ30","v":0},{"$f":"BA29-BA23-BA24-'5 Foglio di elaborazione'!BA24+BA30","v":0},{"$f":"BB29-BB23-BB24-'5 Foglio di elaborazione'!BB24+BB30","v":0},{"$f":"BC29-BC23-BC24-'5 Foglio di elaborazione'!BC24+BC30","v":0},{"$f":"BD29-BD23-BD24-'5 Foglio di elaborazione'!BD24+BD30","v":0},{"$f":"BE29-BE23-BE24-'5 Foglio di elaborazione'!BE24+BE30","v":0},{"$f":"BF29-BF23-BF24-'5 Foglio di elaborazione'!BF24+BF30","v":0},{"$f":"BG29-BG23-BG24-'5 Foglio di elaborazione'!BG24+BG30","v":0},{"$f":"BH29-BH23-BH24-'5 Foglio di elaborazione'!BH24+BH30","v":0},{"$f":"BI29-BI23-BI24-'5 Foglio di elaborazione'!BI24+BI30","v":0},{"$f":"BJ29-BJ23-BJ24-'5 Foglio di elaborazione'!BJ24+BJ30","v":0},{"$f":"BK29-BK23-BK24-'5 Foglio di elaborazione'!BK24+BK30","v":0},{"$f":"BL29-BL23-BL24-'5 Foglio di elaborazione'!BL24+BL30","v":0}]
[null,null,"Coefficienti di attualizzazione",1,{"$f":"D32*(1+$D$41)","v":1.058964},1.1214047532960001,1.1875272631693454,1.2575486207148627,1.3316987175866939,1.4102210007704756,1.493373271859906,1.5814285334618534,1.6746758855088981,1.7734214744220449,1.8779894982398664,1.9887232710140819,2.1059863499661562,2.2301637291055605,2.3616631032285409,2.5009162064473087,2.648380229644268,2.8045393215050125,2.9699061780582343,3.1450237259412601,3.3304669049176607,3.5268445554992258,3.7348014178696824,3.9550202486729504,4.1882240626157028,4.4351785062437754,4.6966943716859335,4.973630258618023,5.266895393187176,5.5774526131510651,5.9063215290329047,6.2545818716708013,6.6233770371519984,7.0139178407706293,7.4274864923338288,7.8654408058678005,8.32921865754499,8.8203427064684732,9.34042539381268,9.8911742367334519,10.474397434428203,11.092009804751829,11.746039070879215,12.438632518654538,13.172064046484484,13.948741630921395,14.771215232447044,15.642185167413052,16.564510973624394,17.541220798673184,18.575521341846148,19.670808382246765,20.830677927697565,22.058938021026325,23.359621242498122,24.736997949440781,26.195590296531606,27.740187082776295,29.375859473925118,31.107977651945639]
[null,null,"Flussi di cassa attualizzati per il calcolo del Van (flussi di cassa anno per anno)",{"$f":"D31/D32","v":-1E-10},-20154.222869208479,2012.5076563994344,35958.981495348547,23456.378062975138,22210.35256315396,24652.574769129656,23745.496791687227,22871.794251288014,22030.239117017933,21219.648542687271,-1.5505944004102542E-11,0,0,0,0,0,0,0,0,0,0,0,0,0,0,0,0,0,0,0,0,0,0,0,0,0,0,0,0,0,0,0,0,0,0,0,0,0,0,0,0,0,0,0,0,0,0,0,0,0]
[null,null,"Flussi di cassa per calcolo del PAYBACK PERIOD",{"$f":"D31","v":-1E-10},{"$f":"D34+E31","v":-21342.596466468585},-19085.760814537665,23616.510066990733,53114.045947051483,82691.543972551954,117457.12263504296,152918.0128707838,189088.12091123947,225981.63111250423,263613.01151779428,263613.01151779422,263613.01151779422,263613.01151779422,263613.01151779422,263613.01151779422,263613.01151779422,263613.01151779422,263613.01151779422,263613.01151779422,263613.01151779422,263613.01151779422,263613.01151779422,263613.01151779422,263613.01151779422,263613.01151779422,263613.01151779422,263613.01151779422,263613.01151779422,263613.01151779422,263613.01151779422,263613.01151779422,263613.01151779422,263613.01151779422,263613.01151779422,263613.01151779422,263613.01151779422,263613.01151779422,263613.01151779422,263613.01151779422,263613.01151779422,263613.01151779422,263613.01151779422,263613.01151779422,263613.01151779422,263613.01151779422,263613.01151779422,263613.01151779422,263613.01151779422,263613.01151779422,263613.01151779422,263613.01151779422,263613.01151779422,263613.01151779422,263613.01151779422,263613.01151779422,263613.01151779422,263613.01151779422,263613.01151779422,263613.01151779422,263613.01151779422]
[null,null,"Evidenza annualità in cui si verifica il Payback",{"$f":"INDEX($E$35:$BL$35,MATCH(TRUE,INDEX($E$34:$BL$34>0, ),0))","v":3},1,{"$f":"E35+1","v":2},3,4,5,6,7,8,9,10,11,12,13,14,15,16,17,18,19,20,21,22,23,24,25,26,27,28,29,30,31,32,33,34,35,36,37,38,39,40,41,42,43,44,45,46,47,48,49,50,51,52,53,54,55,56,57,58,59,60]
[null,null," "]
[null,null,"Flussi di cassa per calcolo durata Concessione (Discounted Payback Period)",{"$f":"D31","v":-1E-10},{"$f":"D37+E31/E142","v":-20557.307326592745},-18463.494360874774,19696.464473841068,45086.40244632386,69608.426343606057,97371.229586695757,124647.34142251883,151445.29371739412,177773.46877111477,203640.10193890042,203640.10193890039,203640.10193890039,203640.10193890039,203640.10193890039,203640.10193890039,203640.10193890039,203640.10193890039,203640.10193890039,203640.10193890039,203640.10193890039,203640.10193890039,203640.10193890039,203640.10193890039,203640.10193890039,203640.10193890039,203640.10193890039,203640.10193890039,203640.10193890039,203640.10193890039,203640.10193890039,203640.10193890039,203640.10193890039,203640.10193890039,203640.10193890039,203640.10193890039,203640.10193890039,203640.10193890039,203640.10193890039,203640.10193890039,203640.10193890039,203640.10193890039,203640.10193890039,203640.10193890039,203640.10193890039,203640.10193890039,203640.10193890039,203640.10193890039,203640.10193890039,203640.10193890039,203640.10193890039,203640.10193890039,203640.10193890039,203640.10193890039,203640.10193890039,203640.10193890039,203640.10193890039,203640.10193890039,203640.10193890039,203640.10193890039,203640.10193890039]
[null,null,"Evidenza annualità in cui si verifica il recupero dell'investimento e delle Fonti (DPBP)",{"$f":"INDEX($E$38:$BL$38,MATCH(TRUE,INDEX($E$37:$BL$37>0, ),0))","v":3},{"$f":"E35","v":1},2,3,4,5,6,7,8,9,10,11,12,13,14,15,16,17,18,19,20,21,22,23,24,25,26,27,28,29,30,31,32,33,34,35,36,37,38,39,40,41,42,43,44,45,46,47,48,49,50,51,52,53,54,55,56,57,58,59,60]
[null,"6.1","Calcolo degli indici di redditività operativa"," ",null,null,null,null,null,null,null,null,null,null,null,null,null,null," ",null,null,null,null,null,null,null,null,null,null,null," ",null,null,null,null,null,null," ",null,null,null,null," ",null,null,null,null,null,null,null,null,null,null,null," ",null,null,null,null,null,null,null,null,null,null,"Parametri per il calcolo delle imposte"]
[null,null,"Saggio applicato dalla Cassa Depositi e Prestiti ai finanziamenti concessi agli Enti Pubblici.",3.8199999999999998E-2,"https://www.cdp.it/sitointernet/page/it/condizioni_economiche_sintetiche_vigenti?contentId=INS4602 ",null,null,null,null,null,null,null,null,null,null,null,null,null,null,null,null,null,null,null,null,null,null,null,null,null,null,null,null,null,null,null,null,null,null,null,null,null,null,null,null,null,null,null,null,null,null,null,null,null,null,null,null,null,null,null,null,null,null,null,null,"Percentuale di costo del personale gravato da Irap",null,null,0]
[null,null,"Tasso di sconto per il calcolo del VAN (Tasso CDP + Istat del Pef aggiustato con equazione di Fisher)",{"$f":"(1+D40)*(1+'2 Descrizione Progetto'!D27)-1","v":5.8964000000000016E-2},null,null,"IRAP percentuale",null,null,{"$f":"'5 Foglio di elaborazione'!D45/100","v":5.1200000000000002E-2}]
[null,null,"VAN della Gestione",{"$f":"SUM(D33:BL33)","v":178003.75038047857},"←   Progetto valido se > di zero",null,"IRES percentuale",null,null,{"$f":"'5 Foglio di elaborazione'!D37/100","v":0.24}]
[null,null," Rendimento Globale dei Costi di Gestione - ante imposte",{"$f":"D15/-(D10+D11+D12+D13+D14+D23)","v":8.9351430531000739E-2}," ",null,"TOTALE IRES+IRAP",null,null,{"$f":"J42+J41","v":0.29120000000000001}]
[null,null,"Tasso Interno di Rendimento (TIR)"," "]
[null,null,"VAN della gestione",{"$f":"NPV(D41,E31:BL31)","v":178003.75038047868}," ","  ",null,null,null,null,null,null," "]
[null,null,"Indice di redditività operativa",{"$f":"D42/D43","v":1992175.7192093264},"←   Redditività operativa netta dell'investimento, prima della gestione finanziaria"]
[null,25,"Flusso di Cassa Finanziario","Totale\n(dati nominali)",{"$f":"'5 Foglio di elaborazione'!E68","v":1},{"$f":"'5 Foglio di elaborazione'!F68","v":2},{"$f":"'5 Foglio di elaborazione'!G68","v":3},{"$f":"'5 Foglio di elaborazione'!H68","v":4},{"$f":"'5 Foglio di elaborazione'!I68","v":5},{"$f":"'5 Foglio di elaborazione'!J68","v":6},{"$f":"'5 Foglio di elaborazione'!K68","v":7},{"$f":"'5 Foglio di elaborazione'!L68","v":8},{"$f":"'5 Foglio di elaborazione'!M68","v":9},{"$f":"'5 Foglio di elaborazione'!N68","v":10},{"$f":"'5 Foglio di elaborazione'!O68","v":11},{"$f":"'5 Foglio di elaborazione'!P68","v":"0"},{"$f":"'5 Foglio di elaborazione'!Q68","v":"0"},{"$f":"'5 Foglio di elaborazione'!R68","v":"0"},{"$f":"'5 Foglio di elaborazione'!S68","v":"0"},{"$f":"'5 Foglio di elaborazione'!T68","v":"0"},{"$f":"'5 Foglio di elaborazione'!U68","v":"0"},{"$f":"'5 Foglio di elaborazione'!V68","v":"0"},{"$f":"'5 Foglio di elaborazione'!W68","v":"0"},{"$f":"'5 Foglio di elaborazione'!X68","v":"0"},{"$f":"'5 Foglio di elaborazione'!Y68","v":"0"},{"$f":"'5 Foglio di elaborazione'!Z68","v":"0"},{"$f":"'5 Foglio di elaborazione'!AA68","v":"0"},{"$f":"'5 Foglio di elaborazione'!AB68","v":"0"},{"$f":"'5 Foglio di elaborazione'!AC68","v":"0"},{"$f":"'5 Foglio di elaborazione'!AD68","v":"0"},{"$f":"'5 Foglio di elaborazione'!AE68","v":"0"},{"$f":"'5 Foglio di elaborazione'!AF68","v":"0"},{"$f":"'5 Foglio di elaborazione'!AG68","v":"0"},{"$f":"'5 Foglio di elaborazione'!AH68","v":"0"},{"$f":"'5 Foglio di elaborazione'!AI68","v":"0"},{"$f":"'5 Foglio di elaborazione'!AJ68","v":"0"},{"$f":"'5 Foglio di elaborazione'!AK68","v":"0"},{"$f":"'5 Foglio di elaborazione'!AL68","v":"0"},{"$f":"'5 Foglio di elaborazione'!AM68","v":"0"},{"$f":"'5 Foglio di elaborazione'!AN68","v":"0"},{"$f":"'5 Foglio di elaborazione'!AO68","v":"0"},{"$f":"'5 Foglio di elaborazione'!AP68","v":"0"},{"$f":"'5 Foglio di elaborazione'!AQ68","v":"0"},{"$f":"'5 Foglio di elaborazione'!AR68","v":"0"},{"$f":"'5 Foglio di elaborazione'!AS68","v":"0"},{"$f":"'5 Foglio di elaborazione'!AT68","v":"0"},{"$f":"'5 Foglio di elaborazione'!AU68","v":"0"},{"$f":"'5 Foglio di elaborazione'!AV68","v":"0"},{"$f":"'5 Foglio di elaborazione'!AW68","v":"0"},{"$f":"'5 Foglio di elaborazione'!AX68","v":"0"},{"$f":"'5 Foglio di elaborazione'!AY68","v":"0"},{"$f":"'5 Foglio di elaborazione'!AZ68","v":"0"},{"$f":"'5 Foglio di elaborazione'!BA68","v":"0"},{"$f":"'5 Foglio di elaborazione'!BB68","v":"0"},{"$f":"'5 Foglio di elaborazione'!BC68","v":"0"},{"$f":"'5 Foglio di elaborazione'!BD68","v":"0"},{"$f":"'5 Foglio di elaborazione'!BE68","v":"0"},{"$f":"'5 Foglio di elaborazione'!BF68","v":"0"},{"$f":"'5 Foglio di elaborazione'!BG68","v":"0"},{"$f":"'5 Foglio di elaborazione'!BH68","v":"0"},{"$f":"'5 Foglio di elaborazione'!BI68","v":"0"},{"$f":"'5 Foglio di elaborazione'!BJ68","v":"0"},{"$f":"'5 Foglio di elaborazione'!BK68","v":"0"},{"$f":"'5 Foglio di elaborazione'!BL68","v":"0"}]
[null,"+","Flusso di Cassa Operativo Netto",{"$f":"D29","v":263613.01151779422},-21342.596466468585,2256.8356519309191,42702.270881528399,29497.53588006075,29577.498025500467,34765.578662491003,35460.890235740851,36170.108040455656,36893.510201264769,37631.38040529006,-2.9119999999999999E-11,0,0,0,0,0,0,0,0,0,0,0,0,0,0,0,0,0,0,0,0,0,0,0,0,0,0,0,0,0,0,0,0,0,0,0,0,0,0,0,0,0,0,0,0,0,0,0,0,0]
[null,"+",{"$f":"'5 Foglio di elaborazione'!C28","v":"Capitale Sociale"},{"$f":"SUM(E49:BL49)","v":10000},{"$f":"'5 Foglio di elaborazione'!E28","v":10000},{"$f":"'5 Foglio di elaborazione'!F28","v":0},{"$f":"'5 Foglio di elaborazione'!G28","v":0},{"$f":"'5 Foglio di elaborazione'!H28","v":0},{"$f":"'5 Foglio di elaborazione'!I28","v":0},{"$f":"'5 Foglio di elaborazione'!J28","v":0},{"$f":"'5 Foglio di elaborazione'!K28","v":0},{"$f":"'5 Foglio di elaborazione'!L28","v":0},{"$f":"'5 Foglio di elaborazione'!M28","v":0},{"$f":"'5 Foglio di elaborazione'!N28","v":0},{"$f":"'5 Foglio di elaborazione'!O28","v":0},{"$f":"'5 Foglio di elaborazione'!P28","v":0},{"$f":"'5 Foglio di elaborazione'!Q28","v":0},{"$f":"'5 Foglio di elaborazione'!R28","v":0},{"$f":"'5 Foglio di elaborazione'!S28","v":0},{"$f":"'5 Foglio di elaborazione'!T28","v":0},{"$f":"'5 Foglio di elaborazione'!U28","v":0},{"$f":"'5 Foglio di elaborazione'!V28","v":0},{"$f":"'5 Foglio di elaborazione'!W28","v":0},{"$f":"'5 Foglio di elaborazione'!X28","v":0},{"$f":"'5 Foglio di elaborazione'!Y28","v":0},{"$f":"'5 Foglio di elaborazione'!Z28","v":0},{"$f":"'5 Foglio di elaborazione'!AA28","v":0},{"$f":"'5 Foglio di elaborazione'!AB28","v":0},{"$f":"'5 Foglio di elaborazione'!AC28","v":0},{"$f":"'5 Foglio di elaborazione'!AD28","v":0},{"$f":"'5 Foglio di elaborazione'!AE28","v":0},{"$f":"'5 Foglio di elaborazione'!AF28","v":0},{"$f":"'5 Foglio di elaborazione'!AG28","v":0},{"$f":"'5 Foglio di elaborazione'!AH28","v":0},{"$f":"'5 Foglio di elaborazione'!AI28","v":0},{"$f":"'5 Foglio di elaborazione'!AJ28","v":0},{"$f":"'5 Foglio di elaborazione'!AK28","v":0},{"$f":"'5 Foglio di elaborazione'!AL28","v":0},{"$f":"'5 Foglio di elaborazione'!AM28","v":0},{"$f":"'5 Foglio di elaborazione'!AN28","v":0},{"$f":"'5 Foglio di elaborazione'!AO28","v":0},{"$f":"'5 Foglio di elaborazione'!AP28","v":0},{"$f":"'5 Foglio di elaborazione'!AQ28","v":0},{"$f":"'5 Foglio di elaborazione'!AR28","v":0},{"$f":"'5 Foglio di elaborazione'!AS28","v":0},{"$f":"'5 Foglio di elaborazione'!AT28","v":0},{"$f":"'5 Foglio di elaborazione'!AU28","v":0},{"$f":"'5 Foglio di elaborazione'!AV28","v":0},{"$f":"'5 Foglio di elaborazione'!AW28","v":0},{"$f":"'5 Foglio di elaborazione'!AX28","v":0},{"$f":"'5 Foglio di elaborazione'!AY28","v":0},{"$f":"'5 Foglio di elaborazione'!AZ28","v":0},{"$f":"'5 Foglio di elaborazione'!BA28","v":0},{"$f":"'5 Foglio di elaborazione'!BB28","v":0},{"$f":"'5 Foglio di elaborazione'!BC28","v":0},{"$f":"'5 Foglio di elaborazione'!BD28","v":0},{"$f":"'5 Foglio di elaborazione'!BE28","v":0},{"$f":"'5 Foglio di elaborazione'!BF28","v":0},{"$f":"'5 Foglio di elaborazione'!BG28","v":0},{"$f":"'5 Foglio di elaborazione'!BH28","v":0},{"$f":"'5 Foglio di elaborazione'!BI28","v":0},{"$f":"'5 Foglio di elaborazione'!BJ28","v":0},{"$f":"'5 Foglio di elaborazione'!BK28","v":0},{"$f":"'5 Foglio di elaborazione'!BL28","v":0}]
[null,"+","Altre fonti",0,0,0,0,0,0,0,0,0,0,0,0,0,0,0,0,0,0,0,0,0,0,0,0,0,0,0,0,0,0,0,0,0,0,0,0,0,0,0,0,0,0,0,0,0,0,0,0,0,0,0,0,0,0,0,0,0,0,0,0,0]
[null,"+",{"$f":"'5 Foglio di elaborazione'!C30","v":"I Banca (mlt)"},0,{"$f":"'5 Foglio di elaborazione'!E30","v":0},{"$f":"'5 Foglio di elaborazione'!F30","v":0},{"$f":"'5 Foglio di elaborazione'!G30","v":0},{"$f":"'5 Foglio di elaborazione'!H30","v":0},{"$f":"'5 Foglio di elaborazione'!I30","v":0},{"$f":"'5 Foglio di elaborazione'!J30","v":0},{"$f":"'5 Foglio di elaborazione'!K30","v":0},{"$f":"'5 Foglio di elaborazione'!L30","v":0},{"$f":"'5 Foglio di elaborazione'!M30","v":0},{"$f":"'5 Foglio di elaborazione'!N30","v":0},{"$f":"'5 Foglio di elaborazione'!O30","v":0},{"$f":"'5 Foglio di elaborazione'!P30","v":0},{"$f":"'5 Foglio di elaborazione'!Q30","v":0},{"$f":"'5 Foglio di elaborazione'!R30","v":0},{"$f":"'5 Foglio di elaborazione'!S30","v":0},{"$f":"'5 Foglio di elaborazione'!T30","v":0},{"$f":"'5 Foglio di elaborazione'!U30","v":0},{"$f":"'5 Foglio di elaborazione'!V30","v":0},{"$f":"'5 Foglio di elaborazione'!W30","v":0},{"$f":"'5 Foglio di elaborazione'!X30","v":0},{"$f":"'5 Foglio di elaborazione'!Y30","v":0},{"$f":"'5 Foglio di elaborazione'!Z30","v":0},{"$f":"'5 Foglio di elaborazione'!AA30","v":0},{"$f":"'5 Foglio di elaborazione'!AB30","v":0},{"$f":"'5 Foglio di elaborazione'!AC30","v":0},{"$f":"'5 Foglio di elaborazione'!AD30","v":0},{"$f":"'5 Foglio di elaborazione'!AE30","v":0},{"$f":"'5 Foglio di elaborazione'!AF30","v":0},{"$f":"'5 Foglio di elaborazione'!AG30","v":0},{"$f":"'5 Foglio di elaborazione'!AH30","v":0},{"$f":"'5 Foglio di elaborazione'!AI30","v":0},{"$f":"'5 Foglio di elaborazione'!AJ30","v":0},{"$f":"'5 Foglio di elaborazione'!AK30","v":0},{"$f":"'5 Foglio di elaborazione'!AL30","v":0},{"$f":"'5 Foglio di elaborazione'!AM30","v":0},{"$f":"'5 Foglio di elaborazione'!AN30","v":0},{"$f":"'5 Foglio di elaborazione'!AO30","v":0},{"$f":"'5 Foglio di elaborazione'!AP30","v":0},{"$f":"'5 Foglio di elaborazione'!AQ30","v":0},{"$f":"'5 Foglio di elaborazione'!AR30","v":0},{"$f":"'5 Foglio di elaborazione'!AS30","v":0},{"$f":"'5 Foglio di elaborazione'!AT30","v":0},{"$f":"'5 Foglio di elaborazione'!AU30","v":0},{"$f":"'5 Foglio di elaborazione'!AV30","v":0},{"$f":"'5 Foglio di elaborazione'!AW30","v":0},{"$f":"'5 Foglio di elaborazione'!AX30","v":0},{"$f":"'5 Foglio di elaborazione'!AY30","v":0},{"$f":"'5 Foglio di elaborazione'!AZ30","v":0},{"$f":"'5 Foglio di elaborazione'!BA30","v":0},{"$f":"'5 Foglio di elaborazione'!BB30","v":0},{"$f":"'5 Foglio di elaborazione'!BC30","v":0},{"$f":"'5 Foglio di elaborazione'!BD30","v":0},{"$f":"'5 Foglio di elaborazione'!BE30","v":0},{"$f":"'5 Foglio di elaborazione'!BF30","v":0},{"$f":"'5 Foglio di elaborazione'!BG30","v":0},{"$f":"'5 Foglio di elaborazione'!BH30","v":0},{"$f":"'5 Foglio di elaborazione'!BI30","v":0},{"$f":"'5 Foglio di elaborazione'!BJ30","v":0},{"$f":"'5 Foglio di elaborazione'!BK30","v":0},{"$f":"'5 Foglio di elaborazione'!BL30","v":0}]
[null,"+",{"$f":"'5 Foglio di elaborazione'!C31","v":"Altre Banche (mlt)"},0,{"$f":"'5 Foglio di elaborazione'!E31","v":0},{"$f":"'5 Foglio di elaborazione'!F31","v":0},{"$f":"'5 Foglio di elaborazione'!G31","v":0},{"$f":"'5 Foglio di elaborazione'!H31","v":0},{"$f":"'5 Foglio di elaborazione'!I31","v":0},{"$f":"'5 Foglio di elaborazione'!J31","v":0},{"$f":"'5 Foglio di elaborazione'!K31","v":0},{"$f":"'5 Foglio di elaborazione'!L31","v":0},{"$f":"'5 Foglio di elaborazione'!M31","v":0},{"$f":"'5 Foglio di elaborazione'!N31","v":0},{"$f":"'5 Foglio di elaborazione'!O31","v":0},{"$f":"'5 Foglio di elaborazione'!P31","v":0},{"$f":"'5 Foglio di elaborazione'!Q31","v":0},{"$f":"'5 Foglio di elaborazione'!R31","v":0},{"$f":"'5 Foglio di elaborazione'!S31","v":0},{"$f":"'5 Foglio di elaborazione'!T31","v":0},{"$f":"'5 Foglio di elaborazione'!U31","v":0},{"$f":"'5 Foglio di elaborazione'!V31","v":0},{"$f":"'5 Foglio di elaborazione'!W31","v":0},{"$f":"'5 Foglio di elaborazione'!X31","v":0},{"$f":"'5 Foglio di elaborazione'!Y31","v":0},{"$f":"'5 Foglio di elaborazione'!Z31","v":0},{"$f":"'5 Foglio di elaborazione'!AA31","v":0},{"$f":"'5 Foglio di elaborazione'!AB31","v":0},{"$f":"'5 Foglio di elaborazione'!AC31","v":0},{"$f":"'5 Foglio di elaborazione'!AD31","v":0},{"$f":"'5 Foglio di elaborazione'!AE31","v":0},{"$f":"'5 Foglio di elaborazione'!AF31","v":0},{"$f":"'5 Foglio di elaborazione'!AG31","v":0},{"$f":"'5 Foglio di elaborazione'!AH31","v":0},{"$f":"'5 Foglio di elaborazione'!AI31","v":0},{"$f":"'5 Foglio di elaborazione'!AJ31","v":0},{"$f":"'5 Foglio di elaborazione'!AK31","v":0},{"$f":"'5 Foglio di elaborazione'!AL31","v":0},{"$f":"'5 Foglio di elaborazione'!AM31","v":0},{"$f":"'5 Foglio di elaborazione'!AN31","v":0},{"$f":"'5 Foglio di elaborazione'!AO31","v":0},{"$f":"'5 Foglio di elaborazione'!AP31","v":0},{"$f":"'5 Foglio di elaborazione'!AQ31","v":0},{"$f":"'5 Foglio di elaborazione'!AR31","v":0},{"$f":"'5 Foglio di elaborazione'!AS31","v":0},{"$f":"'5 Foglio di elaborazione'!AT31","v":0},{"$f":"'5 Foglio di elaborazione'!AU31","v":0},{"$f":"'5 Foglio di elaborazione'!AV31","v":0},{"$f":"'5 Foglio di elaborazione'!AW31","v":0},{"$f":"'5 Foglio di elaborazione'!AX31","v":0},{"$f":"'5 Foglio di elaborazione'!AY31","v":0},{"$f":"'5 Foglio di elaborazione'!AZ31","v":0},{"$f":"'5 Foglio di elaborazione'!BA31","v":0},{"$f":"'5 Foglio di elaborazione'!BB31","v":0},{"$f":"'5 Foglio di elaborazione'!BC31","v":0},{"$f":"'5 Foglio di elaborazione'!BD31","v":0},{"$f":"'5 Foglio di elaborazione'!BE31","v":0},{"$f":"'5 Foglio di elaborazione'!BF31","v":0},{"$f":"'5 Foglio di elaborazione'!BG31","v":0},{"$f":"'5 Foglio di elaborazione'!BH31","v":0},{"$f":"'5 Foglio di elaborazione'!BI31","v":0},{"$f":"'5 Foglio di elaborazione'!BJ31","v":0},{"$f":"'5 Foglio di elaborazione'!BK31","v":0},{"$f":"'5 Foglio di elaborazione'!BL31","v":0}]
[null,"+","Debiti a bt vs. Banche (utilizzi anticipazioni in c/c)",0,0,{"$f":"IF('7 Stato-Patr'!D35>0,'7 Stato-Patr'!D35,0)","v":0},{"$f":"IF('7 Stato-Patr'!E35>0,'7 Stato-Patr'!E35,0)","v":0},{"$f":"IF('7 Stato-Patr'!F35>0,'7 Stato-Patr'!F35,0)","v":0},{"$f":"IF('7 Stato-Patr'!G35>0,'7 Stato-Patr'!G35,0)","v":0},{"$f":"IF('7 Stato-Patr'!H35>0,'7 Stato-Patr'!H35,0)","v":0},{"$f":"IF('7 Stato-Patr'!I35>0,'7 Stato-Patr'!I35,0)","v":0},{"$f":"IF('7 Stato-Patr'!J35>0,'7 Stato-Patr'!J35,0)","v":0},{"$f":"IF('7 Stato-Patr'!K35>0,'7 Stato-Patr'!K35,0)","v":0},{"$f":"IF('7 Stato-Patr'!L35>0,'7 Stato-Patr'!L35,0)","v":0},{"$f":"IF('7 Stato-Patr'!M35>0,'7 Stato-Patr'!M35,0)","v":0},{"$f":"IF('7 Stato-Patr'!N35>0,'7 Stato-Patr'!N35,0)","v":0},{"$f":"IF('7 Stato-Patr'!O35>0,'7 Stato-Patr'!O35,0)","v":0},{"$f":"IF('7 Stato-Patr'!P35>0,'7 Stato-Patr'!P35,0)","v":0},{"$f":"IF('7 Stato-Patr'!Q35>0,'7 Stato-Patr'!Q35,0)","v":0},{"$f":"IF('7 Stato-Patr'!R35>0,'7 Stato-Patr'!R35,0)","v":0},{"$f":"IF('7 Stato-Patr'!S35>0,'7 Stato-Patr'!S35,0)","v":0},{"$f":"IF('7 Stato-Patr'!T35>0,'7 Stato-Patr'!T35,0)","v":0},{"$f":"IF('7 Stato-Patr'!U35>0,'7 Stato-Patr'!U35,0)","v":0},{"$f":"IF('7 Stato-Patr'!V35>0,'7 Stato-Patr'!V35,0)","v":0},{"$f":"IF('7 Stato-Patr'!W35>0,'7 Stato-Patr'!W35,0)","v":0},{"$f":"IF('7 Stato-Patr'!X35>0,'7 Stato-Patr'!X35,0)","v":0},{"$f":"IF('7 Stato-Patr'!Y35>0,'7 Stato-Patr'!Y35,0)","v":0},{"$f":"IF('7 Stato-Patr'!Z35>0,'7 Stato-Patr'!Z35,0)","v":0},{"$f":"IF('7 Stato-Patr'!AA35>0,'7 Stato-Patr'!AA35,0)","v":0},{"$f":"IF('7 Stato-Patr'!AB35>0,'7 Stato-Patr'!AB35,0)","v":0},{"$f":"IF('7 Stato-Patr'!AC35>0,'7 Stato-Patr'!AC35,0)","v":0},{"$f":"IF('7 Stato-Patr'!AD35>0,'7 Stato-Patr'!AD35,0)","v":0},{"$f":"IF('7 Stato-Patr'!AE35>0,'7 Stato-Patr'!AE35,0)","v":0},{"$f":"IF('7 Stato-Patr'!AF35>0,'7 Stato-Patr'!AF35,0)","v":0},{"$f":"IF('7 Stato-Patr'!AG35>0,'7 Stato-Patr'!AG35,0)","v":0},{"$f":"IF('7 Stato-Patr'!AH35>0,'7 Stato-Patr'!AH35,0)","v":0},{"$f":"IF('7 Stato-Patr'!AI35>0,'7 Stato-Patr'!AI35,0)","v":0},{"$f":"IF('7 Stato-Patr'!AJ35>0,'7 Stato-Patr'!AJ35,0)","v":0},{"$f":"IF('7 Stato-Patr'!AK35>0,'7 Stato-Patr'!AK35,0)","v":0},{"$f":"IF('7 Stato-Patr'!AL35>0,'7 Stato-Patr'!AL35,0)","v":0},{"$f":"IF('7 Stato-Patr'!AM35>0,'7 Stato-Patr'!AM35,0)","v":0},{"$f":"IF('7 Stato-Patr'!AN35>0,'7 Stato-Patr'!AN35,0)","v":0},{"$f":"IF('7 Stato-Patr'!AO35>0,'7 Stato-Patr'!AO35,0)","v":0},{"$f":"IF('7 Stato-Patr'!AP35>0,'7 Stato-Patr'!AP35,0)","v":0},{"$f":"IF('7 Stato-Patr'!AQ35>0,'7 Stato-Patr'!AQ35,0)","v":0},{"$f":"IF('7 Stato-Patr'!AR35>0,'7 Stato-Patr'!AR35,0)","v":0},{"$f":"IF('7 Stato-Patr'!AS35>0,'7 Stato-Patr'!AS35,0)","v":0},{"$f":"IF('7 Stato-Patr'!AT35>0,'7 Stato-Patr'!AT35,0)","v":0},{"$f":"IF('7 Stato-Patr'!AU35>0,'7 Stato-Patr'!AU35,0)","v":0},{"$f":"IF('7 Stato-Patr'!AV35>0,'7 Stato-Patr'!AV35,0)","v":0},{"$f":"IF('7 Stato-Patr'!AW35>0,'7 Stato-Patr'!AW35,0)","v":0},{"$f":"IF('7 Stato-Patr'!AX35>0,'7 Stato-Patr'!AX35,0)","v":0},{"$f":"IF('7 Stato-Patr'!AY35>0,'7 Stato-Patr'!AY35,0)","v":0},{"$f":"IF('7 Stato-Patr'!AZ35>0,'7 Stato-Patr'!AZ35,0)","v":0},{"$f":"IF('7 Stato-Patr'!BA35>0,'7 Stato-Patr'!BA35,0)","v":0},{"$f":"IF('7 Stato-Patr'!BB35>0,'7 Stato-Patr'!BB35,0)","v":0},{"$f":"IF('7 Stato-Patr'!BC35>0,'7 Stato-Patr'!BC35,0)","v":0},{"$f":"IF('7 Stato-Patr'!BD35>0,'7 Stato-Patr'!BD35,0)","v":0},{"$f":"IF('7 Stato-Patr'!BE35>0,'7 Stato-Patr'!BE35,0)","v":0},{"$f":"IF('7 Stato-Patr'!BF35>0,'7 Stato-Patr'!BF35,0)","v":0},{"$f":"IF('7 Stato-Patr'!BG35>0,'7 Stato-Patr'!BG35,0)","v":0},{"$f":"IF('7 Stato-Patr'!BH35>0,'7 Stato-Patr'!BH35,0)","v":0},{"$f":"IF('7 Stato-Patr'!BI35>0,'7 Stato-Patr'!BI35,0)","v":0},{"$f":"IF('7 Stato-Patr'!BJ35>0,'7 Stato-Patr'!BJ35,0)","v":0}]
[null,"=","Flusso di Cassa per il Servizio del Debito e Gestione Finanziaria",273613.01151779422,{"$f":"SUM(E48:E53)","v":-11342.596466468585},2256.8356519309191,42702.270881528399,29497.53588006075,29577.498025500467,34765.578662491003,35460.890235740851,36170.108040455656,36893.510201264769,37631.38040529006,-2.9119999999999999E-11,0,0,0,0,0,0,0,0,0,0,0,0,0,0,0,0,0,0,0,0,0,0,0,0,0,0,0,0,0,0,0,0,0,0,0,0,0,0,0,0,0,0,0,0,0,0,0,0,0]
[null,"-",{"$f":"'5 Foglio di elaborazione'!C86","v":"Interessi passivi (con pre-ammortamento iniziale)"},-2.2000000000000003E-9,{"$f":"-'5 Foglio di elaborazione'!E86-'5 Foglio di elaborazione'!E96-'7 Stato-Patr'!C36","v":-6E-10},{"$f":"-'5 Foglio di elaborazione'!F86-'5 Foglio di elaborazione'!F96-'7 Stato-Patr'!D36","v":-1.1000000000000001E-9},{"$f":"-'5 Foglio di elaborazione'!G86-'5 Foglio di elaborazione'!G96-'7 Stato-Patr'!E36","v":-5.0000000000000003E-10},{"$f":"-'5 Foglio di elaborazione'!H86-'5 Foglio di elaborazione'!H96-'7 Stato-Patr'!F36","v":0},{"$f":"-'5 Foglio di elaborazione'!I86-'5 Foglio di elaborazione'!I96-'7 Stato-Patr'!G36","v":0},{"$f":"-'5 Foglio di elaborazione'!J86-'5 Foglio di elaborazione'!J96-'7 Stato-Patr'!H36","v":0},{"$f":"-'5 Foglio di elaborazione'!K86-'5 Foglio di elaborazione'!K96-'7 Stato-Patr'!I36","v":0},{"$f":"-'5 Foglio di elaborazione'!L86-'5 Foglio di elaborazione'!L96-'7 Stato-Patr'!J36","v":0},{"$f":"-'5 Foglio di elaborazione'!M86-'5 Foglio di elaborazione'!M96-'7 Stato-Patr'!K36","v":0},{"$f":"-'5 Foglio di elaborazione'!N86-'5 Foglio di elaborazione'!N96-'7 Stato-Patr'!L36","v":0},{"$f":"-'5 Foglio di elaborazione'!O86-'5 Foglio di elaborazione'!O96-'7 Stato-Patr'!M36","v":0},{"$f":"-'5 Foglio di elaborazione'!P86-'5 Foglio di elaborazione'!P96-'7 Stato-Patr'!N36","v":0},{"$f":"-'5 Foglio di elaborazione'!Q86-'5 Foglio di elaborazione'!Q96-'7 Stato-Patr'!O36","v":0},{"$f":"-'5 Foglio di elaborazione'!R86-'5 Foglio di elaborazione'!R96-'7 Stato-Patr'!P36","v":0},{"$f":"-'5 Foglio di elaborazione'!S86-'5 Foglio di elaborazione'!S96-'7 Stato-Patr'!Q36","v":0},{"$f":"-'5 Foglio di elaborazione'!T86-'5 Foglio di elaborazione'!T96-'7 Stato-Patr'!R36","v":0},{"$f":"-'5 Foglio di elaborazione'!U86-'5 Foglio di elaborazione'!U96-'7 Stato-Patr'!S36","v":0},{"$f":"-'5 Foglio di elaborazione'!V86-'5 Foglio di elaborazione'!V96-'7 Stato-Patr'!T36","v":0},{"$f":"-'5 Foglio di elaborazione'!W86-'5 Foglio di elaborazione'!W96-'7 Stato-Patr'!U36","v":0},{"$f":"-'5 Foglio di elaborazione'!X86-'5 Foglio di elaborazione'!X96-'7 Stato-Patr'!V36","v":0},{"$f":"-'5 Foglio di elaborazione'!Y86-'5 Foglio di elaborazione'!Y96-'7 Stato-Patr'!W36","v":0},{"$f":"-'5 Foglio di elaborazione'!Z86-'5 Foglio di elaborazione'!Z96-'7 Stato-Patr'!X36","v":0},{"$f":"-'5 Foglio di elaborazione'!AA86-'5 Foglio di elaborazione'!AA96-'7 Stato-Patr'!Y36","v":0},{"$f":"-'5 Foglio di elaborazione'!AB86-'5 Foglio di elaborazione'!AB96-'7 Stato-Patr'!Z36","v":0},{"$f":"-'5 Foglio di elaborazione'!AC86-'5 Foglio di elaborazione'!AC96-'7 Stato-Patr'!AA36","v":0},{"$f":"-'5 Foglio di elaborazione'!AD86-'5 Foglio di elaborazione'!AD96-'7 Stato-Patr'!AB36","v":0},{"$f":"-'5 Foglio di elaborazione'!AE86-'5 Foglio di elaborazione'!AE96-'7 Stato-Patr'!AC36","v":0},{"$f":"-'5 Foglio di elaborazione'!AF86-'5 Foglio di elaborazione'!AF96-'7 Stato-Patr'!AD36","v":0},{"$f":"-'5 Foglio di elaborazione'!AG86-'5 Foglio di elaborazione'!AG96-'7 Stato-Patr'!AE36","v":0},{"$f":"-'5 Foglio di elaborazione'!AH86-'5 Foglio di elaborazione'!AH96-'7 Stato-Patr'!AF36","v":0},{"$f":"-'5 Foglio di elaborazione'!AI86-'5 Foglio di elaborazione'!AI96-'7 Stato-Patr'!AG36","v":0},{"$f":"-'5 Foglio di elaborazione'!AJ86-'5 Foglio di elaborazione'!AJ96-'7 Stato-Patr'!AH36","v":0},{"$f":"-'5 Foglio di elaborazione'!AK86-'5 Foglio di elaborazione'!AK96-'7 Stato-Patr'!AI36","v":0},{"$f":"-'5 Foglio di elaborazione'!AL86-'5 Foglio di elaborazione'!AL96-'7 Stato-Patr'!AJ36","v":0},{"$f":"-'5 Foglio di elaborazione'!AM86-'5 Foglio di elaborazione'!AM96-'7 Stato-Patr'!AK36","v":0},{"$f":"-'5 Foglio di elaborazione'!AN86-'5 Foglio di elaborazione'!AN96-'7 Stato-Patr'!AL36","v":0},{"$f":"-'5 Foglio di elaborazione'!AO86-'5 Foglio di elaborazione'!AO96-'7 Stato-Patr'!AM36","v":0},{"$f":"-'5 Foglio di elaborazione'!AP86-'5 Foglio di elaborazione'!AP96-'7 Stato-Patr'!AN36","v":0},{"$f":"-'5 Foglio di elaborazione'!AQ86-'5 Foglio di elaborazione'!AQ96-'7 Stato-Patr'!AO36","v":0},{"$f":"-'5 Foglio di elaborazione'!AR86-'5 Foglio di elaborazione'!AR96-'7 Stato-Patr'!AP36","v":0},{"$f":"-'5 Foglio di elaborazione'!AS86-'5 Foglio di elaborazione'!AS96-'7 Stato-Patr'!AQ36","v":0},{"$f":"-'5 Foglio di elaborazione'!AT86-'5 Foglio di elaborazione'!AT96-'7 Stato-Patr'!AR36","v":0},{"$f":"-'5 Foglio di elaborazione'!AU86-'5 Foglio di elaborazione'!AU96-'7 Stato-Patr'!AS36","v":0},{"$f":"-'5 Foglio di elaborazione'!AV86-'5 Foglio di elaborazione'!AV96-'7 Stato-Patr'!AT36","v":0},{"$f":"-'5 Foglio di elaborazione'!AW86-'5 Foglio di elaborazione'!AW96-'7 Stato-Patr'!AU36","v":0},{"$f":"-'5 Foglio di elaborazione'!AX86-'5 Foglio di elaborazione'!AX96-'7 Stato-Patr'!AV36","v":0},{"$f":"-'5 Foglio di elaborazione'!AY86-'5 Foglio di elaborazione'!AY96-'7 Stato-Patr'!AW36","v":0},{"$f":"-'5 Foglio di elaborazione'!AZ86-'5 Foglio di elaborazione'!AZ96-'7 Stato-Patr'!AX36","v":0},{"$f":"-'5 Foglio di elaborazione'!BA86-'5 Foglio di elaborazione'!BA96-'7 Stato-Patr'!AY36","v":0},{"$f":"-'5 Foglio di elaborazione'!BB86-'5 Foglio di elaborazione'!BB96-'7 Stato-Patr'!AZ36","v":0},{"$f":"-'5 Foglio di elaborazione'!BC86-'5 Foglio di elaborazione'!BC96-'7 Stato-Patr'!BA36","v":0},{"$f":"-'5 Foglio di elaborazione'!BD86-'5 Foglio di elaborazione'!BD96-'7 Stato-Patr'!BB36","v":0},{"$f":"-'5 Foglio di elaborazione'!BE86-'5 Foglio di elaborazione'!BE96-'7 Stato-Patr'!BC36","v":0},{"$f":"-'5 Foglio di elaborazione'!BF86-'5 Foglio di elaborazione'!BF96-'7 Stato-Patr'!BD36","v":0},{"$f":"-'5 Foglio di elaborazione'!BG86-'5 Foglio di elaborazione'!BG96-'7 Stato-Patr'!BE36","v":0},{"$f":"-'5 Foglio di elaborazione'!BH86-'5 Foglio di elaborazione'!BH96-'7 Stato-Patr'!BF36","v":0},{"$f":"-'5 Foglio di elaborazione'!BI86-'5 Foglio di elaborazione'!BI96-'7 Stato-Patr'!BG36","v":0},{"$f":"-'5 Foglio di elaborazione'!BJ86-'5 Foglio di elaborazione'!BJ96-'7 Stato-Patr'!BH36","v":0},{"$f":"-'5 Foglio di elaborazione'!BK86-'5 Foglio di elaborazione'!BK96-'7 Stato-Patr'!BI36","v":0},{"$f":"-'5 Foglio di elaborazione'!BL86-'5 Foglio di elaborazione'!BL96-'7 Stato-Patr'!BJ36","v":0}]
[null,"-",{"$f":"'5 Foglio di elaborazione'!C85","v":"Rimborso del capitale (MLT)"},0,{"$f":"-'5 Foglio di elaborazione'!E85-'5 Foglio di elaborazione'!E95","v":0},{"$f":"-'5 Foglio di elaborazione'!F85-'5 Foglio di elaborazione'!F95","v":0},{"$f":"-'5 Foglio di elaborazione'!G85-'5 Foglio di elaborazione'!G95","v":0},{"$f":"-'5 Foglio di elaborazione'!H85-'5 Foglio di elaborazione'!H95","v":0},{"$f":"-'5 Foglio di elaborazione'!I85-'5 Foglio di elaborazione'!I95","v":0},{"$f":"-'5 Foglio di elaborazione'!J85-'5 Foglio di elaborazione'!J95","v":0},{"$f":"-'5 Foglio di elaborazione'!K85-'5 Foglio di elaborazione'!K95","v":0},{"$f":"-'5 Foglio di elaborazione'!L85-'5 Foglio di elaborazione'!L95","v":0},{"$f":"-'5 Foglio di elaborazione'!M85-'5 Foglio di elaborazione'!M95","v":0},{"$f":"-'5 Foglio di elaborazione'!N85-'5 Foglio di elaborazione'!N95","v":0},{"$f":"-'5 Foglio di elaborazione'!O85-'5 Foglio di elaborazione'!O95","v":0},{"$f":"-'5 Foglio di elaborazione'!P85-'5 Foglio di elaborazione'!P95","v":0},{"$f":"-'5 Foglio di elaborazione'!Q85-'5 Foglio di elaborazione'!Q95","v":0},{"$f":"-'5 Foglio di elaborazione'!R85-'5 Foglio di elaborazione'!R95","v":0},{"$f":"-'5 Foglio di elaborazione'!S85-'5 Foglio di elaborazione'!S95","v":0},{"$f":"-'5 Foglio di elaborazione'!T85-'5 Foglio di elaborazione'!T95","v":0},{"$f":"-'5 Foglio di elaborazione'!U85-'5 Foglio di elaborazione'!U95","v":0},{"$f":"-'5 Foglio di elaborazione'!V85-'5 Foglio di elaborazione'!V95","v":0},{"$f":"-'5 Foglio di elaborazione'!W85-'5 Foglio di elaborazione'!W95","v":0},{"$f":"-'5 Foglio di elaborazione'!X85-'5 Foglio di elaborazione'!X95","v":0},{"$f":"-'5 Foglio di elaborazione'!Y85-'5 Foglio di elaborazione'!Y95","v":0},{"$f":"-'5 Foglio di elaborazione'!Z85-'5 Foglio di elaborazione'!Z95","v":0},{"$f":"-'5 Foglio di elaborazione'!AA85-'5 Foglio di elaborazione'!AA95","v":0},{"$f":"-'5 Foglio di elaborazione'!AB85-'5 Foglio di elaborazione'!AB95","v":0},{"$f":"-'5 Foglio di elaborazione'!AC85-'5 Foglio di elaborazione'!AC95","v":0},{"$f":"-'5 Foglio di elaborazione'!AD85-'5 Foglio di elaborazione'!AD95","v":0},{"$f":"-'5 Foglio di elaborazione'!AE85-'5 Foglio di elaborazione'!AE95","v":0},{"$f":"-'5 Foglio di elaborazione'!AF85-'5 Foglio di elaborazione'!AF95","v":0},{"$f":"-'5 Foglio di elaborazione'!AG85-'5 Foglio di elaborazione'!AG95","v":0},{"$f":"-'5 Foglio di elaborazione'!AH85-'5 Foglio di elaborazione'!AH95","v":0},{"$f":"-'5 Foglio di elaborazione'!AI85-'5 Foglio di elaborazione'!AI95","v":0},{"$f":"-'5 Foglio di elaborazione'!AJ85-'5 Foglio di elaborazione'!AJ95","v":0},{"$f":"-'5 Foglio di elaborazione'!AK85-'5 Foglio di elaborazione'!AK95","v":0},{"$f":"-'5 Foglio di elaborazione'!AL85-'5 Foglio di elaborazione'!AL95","v":0},{"$f":"-'5 Foglio di elaborazione'!AM85-'5 Foglio di elaborazione'!AM95","v":0},{"$f":"-'5 Foglio di elaborazione'!AN85-'5 Foglio di elaborazione'!AN95","v":0},{"$f":"-'5 Foglio di elaborazione'!AO85-'5 Foglio di elaborazione'!AO95","v":0},{"$f":"-'5 Foglio di elaborazione'!AP85-'5 Foglio di elaborazione'!AP95","v":0},{"$f":"-'5 Foglio di elaborazione'!AQ85-'5 Foglio di elaborazione'!AQ95","v":0},{"$f":"-'5 Foglio di elaborazione'!AR85-'5 Foglio di elaborazione'!AR95","v":0},{"$f":"-'5 Foglio di elaborazione'!AS85-'5 Foglio di elaborazione'!AS95","v":0},{"$f":"-'5 Foglio di elaborazione'!AT85-'5 Foglio di elaborazione'!AT95","v":0},{"$f":"-'5 Foglio di elaborazione'!AU85-'5 Foglio di elaborazione'!AU95","v":0},{"$f":"-'5 Foglio di elaborazione'!AV85-'5 Foglio di elaborazione'!AV95","v":0},{"$f":"-'5 Foglio di elaborazione'!AW85-'5 Foglio di elaborazione'!AW95","v":0},{"$f":"-'5 Foglio di elaborazione'!AX85-'5 Foglio di elaborazione'!AX95","v":0},{"$f":"-'5 Foglio di elaborazione'!AY85-'5 Foglio di elaborazione'!AY95","v":0},{"$f":"-'5 Foglio di elaborazione'!AZ85-'5 Foglio di elaborazione'!AZ95","v":0},{"$f":"-'5 Foglio di elaborazione'!BA85-'5 Foglio di elaborazione'!BA95","v":0},{"$f":"-'5 Foglio di elaborazione'!BB85-'5 Foglio di elaborazione'!BB95","v":0},{"$f":"-'5 Foglio di elaborazione'!BC85-'5 Foglio di elaborazione'!BC95","v":0},{"$f":"-'5 Foglio di elaborazione'!BD85-'5 Foglio di elaborazione'!BD95","v":0},{"$f":"-'5 Foglio di elaborazione'!BE85-'5 Foglio di elaborazione'!BE95","v":0},{"$f":"-'5 Foglio di elaborazione'!BF85-'5 Foglio di elaborazione'!BF95","v":0},{"$f":"-'5 Foglio di elaborazione'!BG85-'5 Foglio di elaborazione'!BG95","v":0},{"$f":"-'5 Foglio di elaborazione'!BH85-'5 Foglio di elaborazione'!BH95","v":0},{"$f":"-'5 Foglio di elaborazione'!BI85-'5 Foglio di elaborazione'!BI95","v":0},{"$f":"-'5 Foglio di elaborazione'!BJ85-'5 Foglio di elaborazione'!BJ95","v":0},{"$f":"-'5 Foglio di elaborazione'!BK85-'5 Foglio di elaborazione'!BK95","v":0},{"$f":"-'5 Foglio di elaborazione'!BL85-'5 Foglio di elaborazione'!BL95","v":0}]
[null,"-","Rientri da anticipazioni in c/c vs. Banche",-12000,{"$f":"IF('7 Stato-Patr'!C35<0,'7 Stato-Patr'!C35,0)","v":0},{"$f":"IF('7 Stato-Patr'!D35<0,'7 Stato-Patr'!D35,0)","v":-2000},{"$f":"IF('7 Stato-Patr'!E35<0,'7 Stato-Patr'!E35,0)","v":-10000},{"$f":"IF('7 Stato-Patr'!F35<0,'7 Stato-Patr'!F35,0)","v":0},{"$f":"IF('7 Stato-Patr'!G35<0,'7 Stato-Patr'!G35,0)","v":0},{"$f":"IF('7 Stato-Patr'!H35<0,'7 Stato-Patr'!H35,0)","v":0},{"$f":"IF('7 Stato-Patr'!I35<0,'7 Stato-Patr'!I35,0)","v":0},{"$f":"IF('7 Stato-Patr'!J35<0,'7 Stato-Patr'!J35,0)","v":0},{"$f":"IF('7 Stato-Patr'!K35<0,'7 Stato-Patr'!K35,0)","v":0},{"$f":"IF('7 Stato-Patr'!L35<0,'7 Stato-Patr'!L35,0)","v":0},{"$f":"IF('7 Stato-Patr'!M35<0,'7 Stato-Patr'!M35,0)","v":0},{"$f":"IF('7 Stato-Patr'!N35<0,'7 Stato-Patr'!N35,0)","v":0},{"$f":"IF('7 Stato-Patr'!O35<0,'7 Stato-Patr'!O35,0)","v":0},{"$f":"IF('7 Stato-Patr'!P35<0,'7 Stato-Patr'!P35,0)","v":0},{"$f":"IF('7 Stato-Patr'!Q35<0,'7 Stato-Patr'!Q35,0)","v":0},{"$f":"IF('7 Stato-Patr'!R35<0,'7 Stato-Patr'!R35,0)","v":0},{"$f":"IF('7 Stato-Patr'!S35<0,'7 Stato-Patr'!S35,0)","v":0},{"$f":"IF('7 Stato-Patr'!T35<0,'7 Stato-Patr'!T35,0)","v":0},{"$f":"IF('7 Stato-Patr'!U35<0,'7 Stato-Patr'!U35,0)","v":0},{"$f":"IF('7 Stato-Patr'!V35<0,'7 Stato-Patr'!V35,0)","v":0},{"$f":"IF('7 Stato-Patr'!W35<0,'7 Stato-Patr'!W35,0)","v":0},{"$f":"IF('7 Stato-Patr'!X35<0,'7 Stato-Patr'!X35,0)","v":0},{"$f":"IF('7 Stato-Patr'!Y35<0,'7 Stato-Patr'!Y35,0)","v":0},{"$f":"IF('7 Stato-Patr'!Z35<0,'7 Stato-Patr'!Z35,0)","v":0},{"$f":"IF('7 Stato-Patr'!AA35<0,'7 Stato-Patr'!AA35,0)","v":0},{"$f":"IF('7 Stato-Patr'!AB35<0,'7 Stato-Patr'!AB35,0)","v":0},{"$f":"IF('7 Stato-Patr'!AC35<0,'7 Stato-Patr'!AC35,0)","v":0},{"$f":"IF('7 Stato-Patr'!AD35<0,'7 Stato-Patr'!AD35,0)","v":0},{"$f":"IF('7 Stato-Patr'!AE35<0,'7 Stato-Patr'!AE35,0)","v":0},{"$f":"IF('7 Stato-Patr'!AF35<0,'7 Stato-Patr'!AF35,0)","v":0},{"$f":"IF('7 Stato-Patr'!AG35<0,'7 Stato-Patr'!AG35,0)","v":0},{"$f":"IF('7 Stato-Patr'!AH35<0,'7 Stato-Patr'!AH35,0)","v":0},{"$f":"IF('7 Stato-Patr'!AI35<0,'7 Stato-Patr'!AI35,0)","v":0},{"$f":"IF('7 Stato-Patr'!AJ35<0,'7 Stato-Patr'!AJ35,0)","v":0},{"$f":"IF('7 Stato-Patr'!AK35<0,'7 Stato-Patr'!AK35,0)","v":0},{"$f":"IF('7 Stato-Patr'!AL35<0,'7 Stato-Patr'!AL35,0)","v":0},{"$f":"IF('7 Stato-Patr'!AM35<0,'7 Stato-Patr'!AM35,0)","v":0},{"$f":"IF('7 Stato-Patr'!AN35<0,'7 Stato-Patr'!AN35,0)","v":0},{"$f":"IF('7 Stato-Patr'!AO35<0,'7 Stato-Patr'!AO35,0)","v":0},{"$f":"IF('7 Stato-Patr'!AP35<0,'7 Stato-Patr'!AP35,0)","v":0},{"$f":"IF('7 Stato-Patr'!AQ35<0,'7 Stato-Patr'!AQ35,0)","v":0},{"$f":"IF('7 Stato-Patr'!AR35<0,'7 Stato-Patr'!AR35,0)","v":0},{"$f":"IF('7 Stato-Patr'!AS35<0,'7 Stato-Patr'!AS35,0)","v":0},{"$f":"IF('7 Stato-Patr'!AT35<0,'7 Stato-Patr'!AT35,0)","v":0},{"$f":"IF('7 Stato-Patr'!AU35<0,'7 Stato-Patr'!AU35,0)","v":0},{"$f":"IF('7 Stato-Patr'!AV35<0,'7 Stato-Patr'!AV35,0)","v":0},{"$f":"IF('7 Stato-Patr'!AW35<0,'7 Stato-Patr'!AW35,0)","v":0},{"$f":"IF('7 Stato-Patr'!AX35<0,'7 Stato-Patr'!AX35,0)","v":0},{"$f":"IF('7 Stato-Patr'!AY35<0,'7 Stato-Patr'!AY35,0)","v":0},{"$f":"IF('7 Stato-Patr'!AZ35<0,'7 Stato-Patr'!AZ35,0)","v":0},{"$f":"IF('7 Stato-Patr'!BA35<0,'7 Stato-Patr'!BA35,0)","v":0},{"$f":"IF('7 Stato-Patr'!BB35<0,'7 Stato-Patr'!BB35,0)","v":0},{"$f":"IF('7 Stato-Patr'!BC35<0,'7 Stato-Patr'!BC35,0)","v":0},{"$f":"IF('7 Stato-Patr'!BD35<0,'7 Stato-Patr'!BD35,0)","v":0},{"$f":"IF('7 Stato-Patr'!BE35<0,'7 Stato-Patr'!BE35,0)","v":0},{"$f":"IF('7 Stato-Patr'!BF35<0,'7 Stato-Patr'!BF35,0)","v":0},{"$f":"IF('7 Stato-Patr'!BG35<0,'7 Stato-Patr'!BG35,0)","v":0},{"$f":"IF('7 Stato-Patr'!BH35<0,'7 Stato-Patr'!BH35,0)","v":0},{"$f":"IF('7 Stato-Patr'!BI35<0,'7 Stato-Patr'!BI35,0)","v":0},{"$f":"IF('7 Stato-Patr'!BJ35<0,'7 Stato-Patr'!BJ35,0)","v":0}]
[null,"-","Pagamento utili/dividendi",0,{"$f":"-'7 Stato-Patr'!C33","v":0},{"$f":"-'7 Stato-Patr'!D33","v":0},{"$f":"-'7 Stato-Patr'!E33","v":0},{"$f":"-'7 Stato-Patr'!F33","v":0},{"$f":"-'7 Stato-Patr'!G33","v":0},{"$f":"-'7 Stato-Patr'!H33","v":0},{"$f":"-'7 Stato-Patr'!I33","v":0},{"$f":"-'7 Stato-Patr'!J33","v":0},{"$f":"-'7 Stato-Patr'!K33","v":0},{"$f":"-'7 Stato-Patr'!L33","v":0},{"$f":"-'7 Stato-Patr'!M33","v":0},{"$f":"-'7 Stato-Patr'!N33","v":0},{"$f":"-'7 Stato-Patr'!O33","v":0},{"$f":"-'7 Stato-Patr'!P33","v":0},{"$f":"-'7 Stato-Patr'!Q33","v":0},{"$f":"-'7 Stato-Patr'!R33","v":0},{"$f":"-'7 Stato-Patr'!S33","v":0},{"$f":"-'7 Stato-Patr'!T33","v":0},{"$f":"-'7 Stato-Patr'!U33","v":0},{"$f":"-'7 Stato-Patr'!V33","v":0},{"$f":"-'7 Stato-Patr'!W33","v":0},{"$f":"-'7 Stato-Patr'!X33","v":0},{"$f":"-'7 Stato-Patr'!Y33","v":0},{"$f":"-'7 Stato-Patr'!Z33","v":0},{"$f":"-'7 Stato-Patr'!AA33","v":0},{"$f":"-'7 Stato-Patr'!AB33","v":0},{"$f":"-'7 Stato-Patr'!AC33","v":0},{"$f":"-'7 Stato-Patr'!AD33","v":0},{"$f":"-'7 Stato-Patr'!AE33","v":0},{"$f":"-'7 Stato-Patr'!AF33","v":0},{"$f":"-'7 Stato-Patr'!AG33","v":0},{"$f":"-'7 Stato-Patr'!AH33","v":0},{"$f":"-'7 Stato-Patr'!AI33","v":0},{"$f":"-'7 Stato-Patr'!AJ33","v":0},{"$f":"-'7 Stato-Patr'!AK33","v":0},{"$f":"-'7 Stato-Patr'!AL33","v":0},{"$f":"-'7 Stato-Patr'!AM33","v":0},{"$f":"-'7 Stato-Patr'!AN33","v":0},{"$f":"-'7 Stato-Patr'!AO33","v":0},{"$f":"-'7 Stato-Patr'!AP33","v":0},{"$f":"-'7 Stato-Patr'!AQ33","v":0},{"$f":"-'7 Stato-Patr'!AR33","v":0},{"$f":"-'7 Stato-Patr'!AS33","v":0},{"$f":"-'7 Stato-Patr'!AT33","v":0},{"$f":"-'7 Stato-Patr'!AU33","v":0},{"$f":"-'7 Stato-Patr'!AV33","v":0},{"$f":"-'7 Stato-Patr'!AW33","v":0},{"$f":"-'7 Stato-Patr'!AX33","v":0},{"$f":"-'7 Stato-Patr'!AY33","v":0},{"$f":"-'7 Stato-Patr'!AZ33","v":0},{"$f":"-'7 Stato-Patr'!BA33","v":0},{"$f":"-'7 Stato-Patr'!BB33","v":0},{"$f":"-'7 Stato-Patr'!BC33","v":0},{"$f":"-'7 Stato-Patr'!BD33","v":0},{"$f":"-'7 Stato-Patr'!BE33","v":0},{"$f":"-'7 Stato-Patr'!BF33","v":0},{"$f":"-'7 Stato-Patr'!BG33","v":0},{"$f":"-'7 Stato-Patr'!BH33","v":0},{"$f":"-'7 Stato-Patr'!BI33","v":0},{"$f":"-'7 Stato-Patr'!BJ33","v":0}]
[null,"-","Altro",0,0,0,0,0,0,0,0,0,0,0,0,0,0,0,0,0,0,0,0,0,0,0,0,0,0,0,0,0,0,0,0,0,0,0,0,0,0,0,0,0,0,0,0,0,0,0,0,0,0,0,0,0,0,0,0,0,0,0,0,0]
[null,"+","Interessi attivi su disponibilità liquide e vincolate",0,0,0,0,0,0,0,0,0,0,0,0,0,0,0,0,0,0,0,0,0,0,0,0,0,0,0,0,0,0,0,0,0,0,0,0,0,0,0,0,0,0,0,0,0,0,0,0,0,0,0,0,0,0,0,0,0,0,0,0,0]
[null,"=","Flusso di Cassa Finanziario Netto (flussi di cassa liberi per la gestione)",261613.01151779204,{"$f":"SUM(E54:E60)","v":-11342.596466469186},256.83565192981905,32702.270881527897,29497.53588006075,29577.498025500467,34765.578662491003,35460.890235740851,36170.108040455656,36893.510201264769,37631.38040529006,-2.9119999999999999E-11,0,0,0,0,0,0,0,0,0,0,0,0,0,0,0,0,0,0,0,0,0,0,0,0,0,0,0,0,0,0,0,0,0,0,0,0,0,0,0,0,0,0,0,0,0,0,0,0,0]
[null,null,"Disponibilità liquide e vincolate DA NASCONDERE"," ",{"$f":"E61-E28","v":-11342.596466469186},{"$f":"IF(F4<='2 Descrizione Progetto'!$D$22,F61+E62,0)-F28","v":-11085.760814539366},{"$f":"IF(G4<='2 Descrizione Progetto'!$D$22,G61+F62,0)-G28","v":21616.510066988529},{"$f":"IF(H4<='2 Descrizione Progetto'!$D$22,H61+G62,0)-H28","v":51114.045947049279},{"$f":"IF(I4<='2 Descrizione Progetto'!$D$22,I61+H62,0)-I28","v":80691.543972549742},{"$f":"IF(J4<='2 Descrizione Progetto'!$D$22,J61+I62,0)-J28","v":115457.12263504075},{"$f":"IF(K4<='2 Descrizione Progetto'!$D$22,K61+J62,0)-K28","v":150918.01287078159},{"$f":"IF(L4<='2 Descrizione Progetto'!$D$22,L61+K62,0)-L28","v":187088.12091123726},{"$f":"IF(M4<='2 Descrizione Progetto'!$D$22,M61+L62,0)-M28","v":223981.63111250201},{"$f":"IF(N4<='2 Descrizione Progetto'!$D$22,N61+M62,0)-N28","v":261613.01151779207},{"$f":"IF(O4<='2 Descrizione Progetto'!$D$22,O61+N62,0)-O28","v":0},{"$f":"IF(P4<='2 Descrizione Progetto'!$D$22,P61+O62,0)-P28","v":0},{"$f":"IF(Q4<='2 Descrizione Progetto'!$D$22,Q61+P62,0)-Q28","v":0},{"$f":"IF(R4<='2 Descrizione Progetto'!$D$22,R61+Q62,0)-R28","v":0},{"$f":"IF(S4<='2 Descrizione Progetto'!$D$22,S61+R62,0)-S28","v":0},{"$f":"IF(T4<='2 Descrizione Progetto'!$D$22,T61+S62,0)-T28","v":0},{"$f":"IF(U4<='2 Descrizione Progetto'!$D$22,U61+T62,0)-U28","v":0},{"$f":"IF(V4<='2 Descrizione Progetto'!$D$22,V61+U62,0)-V28","v":0},{"$f":"IF(W4<='2 Descrizione Progetto'!$D$22,W61+V62,0)-W28","v":0},{"$f":"IF(X4<='2 Descrizione Progetto'!$D$22,X61+W62,0)-X28","v":0},{"$f":"IF(Y4<='2 Descrizione Progetto'!$D$22,Y61+X62,0)-Y28","v":0},{"$f":"IF(Z4<='2 Descrizione Progetto'!$D$22,Z61+Y62,0)-Z28","v":0},{"$f":"IF(AA4<='2 Descrizione Progetto'!$D$22,AA61+Z62,0)-AA28","v":0},{"$f":"IF(AB4<='2 Descrizione Progetto'!$D$22,AB61+AA62,0)-AB28","v":0},{"$f":"IF(AC4<='2 Descrizione Progetto'!$D$22,AC61+AB62,0)-AC28","v":0},{"$f":"IF(AD4<='2 Descrizione Progetto'!$D$22,AD61+AC62,0)-AD28","v":0},{"$f":"IF(AE4<='2 Descrizione Progetto'!$D$22,AE61+AD62,0)-AE28","v":0},{"$f":"IF(AF4<='2 Descrizione Progetto'!$D$22,AF61+AE62,0)-AF28","v":0},{"$f":"IF(AG4<='2 Descrizione Progetto'!$D$22,AG61+AF62,0)-AG28","v":0},{"$f":"IF(AH4<='2 Descrizione Progetto'!$D$22,AH61+AG62,0)-AH28","v":0},{"$f":"IF(AI4<='2 Descrizione Progetto'!$D$22,AI61+AH62,0)-AI28","v":0},{"$f":"IF(AJ4<='2 Descrizione Progetto'!$D$22,AJ61+AI62,0)-AJ28","v":0},{"$f":"IF(AK4<='2 Descrizione Progetto'!$D$22,AK61+AJ62,0)-AK28","v":0},{"$f":"IF(AL4<='2 Descrizione Progetto'!$D$22,AL61+AK62,0)-AL28","v":0},{"$f":"IF(AM4<='2 Descrizione Progetto'!$D$22,AM61+AL62,0)-AM28","v":0},{"$f":"IF(AN4<='2 Descrizione Progetto'!$D$22,AN61+AM62,0)-AN28","v":0},{"$f":"IF(AO4<='2 Descrizione Progetto'!$D$22,AO61+AN62,0)-AO28","v":0},{"$f":"IF(AP4<='2 Descrizione Progetto'!$D$22,AP61+AO62,0)-AP28","v":0},{"$f":"IF(AQ4<='2 Descrizione Progetto'!$D$22,AQ61+AP62,0)-AQ28","v":0},{"$f":"IF(AR4<='2 Descrizione Progetto'!$D$22,AR61+AQ62,0)-AR28","v":0},{"$f":"IF(AS4<='2 Descrizione Progetto'!$D$22,AS61+AR62,0)-AS28","v":0},{"$f":"IF(AT4<='2 Descrizione Progetto'!$D$22,AT61+AS62,0)-AT28","v":0},{"$f":"IF(AU4<='2 Descrizione Progetto'!$D$22,AU61+AT62,0)-AU28","v":0},{"$f":"IF(AV4<='2 Descrizione Progetto'!$D$22,AV61+AU62,0)-AV28","v":0},{"$f":"IF(AW4<='2 Descrizione Progetto'!$D$22,AW61+AV62,0)-AW28","v":0},{"$f":"IF(AX4<='2 Descrizione Progetto'!$D$22,AX61+AW62,0)-AX28","v":0},{"$f":"IF(AY4<='2 Descrizione Progetto'!$D$22,AY61+AX62,0)-AY28","v":0},{"$f":"IF(AZ4<='2 Descrizione Progetto'!$D$22,AZ61+AY62,0)-AZ28","v":0},{"$f":"IF(BA4<='2 Descrizione Progetto'!$D$22,BA61+AZ62,0)-BA28","v":0},{"$f":"IF(BB4<='2 Descrizione Progetto'!$D$22,BB61+BA62,0)-BB28","v":0},{"$f":"IF(BC4<='2 Descrizione Progetto'!$D$22,BC61+BB62,0)-BC28","v":0},{"$f":"IF(BD4<='2 Descrizione Progetto'!$D$22,BD61+BC62,0)-BD28","v":0},{"$f":"IF(BE4<='2 Descrizione Progetto'!$D$22,BE61+BD62,0)-BE28","v":0},{"$f":"IF(BF4<='2 Descrizione Progetto'!$D$22,BF61+BE62,0)-BF28","v":0},{"$f":"IF(BG4<='2 Descrizione Progetto'!$D$22,BG61+BF62,0)-BG28","v":0},{"$f":"IF(BH4<='2 Descrizione Progetto'!$D$22,BH61+BG62,0)-BH28","v":0},{"$f":"IF(BI4<='2 Descrizione Progetto'!$D$22,BI61+BH62,0)-BI28","v":0},{"$f":"IF(BJ4<='2 Descrizione Progetto'!$D$22,BJ61+BI62,0)-BJ28","v":0},{"$f":"IF(BK4<='2 Descrizione Progetto'!$D$22,BK61+BJ62,0)-BK28","v":0},{"$f":"IF(BL4<='2 Descrizione Progetto'!$D$22,BL61+BK62,0)-BL28","v":0}]
[null," ","Flusso dei dividendi per calcolo Van e Tir dell'Azionista/Investitore ",{"$f":"D65","v":-10000},{"$f":"-E58","v":0},0,0,0,0,0,0,0,0,0,0,0,0,0,0,0,0,0,0,0,0,0,0,0,0,0,0,0,0,0,0,0,0,0,0,0,0,0,0,0,0,0,0,0,0,0,0,0,0,0,0,0,0,0,0,0,0,0,0,{"$f":"-BL58+'7 Stato-Patr'!BJ27+'7 Stato-Patr'!BJ32","v":-1.0291199999999999E-9}]
[null,null,{"$f":"C30","v":"Variazione dei flussi delle somme vincolate "},null,{"$f":"'7 Stato-Patr'!C44","v":0},{"$f":"'7 Stato-Patr'!D44","v":0},{"$f":"'7 Stato-Patr'!E44","v":0},{"$f":"'7 Stato-Patr'!F44","v":0},{"$f":"'7 Stato-Patr'!G44","v":0},{"$f":"'7 Stato-Patr'!H44","v":0},{"$f":"'7 Stato-Patr'!I44","v":0},{"$f":"'7 Stato-Patr'!J44","v":0},{"$f":"'7 Stato-Patr'!K44","v":0},{"$f":"'7 Stato-Patr'!L44","v":0},{"$f":"'7 Stato-Patr'!M44","v":0},{"$f":"'7 Stato-Patr'!N44","v":0},{"$f":"'7 Stato-Patr'!O44","v":0},{"$f":"'7 Stato-Patr'!P44","v":0},{"$f":"'7 Stato-Patr'!Q44","v":0},{"$f":"'7 Stato-Patr'!R44","v":0},{"$f":"'7 Stato-Patr'!S44","v":0},{"$f":"'7 Stato-Patr'!T44","v":0},{"$f":"'7 Stato-Patr'!U44","v":0},{"$f":"'7 Stato-Patr'!V44","v":0},{"$f":"'7 Stato-Patr'!W44","v":0},{"$f":"'7 Stato-Patr'!X44","v":0},{"$f":"'7 Stato-Patr'!Y44","v":0},{"$f":"'7 Stato-Patr'!Z44","v":0},{"$f":"'7 Stato-Patr'!AA44","v":0},{"$f":"'7 Stato-Patr'!AB44","v":0},{"$f":"'7 Stato-Patr'!AC44","v":0},{"$f":"'7 Stato-Patr'!AD44","v":0},{"$f":"'7 Stato-Patr'!AE44","v":0},{"$f":"'7 Stato-Patr'!AF44","v":0},{"$f":"'7 Stato-Patr'!AG44","v":0},{"$f":"'7 Stato-Patr'!AH44","v":0},{"$f":"'7 Stato-Patr'!AI44","v":0},{"$f":"'7 Stato-Patr'!AJ44","v":0},{"$f":"'7 Stato-Patr'!AK44","v":0},{"$f":"'7 Stato-Patr'!AL44","v":0},{"$f":"'7 Stato-Patr'!AM44","v":0},{"$f":"'7 Stato-Patr'!AN44","v":0},{"$f":"'7 Stato-Patr'!AO44","v":0},{"$f":"'7 Stato-Patr'!AP44","v":0},{"$f":"'7 Stato-Patr'!AQ44","v":0},{"$f":"'7 Stato-Patr'!AR44","v":0},{"$f":"'7 Stato-Patr'!AS44","v":0},{"$f":"'7 Stato-Patr'!AT44","v":0},{"$f":"'7 Stato-Patr'!AU44","v":0},{"$f":"'7 Stato-Patr'!AV44","v":0},{"$f":"'7 Stato-Patr'!AW44","v":0},{"$f":"'7 Stato-Patr'!AX44","v":0},{"$f":"'7 Stato-Patr'!AY44","v":0},{"$f":"'7 Stato-Patr'!AZ44","v":0},{"$f":"'7 Stato-Patr'!BA44","v":0},{"$f":"'7 Stato-Patr'!BB44","v":0},{"$f":"'7 Stato-Patr'!BC44","v":0},{"$f":"'7 Stato-Patr'!BD44","v":0},{"$f":"'7 Stato-Patr'!BE44","v":0},{"$f":"'7 Stato-Patr'!BF44","v":0},{"$f":"'7 Stato-Patr'!BG44","v":0},{"$f":"'7 Stato-Patr'!BH44","v":0},{"$f":"'7 Stato-Patr'!BI44","v":0},{"$f":"'7 Stato-Patr'!BJ44","v":0}]
[null,null,"Flusso di cassa per il calcolo di Van e Tir finanziario lordo (ante dividendi)",{"$f":"-'2 Investimento'!E55","v":-10000},{"$f":"E61-E58+E64","v":-11342.596466469186},256.83565192981905,32702.270881527897,29497.53588006075,29577.498025500467,34765.578662491003,35460.890235740851,36170.108040455656,36893.510201264769,37631.38040529006,-2.9119999999999999E-11,0,0,0,0,0,0,0,0,0,0,0,0,0,0,0,0,0,0,0,0,0,0,0,0,0,0,0,0,0,0,0,0,0,0,0,0,0,0,0,0,0,0,0,0,0,0,0,0,0]
[null,null,null," "," "]
[null,26,"Indici di redditività dell'Investitore - (NO INVESTIMENTI PRIVATI)"," ",null,null,null,null,null,null,null,null,null,null,null,null,null,null," ",null,null,null,null,null,null,null,null,null,null,null," ",null,null,null,null,null,null,null,null,null,null,null," ",null,null,null,null,null,null,null,null,null,null,null," "]
[null,null,"Tasso di sconto per calcolo Van Investitore/Azionista",{"$f":"'5 Foglio di elaborazione'!D138","v":0},"Uguale al costo atteso del capitale investito dall'investitore/azionista (Vedi scheda 5 punto 22a). "]
[null,null,"VAN finanziario lordo (ante distribuzione utili/dividendi)",{"$f":"NPV(D68,D65:BL65)","v":251613.01151779204},"Valore aggiunto netto dell'investitore/Organo di governo su Flussi di cassa Finanziari lordi"]
[null,null,"TIR finanziario lordo (ante distribuzione utili/dividendi)",{"$f":"IRR(D65:BL65)","v":0.67394289330540591},"Rendimento dell'investitore/Organo di governo su Flussi di Cassa Finanziari lordi "]
[null,null,"VAN DELL'AZIONISTA/INVESTITORE",{"$f":"NPV(D68,D63:BL63)","v":-10000.00000000103},"Valore Aggiunto netto per l'Azionista/investitore su utili o dividendi distribuiti incluso patrimonio finale"]
[null,null,"TIR DELL'AZIONISTA/INVESTITORE",{"$f":"IRR(D63:BL63)","v":{"$error":"#DIV/0!"}},"Tasso Interno di Rendimento per l'Azionista/investitore su utili o dividendi distribuiti incluso patrimonio finale"]
[]
[]
[null,null,"TIR finanziario netto residuo  (post distribuzione utili/dividendi)",{"$f":"D70-D72","v":{"$error":"#DIV/0!"}},"Rendimento residuo dell'investitore/Organo di governo su Flussi di Cassa Finanziari netti"]
[null,27,"Indicatori di sostenibilità finanziaria (NO FINANZIAMENTI DI TERZI)"," ",{"$f":"E4","v":1},2,3,4,5,6,7,8,9,10,11,"0","0","0","0","0","0","0","0","0","0","0","0","0","0","0","0","0","0","0","0","0","0","0","0","0","0","0","0","0","0","0","0","0","0","0","0","0","0","0","0","0","0","0","0","0","0","0","0","0"]
[null,null,"DSCR - Debt Service Coverage Ratio ",null,"nd","nd","nd","nd","nd","nd","nd","nd","nd","nd","nd","nd","nd","nd","nd","nd","nd","nd","nd","nd","nd","nd","nd","nd","nd","nd","nd","nd","nd","nd","nd","nd","nd","nd","nd","nd","nd","nd","nd","nd","nd","nd","nd","nd","nd","nd","nd","nd","nd","nd","nd","nd","nd","nd","nd","nd","nd","nd","nd","nd"]
[null,null,"Semisomma del debito residuo (euro)",null,{"$f":"ROUND(('5 Foglio di elaborazione'!E83+'5 Foglio di elaborazione'!E87)/2,0)","v":0},{"$f":"ROUND(('5 Foglio di elaborazione'!F83+'5 Foglio di elaborazione'!F87)/2,0)","v":0},{"$f":"ROUND(('5 Foglio di elaborazione'!G83+'5 Foglio di elaborazione'!G87)/2,0)","v":0},{"$f":"ROUND(('5 Foglio di elaborazione'!H83+'5 Foglio di elaborazione'!H87)/2,0)","v":0},{"$f":"ROUND(('5 Foglio di elaborazione'!I83+'5 Foglio di elaborazione'!I87)/2,0)","v":0},{"$f":"ROUND(('5 Foglio di elaborazione'!J83+'5 Foglio di elaborazione'!J87)/2,0)","v":0},{"$f":"ROUND(('5 Foglio di elaborazione'!K83+'5 Foglio di elaborazione'!K87)/2,0)","v":0},{"$f":"ROUND(('5 Foglio di elaborazione'!L83+'5 Foglio di elaborazione'!L87)/2,0)","v":0},{"$f":"ROUND(('5 Foglio di elaborazione'!M83+'5 Foglio di elaborazione'!M87)/2,0)","v":0},{"$f":"ROUND(('5 Foglio di elaborazione'!N83+'5 Foglio di elaborazione'!N87)/2,0)","v":0},{"$f":"ROUND(('5 Foglio di elaborazione'!O83+'5 Foglio di elaborazione'!O87)/2,0)","v":0},{"$f":"ROUND(('5 Foglio di elaborazione'!P83+'5 Foglio di elaborazione'!P87)/2,0)","v":0},{"$f":"ROUND(('5 Foglio di elaborazione'!Q83+'5 Foglio di elaborazione'!Q87)/2,0)","v":0},{"$f":"ROUND(('5 Foglio di elaborazione'!R83+'5 Foglio di elaborazione'!R87)/2,0)","v":0},{"$f":"ROUND(('5 Foglio di elaborazione'!S83+'5 Foglio di elaborazione'!S87)/2,0)","v":0},{"$f":"ROUND(('5 Foglio di elaborazione'!T83+'5 Foglio di elaborazione'!T87)/2,0)","v":0},{"$f":"ROUND(('5 Foglio di elaborazione'!U83+'5 Foglio di elaborazione'!U87)/2,0)","v":0},{"$f":"ROUND(('5 Foglio di elaborazione'!V83+'5 Foglio di elaborazione'!V87)/2,0)","v":0},{"$f":"ROUND(('5 Foglio di elaborazione'!W83+'5 Foglio di elaborazione'!W87)/2,0)","v":0},{"$f":"ROUND(('5 Foglio di elaborazione'!X83+'5 Foglio di elaborazione'!X87)/2,0)","v":0},{"$f":"ROUND(('5 Foglio di elaborazione'!Y83+'5 Foglio di elaborazione'!Y87)/2,0)","v":0},{"$f":"ROUND(('5 Foglio di elaborazione'!Z83+'5 Foglio di elaborazione'!Z87)/2,0)","v":0},{"$f":"ROUND(('5 Foglio di elaborazione'!AA83+'5 Foglio di elaborazione'!AA87)/2,0)","v":0},{"$f":"ROUND(('5 Foglio di elaborazione'!AB83+'5 Foglio di elaborazione'!AB87)/2,0)","v":0},{"$f":"ROUND(('5 Foglio di elaborazione'!AC83+'5 Foglio di elaborazione'!AC87)/2,0)","v":0},{"$f":"ROUND(('5 Foglio di elaborazione'!AD83+'5 Foglio di elaborazione'!AD87)/2,0)","v":0},{"$f":"ROUND(('5 Foglio di elaborazione'!AE83+'5 Foglio di elaborazione'!AE87)/2,0)","v":0},{"$f":"ROUND(('5 Foglio di elaborazione'!AF83+'5 Foglio di elaborazione'!AF87)/2,0)","v":0},{"$f":"ROUND(('5 Foglio di elaborazione'!AG83+'5 Foglio di elaborazione'!AG87)/2,0)","v":0},{"$f":"ROUND(('5 Foglio di elaborazione'!AH83+'5 Foglio di elaborazione'!AH87)/2,0)","v":0},{"$f":"ROUND(('5 Foglio di elaborazione'!AI83+'5 Foglio di elaborazione'!AI87)/2,0)","v":0},{"$f":"ROUND(('5 Foglio di elaborazione'!AJ83+'5 Foglio di elaborazione'!AJ87)/2,0)","v":0},{"$f":"ROUND(('5 Foglio di elaborazione'!AK83+'5 Foglio di elaborazione'!AK87)/2,0)","v":0},{"$f":"ROUND(('5 Foglio di elaborazione'!AL83+'5 Foglio di elaborazione'!AL87)/2,0)","v":0},{"$f":"ROUND(('5 Foglio di elaborazione'!AM83+'5 Foglio di elaborazione'!AM87)/2,0)","v":0},{"$f":"ROUND(('5 Foglio di elaborazione'!AN83+'5 Foglio di elaborazione'!AN87)/2,0)","v":0},{"$f":"ROUND(('5 Foglio di elaborazione'!AO83+'5 Foglio di elaborazione'!AO87)/2,0)","v":0},{"$f":"ROUND(('5 Foglio di elaborazione'!AP83+'5 Foglio di elaborazione'!AP87)/2,0)","v":0},{"$f":"ROUND(('5 Foglio di elaborazione'!AQ83+'5 Foglio di elaborazione'!AQ87)/2,0)","v":0},{"$f":"ROUND(('5 Foglio di elaborazione'!AR83+'5 Foglio di elaborazione'!AR87)/2,0)","v":0},{"$f":"ROUND(('5 Foglio di elaborazione'!AS83+'5 Foglio di elaborazione'!AS87)/2,0)","v":0},{"$f":"ROUND(('5 Foglio di elaborazione'!AT83+'5 Foglio di elaborazione'!AT87)/2,0)","v":0},{"$f":"ROUND(('5 Foglio di elaborazione'!AU83+'5 Foglio di elaborazione'!AU87)/2,0)","v":0},{"$f":"ROUND(('5 Foglio di elaborazione'!AV83+'5 Foglio di elaborazione'!AV87)/2,0)","v":0},{"$f":"ROUND(('5 Foglio di elaborazione'!AW83+'5 Foglio di elaborazione'!AW87)/2,0)","v":0},{"$f":"ROUND(('5 Foglio di elaborazione'!AX83+'5 Foglio di elaborazione'!AX87)/2,0)","v":0},{"$f":"ROUND(('5 Foglio di elaborazione'!AY83+'5 Foglio di elaborazione'!AY87)/2,0)","v":0},{"$f":"ROUND(('5 Foglio di elaborazione'!AZ83+'5 Foglio di elaborazione'!AZ87)/2,0)","v":0},{"$f":"ROUND(('5 Foglio di elaborazione'!BA83+'5 Foglio di elaborazione'!BA87)/2,0)","v":0},{"$f":"ROUND(('5 Foglio di elaborazione'!BB83+'5 Foglio di elaborazione'!BB87)/2,0)","v":0},{"$f":"ROUND(('5 Foglio di elaborazione'!BC83+'5 Foglio di elaborazione'!BC87)/2,0)","v":0},{"$f":"ROUND(('5 Foglio di elaborazione'!BD83+'5 Foglio di elaborazione'!BD87)/2,0)","v":0},{"$f":"ROUND(('5 Foglio di elaborazione'!BE83+'5 Foglio di elaborazione'!BE87)/2,0)","v":0},{"$f":"ROUND(('5 Foglio di elaborazione'!BF83+'5 Foglio di elaborazione'!BF87)/2,0)","v":0},{"$f":"ROUND(('5 Foglio di elaborazione'!BG83+'5 Foglio di elaborazione'!BG87)/2,0)","v":0},{"$f":"ROUND(('5 Foglio di elaborazione'!BH83+'5 Foglio di elaborazione'!BH87)/2,0)","v":0},{"$f":"ROUND(('5 Foglio di elaborazione'!BI83+'5 Foglio di elaborazione'!BI87)/2,0)","v":0},{"$f":"ROUND(('5 Foglio di elaborazione'!BJ83+'5 Foglio di elaborazione'!BJ87)/2,0)","v":0},{"$f":"ROUND(('5 Foglio di elaborazione'!BK83+'5 Foglio di elaborazione'!BK87)/2,0)","v":0},{"$f":"ROUND(('5 Foglio di elaborazione'!BL83+'5 Foglio di elaborazione'!BL87)/2,0)","v":0}]
[null,null,"LLCR - Loan Life Coverage Ratio ",null,"nd","nd","nd","nd","nd","nd","nd","nd","nd","nd","nd","nd","nd","nd","nd","nd","nd","nd","nd","nd","nd","nd","nd","nd","nd","nd","nd","nd","nd","nd","nd","nd","nd","nd","nd","nd","nd","nd","nd","nd","nd","nd","nd","nd","nd","nd","nd","nd","nd","nd","nd","nd","nd","nd","nd","nd","nd","nd","nd","nd"]
[null,null,null,"DSCR","LLCR",null,null," ",null,null,{"$f":"E80","v":"LLCR"},null,null,null,null,null,{"$f":"E80","v":"LLCR"},null,null,null,null,null,{"$f":"Q80","v":"LLCR"},null,null,null,null,null,{"$f":"E80","v":"LLCR"},null,null,null,null,null,{"$f":"AC80","v":"LLCR"},null,null,null,null,null,{"$f":"E80","v":"LLCR"},null,null,null,null,null,{"$f":"AO80","v":"LLCR"},null,null,null,null,null,{"$f":"E80","v":"LLCR"},null,null,null,null,null,{"$f":"BA80","v":"LLCR"}]
[null,null,"Anni di calcolo (rimborso debito)",{"$f":"'2 Investimento'!E70","v":1.0000000000000001E-9},{"$f":"D81","v":1.0000000000000001E-9},null,null," ",null," ",1.0000000000000001E-9,null,null,null,null,null,1.0000000000000001E-9,null,null,null,null,null,1.0000000000000001E-9,null,null,null,null,null,1.0000000000000001E-9,null,null,null,null,null,1.0000000000000001E-9,null,null,null,null,null,1.0000000000000001E-9,null,null,null,null,null,1.0000000000000001E-9,null,null,null,null,null,1.0000000000000001E-9,null,null,null,null,null,1.0000000000000001E-9]
[null,null,"Minimum (time span: operation) ",{"$f":"IF(COUNT(E77:BL77)=0,\"n.c.\",MIN(INDIRECT(ADDRESS(ROW(E77),MATCH('2 Descrizione Progetto'!$D$20,$A4:$IV4,0))):INDIRECT(ADDRESS(ROW(E77),MATCH('2 Investimento'!$E$71,$A4:$IV4,0)))))","v":"n.c."},{"$f":"IF(COUNT(E79:BL79)=0,\"n.c.\",MIN(INDIRECT(ADDRESS(ROW(E79),MATCH('2 Descrizione Progetto'!$D$20,$A4:$IV4,0))):INDIRECT(ADDRESS(ROW(E79),MATCH('2 Investimento'!$E$71,$A4:$IV4,0)))))","v":"n.c."},"Valori minimi di DSCR e LLCR",null,null,null,null,"n.c.",null,null,null,null,null,"n.c.",null,null,null,null,null,"n.c.",null,null,null,null,null,"n.c.",null,null,null,null,null,"n.c.",null,null,null,null,null,"n.c.",null,null,null,null,null,"n.c.",null,null,null,null,null,"n.c.",null,null,null,null,null,"n.c."]
[null,null,"Period of Minimum DSCR/LLCR",{"$f":"IF(D82=\"n.c.\",\"n.c.\",INDIRECT(ADDRESS(4,MATCH(D82,$A77:$IV77,0))))","v":"n.c."},{"$f":"IF(E82=\"n.c.\",\"n.c.\",INDIRECT(ADDRESS(4,MATCH(E82,$A79:$IV79,0))))","v":"n.c."},"Annualità in cui si verificano i valori minimi di DSCR e LLCR",null,null,null,null,"n.c.",null,null,null,null,null,"n.c.",null,null,null,null,null,"n.c.",null,null,null,null,null,"n.c.",null,null,null,null,null,"n.c.",null,null,null,null,null,"n.c.",null,null,null,null,null,"n.c.",null,null,null,null,null,"n.c.",null,null,null,null,null,"n.c."]
[null,null,"Average DSCR/LLCR",{"$f":"D101","v":{"$error":"#DIV/0!"}},{"$f":"D122","v":{"$error":"#DIV/0!"}},"Valori medi di DSCR e LLCR",null,null,null,null,{"$error":"#DIV/0!"},null,null,null,null,null,{"$error":"#DIV/0!"},null,null,null,null,null,{"$error":"#DIV/0!"},null,null,null,null,null,{"$error":"#DIV/0!"},null,null,null,null,null,{"$error":"#DIV/0!"},null,null,null,null,null,{"$error":"#DIV/0!"},null,null,null,null,null,{"$error":"#DIV/0!"},null,null,null,null,null,{"$error":"#DIV/0!"},null,null,null,null,null,{"$error":"#DIV/0!"}]
[null,null,null,null,null,null,{"$f":"SUM(F77:AH77)/D81","v":0},{"$f":"SUM(F79:AH79)/E81","v":0}]
[]
[null,{"$f":"J2","v":"Comune di Guardiagrele"}]
[null,{"$f":"D2","v":"Concessione per l'affidamento dei lavori di efficientamento energetico della piscina comunale e del successivo servizio di gestione dell'impianto natatorio "}]
[null,"6.2","Calcolo indicatori di sostenibilità finanziaria","Importi in Euro",null,null,null,null,null,null,null,null,null,null,null,null,null,null," ",null,null,null,null,null,null,null,null,null,null,null," "]
[]
[]
[]
[]
[null,null,null,"     SE LEASING:","ATTENZIONE!!!, PER DSCR-LLCR (se il caso) INSERIRE O AGGIUNGERE CANONI ANNUALI CON SEGNO - (dscr rigo 91) E CAP. RES. (llcr rigo 109) DEL LEASING."]
[null,null,null,null,"Naturalmente il Flusso di Cassa per il Servizio del debito (sia x dscr che llcr) deve essere incrementato del canone leasing (righe 90 e 101)"]
[null,"27a","CALCOLO DEL DSCR","Annualità",{"$f":"E113","v":1},2,3,4,5,6,7,8,9,10,11,"0","0","0","0","0","0","0","0","0","0","0","0","0","0","0","0","0","0","0","0","0","0","0","0",0,0,0,0,0,0,0,0,0,0,0,0,0,0,0,0,0,0,0,0,0,0,0,0,0]
[null,"a","Flussi di cassa per calcolo DSCR",null,{"$f":"E54+E8","v":-11342.596466468585},2256.8356519309191,42702.270881528399,29497.53588006075,29577.498025500467,34765.578662491003,35460.890235740851,36170.108040455656,36893.510201264769,37631.38040529006,-2.9119999999999999E-11,0,0,0,0,0,0,0,0,0,0,0,0,0,0,0,0,0,0,0,0,0,0,0,0,0,0,0,0,0,0,0,0,0,0,0,0,0,0,0,0,0,0,0,0,0,0,0,0,0]
[null,"b","Servizio del debito (oneri fin. bt e mlt + rimborsi)",null,{"$f":"E55+E56","v":-6E-10},-1.1000000000000001E-9,-5.0000000000000003E-10,0,0,0,0,0,0,0,0,0,0,0,0,0,0,0,0,0,0,0,0,0,0,0,0,0,0,0,0,0,0,0,0,0,0,0,0,0,0,0,0,0,0,0,0,0,0,0,0,0,0,0,0,0,0,0,0,0]
[null,null,"DSCR ANNO PER ANNO (a diviso b)",null,{"$f":"E97/-E98","v":-18904327444114.309},2051668774482.6536,85404541763056.797,{"$error":"#DIV/0!"},{"$error":"#DIV/0!"},{"$error":"#DIV/0!"},{"$error":"#DIV/0!"},{"$error":"#DIV/0!"},{"$error":"#DIV/0!"},{"$error":"#DIV/0!"},{"$error":"#DIV/0!"},{"$error":"#DIV/0!"},{"$error":"#DIV/0!"},{"$error":"#DIV/0!"},{"$error":"#DIV/0!"},{"$error":"#DIV/0!"},{"$error":"#DIV/0!"},{"$error":"#DIV/0!"},{"$error":"#DIV/0!"},{"$error":"#DIV/0!"},{"$error":"#DIV/0!"},{"$error":"#DIV/0!"},{"$error":"#DIV/0!"},{"$error":"#DIV/0!"},{"$error":"#DIV/0!"},{"$error":"#DIV/0!"},{"$error":"#DIV/0!"},{"$error":"#DIV/0!"},{"$error":"#DIV/0!"},{"$error":"#DIV/0!"},{"$error":"#DIV/0!"},{"$error":"#DIV/0!"},{"$error":"#DIV/0!"},{"$error":"#DIV/0!"},{"$error":"#DIV/0!"},{"$error":"#DIV/0!"},{"$error":"#DIV/0!"},{"$error":"#DIV/0!"},{"$error":"#DIV/0!"},{"$error":"#DIV/0!"},{"$error":"#DIV/0!"},{"$error":"#DIV/0!"},{"$error":"#DIV/0!"},{"$error":"#DIV/0!"},{"$error":"#DIV/0!"},{"$error":"#DIV/0!"},{"$error":"#DIV/0!"},{"$error":"#DIV/0!"},{"$error":"#DIV/0!"},{"$error":"#DIV/0!"},{"$error":"#DIV/0!"},{"$error":"#DIV/0!"},{"$error":"#DIV/0!"},{"$error":"#DIV/0!"},{"$error":"#DIV/0!"},{"$error":"#DIV/0!"},{"$error":"#DIV/0!"},{"$error":"#DIV/0!"},{"$error":"#DIV/0!"},{"$error":"#DIV/0!"}]
[null,null,"DSCR MINIMO",{"$f":"D82","v":"n.c."}," "," ",null,null,null,null," "," "," "," "," "," "," "," "," "," "," "," "," "," "," "," "," "," "," "," "," "," "," "," "," "," "," "," "," "," "," "," "," "," "," "," "," "," "," "," "," "," "," "," "," "," "," "," "," "," "," "," "," "," "]
[null,null,"DSCR MEDIO - ALDSCR",{"$f":"SUM(F99:AH99)/D81","v":{"$error":"#DIV/0!"}},null,"!!!!!!!ATTENZIONE: SISTEMARE DSCR E LLCR (caselle D98, D119 con casella inizio calcolo e casella fine mutuo)",null,null,null,null,null,null,null,null,null,null,null,null," ",null,null,null,null,null,null,null,null,null,null,null,null,null," "]
[null,null,null,null,null,"                                   SISTEMARE ANCHE TUTTA RIGA 1111 CON $CASELLA$ FINE MUTUO (da 1° anno a anno fine mutuo)"]
[]
[null,null,null,null,null," "]
[]
[null,"27b","CALCOLO DEL LLCR","Importi in Euro","↓ Tasso da verificare se + di 2 finanziamenti"]
[null,null,"TASSO DI ATTUALIZZAZIONE (tasso finanziamenti bancari)",null,{"$f":"'2 Investimento'!E69*100*'2 Investimento'!E60/('2 Investimento'!E60+'2 Investimento'!E61)+'2 Investimento'!E72*100*'2 Investimento'!E61/('2 Investimento'!E60+'2 Investimento'!E61)","v":{"$error":"#DIV/0!"}},"%"]
[null,null,"FLUSSI DI CASSA PER CALCOLO LLCR",null,{"$f":"E54+E8","v":-11342.596466468585},2256.8356519309191,42702.270881528399,29497.53588006075,29577.498025500467,34765.578662491003,35460.890235740851,36170.108040455656,36893.510201264769,37631.38040529006,-2.9119999999999999E-11,0,0,0,0,0,0,0,0,0,0,0,0,0,0,0,0,0,0,0,0,0,0,0,0,0,0,0,0,0,0,0,0,0,0,0,0,0,0,0,0,0,0,0,0,0,0,0,0,0]
[null,null,"QUOZIENTI DI ATTUALIZZAZIONE ANNO PER ANNO",null,{"$f":"1+E107/100","v":{"$error":"#DIV/0!"}},{"$f":"POWER(E109,2)","v":{"$error":"#DIV/0!"}},{"$f":"POWER(E109,3)","v":{"$error":"#DIV/0!"}},{"$f":"POWER(E109,4)","v":{"$error":"#DIV/0!"}},{"$f":"POWER(E109,5)","v":{"$error":"#DIV/0!"}},{"$f":"POWER(E109,6)","v":{"$error":"#DIV/0!"}},{"$f":"POWER(E109,7)","v":{"$error":"#DIV/0!"}},{"$f":"POWER(E109,8)","v":{"$error":"#DIV/0!"}},{"$f":"POWER(E109,9)","v":{"$error":"#DIV/0!"}},{"$f":"POWER(E109,10)","v":{"$error":"#DIV/0!"}},{"$f":"POWER(E109,11)","v":{"$error":"#DIV/0!"}},{"$f":"POWER(E109,12)","v":{"$error":"#DIV/0!"}},{"$f":"POWER(E109,13)","v":{"$error":"#DIV/0!"}},{"$f":"POWER(E109,14)","v":{"$error":"#DIV/0!"}},{"$f":"POWER(E109,15)","v":{"$error":"#DIV/0!"}},{"$f":"POWER(E109,16)","v":{"$error":"#DIV/0!"}},{"$f":"POWER(E109,17)","v":{"$error":"#DIV/0!"}},{"$f":"POWER(E109,18)","v":{"$error":"#DIV/0!"}},{"$f":"POWER(E109,19)","v":{"$error":"#DIV/0!"}},{"$f":"POWER(E109,20)","v":{"$error":"#DIV/0!"}},{"$f":"POWER(E109,21)","v":{"$error":"#DIV/0!"}},{"$f":"POWER(E109,22)","v":{"$error":"#DIV/0!"}},{"$f":"POWER(E109,23)","v":{"$error":"#DIV/0!"}},{"$f":"POWER(E109,24)","v":{"$error":"#DIV/0!"}},{"$f":"POWER(E109,25)","v":{"$error":"#DIV/0!"}},{"$f":"POWER(E109,26)","v":{"$error":"#DIV/0!"}},{"$f":"POWER(E109,27)","v":{"$error":"#DIV/0!"}},{"$f":"POWER(E109,28)","v":{"$error":"#DIV/0!"}},{"$f":"POWER(E109,29)","v":{"$error":"#DIV/0!"}},{"$f":"POWER(E109,30)","v":{"$error":"#DIV/0!"}},{"$f":"POWER(E109,31)","v":{"$error":"#DIV/0!"}},{"$f":"POWER(E109,32)","v":{"$error":"#DIV/0!"}},{"$f":"POWER(E109,33)","v":{"$error":"#DIV/0!"}},{"$f":"POWER(E109,34)","v":{"$error":"#DIV/0!"}},{"$f":"POWER(E109,35)","v":{"$error":"#DIV/0!"}},{"$f":"POWER(E109,36)","v":{"$error":"#DIV/0!"}},{"$f":"POWER(E109,37)","v":{"$error":"#DIV/0!"}},{"$f":"POWER(E109,38)","v":{"$error":"#DIV/0!"}},{"$f":"POWER(E109,39)","v":{"$error":"#DIV/0!"}},{"$f":"POWER(E109,40)","v":{"$error":"#DIV/0!"}},{"$f":"POWER(E109,41)","v":{"$error":"#DIV/0!"}},{"$f":"POWER(E109,42)","v":{"$error":"#DIV/0!"}},{"$f":"POWER(E109,43)","v":{"$error":"#DIV/0!"}},{"$f":"POWER(E109,44)","v":{"$error":"#DIV/0!"}},{"$f":"POWER(E109,45)","v":{"$error":"#DIV/0!"}},{"$f":"POWER(E109,46)","v":{"$error":"#DIV/0!"}},{"$f":"POWER(E109,47)","v":{"$error":"#DIV/0!"}},{"$f":"POWER(E109,48)","v":{"$error":"#DIV/0!"}},{"$f":"POWER(E109,49)","v":{"$error":"#DIV/0!"}},{"$f":"POWER(E109,50)","v":{"$error":"#DIV/0!"}}]
[null,1,"FLUSSO DI CASSA SCONTATO "," ",{"$f":"E108/E109","v":{"$error":"#DIV/0!"}},{"$error":"#DIV/0!"},{"$error":"#DIV/0!"},{"$error":"#DIV/0!"},{"$error":"#DIV/0!"},{"$error":"#DIV/0!"},{"$error":"#DIV/0!"},{"$error":"#DIV/0!"},{"$error":"#DIV/0!"},{"$error":"#DIV/0!"},{"$error":"#DIV/0!"},{"$error":"#DIV/0!"},{"$error":"#DIV/0!"},{"$error":"#DIV/0!"},{"$error":"#DIV/0!"},{"$error":"#DIV/0!"},{"$error":"#DIV/0!"},{"$error":"#DIV/0!"},{"$error":"#DIV/0!"},{"$error":"#DIV/0!"},{"$error":"#DIV/0!"},{"$error":"#DIV/0!"},{"$error":"#DIV/0!"},{"$error":"#DIV/0!"},{"$error":"#DIV/0!"},{"$error":"#DIV/0!"},{"$error":"#DIV/0!"},{"$error":"#DIV/0!"},{"$error":"#DIV/0!"},{"$error":"#DIV/0!"},{"$error":"#DIV/0!"},{"$error":"#DIV/0!"},{"$error":"#DIV/0!"},{"$error":"#DIV/0!"},{"$error":"#DIV/0!"},{"$error":"#DIV/0!"},{"$error":"#DIV/0!"},{"$error":"#DIV/0!"},{"$error":"#DIV/0!"},{"$error":"#DIV/0!"},{"$error":"#DIV/0!"},{"$error":"#DIV/0!"},{"$error":"#DIV/0!"},{"$error":"#DIV/0!"},{"$error":"#DIV/0!"},{"$error":"#DIV/0!"},{"$error":"#DIV/0!"},{"$error":"#DIV/0!"},{"$error":"#DIV/0!"},{"$error":"#DIV/0!"}]
[null,null,"Annualità"," ",1,2,3,4,5,6,7,8,9,10,11,12,13,14,15,16,17,18,19,20,21,22,23,24,25,26,27,28,29,30,31,32,33,34,35,36,37,38,39,40,41,42,43,44,45,46,47,48,49,50]
[]
[null,null,null,"Annualità",{"$f":"E4","v":1},2,3,4,5,6,7,8,9,10,11,"0","0","0","0","0","0","0","0","0","0","0","0","0","0","0","0","0","0","0","0","0","0","0","0"]
[null,2,"SOMMA FLUSSI ATTUALIZZATI SINO A SCADENZA MUTUO + RISERVA DSRA",null,{"$f":"SUM(E$110:$AH110)+'7 Stato-Patr'!C13","v":{"$error":"#DIV/0!"}},{"$f":"SUM(F$110:$AH110)+'7 Stato-Patr'!D13","v":{"$error":"#DIV/0!"}},{"$f":"SUM(G$110:$AH110)+'7 Stato-Patr'!E13","v":{"$error":"#DIV/0!"}},{"$f":"SUM(H$110:$AH110)+'7 Stato-Patr'!F13","v":{"$error":"#DIV/0!"}},{"$f":"SUM(I$110:$AH110)+'7 Stato-Patr'!G13","v":{"$error":"#DIV/0!"}},{"$f":"SUM(J$110:$AH110)+'7 Stato-Patr'!H13","v":{"$error":"#DIV/0!"}},{"$f":"SUM(K$110:$AH110)+'7 Stato-Patr'!I13","v":{"$error":"#DIV/0!"}},{"$f":"SUM(L$110:$AH110)+'7 Stato-Patr'!J13","v":{"$error":"#DIV/0!"}},{"$f":"SUM(M$110:$AH110)+'7 Stato-Patr'!K13","v":{"$error":"#DIV/0!"}},{"$f":"SUM(N$110:$AH110)+'7 Stato-Patr'!L13","v":{"$error":"#DIV/0!"}},{"$f":"SUM(O$110:$AH110)+'7 Stato-Patr'!M13","v":{"$error":"#DIV/0!"}},{"$f":"SUM(P$110:$AH110)+'7 Stato-Patr'!N13","v":{"$error":"#DIV/0!"}},{"$f":"SUM(Q$110:$AH110)+'7 Stato-Patr'!O13","v":{"$error":"#DIV/0!"}},{"$f":"SUM(R$110:$AH110)+'7 Stato-Patr'!P13","v":{"$error":"#DIV/0!"}},{"$f":"SUM(S$110:$AH110)+'7 Stato-Patr'!Q13","v":{"$error":"#DIV/0!"}},{"$f":"SUM(T$110:$AH110)+'7 Stato-Patr'!R13","v":{"$error":"#DIV/0!"}},{"$f":"SUM(U$110:$AH110)+'7 Stato-Patr'!S13","v":{"$error":"#DIV/0!"}},{"$f":"SUM(V$110:$AH110)+'7 Stato-Patr'!T13","v":{"$error":"#DIV/0!"}},{"$f":"SUM(W$110:$AH110)+'7 Stato-Patr'!U13","v":{"$error":"#DIV/0!"}},{"$f":"SUM(X$110:$AH110)+'7 Stato-Patr'!V13","v":{"$error":"#DIV/0!"}},{"$f":"SUM(Y$110:$AH110)+'7 Stato-Patr'!W13","v":{"$error":"#DIV/0!"}},{"$f":"SUM(Z$110:$AH110)+'7 Stato-Patr'!X13","v":{"$error":"#DIV/0!"}},{"$f":"SUM(AA$110:$AH110)+'7 Stato-Patr'!Y13","v":{"$error":"#DIV/0!"}},{"$f":"SUM(AB$110:$AH110)+'7 Stato-Patr'!Z13","v":{"$error":"#DIV/0!"}},{"$f":"SUM(AC$110:$AH110)+'7 Stato-Patr'!AA13","v":{"$error":"#DIV/0!"}},{"$f":"SUM(AD$110:$AH110)+'7 Stato-Patr'!AB13","v":{"$error":"#DIV/0!"}},{"$f":"SUM(AE$110:$AH110)+'7 Stato-Patr'!AC13","v":{"$error":"#DIV/0!"}},{"$f":"SUM(AF$110:$AH110)+'7 Stato-Patr'!AD13","v":{"$error":"#DIV/0!"}},{"$f":"SUM(AG$110:$AH110)+'7 Stato-Patr'!AE13","v":{"$error":"#DIV/0!"}},{"$f":"SUM(AH$110:$AH110)+'7 Stato-Patr'!AF13","v":{"$error":"#DIV/0!"}},{"$f":"SUM($AH$110:AI110)+'7 Stato-Patr'!AG13","v":{"$error":"#DIV/0!"}},{"$f":"SUM($AH$110:AJ110)+'7 Stato-Patr'!AH13","v":{"$error":"#DIV/0!"}},{"$f":"SUM($AH$110:AK110)+'7 Stato-Patr'!AI13","v":{"$error":"#DIV/0!"}},{"$f":"SUM($AH$110:AL110)+'7 Stato-Patr'!AJ13","v":{"$error":"#DIV/0!"}},{"$f":"SUM($AH$110:AM110)+'7 Stato-Patr'!AK13","v":{"$error":"#DIV/0!"}},{"$f":"SUM($AH$110:AN110)+'7 Stato-Patr'!AL13","v":{"$error":"#DIV/0!"}},{"$f":"SUM($AH$110:AO110)+'7 Stato-Patr'!AM13","v":{"$error":"#DIV/0!"}},{"$f":"SUM($AH$110:AP110)+'7 Stato-Patr'!AN13","v":{"$error":"#DIV/0!"}},{"$f":"SUM($AH$110:AQ110)+'7 Stato-Patr'!AO13","v":{"$error":"#DIV/0!"}},{"$f":"SUM($AH$110:AR110)+'7 Stato-Patr'!AP13","v":{"$error":"#DIV/0!"}},{"$f":"SUM($AH$110:AS110)+'7 Stato-Patr'!AQ13","v":{"$error":"#DIV/0!"}},{"$f":"SUM($AH$110:AT110)+'7 Stato-Patr'!AR13","v":{"$error":"#DIV/0!"}},{"$f":"SUM($AH$110:AU110)+'7 Stato-Patr'!AS13","v":{"$error":"#DIV/0!"}},{"$f":"SUM($AH$110:AV110)+'7 Stato-Patr'!AT13","v":{"$error":"#DIV/0!"}},{"$f":"SUM($AH$110:AW110)+'7 Stato-Patr'!AU13","v":{"$error":"#DIV/0!"}},{"$f":"SUM($AH$110:AX110)+'7 Stato-Patr'!AV13","v":{"$error":"#DIV/0!"}},{"$f":"SUM($AH$110:AY110)+'7 Stato-Patr'!AW13","v":{"$error":"#DIV/0!"}},{"$f":"SUM($AH$110:AZ110)+'7 Stato-Patr'!AX13","v":{"$error":"#DIV/0!"}},{"$f":"SUM($AH$110:BA110)+'7 Stato-Patr'!AY13","v":{"$error":"#DIV/0!"}},{"$f":"SUM($AH$110:BB110)+'7 Stato-Patr'!AZ13","v":{"$error":"#DIV/0!"}},{"$f":"SUM($AH$110:BC110)+'7 Stato-Patr'!BA13","v":{"$error":"#DIV/0!"}},{"$f":"SUM($AH$110:BD110)+'7 Stato-Patr'!BB13","v":{"$error":"#DIV/0!"}},{"$f":"SUM($AH$110:BE110)+'7 Stato-Patr'!BC13","v":{"$error":"#DIV/0!"}},{"$f":"SUM($AH$110:BF110)+'7 Stato-Patr'!BD13","v":{"$error":"#DIV/0!"}},{"$f":"SUM($AH$110:BG110)+'7 Stato-Patr'!BE13","v":{"$error":"#DIV/0!"}},{"$f":"SUM($AH$110:BH110)+'7 Stato-Patr'!BF13","v":{"$error":"#DIV/0!"}},{"$f":"SUM($AH$110:BI110)+'7 Stato-Patr'!BG13","v":{"$error":"#DIV/0!"}},{"$f":"SUM($AH$110:BJ110)+'7 Stato-Patr'!BH13","v":{"$error":"#DIV/0!"}},{"$f":"SUM($AH$110:BK110)+'7 Stato-Patr'!BI13","v":{"$error":"#DIV/0!"}},{"$f":"SUM($AH$110:BL110)+'7 Stato-Patr'!BJ13","v":{"$error":"#DIV/0!"}}]
[null,null,null,null," "]
[null,3,"RESIDUO MUTUO INIZIO ANNO + EROGAZIONI ",null,{"$f":"'5 Foglio di elaborazione'!E83+'5 Foglio di elaborazione'!E84+'5 Foglio di elaborazione'!E93+'5 Foglio di elaborazione'!E94","v":0},{"$f":"'5 Foglio di elaborazione'!F83+'5 Foglio di elaborazione'!F84+'5 Foglio di elaborazione'!F93+'5 Foglio di elaborazione'!F94","v":0},{"$f":"'5 Foglio di elaborazione'!G83+'5 Foglio di elaborazione'!G84+'5 Foglio di elaborazione'!G93+'5 Foglio di elaborazione'!G94","v":0},{"$f":"'5 Foglio di elaborazione'!H83+'5 Foglio di elaborazione'!H84+'5 Foglio di elaborazione'!H93+'5 Foglio di elaborazione'!H94","v":0},{"$f":"'5 Foglio di elaborazione'!I83+'5 Foglio di elaborazione'!I84+'5 Foglio di elaborazione'!I93+'5 Foglio di elaborazione'!I94","v":0},{"$f":"'5 Foglio di elaborazione'!J83+'5 Foglio di elaborazione'!J84+'5 Foglio di elaborazione'!J93+'5 Foglio di elaborazione'!J94","v":0},{"$f":"'5 Foglio di elaborazione'!K83+'5 Foglio di elaborazione'!K84+'5 Foglio di elaborazione'!K93+'5 Foglio di elaborazione'!K94","v":0},{"$f":"'5 Foglio di elaborazione'!L83+'5 Foglio di elaborazione'!L84+'5 Foglio di elaborazione'!L93+'5 Foglio di elaborazione'!L94","v":0},{"$f":"'5 Foglio di elaborazione'!M83+'5 Foglio di elaborazione'!M84+'5 Foglio di elaborazione'!M93+'5 Foglio di elaborazione'!M94","v":0},{"$f":"'5 Foglio di elaborazione'!N83+'5 Foglio di elaborazione'!N84+'5 Foglio di elaborazione'!N93+'5 Foglio di elaborazione'!N94","v":0},{"$f":"'5 Foglio di elaborazione'!O83+'5 Foglio di elaborazione'!O84+'5 Foglio di elaborazione'!O93+'5 Foglio di elaborazione'!O94","v":0},{"$f":"'5 Foglio di elaborazione'!P83+'5 Foglio di elaborazione'!P84+'5 Foglio di elaborazione'!P93+'5 Foglio di elaborazione'!P94","v":0},{"$f":"'5 Foglio di elaborazione'!Q83+'5 Foglio di elaborazione'!Q84+'5 Foglio di elaborazione'!Q93+'5 Foglio di elaborazione'!Q94","v":0},{"$f":"'5 Foglio di elaborazione'!R83+'5 Foglio di elaborazione'!R84+'5 Foglio di elaborazione'!R93+'5 Foglio di elaborazione'!R94","v":0},{"$f":"'5 Foglio di elaborazione'!S83+'5 Foglio di elaborazione'!S84+'5 Foglio di elaborazione'!S93+'5 Foglio di elaborazione'!S94","v":0},{"$f":"'5 Foglio di elaborazione'!T83+'5 Foglio di elaborazione'!T84+'5 Foglio di elaborazione'!T93+'5 Foglio di elaborazione'!T94","v":0},{"$f":"'5 Foglio di elaborazione'!U83+'5 Foglio di elaborazione'!U84+'5 Foglio di elaborazione'!U93+'5 Foglio di elaborazione'!U94","v":0},{"$f":"'5 Foglio di elaborazione'!V83+'5 Foglio di elaborazione'!V84+'5 Foglio di elaborazione'!V93+'5 Foglio di elaborazione'!V94","v":0},{"$f":"'5 Foglio di elaborazione'!W83+'5 Foglio di elaborazione'!W84+'5 Foglio di elaborazione'!W93+'5 Foglio di elaborazione'!W94","v":0},{"$f":"'5 Foglio di elaborazione'!X83+'5 Foglio di elaborazione'!X84+'5 Foglio di elaborazione'!X93+'5 Foglio di elaborazione'!X94","v":0},{"$f":"'5 Foglio di elaborazione'!Y83+'5 Foglio di elaborazione'!Y84+'5 Foglio di elaborazione'!Y93+'5 Foglio di elaborazione'!Y94","v":0},{"$f":"'5 Foglio di elaborazione'!Z83+'5 Foglio di elaborazione'!Z84+'5 Foglio di elaborazione'!Z93+'5 Foglio di elaborazione'!Z94","v":0},{"$f":"'5 Foglio di elaborazione'!AA83+'5 Foglio di elaborazione'!AA84+'5 Foglio di elaborazione'!AA93+'5 Foglio di elaborazione'!AA94","v":0},{"$f":"'5 Foglio di elaborazione'!AB83+'5 Foglio di elaborazione'!AB84+'5 Foglio di elaborazione'!AB93+'5 Foglio di elaborazione'!AB94","v":0},{"$f":"'5 Foglio di elaborazione'!AC83+'5 Foglio di elaborazione'!AC84+'5 Foglio di elaborazione'!AC93+'5 Foglio di elaborazione'!AC94","v":0},{"$f":"'5 Foglio di elaborazione'!AD83+'5 Foglio di elaborazione'!AD84+'5 Foglio di elaborazione'!AD93+'5 Foglio di elaborazione'!AD94","v":0},{"$f":"'5 Foglio di elaborazione'!AE83+'5 Foglio di elaborazione'!AE84+'5 Foglio di elaborazione'!AE93+'5 Foglio di elaborazione'!AE94","v":0},{"$f":"'5 Foglio di elaborazione'!AF83+'5 Foglio di elaborazione'!AF84+'5 Foglio di elaborazione'!AF93+'5 Foglio di elaborazione'!AF94","v":0},{"$f":"'5 Foglio di elaborazione'!AG83+'5 Foglio di elaborazione'!AG84+'5 Foglio di elaborazione'!AG93+'5 Foglio di elaborazione'!AG94","v":0},{"$f":"'5 Foglio di elaborazione'!AH83+'5 Foglio di elaborazione'!AH84+'5 Foglio di elaborazione'!AH93+'5 Foglio di elaborazione'!AH94","v":0},{"$f":"'5 Foglio di elaborazione'!AI83+'5 Foglio di elaborazione'!AI84+'5 Foglio di elaborazione'!AI93+'5 Foglio di elaborazione'!AI94","v":0},{"$f":"'5 Foglio di elaborazione'!AJ83+'5 Foglio di elaborazione'!AJ84+'5 Foglio di elaborazione'!AJ93+'5 Foglio di elaborazione'!AJ94","v":0},{"$f":"'5 Foglio di elaborazione'!AK83+'5 Foglio di elaborazione'!AK84+'5 Foglio di elaborazione'!AK93+'5 Foglio di elaborazione'!AK94","v":0},{"$f":"'5 Foglio di elaborazione'!AL83+'5 Foglio di elaborazione'!AL84+'5 Foglio di elaborazione'!AL93+'5 Foglio di elaborazione'!AL94","v":0},{"$f":"'5 Foglio di elaborazione'!AM83+'5 Foglio di elaborazione'!AM84+'5 Foglio di elaborazione'!AM93+'5 Foglio di elaborazione'!AM94","v":0},{"$f":"'5 Foglio di elaborazione'!AN83+'5 Foglio di elaborazione'!AN84+'5 Foglio di elaborazione'!AN93+'5 Foglio di elaborazione'!AN94","v":0},{"$f":"'5 Foglio di elaborazione'!AO83+'5 Foglio di elaborazione'!AO84+'5 Foglio di elaborazione'!AO93+'5 Foglio di elaborazione'!AO94","v":0},{"$f":"'5 Foglio di elaborazione'!AP83+'5 Foglio di elaborazione'!AP84+'5 Foglio di elaborazione'!AP93+'5 Foglio di elaborazione'!AP94","v":0},{"$f":"'5 Foglio di elaborazione'!AQ83+'5 Foglio di elaborazione'!AQ84+'5 Foglio di elaborazione'!AQ93+'5 Foglio di elaborazione'!AQ94","v":0},{"$f":"'5 Foglio di elaborazione'!AR83+'5 Foglio di elaborazione'!AR84+'5 Foglio di elaborazione'!AR93+'5 Foglio di elaborazione'!AR94","v":0},{"$f":"'5 Foglio di elaborazione'!AS83+'5 Foglio di elaborazione'!AS84+'5 Foglio di elaborazione'!AS93+'5 Foglio di elaborazione'!AS94","v":0},{"$f":"'5 Foglio di elaborazione'!AT83+'5 Foglio di elaborazione'!AT84+'5 Foglio di elaborazione'!AT93+'5 Foglio di elaborazione'!AT94","v":0},{"$f":"'5 Foglio di elaborazione'!AU83+'5 Foglio di elaborazione'!AU84+'5 Foglio di elaborazione'!AU93+'5 Foglio di elaborazione'!AU94","v":0},{"$f":"'5 Foglio di elaborazione'!AV83+'5 Foglio di elaborazione'!AV84+'5 Foglio di elaborazione'!AV93+'5 Foglio di elaborazione'!AV94","v":0},{"$f":"'5 Foglio di elaborazione'!AW83+'5 Foglio di elaborazione'!AW84+'5 Foglio di elaborazione'!AW93+'5 Foglio di elaborazione'!AW94","v":0},{"$f":"'5 Foglio di elaborazione'!AX83+'5 Foglio di elaborazione'!AX84+'5 Foglio di elaborazione'!AX93+'5 Foglio di elaborazione'!AX94","v":0},{"$f":"'5 Foglio di elaborazione'!AY83+'5 Foglio di elaborazione'!AY84+'5 Foglio di elaborazione'!AY93+'5 Foglio di elaborazione'!AY94","v":0},{"$f":"'5 Foglio di elaborazione'!AZ83+'5 Foglio di elaborazione'!AZ84+'5 Foglio di elaborazione'!AZ93+'5 Foglio di elaborazione'!AZ94","v":0},{"$f":"'5 Foglio di elaborazione'!BA83+'5 Foglio di elaborazione'!BA84+'5 Foglio di elaborazione'!BA93+'5 Foglio di elaborazione'!BA94","v":0},{"$f":"'5 Foglio di elaborazione'!BB83+'5 Foglio di elaborazione'!BB84+'5 Foglio di elaborazione'!BB93+'5 Foglio di elaborazione'!BB94","v":0},{"$f":"'5 Foglio di elaborazione'!BC83+'5 Foglio di elaborazione'!BC84+'5 Foglio di elaborazione'!BC93+'5 Foglio di elaborazione'!BC94","v":0},{"$f":"'5 Foglio di elaborazione'!BD83+'5 Foglio di elaborazione'!BD84+'5 Foglio di elaborazione'!BD93+'5 Foglio di elaborazione'!BD94","v":0},{"$f":"'5 Foglio di elaborazione'!BE83+'5 Foglio di elaborazione'!BE84+'5 Foglio di elaborazione'!BE93+'5 Foglio di elaborazione'!BE94","v":0},{"$f":"'5 Foglio di elaborazione'!BF83+'5 Foglio di elaborazione'!BF84+'5 Foglio di elaborazione'!BF93+'5 Foglio di elaborazione'!BF94","v":0},{"$f":"'5 Foglio di elaborazione'!BG83+'5 Foglio di elaborazione'!BG84+'5 Foglio di elaborazione'!BG93+'5 Foglio di elaborazione'!BG94","v":0},{"$f":"'5 Foglio di elaborazione'!BH83+'5 Foglio di elaborazione'!BH84+'5 Foglio di elaborazione'!BH93+'5 Foglio di elaborazione'!BH94","v":0},{"$f":"'5 Foglio di elaborazione'!BI83+'5 Foglio di elaborazione'!BI84+'5 Foglio di elaborazione'!BI93+'5 Foglio di elaborazione'!BI94","v":0},{"$f":"'5 Foglio di elaborazione'!BJ83+'5 Foglio di elaborazione'!BJ84+'5 Foglio di elaborazione'!BJ93+'5 Foglio di elaborazione'!BJ94","v":0},{"$f":"'5 Foglio di elaborazione'!BK83+'5 Foglio di elaborazione'!BK84+'5 Foglio di elaborazione'!BK93+'5 Foglio di elaborazione'!BK94","v":0},{"$f":"'5 Foglio di elaborazione'!BL83+'5 Foglio di elaborazione'!BL84+'5 Foglio di elaborazione'!BL93+'5 Foglio di elaborazione'!BL94","v":0}]
[]
[null,"LLCR=","2 diviso 3"," ",{"$f":"E114/E116","v":{"$error":"#DIV/0!"}},{"$error":"#DIV/0!"},{"$error":"#DIV/0!"},{"$error":"#DIV/0!"},{"$error":"#DIV/0!"},{"$error":"#DIV/0!"},{"$error":"#DIV/0!"},{"$error":"#DIV/0!"},{"$error":"#DIV/0!"},{"$error":"#DIV/0!"},{"$error":"#DIV/0!"},{"$error":"#DIV/0!"},{"$error":"#DIV/0!"},{"$error":"#DIV/0!"},{"$error":"#DIV/0!"},{"$error":"#DIV/0!"},{"$error":"#DIV/0!"},{"$error":"#DIV/0!"},{"$error":"#DIV/0!"},{"$error":"#DIV/0!"},{"$error":"#DIV/0!"},{"$error":"#DIV/0!"},{"$error":"#DIV/0!"},{"$error":"#DIV/0!"},{"$error":"#DIV/0!"},{"$error":"#DIV/0!"},{"$error":"#DIV/0!"},{"$error":"#DIV/0!"},{"$error":"#DIV/0!"},{"$error":"#DIV/0!"},{"$error":"#DIV/0!"},{"$error":"#DIV/0!"},{"$error":"#DIV/0!"},{"$error":"#DIV/0!"},{"$error":"#DIV/0!"},{"$error":"#DIV/0!"},{"$error":"#DIV/0!"},{"$error":"#DIV/0!"},{"$error":"#DIV/0!"},{"$error":"#DIV/0!"},{"$error":"#DIV/0!"},{"$error":"#DIV/0!"},{"$error":"#DIV/0!"},{"$error":"#DIV/0!"},{"$error":"#DIV/0!"},{"$error":"#DIV/0!"},{"$error":"#DIV/0!"},{"$error":"#DIV/0!"},{"$error":"#DIV/0!"},{"$error":"#DIV/0!"},{"$error":"#DIV/0!"},{"$error":"#DIV/0!"},{"$error":"#DIV/0!"},{"$error":"#DIV/0!"},{"$error":"#DIV/0!"},{"$error":"#DIV/0!"},{"$error":"#DIV/0!"},{"$error":"#DIV/0!"},{"$error":"#DIV/0!"},{"$error":"#DIV/0!"}]
[null,null,"SOMME VINCOLATE A SERVIZIO DEL DEBITO (DSRA) - le variazioni dei presenti valori (flussi), per un corretto calcolo di Van e Tir operativo e finanziario, sono da portare in rettifica dei flussi di cassa per il calcolo di Van e Tir Operativo e Finanziario ",null,0,0,0,0,0,0,0,0,0,0,0,0,0,0,0,0,0,0,0,0,0,0,0,0,0,0,0,0,0,0,0,0,0,0,0,0,0,0,0,0,0,0,0,0,0,0,0,0,0,0,0,0,0,0,0,0,0,0,0,0]
[]
[null,null,"LLCR MINIMO",{"$f":"E82","v":"n.c."},null,null,null,null,null,null,null,null,null,null,null,null,null,null," ",null,null,null,null,null,null,null,null,null,null,null,null,null," "]
[null,null,"LLCR MEDIO",{"$f":"SUM(F118:AH118)/E81","v":{"$error":"#DIV/0!"}}," ",null,null,null,null,null,null,null,null,null,null,null,null,null," ",null,null,null,null,null,null,null,null,null,null,null,null,null," "]
[null,null,null,null,null," ",null," "]
[null,"27c","DSCR (Debt Service Cover Ratio)"]
[null,null,"Questo indice indica il rapporto annuale di copertura del servizio del debito. Si calcola dividendo, in ogni esercizio considerato (con esclusione degli anni di realizzazione iniziali), il flusso di cassa a servizio del debito (Flusso di Cassa Operativo + fonti di copertura degli investimenti effettuati in periodi successivi  all'avvio) per il servizio complessivo del debito. Per servizio complessivo del debito si intende la somma degli interessi (mlt + bt) e dei rimborsi di quote di capitale dovuti nell'esercizio."]
[null,null,"DSCR = Flusso di cassa a servizio del debito/[rate mutuo (sorte capitale) + Oneri finanziari]"]
[null,null,"ALDSCR (Average Loan Debt Service Cover Ratio)"]
[null,null,"Questo indicatore esprime la media aritmetica dei vari DSCR dei singoli anni, esso si ottiene calcolando la media aritmetica dei DSCR per tutta la durata del debito (non si considera il periodo di costruzione iniziale)."]
[null,null,"LLCR (Loan Life Cover Ratio)"]
[null,null,"Questo indicatore è definito come il quoziente tra la somma attualizzata (al tasso di interesse del debito) dei flussi di cassa a servizio del debito*, compresi fra l'istante  di valutazione e l'ultimo anno previsto per il rimborso dei finanziamenti, e il debito residuo considerato allo stesso istante di valutazione (non si considera il periodo di costruzione iniziale)."]
[null,null,"* Incrementata dall'eventuale riserva di cassa a servizio del debito accumulata al periodo di valutazione dell'indicatore."]
[]
[null,null," ========================================================================================================================================================================================================"]
[null,null,"Disponibilità liquide per verifica possibilità vincolo somme per Dsra",null,{"$f":"'7 Stato-Patr'!C6","v":657.40353353081446},{"$f":"'7 Stato-Patr'!D6","v":914.23918546063578},{"$f":"'7 Stato-Patr'!E6","v":33616.510066988529},{"$f":"'7 Stato-Patr'!F6","v":63114.045947049279},{"$f":"'7 Stato-Patr'!G6","v":92691.543972549742},{"$f":"'7 Stato-Patr'!H6","v":127457.12263504074},{"$f":"'7 Stato-Patr'!I6","v":162918.01287078229},{"$f":"'7 Stato-Patr'!J6","v":199088.12091123729},{"$f":"'7 Stato-Patr'!K6","v":235981.63111250201},{"$f":"'7 Stato-Patr'!L6","v":273613.01151779207},{"$f":"'7 Stato-Patr'!M6","v":{"$error":"#DIV/0!"}},{"$f":"'7 Stato-Patr'!N6","v":{"$error":"#DIV/0!"}},{"$f":"'7 Stato-Patr'!O6","v":{"$error":"#DIV/0!"}},{"$f":"'7 Stato-Patr'!P6","v":{"$error":"#DIV/0!"}},{"$f":"'7 Stato-Patr'!Q6","v":{"$error":"#DIV/0!"}},{"$f":"'7 Stato-Patr'!R6","v":{"$error":"#DIV/0!"}},{"$f":"'7 Stato-Patr'!S6","v":{"$error":"#DIV/0!"}},{"$f":"'7 Stato-Patr'!T6","v":{"$error":"#DIV/0!"}},{"$f":"'7 Stato-Patr'!U6","v":{"$error":"#DIV/0!"}},{"$f":"'7 Stato-Patr'!V6","v":{"$error":"#DIV/0!"}},{"$f":"'7 Stato-Patr'!W6","v":-1.0291199999999999E-9},{"$f":"'7 Stato-Patr'!X6","v":-1.0291199999999999E-9},{"$f":"'7 Stato-Patr'!Y6","v":-1.0291199999999999E-9},{"$f":"'7 Stato-Patr'!Z6","v":-1.0291199999999999E-9},{"$f":"'7 Stato-Patr'!AA6","v":-1.0291199999999999E-9},{"$f":"'7 Stato-Patr'!AB6","v":-1.0291199999999999E-9},{"$f":"'7 Stato-Patr'!AC6","v":-1.0291199999999999E-9},{"$f":"'7 Stato-Patr'!AD6","v":-1.0291199999999999E-9},{"$f":"'7 Stato-Patr'!AE6","v":-1.0291199999999999E-9},{"$f":"'7 Stato-Patr'!AF6","v":-1.0291199999999999E-9},{"$f":"'7 Stato-Patr'!AG6","v":-1.0291199999999999E-9},{"$f":"'7 Stato-Patr'!AH6","v":-1.0291199999999999E-9},{"$f":"'7 Stato-Patr'!AI6","v":-1.0291199999999999E-9},{"$f":"'7 Stato-Patr'!AJ6","v":-1.0291199999999999E-9},{"$f":"'7 Stato-Patr'!AK6","v":-1.0291199999999999E-9},{"$f":"'7 Stato-Patr'!AL6","v":-1.0291199999999999E-9},{"$f":"'7 Stato-Patr'!AM6","v":-1.0291199999999999E-9},{"$f":"'7 Stato-Patr'!AN6","v":-1.0291199999999999E-9},{"$f":"'7 Stato-Patr'!AO6","v":-1.0291199999999999E-9},{"$f":"'7 Stato-Patr'!AP6","v":-1.0291199999999999E-9},{"$f":"'7 Stato-Patr'!AQ6","v":-1.0291199999999999E-9},{"$f":"'7 Stato-Patr'!AR6","v":-1.0291199999999999E-9},{"$f":"'7 Stato-Patr'!AS6","v":-1.0291199999999999E-9},{"$f":"'7 Stato-Patr'!AT6","v":-1.0291199999999999E-9},{"$f":"'7 Stato-Patr'!AU6","v":-1.0291199999999999E-9},{"$f":"'7 Stato-Patr'!AV6","v":-1.0291199999999999E-9},{"$f":"'7 Stato-Patr'!AW6","v":-1.0291199999999999E-9},{"$f":"'7 Stato-Patr'!AX6","v":-1.0291199999999999E-9},{"$f":"'7 Stato-Patr'!AY6","v":-1.0291199999999999E-9},{"$f":"'7 Stato-Patr'!AZ6","v":-1.0291199999999999E-9},{"$f":"'7 Stato-Patr'!BA6","v":-1.0291199999999999E-9},{"$f":"'7 Stato-Patr'!BB6","v":-1.0291199999999999E-9},{"$f":"'7 Stato-Patr'!BC6","v":-1.0291199999999999E-9},{"$f":"'7 Stato-Patr'!BD6","v":-1.0291199999999999E-9},{"$f":"'7 Stato-Patr'!BE6","v":-1.0291199999999999E-9},{"$f":"'7 Stato-Patr'!BF6","v":-1.0291199999999999E-9},{"$f":"'7 Stato-Patr'!BG6","v":-1.0291199999999999E-9},{"$f":"'7 Stato-Patr'!BH6","v":-1.0291199999999999E-9},{"$f":"'7 Stato-Patr'!BI6","v":-1.0291199999999999E-9},{"$f":"'7 Stato-Patr'!BJ6","v":-1.0291199999999999E-9}]
[null,null,"Utili non distribuiti per conferma possibilità vincolo somme per Dsra",null,{"$f":"'7 Stato-Patr'!C31","v":0},{"$f":"'7 Stato-Patr'!D31","v":-29370.680000000579},{"$f":"'7 Stato-Patr'!E31","v":-25116.381221697535},{"$f":"'7 Stato-Patr'!F31","v":10317.958284644847},{"$f":"'7 Stato-Patr'!G31","v":43676.065233377871},{"$f":"'7 Stato-Patr'!H31","v":77701.334321085509},{"$f":"'7 Stato-Patr'!I31","v":112407.1087905473},{"$f":"'7 Stato-Patr'!J31","v":147806.99874939836},{"$f":"'7 Stato-Patr'!K31","v":183914.88650742645},{"$f":"'7 Stato-Patr'!L31","v":220744.93202061512},{"$f":"'7 Stato-Patr'!M31","v":0},{"$f":"'7 Stato-Patr'!N31","v":7.0879999999999992E-11},{"$f":"'7 Stato-Patr'!O31","v":-1.0291199999999999E-9},{"$f":"'7 Stato-Patr'!P31","v":-1.0291199999999999E-9},{"$f":"'7 Stato-Patr'!Q31","v":-1.0291199999999999E-9},{"$f":"'7 Stato-Patr'!R31","v":-1.0291199999999999E-9},{"$f":"'7 Stato-Patr'!S31","v":-1.0291199999999999E-9},{"$f":"'7 Stato-Patr'!T31","v":-1.0291199999999999E-9},{"$f":"'7 Stato-Patr'!U31","v":-1.0291199999999999E-9},{"$f":"'7 Stato-Patr'!V31","v":-1.0291199999999999E-9},{"$f":"'7 Stato-Patr'!W31","v":-1.0291199999999999E-9},{"$f":"'7 Stato-Patr'!X31","v":-1.0291199999999999E-9},{"$f":"'7 Stato-Patr'!Y31","v":-1.0291199999999999E-9},{"$f":"'7 Stato-Patr'!Z31","v":-1.0291199999999999E-9},{"$f":"'7 Stato-Patr'!AA31","v":-1.0291199999999999E-9},{"$f":"'7 Stato-Patr'!AB31","v":-1.0291199999999999E-9},{"$f":"'7 Stato-Patr'!AC31","v":-1.0291199999999999E-9},{"$f":"'7 Stato-Patr'!AD31","v":-1.0291199999999999E-9},{"$f":"'7 Stato-Patr'!AE31","v":-1.0291199999999999E-9},{"$f":"'7 Stato-Patr'!AF31","v":-1.0291199999999999E-9},{"$f":"'7 Stato-Patr'!AG31","v":-1.0291199999999999E-9},{"$f":"'7 Stato-Patr'!AH31","v":-1.0291199999999999E-9},{"$f":"'7 Stato-Patr'!AI31","v":-1.0291199999999999E-9},{"$f":"'7 Stato-Patr'!AJ31","v":-1.0291199999999999E-9},{"$f":"'7 Stato-Patr'!AK31","v":-1.0291199999999999E-9},{"$f":"'7 Stato-Patr'!AL31","v":-1.0291199999999999E-9},{"$f":"'7 Stato-Patr'!AM31","v":-1.0291199999999999E-9},{"$f":"'7 Stato-Patr'!AN31","v":-1.0291199999999999E-9},{"$f":"'7 Stato-Patr'!AO31","v":-1.0291199999999999E-9},{"$f":"'7 Stato-Patr'!AP31","v":-1.0291199999999999E-9},{"$f":"'7 Stato-Patr'!AQ31","v":-1.0291199999999999E-9},{"$f":"'7 Stato-Patr'!AR31","v":-1.0291199999999999E-9},{"$f":"'7 Stato-Patr'!AS31","v":-1.0291199999999999E-9},{"$f":"'7 Stato-Patr'!AT31","v":-1.0291199999999999E-9},{"$f":"'7 Stato-Patr'!AU31","v":-1.0291199999999999E-9},{"$f":"'7 Stato-Patr'!AV31","v":-1.0291199999999999E-9},{"$f":"'7 Stato-Patr'!AW31","v":-1.0291199999999999E-9},{"$f":"'7 Stato-Patr'!AX31","v":-1.0291199999999999E-9},{"$f":"'7 Stato-Patr'!AY31","v":-1.0291199999999999E-9},{"$f":"'7 Stato-Patr'!AZ31","v":-1.0291199999999999E-9},{"$f":"'7 Stato-Patr'!BA31","v":-1.0291199999999999E-9},{"$f":"'7 Stato-Patr'!BB31","v":-1.0291199999999999E-9},{"$f":"'7 Stato-Patr'!BC31","v":-1.0291199999999999E-9},{"$f":"'7 Stato-Patr'!BD31","v":-1.0291199999999999E-9},{"$f":"'7 Stato-Patr'!BE31","v":-1.0291199999999999E-9},{"$f":"'7 Stato-Patr'!BF31","v":-1.0291199999999999E-9},{"$f":"'7 Stato-Patr'!BG31","v":-1.0291199999999999E-9},{"$f":"'7 Stato-Patr'!BH31","v":-1.0291199999999999E-9},{"$f":"'7 Stato-Patr'!BI31","v":-1.0291199999999999E-9},{"$f":"'7 Stato-Patr'!BJ31","v":-1.0291199999999999E-9}]
[]
[null,null,"CALCOLO QUOZIENTI DI INFLAZIONE","Annualità",{"$f":"E4","v":1},2,3,4,5,6,7,8,9,10,11,"0","0","0","0","0","0","0","0","0","0","0","0","0","0","0","0","0","0","0","0","0","0","0","0","0","0","0","0","0","0","0","0","0","0","0","0","0","0","0","0","0","0","0","0","0","0","0","0","0"," "]
[null,null,"QUOZIENTI DI RIVALUTAZIONE ANNO PER ANNO NUMERICO                  ",null,1,{"$f":"E138*(1+$D$139)","v":1.02},1.0404,1.0612079999999999,1.08243216,1.1040808032,1.1261624192640001,1.14868566764928,1.1716593810022657,1.1950925686223111,1.2189944199947573,1.2433743083946525,1.2682417945625455,1.2936066304537963,1.3194787630628724,1.3458683383241299,1.3727857050906125,1.4002414191924248,1.4282462475762734,1.4568111725277988,1.4859473959783549,1.5156663438979221,1.5459796707758806,1.5768992641913981,1.6084372494752261,1.6406059944647307,1.6734181143540252,1.7068864766411058,1.7410242061739281,1.7758446902974065,1.8113615841033548,1.8475888157854219,1.8845405921011305,1.9222314039431532,1.9606760320220162,1.9998895526624565,2.0398873437157055,2.0806850905900198,2.1222987924018204,2.1647447682498568,2.208039663614854,2.252200456887151,2.2972444660248938,2.343189355345392,2.3900531424522997,2.4378542053013459,2.4866112894073726,2.53634351519552,2.5870703854994304,2.6388117932094191,2.6915880290736074,2.7454197896550796,2.8003281854481812,2.8563347491571447,2.9134614441402875,2.9717306730230932,3.0311652864835552,3.0917885922132262,3.1536243640574906,3.2166968513386403]
[null,null,"Istat",{"$f":"'4 Sviluppo Domanda e Gestione'!$G$274","v":0.02}," "]
[]
[null,null,"CALCOLO QUOZIENTI DI ATTUALIZZAZIONE PER CALCOLO Discounted Payback Period (DPBP)",0,1,{"$f":"E141+1","v":2},3,4,5,6,7,8,9,10,11,12,13,14,15,16,17,18,19,20,21,22,23,24,25,26,27,28,29,30,31,32,33,34,35,36,37,38,39,40,41,42,43,44,45,46,47,48,49,50,51,52,53,54,55,56,57,58,59,60]
[null,null,"QUOZIENTE DI ATTUALIZZAZIONE ANNO PER ANNO",1,{"$f":"D142*(1+$D$143)","v":1.0382},1.07785924,1.1190334629680001,1.1617805412533777,1.2061605579292567,1.2522358912421543,1.3000713022876047,1.3497340260349913,1.401293865829528,1.4548232915042159,1.5103975412396768,1.5680947273150325,1.6279959458984667,1.6901853910317881,1.7547504729692025,1.8217819410366261,1.8913740111842252,1.9636244984114626,2.0386349542507807,2.1165108095031604,2.1973615224261813,2.2813007325828614,2.3684464205675266,2.4589210738332063,2.5528518588536349,2.6503707998618435,2.7516149644165662,2.8567266560572788,2.9658536143186671,3.0791492223856403,3.1967727226807718,3.3188894406871774,3.4456710173214278,3.5772956501831064,3.7139483440201011,3.855821170761669,4.0031135394847643,4.1560324766930821,4.3147929173027579,4.4796180067437232,4.6507394146013334,4.8283976602391041,5.0128424508602381,5.204333032483099,5.4031385543239532,5.6095384470991281,5.823822815778315,6.0462928473410464,6.2772612341094742,6.5170526132524564,6.7660040230787004,7.0244653767603067,7.2927999541525503,7.5713849124011778,7.8606118160549032,8.1608871874281999,8.4726330779879575,8.7962876615670975,9.1323058502389607,9.4811599337180894]
[null,null,"Wacc",{"$f":"D40","v":3.8199999999999998E-2}]
[]
[null,null,"CALCOLO QUOZIENTI DI ATTUALIZZAZIONE PER EQUITY","Annualità",{"$f":"E141","v":1},2,3,4,5,6,7,8,9,10,11,12,13,14,15,16,17,18,19,20,21,22,23,24,25,26,27,28,29,30,31,32,33,34,35,36,37,38,39,40,41,42,43,44,45,46,47,48,49,50,51,52,53,54,55,56,57,58,59,60]
[null,null,"QUOZIENTI DI ATTUALIZZ.ONE ANNO PER ANNO",null,1,{"$f":"E146*(1+$D$147)","v":1},1,1,1,1,1,1,1,1,1,1,1,1,1,1,1,1,1,1,1,1,1,1,1,1,1,1,1,1,1,1,1,1,1,1,1,1,1,1,1,1,1,1,1,1,1,1,1,1,1,1,1,1,1,1,1,1,1,1]
[null,null,"Ke",{"$f":"D68","v":0}," "]
[]
[]
[]
[]
[]
[]
[]
[null,null,null,null,null," "]
[]
[]
[]
[]
[]
[]
[]
[]
[]
[]
[]
[null,"Se O&MRA: "]
[null,"1. Inserire in FCF (rigo 17) accantonamento Fondo O&MRA (ricordare che l’importo dell’acc.to non deve mai essere superiore al reddito operativo al netto degli oneri e proventi finanziari del rigo 19);"]
[null,"2. Imputare (rigo 8) utilizzo (+) da Fondo O&MRA (F.C.F.)."]
[null,"2.a Sottrarre gli accantonamenti ed aggiungere gli utilizzi nel flussi per il calcolo di Tir e Van operativo e finanziario (dati già inseriti)"]
[null,"ATTENZIONE: CONTROLLARE SEMPRE MOL E MON E CASH FLOW"]

{"sheet":"6a Conto Economico","index":10,"n_rows":23,"n_cols":64,"rows_kept":23,"cut":false,"hidden":false,"merged":[[1,9,1,13],[1,3,1,8]]}
[]
[null,"6a","Conto Economico",{"$f":"'6 Rendiconto Finanz'!D2","v":"Concessione per l'affidamento dei lavori di efficientamento energetico della piscina comunale e del successivo servizio di gestione dell'impianto natatorio "},null,null,null,null,null,{"$f":"'6 Rendiconto Finanz'!J2","v":"Comune di Guardiagrele"}]
[null,null,null,"Totale\n(dati nominali)",{"$f":"'6 Rendiconto Finanz'!E4","v":1},{"$f":"'6 Rendiconto Finanz'!F4","v":2},{"$f":"'6 Rendiconto Finanz'!G4","v":3},{"$f":"'6 Rendiconto Finanz'!H4","v":4},{"$f":"'6 Rendiconto Finanz'!I4","v":5},{"$f":"'6 Rendiconto Finanz'!J4","v":6},{"$f":"'6 Rendiconto Finanz'!K4","v":7},{"$f":"'6 Rendiconto Finanz'!L4","v":8},{"$f":"'6 Rendiconto Finanz'!M4","v":9},{"$f":"'6 Rendiconto Finanz'!N4","v":10},{"$f":"'6 Rendiconto Finanz'!O4","v":11},{"$f":"'6 Rendiconto Finanz'!P4","v":"0"},{"$f":"'6 Rendiconto Finanz'!Q4","v":"0"},{"$f":"'6 Rendiconto Finanz'!R4","v":"0"},{"$f":"'6 Rendiconto Finanz'!S4","v":"0"},{"$f":"'6 Rendiconto Finanz'!T4","v":"0"},{"$f":"'6 Rendiconto Finanz'!U4","v":"0"},{"$f":"'6 Rendiconto Finanz'!V4","v":"0"},{"$f":"'6 Rendiconto Finanz'!W4","v":"0"},{"$f":"'6 Rendiconto Finanz'!X4","v":"0"},{"$f":"'6 Rendiconto Finanz'!Y4","v":"0"},{"$f":"'6 Rendiconto Finanz'!Z4","v":"0"},{"$f":"'6 Rendiconto Finanz'!AA4","v":"0"},{"$f":"'6 Rendiconto Finanz'!AB4","v":"0"},{"$f":"'6 Rendiconto Finanz'!AC4","v":"0"},{"$f":"'6 Rendiconto Finanz'!AD4","v":"0"},{"$f":"'6 Rendiconto Finanz'!AE4","v":"0"},{"$f":"'6 Rendiconto Finanz'!AF4","v":"0"},{"$f":"'6 Rendiconto Finanz'!AG4","v":"0"},{"$f":"'6 Rendiconto Finanz'!AH4","v":"0"},{"$f":"'6 Rendiconto Finanz'!AI4","v":"0"},{"$f":"'6 Rendiconto Finanz'!AJ4","v":"0"},{"$f":"'6 Rendiconto Finanz'!AK4","v":"0"},{"$f":"'6 Rendiconto Finanz'!AL4","v":"0"},{"$f":"'6 Rendiconto Finanz'!AM4","v":"0"},{"$f":"'6 Rendiconto Finanz'!AN4","v":"0"},{"$f":"'6 Rendiconto Finanz'!AO4","v":"0"},{"$f":"'6 Rendiconto Finanz'!AP4","v":"0"},{"$f":"'6 Rendiconto Finanz'!AQ4","v":"0"},{"$f":"'6 Rendiconto Finanz'!AR4","v":"0"},{"$f":"'6 Rendiconto Finanz'!AS4","v":"0"},{"$f":"'6 Rendiconto Finanz'!AT4","v":"0"},{"$f":"'6 Rendiconto Finanz'!AU4","v":"0"},{"$f":"'6 Rendiconto Finanz'!AV4","v":"0"},{"$f":"'6 Rendiconto Finanz'!AW4","v":"0"},{"$f":"'6 Rendiconto Finanz'!AX4","v":"0"},{"$f":"'6 Rendiconto Finanz'!AY4","v":"0"},{"$f":"'6 Rendiconto Finanz'!AZ4","v":"0"},{"$f":"'6 Rendiconto Finanz'!BA4","v":"0"},{"$f":"'6 Rendiconto Finanz'!BB4","v":"0"},{"$f":"'6 Rendiconto Finanz'!BC4","v":"0"},{"$f":"'6 Rendiconto Finanz'!BD4","v":"0"},{"$f":"'6 Rendiconto Finanz'!BE4","v":"0"},{"$f":"'6 Rendiconto Finanz'!BF4","v":"0"},{"$f":"'6 Rendiconto Finanz'!BG4","v":"0"},{"$f":"'6 Rendiconto Finanz'!BH4","v":"0"},{"$f":"'6 Rendiconto Finanz'!BI4","v":"0"},{"$f":"'6 Rendiconto Finanz'!BJ4","v":"0"},{"$f":"'6 Rendiconto Finanz'!BK4","v":"0"},{"$f":"'6 Rendiconto Finanz'!BL4","v":"0"}]
[null,{"$f":"'6 Rendiconto Finanz'!B5","v":"+"},{"$f":"'6 Rendiconto Finanz'!C5","v":"Ricavi tariffari utilizzati nel flusso di cassa   "},{"$f":"'6 Rendiconto Finanz'!D5","v":4527622.0971056474},{"$f":"'6 Rendiconto Finanz'!E5","v":345250},{"$f":"'6 Rendiconto Finanz'!F5","v":389232},{"$f":"'6 Rendiconto Finanz'!G5","v":441937.99079999997},{"$f":"'6 Rendiconto Finanz'!H5","v":450776.75061599998},{"$f":"'6 Rendiconto Finanz'!I5","v":459792.28562831995},{"$f":"'6 Rendiconto Finanz'!J5","v":468988.13134088635},{"$f":"'6 Rendiconto Finanz'!K5","v":478367.89396770415},{"$f":"'6 Rendiconto Finanz'!L5","v":487935.25184705824},{"$f":"'6 Rendiconto Finanz'!M5","v":497693.95688399946},{"$f":"'6 Rendiconto Finanz'!N5","v":507647.8360216794},{"$f":"'6 Rendiconto Finanz'!O5","v":0},{"$f":"'6 Rendiconto Finanz'!P5","v":0},{"$f":"'6 Rendiconto Finanz'!Q5","v":0},{"$f":"'6 Rendiconto Finanz'!R5","v":0},{"$f":"'6 Rendiconto Finanz'!S5","v":0},{"$f":"'6 Rendiconto Finanz'!T5","v":0},{"$f":"'6 Rendiconto Finanz'!U5","v":0},{"$f":"'6 Rendiconto Finanz'!V5","v":0},{"$f":"'6 Rendiconto Finanz'!W5","v":0},{"$f":"'6 Rendiconto Finanz'!X5","v":0},{"$f":"'6 Rendiconto Finanz'!Y5","v":0},{"$f":"'6 Rendiconto Finanz'!Z5","v":0},{"$f":"'6 Rendiconto Finanz'!AA5","v":0},{"$f":"'6 Rendiconto Finanz'!AB5","v":0},{"$f":"'6 Rendiconto Finanz'!AC5","v":0},{"$f":"'6 Rendiconto Finanz'!AD5","v":0},{"$f":"'6 Rendiconto Finanz'!AE5","v":0},{"$f":"'6 Rendiconto Finanz'!AF5","v":0},{"$f":"'6 Rendiconto Finanz'!AG5","v":0},{"$f":"'6 Rendiconto Finanz'!AH5","v":0},{"$f":"'6 Rendiconto Finanz'!AI5","v":0},{"$f":"'6 Rendiconto Finanz'!AJ5","v":0},{"$f":"'6 Rendiconto Finanz'!AK5","v":0},{"$f":"'6 Rendiconto Finanz'!AL5","v":0},{"$f":"'6 Rendiconto Finanz'!AM5","v":0},{"$f":"'6 Rendiconto Finanz'!AN5","v":0},{"$f":"'6 Rendiconto Finanz'!AO5","v":0},{"$f":"'6 Rendiconto Finanz'!AP5","v":0},{"$f":"'6 Rendiconto Finanz'!AQ5","v":0},{"$f":"'6 Rendiconto Finanz'!AR5","v":0},{"$f":"'6 Rendiconto Finanz'!AS5","v":0},{"$f":"'6 Rendiconto Finanz'!AT5","v":0},{"$f":"'6 Rendiconto Finanz'!AU5","v":0},{"$f":"'6 Rendiconto Finanz'!AV5","v":0},{"$f":"'6 Rendiconto Finanz'!AW5","v":0},{"$f":"'6 Rendiconto Finanz'!AX5","v":0},{"$f":"'6 Rendiconto Finanz'!AY5","v":0},{"$f":"'6 Rendiconto Finanz'!AZ5","v":0},{"$f":"'6 Rendiconto Finanz'!BA5","v":0},{"$f":"'6 Rendiconto Finanz'!BB5","v":0},{"$f":"'6 Rendiconto Finanz'!BC5","v":0},{"$f":"'6 Rendiconto Finanz'!BD5","v":0},{"$f":"'6 Rendiconto Finanz'!BE5","v":0},{"$f":"'6 Rendiconto Finanz'!BF5","v":0},{"$f":"'6 Rendiconto Finanz'!BG5","v":0},{"$f":"'6 Rendiconto Finanz'!BH5","v":0},{"$f":"'6 Rendiconto Finanz'!BI5","v":0},{"$f":"'6 Rendiconto Finanz'!BJ5","v":0},{"$f":"'6 Rendiconto Finanz'!BK5","v":0},{"$f":"'6 Rendiconto Finanz'!BL5","v":0}]
[null,{"$f":"'6 Rendiconto Finanz'!B6","v":"-"},{"$f":"'6 Rendiconto Finanz'!C6","v":"Canone di concessione"},{"$f":"'6 Rendiconto Finanz'!D6","v":0},{"$f":"'6 Rendiconto Finanz'!E6","v":0},{"$f":"'6 Rendiconto Finanz'!F6","v":0},{"$f":"'6 Rendiconto Finanz'!G6","v":0},{"$f":"'6 Rendiconto Finanz'!H6","v":0},{"$f":"'6 Rendiconto Finanz'!I6","v":0},{"$f":"'6 Rendiconto Finanz'!J6","v":0},{"$f":"'6 Rendiconto Finanz'!K6","v":0},{"$f":"'6 Rendiconto Finanz'!L6","v":0},{"$f":"'6 Rendiconto Finanz'!M6","v":0},{"$f":"'6 Rendiconto Finanz'!N6","v":0},{"$f":"'6 Rendiconto Finanz'!O6","v":0},{"$f":"'6 Rendiconto Finanz'!P6","v":0},{"$f":"'6 Rendiconto Finanz'!Q6","v":0},{"$f":"'6 Rendiconto Finanz'!R6","v":0},{"$f":"'6 Rendiconto Finanz'!S6","v":0},{"$f":"'6 Rendiconto Finanz'!T6","v":0},{"$f":"'6 Rendiconto Finanz'!U6","v":0},{"$f":"'6 Rendiconto Finanz'!V6","v":0},{"$f":"'6 Rendiconto Finanz'!W6","v":0},{"$f":"'6 Rendiconto Finanz'!X6","v":0},{"$f":"'6 Rendiconto Finanz'!Y6","v":0},{"$f":"'6 Rendiconto Finanz'!Z6","v":0},{"$f":"'6 Rendiconto Finanz'!AA6","v":0},{"$f":"'6 Rendiconto Finanz'!AB6","v":0},{"$f":"'6 Rendiconto Finanz'!AC6","v":0},{"$f":"'6 Rendiconto Finanz'!AD6","v":0},{"$f":"'6 Rendiconto Finanz'!AE6","v":0},{"$f":"'6 Rendiconto Finanz'!AF6","v":0},{"$f":"'6 Rendiconto Finanz'!AG6","v":0},{"$f":"'6 Rendiconto Finanz'!AH6","v":0},{"$f":"'6 Rendiconto Finanz'!AI6","v":0},{"$f":"'6 Rendiconto Finanz'!AJ6","v":0},{"$f":"'6 Rendiconto Finanz'!AK6","v":0},{"$f":"'6 Rendiconto Finanz'!AL6","v":0},{"$f":"'6 Rendiconto Finanz'!AM6","v":0},{"$f":"'6 Rendiconto Finanz'!AN6","v":0},{"$f":"'6 Rendiconto Finanz'!AO6","v":0},{"$f":"'6 Rendiconto Finanz'!AP6","v":0},{"$f":"'6 Rendiconto Finanz'!AQ6","v":0},{"$f":"'6 Rendiconto Finanz'!AR6","v":0},{"$f":"'6 Rendiconto Finanz'!AS6","v":0},{"$f":"'6 Rendiconto Finanz'!AT6","v":0},{"$f":"'6 Rendiconto Finanz'!AU6","v":0},{"$f":"'6 Rendiconto Finanz'!AV6","v":0},{"$f":"'6 Rendiconto Finanz'!AW6","v":0},{"$f":"'6 Rendiconto Finanz'!AX6","v":0},{"$f":"'6 Rendiconto Finanz'!AY6","v":0},{"$f":"'6 Rendiconto Finanz'!AZ6","v":0},{"$f":"'6 Rendiconto Finanz'!BA6","v":0},{"$f":"'6 Rendiconto Finanz'!BB6","v":0},{"$f":"'6 Rendiconto Finanz'!BC6","v":0},{"$f":"'6 Rendiconto Finanz'!BD6","v":0},{"$f":"'6 Rendiconto Finanz'!BE6","v":0},{"$f":"'6 Rendiconto Finanz'!BF6","v":0},{"$f":"'6 Rendiconto Finanz'!BG6","v":0},{"$f":"'6 Rendiconto Finanz'!BH6","v":0},{"$f":"'6 Rendiconto Finanz'!BI6","v":0},{"$f":"'6 Rendiconto Finanz'!BJ6","v":0},{"$f":"'6 Rendiconto Finanz'!BK6","v":0},{"$f":"'6 Rendiconto Finanz'!BL6","v":0}]
[null,{"$f":"'6 Rendiconto Finanz'!B9","v":"+ / -"},{"$f":"'6 Rendiconto Finanz'!C9","v":"Altri costi o ricavi"},{"$f":"'6 Rendiconto Finanz'!D9","v":0},{"$f":"'6 Rendiconto Finanz'!E9","v":0},{"$f":"'6 Rendiconto Finanz'!F9","v":0},{"$f":"'6 Rendiconto Finanz'!G9","v":0},{"$f":"'6 Rendiconto Finanz'!H9","v":0},{"$f":"'6 Rendiconto Finanz'!I9","v":0},{"$f":"'6 Rendiconto Finanz'!J9","v":0},{"$f":"'6 Rendiconto Finanz'!K9","v":0},{"$f":"'6 Rendiconto Finanz'!L9","v":0},{"$f":"'6 Rendiconto Finanz'!M9","v":0},{"$f":"'6 Rendiconto Finanz'!N9","v":0},{"$f":"'6 Rendiconto Finanz'!O9","v":0},{"$f":"'6 Rendiconto Finanz'!P9","v":0},{"$f":"'6 Rendiconto Finanz'!Q9","v":0},{"$f":"'6 Rendiconto Finanz'!R9","v":0},{"$f":"'6 Rendiconto Finanz'!S9","v":0},{"$f":"'6 Rendiconto Finanz'!T9","v":0},{"$f":"'6 Rendiconto Finanz'!U9","v":0},{"$f":"'6 Rendiconto Finanz'!V9","v":0},{"$f":"'6 Rendiconto Finanz'!W9","v":0},{"$f":"'6 Rendiconto Finanz'!X9","v":0},{"$f":"'6 Rendiconto Finanz'!Y9","v":0},{"$f":"'6 Rendiconto Finanz'!Z9","v":0},{"$f":"'6 Rendiconto Finanz'!AA9","v":0},{"$f":"'6 Rendiconto Finanz'!AB9","v":0},{"$f":"'6 Rendiconto Finanz'!AC9","v":0},{"$f":"'6 Rendiconto Finanz'!AD9","v":0},{"$f":"'6 Rendiconto Finanz'!AE9","v":0},{"$f":"'6 Rendiconto Finanz'!AF9","v":0},{"$f":"'6 Rendiconto Finanz'!AG9","v":0},{"$f":"'6 Rendiconto Finanz'!AH9","v":0},{"$f":"'6 Rendiconto Finanz'!AI9","v":0},{"$f":"'6 Rendiconto Finanz'!AJ9","v":0},{"$f":"'6 Rendiconto Finanz'!AK9","v":0},{"$f":"'6 Rendiconto Finanz'!AL9","v":0},{"$f":"'6 Rendiconto Finanz'!AM9","v":0},{"$f":"'6 Rendiconto Finanz'!AN9","v":0},{"$f":"'6 Rendiconto Finanz'!AO9","v":0},{"$f":"'6 Rendiconto Finanz'!AP9","v":0},{"$f":"'6 Rendiconto Finanz'!AQ9","v":0},{"$f":"'6 Rendiconto Finanz'!AR9","v":0},{"$f":"'6 Rendiconto Finanz'!AS9","v":0},{"$f":"'6 Rendiconto Finanz'!AT9","v":0},{"$f":"'6 Rendiconto Finanz'!AU9","v":0},{"$f":"'6 Rendiconto Finanz'!AV9","v":0},{"$f":"'6 Rendiconto Finanz'!AW9","v":0},{"$f":"'6 Rendiconto Finanz'!AX9","v":0},{"$f":"'6 Rendiconto Finanz'!AY9","v":0},{"$f":"'6 Rendiconto Finanz'!AZ9","v":0},{"$f":"'6 Rendiconto Finanz'!BA9","v":0},{"$f":"'6 Rendiconto Finanz'!BB9","v":0},{"$f":"'6 Rendiconto Finanz'!BC9","v":0},{"$f":"'6 Rendiconto Finanz'!BD9","v":0},{"$f":"'6 Rendiconto Finanz'!BE9","v":0},{"$f":"'6 Rendiconto Finanz'!BF9","v":0},{"$f":"'6 Rendiconto Finanz'!BG9","v":0},{"$f":"'6 Rendiconto Finanz'!BH9","v":0},{"$f":"'6 Rendiconto Finanz'!BI9","v":0},{"$f":"'6 Rendiconto Finanz'!BJ9","v":0},{"$f":"'6 Rendiconto Finanz'!BK9","v":0},{"$f":"'6 Rendiconto Finanz'!BL9","v":0}]
[null,{"$f":"'6 Rendiconto Finanz'!B10","v":"-"},{"$f":"'6 Rendiconto Finanz'!C10","v":"Costi per servizi"},{"$f":"'6 Rendiconto Finanz'!D10","v":-2253336.5536433952},{"$f":"'6 Rendiconto Finanz'!E10","v":-200833.76499999998},{"$f":"'6 Rendiconto Finanz'!F10","v":-207249.4803},{"$f":"'6 Rendiconto Finanz'!G10","v":-214990.09230599998},{"$f":"'6 Rendiconto Finanz'!H10","v":-219289.89415211996},{"$f":"'6 Rendiconto Finanz'!I10","v":-223675.69203516238},{"$f":"'6 Rendiconto Finanz'!J10","v":-228149.20587586562},{"$f":"'6 Rendiconto Finanz'!K10","v":-232712.18999338296},{"$f":"'6 Rendiconto Finanz'!L10","v":-237366.43379325062},{"$f":"'6 Rendiconto Finanz'!M10","v":-242113.76246911564},{"$f":"'6 Rendiconto Finanz'!N10","v":-246956.03771849794},{"$f":"'6 Rendiconto Finanz'!O10","v":0},{"$f":"'6 Rendiconto Finanz'!P10","v":0},{"$f":"'6 Rendiconto Finanz'!Q10","v":0},{"$f":"'6 Rendiconto Finanz'!R10","v":0},{"$f":"'6 Rendiconto Finanz'!S10","v":0},{"$f":"'6 Rendiconto Finanz'!T10","v":0},{"$f":"'6 Rendiconto Finanz'!U10","v":0},{"$f":"'6 Rendiconto Finanz'!V10","v":0},{"$f":"'6 Rendiconto Finanz'!W10","v":0},{"$f":"'6 Rendiconto Finanz'!X10","v":0},{"$f":"'6 Rendiconto Finanz'!Y10","v":0},{"$f":"'6 Rendiconto Finanz'!Z10","v":0},{"$f":"'6 Rendiconto Finanz'!AA10","v":0},{"$f":"'6 Rendiconto Finanz'!AB10","v":0},{"$f":"'6 Rendiconto Finanz'!AC10","v":0},{"$f":"'6 Rendiconto Finanz'!AD10","v":0},{"$f":"'6 Rendiconto Finanz'!AE10","v":0},{"$f":"'6 Rendiconto Finanz'!AF10","v":0},{"$f":"'6 Rendiconto Finanz'!AG10","v":0},{"$f":"'6 Rendiconto Finanz'!AH10","v":0},{"$f":"'6 Rendiconto Finanz'!AI10","v":0},{"$f":"'6 Rendiconto Finanz'!AJ10","v":0},{"$f":"'6 Rendiconto Finanz'!AK10","v":0},{"$f":"'6 Rendiconto Finanz'!AL10","v":0},{"$f":"'6 Rendiconto Finanz'!AM10","v":0},{"$f":"'6 Rendiconto Finanz'!AN10","v":0},{"$f":"'6 Rendiconto Finanz'!AO10","v":0},{"$f":"'6 Rendiconto Finanz'!AP10","v":0},{"$f":"'6 Rendiconto Finanz'!AQ10","v":0},{"$f":"'6 Rendiconto Finanz'!AR10","v":0},{"$f":"'6 Rendiconto Finanz'!AS10","v":0},{"$f":"'6 Rendiconto Finanz'!AT10","v":0},{"$f":"'6 Rendiconto Finanz'!AU10","v":0},{"$f":"'6 Rendiconto Finanz'!AV10","v":0},{"$f":"'6 Rendiconto Finanz'!AW10","v":0},{"$f":"'6 Rendiconto Finanz'!AX10","v":0},{"$f":"'6 Rendiconto Finanz'!AY10","v":0},{"$f":"'6 Rendiconto Finanz'!AZ10","v":0},{"$f":"'6 Rendiconto Finanz'!BA10","v":0},{"$f":"'6 Rendiconto Finanz'!BB10","v":0},{"$f":"'6 Rendiconto Finanz'!BC10","v":0},{"$f":"'6 Rendiconto Finanz'!BD10","v":0},{"$f":"'6 Rendiconto Finanz'!BE10","v":0},{"$f":"'6 Rendiconto Finanz'!BF10","v":0},{"$f":"'6 Rendiconto Finanz'!BG10","v":0},{"$f":"'6 Rendiconto Finanz'!BH10","v":0},{"$f":"'6 Rendiconto Finanz'!BI10","v":0},{"$f":"'6 Rendiconto Finanz'!BJ10","v":0},{"$f":"'6 Rendiconto Finanz'!BK10","v":0},{"$f":"'6 Rendiconto Finanz'!BL10","v":0}]
[null,{"$f":"'6 Rendiconto Finanz'!B11","v":"-"},"Costi del personale e Oneri Sicurezza",{"$f":"'6 Rendiconto Finanz'!D11","v":-1660474.700446716},{"$f":"'6 Rendiconto Finanz'!E11","v":-151645.389},{"$f":"'6 Rendiconto Finanz'!F11","v":-154678.29678},{"$f":"'6 Rendiconto Finanz'!G11","v":-157771.8627156},{"$f":"'6 Rendiconto Finanz'!H11","v":-160927.29996991198},{"$f":"'6 Rendiconto Finanz'!I11","v":-164145.84596931023},{"$f":"'6 Rendiconto Finanz'!J11","v":-167428.76288869645},{"$f":"'6 Rendiconto Finanz'!K11","v":-170777.33814647037},{"$f":"'6 Rendiconto Finanz'!L11","v":-174192.88490939979},{"$f":"'6 Rendiconto Finanz'!M11","v":-177676.7426075878},{"$f":"'6 Rendiconto Finanz'!N11","v":-181230.27745973956},{"$f":"'6 Rendiconto Finanz'!O11","v":0},{"$f":"'6 Rendiconto Finanz'!P11","v":0},{"$f":"'6 Rendiconto Finanz'!Q11","v":0},{"$f":"'6 Rendiconto Finanz'!R11","v":0},{"$f":"'6 Rendiconto Finanz'!S11","v":0},{"$f":"'6 Rendiconto Finanz'!T11","v":0},{"$f":"'6 Rendiconto Finanz'!U11","v":0},{"$f":"'6 Rendiconto Finanz'!V11","v":0},{"$f":"'6 Rendiconto Finanz'!W11","v":0},{"$f":"'6 Rendiconto Finanz'!X11","v":0},{"$f":"'6 Rendiconto Finanz'!Y11","v":0},{"$f":"'6 Rendiconto Finanz'!Z11","v":0},{"$f":"'6 Rendiconto Finanz'!AA11","v":0},{"$f":"'6 Rendiconto Finanz'!AB11","v":0},{"$f":"'6 Rendiconto Finanz'!AC11","v":0},{"$f":"'6 Rendiconto Finanz'!AD11","v":0},{"$f":"'6 Rendiconto Finanz'!AE11","v":0},{"$f":"'6 Rendiconto Finanz'!AF11","v":0},{"$f":"'6 Rendiconto Finanz'!AG11","v":0},{"$f":"'6 Rendiconto Finanz'!AH11","v":0},{"$f":"'6 Rendiconto Finanz'!AI11","v":0},{"$f":"'6 Rendiconto Finanz'!AJ11","v":0},{"$f":"'6 Rendiconto Finanz'!AK11","v":0},{"$f":"'6 Rendiconto Finanz'!AL11","v":0},{"$f":"'6 Rendiconto Finanz'!AM11","v":0},{"$f":"'6 Rendiconto Finanz'!AN11","v":0},{"$f":"'6 Rendiconto Finanz'!AO11","v":0},{"$f":"'6 Rendiconto Finanz'!AP11","v":0},{"$f":"'6 Rendiconto Finanz'!AQ11","v":0},{"$f":"'6 Rendiconto Finanz'!AR11","v":0},{"$f":"'6 Rendiconto Finanz'!AS11","v":0},{"$f":"'6 Rendiconto Finanz'!AT11","v":0},{"$f":"'6 Rendiconto Finanz'!AU11","v":0},{"$f":"'6 Rendiconto Finanz'!AV11","v":0},{"$f":"'6 Rendiconto Finanz'!AW11","v":0},{"$f":"'6 Rendiconto Finanz'!AX11","v":0},{"$f":"'6 Rendiconto Finanz'!AY11","v":0},{"$f":"'6 Rendiconto Finanz'!AZ11","v":0},{"$f":"'6 Rendiconto Finanz'!BA11","v":0},{"$f":"'6 Rendiconto Finanz'!BB11","v":0},{"$f":"'6 Rendiconto Finanz'!BC11","v":0},{"$f":"'6 Rendiconto Finanz'!BD11","v":0},{"$f":"'6 Rendiconto Finanz'!BE11","v":0},{"$f":"'6 Rendiconto Finanz'!BF11","v":0},{"$f":"'6 Rendiconto Finanz'!BG11","v":0},{"$f":"'6 Rendiconto Finanz'!BH11","v":0},{"$f":"'6 Rendiconto Finanz'!BI11","v":0},{"$f":"'6 Rendiconto Finanz'!BJ11","v":0},{"$f":"'6 Rendiconto Finanz'!BK11","v":0},{"$f":"'6 Rendiconto Finanz'!BL11","v":0}]
[null,{"$f":"'6 Rendiconto Finanz'!B12","v":"-"},{"$f":"'6 Rendiconto Finanz'!C12","v":"Canone di Concessione"},{"$f":"'6 Rendiconto Finanz'!D12","v":-65698.325998427143},{"$f":"'6 Rendiconto Finanz'!E12","v":-6000},{"$f":"'6 Rendiconto Finanz'!F12","v":-6120},{"$f":"'6 Rendiconto Finanz'!G12","v":-6242.4},{"$f":"'6 Rendiconto Finanz'!H12","v":-6367.2479999999996},{"$f":"'6 Rendiconto Finanz'!I12","v":-6494.5929599999999},{"$f":"'6 Rendiconto Finanz'!J12","v":-6624.4848191999999},{"$f":"'6 Rendiconto Finanz'!K12","v":-6756.9745155840001},{"$f":"'6 Rendiconto Finanz'!L12","v":-6892.1140058956798},{"$f":"'6 Rendiconto Finanz'!M12","v":-7029.9562860135948},{"$f":"'6 Rendiconto Finanz'!N12","v":-7170.5554117338661},{"$f":"'6 Rendiconto Finanz'!O12","v":0},{"$f":"'6 Rendiconto Finanz'!P12","v":0},{"$f":"'6 Rendiconto Finanz'!Q12","v":0},{"$f":"'6 Rendiconto Finanz'!R12","v":0},{"$f":"'6 Rendiconto Finanz'!S12","v":0},{"$f":"'6 Rendiconto Finanz'!T12","v":0},{"$f":"'6 Rendiconto Finanz'!U12","v":0},{"$f":"'6 Rendiconto Finanz'!V12","v":0},{"$f":"'6 Rendiconto Finanz'!W12","v":0},{"$f":"'6 Rendiconto Finanz'!X12","v":0},{"$f":"'6 Rendiconto Finanz'!Y12","v":0},{"$f":"'6 Rendiconto Finanz'!Z12","v":0},{"$f":"'6 Rendiconto Finanz'!AA12","v":0},{"$f":"'6 Rendiconto Finanz'!AB12","v":0},{"$f":"'6 Rendiconto Finanz'!AC12","v":0},{"$f":"'6 Rendiconto Finanz'!AD12","v":0},{"$f":"'6 Rendiconto Finanz'!AE12","v":0},{"$f":"'6 Rendiconto Finanz'!AF12","v":0},{"$f":"'6 Rendiconto Finanz'!AG12","v":0},{"$f":"'6 Rendiconto Finanz'!AH12","v":0},{"$f":"'6 Rendiconto Finanz'!AI12","v":0},{"$f":"'6 Rendiconto Finanz'!AJ12","v":0},{"$f":"'6 Rendiconto Finanz'!AK12","v":0},{"$f":"'6 Rendiconto Finanz'!AL12","v":0},{"$f":"'6 Rendiconto Finanz'!AM12","v":0},{"$f":"'6 Rendiconto Finanz'!AN12","v":0},{"$f":"'6 Rendiconto Finanz'!AO12","v":0},{"$f":"'6 Rendiconto Finanz'!AP12","v":0},{"$f":"'6 Rendiconto Finanz'!AQ12","v":0},{"$f":"'6 Rendiconto Finanz'!AR12","v":0},{"$f":"'6 Rendiconto Finanz'!AS12","v":0},{"$f":"'6 Rendiconto Finanz'!AT12","v":0},{"$f":"'6 Rendiconto Finanz'!AU12","v":0},{"$f":"'6 Rendiconto Finanz'!AV12","v":0},{"$f":"'6 Rendiconto Finanz'!AW12","v":0},{"$f":"'6 Rendiconto Finanz'!AX12","v":0},{"$f":"'6 Rendiconto Finanz'!AY12","v":0},{"$f":"'6 Rendiconto Finanz'!AZ12","v":0},{"$f":"'6 Rendiconto Finanz'!BA12","v":0},{"$f":"'6 Rendiconto Finanz'!BB12","v":0},{"$f":"'6 Rendiconto Finanz'!BC12","v":0},{"$f":"'6 Rendiconto Finanz'!BD12","v":0},{"$f":"'6 Rendiconto Finanz'!BE12","v":0},{"$f":"'6 Rendiconto Finanz'!BF12","v":0},{"$f":"'6 Rendiconto Finanz'!BG12","v":0},{"$f":"'6 Rendiconto Finanz'!BH12","v":0},{"$f":"'6 Rendiconto Finanz'!BI12","v":0},{"$f":"'6 Rendiconto Finanz'!BJ12","v":0},{"$f":"'6 Rendiconto Finanz'!BK12","v":0},{"$f":"'6 Rendiconto Finanz'!BL12","v":0}]
[null,{"$f":"'6 Rendiconto Finanz'!B13","v":"-"},{"$f":"'6 Rendiconto Finanz'!C13","v":"Manutenzioni ordinarie "},{"$f":"'6 Rendiconto Finanz'!D13","v":-176745.20621001461},{"$f":"'6 Rendiconto Finanz'!E13","v":-16141.526},{"$f":"'6 Rendiconto Finanz'!F13","v":-16464.356520000001},{"$f":"'6 Rendiconto Finanz'!G13","v":-16793.643650400001},{"$f":"'6 Rendiconto Finanz'!H13","v":-17129.516523407998},{"$f":"'6 Rendiconto Finanz'!I13","v":-17472.106853876161},{"$f":"'6 Rendiconto Finanz'!J13","v":-17821.548990953685},{"$f":"'6 Rendiconto Finanz'!K13","v":-18177.979970772758},{"$f":"'6 Rendiconto Finanz'!L13","v":-18541.539570188212},{"$f":"'6 Rendiconto Finanz'!M13","v":-18912.370361591977},{"$f":"'6 Rendiconto Finanz'!N13","v":-19290.617768823817},{"$f":"'6 Rendiconto Finanz'!O13","v":0},{"$f":"'6 Rendiconto Finanz'!P13","v":0},{"$f":"'6 Rendiconto Finanz'!Q13","v":0},{"$f":"'6 Rendiconto Finanz'!R13","v":0},{"$f":"'6 Rendiconto Finanz'!S13","v":0},{"$f":"'6 Rendiconto Finanz'!T13","v":0},{"$f":"'6 Rendiconto Finanz'!U13","v":0},{"$f":"'6 Rendiconto Finanz'!V13","v":0},{"$f":"'6 Rendiconto Finanz'!W13","v":0},{"$f":"'6 Rendiconto Finanz'!X13","v":0},{"$f":"'6 Rendiconto Finanz'!Y13","v":0},{"$f":"'6 Rendiconto Finanz'!Z13","v":0},{"$f":"'6 Rendiconto Finanz'!AA13","v":0},{"$f":"'6 Rendiconto Finanz'!AB13","v":0},{"$f":"'6 Rendiconto Finanz'!AC13","v":0},{"$f":"'6 Rendiconto Finanz'!AD13","v":0},{"$f":"'6 Rendiconto Finanz'!AE13","v":0},{"$f":"'6 Rendiconto Finanz'!AF13","v":0},{"$f":"'6 Rendiconto Finanz'!AG13","v":0},{"$f":"'6 Rendiconto Finanz'!AH13","v":0},{"$f":"'6 Rendiconto Finanz'!AI13","v":0},{"$f":"'6 Rendiconto Finanz'!AJ13","v":0},{"$f":"'6 Rendiconto Finanz'!AK13","v":0},{"$f":"'6 Rendiconto Finanz'!AL13","v":0},{"$f":"'6 Rendiconto Finanz'!AM13","v":0},{"$f":"'6 Rendiconto Finanz'!AN13","v":0},{"$f":"'6 Rendiconto Finanz'!AO13","v":0},{"$f":"'6 Rendiconto Finanz'!AP13","v":0},{"$f":"'6 Rendiconto Finanz'!AQ13","v":0},{"$f":"'6 Rendiconto Finanz'!AR13","v":0},{"$f":"'6 Rendiconto Finanz'!AS13","v":0},{"$f":"'6 Rendiconto Finanz'!AT13","v":0},{"$f":"'6 Rendiconto Finanz'!AU13","v":0},{"$f":"'6 Rendiconto Finanz'!AV13","v":0},{"$f":"'6 Rendiconto Finanz'!AW13","v":0},{"$f":"'6 Rendiconto Finanz'!AX13","v":0},{"$f":"'6 Rendiconto Finanz'!AY13","v":0},{"$f":"'6 Rendiconto Finanz'!AZ13","v":0},{"$f":"'6 Rendiconto Finanz'!BA13","v":0},{"$f":"'6 Rendiconto Finanz'!BB13","v":0},{"$f":"'6 Rendiconto Finanz'!BC13","v":0},{"$f":"'6 Rendiconto Finanz'!BD13","v":0},{"$f":"'6 Rendiconto Finanz'!BE13","v":0},{"$f":"'6 Rendiconto Finanz'!BF13","v":0},{"$f":"'6 Rendiconto Finanz'!BG13","v":0},{"$f":"'6 Rendiconto Finanz'!BH13","v":0},{"$f":"'6 Rendiconto Finanz'!BI13","v":0},{"$f":"'6 Rendiconto Finanz'!BJ13","v":0},{"$f":"'6 Rendiconto Finanz'!BK13","v":0},{"$f":"'6 Rendiconto Finanz'!BL13","v":0}]
[null," ","MARGINE OPERATIVO LORDO",{"$f":"SUM(E11:BL11)","v":371367.3108070945},{"$f":"'8 Indici'!F7","v":-29370.679999999978},{"$f":"'8 Indici'!G7","v":4719.866399999999},{"$f":"'8 Indici'!H7","v":46139.992127999991},{"$f":"'8 Indici'!I7","v":47062.791970560036},{"$f":"'8 Indici'!J7","v":48004.047809971169},{"$f":"'8 Indici'!K7","v":48964.128766170586},{"$f":"'8 Indici'!L7","v":49943.411341494058},{"$f":"'8 Indici'!M7","v":50942.279568323953},{"$f":"'8 Indici'!N7","v":51961.125159690448},{"$f":"'8 Indici'!O7","v":53000.347662884211},{"$f":"'8 Indici'!P7","v":0},{"$f":"'8 Indici'!Q7","v":0},{"$f":"'8 Indici'!R7","v":0},{"$f":"'8 Indici'!S7","v":0},{"$f":"'8 Indici'!T7","v":0},{"$f":"'8 Indici'!U7","v":0},{"$f":"'8 Indici'!V7","v":0},{"$f":"'8 Indici'!W7","v":0},{"$f":"'8 Indici'!X7","v":0},{"$f":"'8 Indici'!Y7","v":0},{"$f":"'8 Indici'!Z7","v":0},{"$f":"'8 Indici'!AA7","v":0},{"$f":"'8 Indici'!AB7","v":0},{"$f":"'8 Indici'!AC7","v":0},{"$f":"'8 Indici'!AD7","v":0},{"$f":"'8 Indici'!AE7","v":0},{"$f":"'8 Indici'!AF7","v":0},{"$f":"'8 Indici'!AG7","v":0},{"$f":"'8 Indici'!AH7","v":0},{"$f":"'8 Indici'!AI7","v":0},{"$f":"'8 Indici'!AJ7","v":0},{"$f":"'8 Indici'!AK7","v":0},{"$f":"'8 Indici'!AL7","v":0},{"$f":"'8 Indici'!AM7","v":0},{"$f":"'8 Indici'!AN7","v":0},{"$f":"'8 Indici'!AO7","v":0},{"$f":"'8 Indici'!AP7","v":0},{"$f":"'8 Indici'!AQ7","v":0},{"$f":"'8 Indici'!AR7","v":0},{"$f":"'8 Indici'!AS7","v":0},{"$f":"'8 Indici'!AT7","v":0},{"$f":"'8 Indici'!AU7","v":0},{"$f":"'8 Indici'!AV7","v":0},{"$f":"'8 Indici'!AW7","v":0},{"$f":"'8 Indici'!AX7","v":0},{"$f":"'8 Indici'!AY7","v":0},{"$f":"'8 Indici'!AZ7","v":0},{"$f":"'8 Indici'!BA7","v":0},{"$f":"'8 Indici'!BB7","v":0},{"$f":"'8 Indici'!BC7","v":0},{"$f":"'8 Indici'!BD7","v":0},{"$f":"'8 Indici'!BE7","v":0},{"$f":"'8 Indici'!BF7","v":0},{"$f":"'8 Indici'!BG7","v":0},{"$f":"'8 Indici'!BH7","v":0},{"$f":"'8 Indici'!BI7","v":0},{"$f":"'8 Indici'!BJ7","v":0},{"$f":"'8 Indici'!BK7","v":0},{"$f":"'8 Indici'!BL7","v":0},{"$f":"'8 Indici'!BM7","v":0}]
[null,{"$f":"'6 Rendiconto Finanz'!B16","v":"-"},{"$f":"'6 Rendiconto Finanz'!C16","v":"Rata ammortamento"},{"$f":"'6 Rendiconto Finanz'!D16","v":1.0000000000000007E-10},{"$f":"'6 Rendiconto Finanz'!E16","v":0},{"$f":"'6 Rendiconto Finanz'!F16","v":-1E-10},{"$f":"'6 Rendiconto Finanz'!G16","v":-1E-10},{"$f":"'6 Rendiconto Finanz'!H16","v":-1E-10},{"$f":"'6 Rendiconto Finanz'!I16","v":-1E-10},{"$f":"'6 Rendiconto Finanz'!J16","v":-1E-10},{"$f":"'6 Rendiconto Finanz'!K16","v":-1E-10},{"$f":"'6 Rendiconto Finanz'!L16","v":-9.9999999999999991E-11},{"$f":"'6 Rendiconto Finanz'!M16","v":-9.9999999999999991E-11},{"$f":"'6 Rendiconto Finanz'!N16","v":-9.9999999999999991E-11},{"$f":"'6 Rendiconto Finanz'!O16","v":-9.9999999999999991E-11},{"$f":"'6 Rendiconto Finanz'!P16","v":1.0999999999999999E-9},{"$f":"'6 Rendiconto Finanz'!Q16","v":0},{"$f":"'6 Rendiconto Finanz'!R16","v":0},{"$f":"'6 Rendiconto Finanz'!S16","v":0},{"$f":"'6 Rendiconto Finanz'!T16","v":0},{"$f":"'6 Rendiconto Finanz'!U16","v":0},{"$f":"'6 Rendiconto Finanz'!V16","v":0},{"$f":"'6 Rendiconto Finanz'!W16","v":0},{"$f":"'6 Rendiconto Finanz'!X16","v":0},{"$f":"'6 Rendiconto Finanz'!Y16","v":0},{"$f":"'6 Rendiconto Finanz'!Z16","v":0},{"$f":"'6 Rendiconto Finanz'!AA16","v":0},{"$f":"'6 Rendiconto Finanz'!AB16","v":0},{"$f":"'6 Rendiconto Finanz'!AC16","v":0},{"$f":"'6 Rendiconto Finanz'!AD16","v":0},{"$f":"'6 Rendiconto Finanz'!AE16","v":0},{"$f":"'6 Rendiconto Finanz'!AF16","v":0},{"$f":"'6 Rendiconto Finanz'!AG16","v":0},{"$f":"'6 Rendiconto Finanz'!AH16","v":0},{"$f":"'6 Rendiconto Finanz'!AI16","v":0},{"$f":"'6 Rendiconto Finanz'!AJ16","v":0},{"$f":"'6 Rendiconto Finanz'!AK16","v":0},{"$f":"'6 Rendiconto Finanz'!AL16","v":0},{"$f":"'6 Rendiconto Finanz'!AM16","v":0},{"$f":"'6 Rendiconto Finanz'!AN16","v":0},{"$f":"'6 Rendiconto Finanz'!AO16","v":0},{"$f":"'6 Rendiconto Finanz'!AP16","v":0},{"$f":"'6 Rendiconto Finanz'!AQ16","v":0},{"$f":"'6 Rendiconto Finanz'!AR16","v":0},{"$f":"'6 Rendiconto Finanz'!AS16","v":0},{"$f":"'6 Rendiconto Finanz'!AT16","v":0},{"$f":"'6 Rendiconto Finanz'!AU16","v":0},{"$f":"'6 Rendiconto Finanz'!AV16","v":0},{"$f":"'6 Rendiconto Finanz'!AW16","v":0},{"$f":"'6 Rendiconto Finanz'!AX16","v":0},{"$f":"'6 Rendiconto Finanz'!AY16","v":0},{"$f":"'6 Rendiconto Finanz'!AZ16","v":0},{"$f":"'6 Rendiconto Finanz'!BA16","v":0},{"$f":"'6 Rendiconto Finanz'!BB16","v":0},{"$f":"'6 Rendiconto Finanz'!BC16","v":0},{"$f":"'6 Rendiconto Finanz'!BD16","v":0},{"$f":"'6 Rendiconto Finanz'!BE16","v":0},{"$f":"'6 Rendiconto Finanz'!BF16","v":0},{"$f":"'6 Rendiconto Finanz'!BG16","v":0},{"$f":"'6 Rendiconto Finanz'!BH16","v":0},{"$f":"'6 Rendiconto Finanz'!BI16","v":0},{"$f":"'6 Rendiconto Finanz'!BJ16","v":0},{"$f":"'6 Rendiconto Finanz'!BK16","v":0},{"$f":"'6 Rendiconto Finanz'!BL16","v":0}]
[null,{"$f":"'6 Rendiconto Finanz'!B17","v":"-"},{"$f":"'6 Rendiconto Finanz'!C17","v":"Accantonamento Fondo O&MRA"},{"$f":"'6 Rendiconto Finanz'!D17","v":0},{"$f":"'6 Rendiconto Finanz'!E17","v":0},{"$f":"'6 Rendiconto Finanz'!F17","v":0},{"$f":"'6 Rendiconto Finanz'!G17","v":0},{"$f":"'6 Rendiconto Finanz'!H17","v":0},{"$f":"'6 Rendiconto Finanz'!I17","v":0},{"$f":"'6 Rendiconto Finanz'!J17","v":0},{"$f":"'6 Rendiconto Finanz'!K17","v":0},{"$f":"'6 Rendiconto Finanz'!L17","v":0},{"$f":"'6 Rendiconto Finanz'!M17","v":0},{"$f":"'6 Rendiconto Finanz'!N17","v":0},{"$f":"'6 Rendiconto Finanz'!O17","v":0},{"$f":"'6 Rendiconto Finanz'!P17","v":0},{"$f":"'6 Rendiconto Finanz'!Q17","v":0},{"$f":"'6 Rendiconto Finanz'!R17","v":0},{"$f":"'6 Rendiconto Finanz'!S17","v":0},{"$f":"'6 Rendiconto Finanz'!T17","v":0},{"$f":"'6 Rendiconto Finanz'!U17","v":0},{"$f":"'6 Rendiconto Finanz'!V17","v":0},{"$f":"'6 Rendiconto Finanz'!W17","v":0},{"$f":"'6 Rendiconto Finanz'!X17","v":0},{"$f":"'6 Rendiconto Finanz'!Y17","v":0},{"$f":"'6 Rendiconto Finanz'!Z17","v":0},{"$f":"'6 Rendiconto Finanz'!AA17","v":0},{"$f":"'6 Rendiconto Finanz'!AB17","v":0},{"$f":"'6 Rendiconto Finanz'!AC17","v":0},{"$f":"'6 Rendiconto Finanz'!AD17","v":0},{"$f":"'6 Rendiconto Finanz'!AE17","v":0},{"$f":"'6 Rendiconto Finanz'!AF17","v":0},{"$f":"'6 Rendiconto Finanz'!AG17","v":0},{"$f":"'6 Rendiconto Finanz'!AH17","v":0},{"$f":"'6 Rendiconto Finanz'!AI17","v":0},{"$f":"'6 Rendiconto Finanz'!AJ17","v":0},{"$f":"'6 Rendiconto Finanz'!AK17","v":0},{"$f":"'6 Rendiconto Finanz'!AL17","v":0},{"$f":"'6 Rendiconto Finanz'!AM17","v":0},{"$f":"'6 Rendiconto Finanz'!AN17","v":0},{"$f":"'6 Rendiconto Finanz'!AO17","v":0},{"$f":"'6 Rendiconto Finanz'!AP17","v":0},{"$f":"'6 Rendiconto Finanz'!AQ17","v":0},{"$f":"'6 Rendiconto Finanz'!AR17","v":0},{"$f":"'6 Rendiconto Finanz'!AS17","v":0},{"$f":"'6 Rendiconto Finanz'!AT17","v":0},{"$f":"'6 Rendiconto Finanz'!AU17","v":0},{"$f":"'6 Rendiconto Finanz'!AV17","v":0},{"$f":"'6 Rendiconto Finanz'!AW17","v":0},{"$f":"'6 Rendiconto Finanz'!AX17","v":0},{"$f":"'6 Rendiconto Finanz'!AY17","v":0},{"$f":"'6 Rendiconto Finanz'!AZ17","v":0},{"$f":"'6 Rendiconto Finanz'!BA17","v":0},{"$f":"'6 Rendiconto Finanz'!BB17","v":0},{"$f":"'6 Rendiconto Finanz'!BC17","v":0},{"$f":"'6 Rendiconto Finanz'!BD17","v":0},{"$f":"'6 Rendiconto Finanz'!BE17","v":0},{"$f":"'6 Rendiconto Finanz'!BF17","v":0},{"$f":"'6 Rendiconto Finanz'!BG17","v":0},{"$f":"'6 Rendiconto Finanz'!BH17","v":0},{"$f":"'6 Rendiconto Finanz'!BI17","v":0},{"$f":"'6 Rendiconto Finanz'!BJ17","v":0},{"$f":"'6 Rendiconto Finanz'!BK17","v":0},{"$f":"'6 Rendiconto Finanz'!BL17","v":0}]
[null,null,"MARGINE OPERATIVO NETTO",{"$f":"SUM(E14:BL14)","v":371367.31080709543},{"$f":"'8 Indici'!F8","v":-29370.679999999978},{"$f":"'8 Indici'!G8","v":4719.866400000099},{"$f":"'8 Indici'!H8","v":46139.992128000093},{"$f":"'8 Indici'!I8","v":47062.791970560138},{"$f":"'8 Indici'!J8","v":48004.047809971271},{"$f":"'8 Indici'!K8","v":48964.128766170688},{"$f":"'8 Indici'!L8","v":49943.41134149416},{"$f":"'8 Indici'!M8","v":50942.279568324055},{"$f":"'8 Indici'!N8","v":51961.125159690549},{"$f":"'8 Indici'!O8","v":53000.347662884313},{"$f":"'8 Indici'!P8","v":0},{"$f":"'8 Indici'!Q8","v":0},{"$f":"'8 Indici'!R8","v":0},{"$f":"'8 Indici'!S8","v":0},{"$f":"'8 Indici'!T8","v":0},{"$f":"'8 Indici'!U8","v":0},{"$f":"'8 Indici'!V8","v":0},{"$f":"'8 Indici'!W8","v":0},{"$f":"'8 Indici'!X8","v":0},{"$f":"'8 Indici'!Y8","v":0},{"$f":"'8 Indici'!Z8","v":0},{"$f":"'8 Indici'!AA8","v":0},{"$f":"'8 Indici'!AB8","v":0},{"$f":"'8 Indici'!AC8","v":0},{"$f":"'8 Indici'!AD8","v":0},{"$f":"'8 Indici'!AE8","v":0},{"$f":"'8 Indici'!AF8","v":0},{"$f":"'8 Indici'!AG8","v":0},{"$f":"'8 Indici'!AH8","v":0},{"$f":"'8 Indici'!AI8","v":0},{"$f":"'8 Indici'!AJ8","v":0},{"$f":"'8 Indici'!AK8","v":0},{"$f":"'8 Indici'!AL8","v":0},{"$f":"'8 Indici'!AM8","v":0},{"$f":"'8 Indici'!AN8","v":0},{"$f":"'8 Indici'!AO8","v":0},{"$f":"'8 Indici'!AP8","v":0},{"$f":"'8 Indici'!AQ8","v":0},{"$f":"'8 Indici'!AR8","v":0},{"$f":"'8 Indici'!AS8","v":0},{"$f":"'8 Indici'!AT8","v":0},{"$f":"'8 Indici'!AU8","v":0},{"$f":"'8 Indici'!AV8","v":0},{"$f":"'8 Indici'!AW8","v":0},{"$f":"'8 Indici'!AX8","v":0},{"$f":"'8 Indici'!AY8","v":0},{"$f":"'8 Indici'!AZ8","v":0},{"$f":"'8 Indici'!BA8","v":0},{"$f":"'8 Indici'!BB8","v":0},{"$f":"'8 Indici'!BC8","v":0},{"$f":"'8 Indici'!BD8","v":0},{"$f":"'8 Indici'!BE8","v":0},{"$f":"'8 Indici'!BF8","v":0},{"$f":"'8 Indici'!BG8","v":0},{"$f":"'8 Indici'!BH8","v":0},{"$f":"'8 Indici'!BI8","v":0},{"$f":"'8 Indici'!BJ8","v":0},{"$f":"'8 Indici'!BK8","v":0},{"$f":"'8 Indici'!BL8","v":0},{"$f":"'8 Indici'!BM8","v":0}]
[null,{"$f":"'6 Rendiconto Finanz'!B14","v":"-"},{"$f":"'6 Rendiconto Finanz'!C14","v":"Costi per nuove attrezzature e migliorie"},{"$f":"'6 Rendiconto Finanz'!D14","v":0},{"$f":"'6 Rendiconto Finanz'!E14","v":0},{"$f":"'6 Rendiconto Finanz'!F14","v":0},{"$f":"'6 Rendiconto Finanz'!G14","v":0},{"$f":"'6 Rendiconto Finanz'!H14","v":0},{"$f":"'6 Rendiconto Finanz'!I14","v":0},{"$f":"'6 Rendiconto Finanz'!J14","v":0},{"$f":"'6 Rendiconto Finanz'!K14","v":0},{"$f":"'6 Rendiconto Finanz'!L14","v":0},{"$f":"'6 Rendiconto Finanz'!M14","v":0},{"$f":"'6 Rendiconto Finanz'!N14","v":0},{"$f":"'6 Rendiconto Finanz'!O14","v":0},{"$f":"'6 Rendiconto Finanz'!P14","v":0},{"$f":"'6 Rendiconto Finanz'!Q14","v":0},{"$f":"'6 Rendiconto Finanz'!R14","v":0},{"$f":"'6 Rendiconto Finanz'!S14","v":0},{"$f":"'6 Rendiconto Finanz'!T14","v":0},{"$f":"'6 Rendiconto Finanz'!U14","v":0},{"$f":"'6 Rendiconto Finanz'!V14","v":0},{"$f":"'6 Rendiconto Finanz'!W14","v":0},{"$f":"'6 Rendiconto Finanz'!X14","v":0},{"$f":"'6 Rendiconto Finanz'!Y14","v":0},{"$f":"'6 Rendiconto Finanz'!Z14","v":0},{"$f":"'6 Rendiconto Finanz'!AA14","v":0},{"$f":"'6 Rendiconto Finanz'!AB14","v":0},{"$f":"'6 Rendiconto Finanz'!AC14","v":0},{"$f":"'6 Rendiconto Finanz'!AD14","v":0},{"$f":"'6 Rendiconto Finanz'!AE14","v":0},{"$f":"'6 Rendiconto Finanz'!AF14","v":0},{"$f":"'6 Rendiconto Finanz'!AG14","v":0},{"$f":"'6 Rendiconto Finanz'!AH14","v":0},{"$f":"'6 Rendiconto Finanz'!AI14","v":0},{"$f":"'6 Rendiconto Finanz'!AJ14","v":0},{"$f":"'6 Rendiconto Finanz'!AK14","v":0},{"$f":"'6 Rendiconto Finanz'!AL14","v":0},{"$f":"'6 Rendiconto Finanz'!AM14","v":0},{"$f":"'6 Rendiconto Finanz'!AN14","v":0},{"$f":"'6 Rendiconto Finanz'!AO14","v":0},{"$f":"'6 Rendiconto Finanz'!AP14","v":0},{"$f":"'6 Rendiconto Finanz'!AQ14","v":0},{"$f":"'6 Rendiconto Finanz'!AR14","v":0},{"$f":"'6 Rendiconto Finanz'!AS14","v":0},{"$f":"'6 Rendiconto Finanz'!AT14","v":0},{"$f":"'6 Rendiconto Finanz'!AU14","v":0},{"$f":"'6 Rendiconto Finanz'!AV14","v":0},{"$f":"'6 Rendiconto Finanz'!AW14","v":0},{"$f":"'6 Rendiconto Finanz'!AX14","v":0},{"$f":"'6 Rendiconto Finanz'!AY14","v":0},{"$f":"'6 Rendiconto Finanz'!AZ14","v":0},{"$f":"'6 Rendiconto Finanz'!BA14","v":0},{"$f":"'6 Rendiconto Finanz'!BB14","v":0},{"$f":"'6 Rendiconto Finanz'!BC14","v":0},{"$f":"'6 Rendiconto Finanz'!BD14","v":0},{"$f":"'6 Rendiconto Finanz'!BE14","v":0},{"$f":"'6 Rendiconto Finanz'!BF14","v":0},{"$f":"'6 Rendiconto Finanz'!BG14","v":0},{"$f":"'6 Rendiconto Finanz'!BH14","v":0},{"$f":"'6 Rendiconto Finanz'!BI14","v":0},{"$f":"'6 Rendiconto Finanz'!BJ14","v":0},{"$f":"'6 Rendiconto Finanz'!BK14","v":0},{"$f":"'6 Rendiconto Finanz'!BL14","v":0}]
[null,{"$f":"'6 Rendiconto Finanz'!B7","v":"+"},"Altri ricavi - imposte anticipate per acc.to a Fondo O&MRA",{"$f":"'6 Rendiconto Finanz'!D7","v":0},{"$f":"'6 Rendiconto Finanz'!E7","v":0},{"$f":"'6 Rendiconto Finanz'!F7","v":0},{"$f":"'6 Rendiconto Finanz'!G7","v":0},{"$f":"'6 Rendiconto Finanz'!H7","v":0},{"$f":"'6 Rendiconto Finanz'!I7","v":0},{"$f":"'6 Rendiconto Finanz'!J7","v":0},{"$f":"'6 Rendiconto Finanz'!K7","v":0},{"$f":"'6 Rendiconto Finanz'!L7","v":0},{"$f":"'6 Rendiconto Finanz'!M7","v":0},{"$f":"'6 Rendiconto Finanz'!N7","v":0},{"$f":"'6 Rendiconto Finanz'!O7","v":0},{"$f":"'6 Rendiconto Finanz'!P7","v":0},{"$f":"'6 Rendiconto Finanz'!Q7","v":0},{"$f":"'6 Rendiconto Finanz'!R7","v":0},{"$f":"'6 Rendiconto Finanz'!S7","v":0},{"$f":"'6 Rendiconto Finanz'!T7","v":0},{"$f":"'6 Rendiconto Finanz'!U7","v":0},{"$f":"'6 Rendiconto Finanz'!V7","v":0},{"$f":"'6 Rendiconto Finanz'!W7","v":0},{"$f":"'6 Rendiconto Finanz'!X7","v":0},{"$f":"'6 Rendiconto Finanz'!Y7","v":0},{"$f":"'6 Rendiconto Finanz'!Z7","v":0},{"$f":"'6 Rendiconto Finanz'!AA7","v":0},{"$f":"'6 Rendiconto Finanz'!AB7","v":0},{"$f":"'6 Rendiconto Finanz'!AC7","v":0},{"$f":"'6 Rendiconto Finanz'!AD7","v":0},{"$f":"'6 Rendiconto Finanz'!AE7","v":0},{"$f":"'6 Rendiconto Finanz'!AF7","v":0},{"$f":"'6 Rendiconto Finanz'!AG7","v":0},{"$f":"'6 Rendiconto Finanz'!AH7","v":0},{"$f":"'6 Rendiconto Finanz'!AI7","v":0},{"$f":"'6 Rendiconto Finanz'!AJ7","v":0},{"$f":"'6 Rendiconto Finanz'!AK7","v":0},{"$f":"'6 Rendiconto Finanz'!AL7","v":0},{"$f":"'6 Rendiconto Finanz'!AM7","v":0},{"$f":"'6 Rendiconto Finanz'!AN7","v":0},{"$f":"'6 Rendiconto Finanz'!AO7","v":0},{"$f":"'6 Rendiconto Finanz'!AP7","v":0},{"$f":"'6 Rendiconto Finanz'!AQ7","v":0},{"$f":"'6 Rendiconto Finanz'!AR7","v":0},{"$f":"'6 Rendiconto Finanz'!AS7","v":0},{"$f":"'6 Rendiconto Finanz'!AT7","v":0},{"$f":"'6 Rendiconto Finanz'!AU7","v":0},{"$f":"'6 Rendiconto Finanz'!AV7","v":0},{"$f":"'6 Rendiconto Finanz'!AW7","v":0},{"$f":"'6 Rendiconto Finanz'!AX7","v":0},{"$f":"'6 Rendiconto Finanz'!AY7","v":0},{"$f":"'6 Rendiconto Finanz'!AZ7","v":0},{"$f":"'6 Rendiconto Finanz'!BA7","v":0},{"$f":"'6 Rendiconto Finanz'!BB7","v":0},{"$f":"'6 Rendiconto Finanz'!BC7","v":0},{"$f":"'6 Rendiconto Finanz'!BD7","v":0},{"$f":"'6 Rendiconto Finanz'!BE7","v":0},{"$f":"'6 Rendiconto Finanz'!BF7","v":0},{"$f":"'6 Rendiconto Finanz'!BG7","v":0},{"$f":"'6 Rendiconto Finanz'!BH7","v":0},{"$f":"'6 Rendiconto Finanz'!BI7","v":0},{"$f":"'6 Rendiconto Finanz'!BJ7","v":0},{"$f":"'6 Rendiconto Finanz'!BK7","v":0},{"$f":"'6 Rendiconto Finanz'!BL7","v":0}]
[null,{"$f":"'6 Rendiconto Finanz'!B8","v":"+"},"Altri ricavi - da utilizzo Fondo O&MRA",{"$f":"'6 Rendiconto Finanz'!D8","v":0},{"$f":"'6 Rendiconto Finanz'!E8","v":0},{"$f":"'6 Rendiconto Finanz'!F8","v":0},{"$f":"'6 Rendiconto Finanz'!G8","v":0},{"$f":"'6 Rendiconto Finanz'!H8","v":0},{"$f":"'6 Rendiconto Finanz'!I8","v":0},{"$f":"'6 Rendiconto Finanz'!J8","v":0},{"$f":"'6 Rendiconto Finanz'!K8","v":0},{"$f":"'6 Rendiconto Finanz'!L8","v":0},{"$f":"'6 Rendiconto Finanz'!M8","v":0},{"$f":"'6 Rendiconto Finanz'!N8","v":0},{"$f":"'6 Rendiconto Finanz'!O8","v":0},{"$f":"'6 Rendiconto Finanz'!P8","v":0},{"$f":"'6 Rendiconto Finanz'!Q8","v":0},{"$f":"'6 Rendiconto Finanz'!R8","v":0},{"$f":"'6 Rendiconto Finanz'!S8","v":0},{"$f":"'6 Rendiconto Finanz'!T8","v":0},{"$f":"'6 Rendiconto Finanz'!U8","v":0},{"$f":"'6 Rendiconto Finanz'!V8","v":0},{"$f":"'6 Rendiconto Finanz'!W8","v":0},{"$f":"'6 Rendiconto Finanz'!X8","v":0},{"$f":"'6 Rendiconto Finanz'!Y8","v":0},{"$f":"'6 Rendiconto Finanz'!Z8","v":0},{"$f":"'6 Rendiconto Finanz'!AA8","v":0},{"$f":"'6 Rendiconto Finanz'!AB8","v":0},{"$f":"'6 Rendiconto Finanz'!AC8","v":0},{"$f":"'6 Rendiconto Finanz'!AD8","v":0},{"$f":"'6 Rendiconto Finanz'!AE8","v":0},{"$f":"'6 Rendiconto Finanz'!AF8","v":0},{"$f":"'6 Rendiconto Finanz'!AG8","v":0},{"$f":"'6 Rendiconto Finanz'!AH8","v":0},{"$f":"'6 Rendiconto Finanz'!AI8","v":0},{"$f":"'6 Rendiconto Finanz'!AJ8","v":0},{"$f":"'6 Rendiconto Finanz'!AK8","v":0},{"$f":"'6 Rendiconto Finanz'!AL8","v":0},{"$f":"'6 Rendiconto Finanz'!AM8","v":0},{"$f":"'6 Rendiconto Finanz'!AN8","v":0},{"$f":"'6 Rendiconto Finanz'!AO8","v":0},{"$f":"'6 Rendiconto Finanz'!AP8","v":0},{"$f":"'6 Rendiconto Finanz'!AQ8","v":0},{"$f":"'6 Rendiconto Finanz'!AR8","v":0},{"$f":"'6 Rendiconto Finanz'!AS8","v":0},{"$f":"'6 Rendiconto Finanz'!AT8","v":0},{"$f":"'6 Rendiconto Finanz'!AU8","v":0},{"$f":"'6 Rendiconto Finanz'!AV8","v":0},{"$f":"'6 Rendiconto Finanz'!AW8","v":0},{"$f":"'6 Rendiconto Finanz'!AX8","v":0},{"$f":"'6 Rendiconto Finanz'!AY8","v":0},{"$f":"'6 Rendiconto Finanz'!AZ8","v":0},{"$f":"'6 Rendiconto Finanz'!BA8","v":0},{"$f":"'6 Rendiconto Finanz'!BB8","v":0},{"$f":"'6 Rendiconto Finanz'!BC8","v":0},{"$f":"'6 Rendiconto Finanz'!BD8","v":0},{"$f":"'6 Rendiconto Finanz'!BE8","v":0},{"$f":"'6 Rendiconto Finanz'!BF8","v":0},{"$f":"'6 Rendiconto Finanz'!BG8","v":0},{"$f":"'6 Rendiconto Finanz'!BH8","v":0},{"$f":"'6 Rendiconto Finanz'!BI8","v":0},{"$f":"'6 Rendiconto Finanz'!BJ8","v":0},{"$f":"'6 Rendiconto Finanz'!BK8","v":0},{"$f":"'6 Rendiconto Finanz'!BL8","v":0}]
[null," ",{"$f":"'6 Rendiconto Finanz'!C18","v":"Reddito operativo aziendale - EBIT "},{"$f":"'6 Rendiconto Finanz'!D18","v":371367.31080709444},{"$f":"'6 Rendiconto Finanz'!E18","v":-29370.679999999978},{"$f":"'6 Rendiconto Finanz'!F18","v":4719.866400000099},{"$f":"'6 Rendiconto Finanz'!G18","v":46139.992128000093},{"$f":"'6 Rendiconto Finanz'!H18","v":47062.791970560138},{"$f":"'6 Rendiconto Finanz'!I18","v":48004.047809971271},{"$f":"'6 Rendiconto Finanz'!J18","v":48964.128766170688},{"$f":"'6 Rendiconto Finanz'!K18","v":49943.41134149416},{"$f":"'6 Rendiconto Finanz'!L18","v":50942.279568324055},{"$f":"'6 Rendiconto Finanz'!M18","v":51961.125159690549},{"$f":"'6 Rendiconto Finanz'!N18","v":53000.347662884313},{"$f":"'6 Rendiconto Finanz'!O18","v":9.9999999999999991E-11},{"$f":"'6 Rendiconto Finanz'!P18","v":-1.0999999999999999E-9},{"$f":"'6 Rendiconto Finanz'!Q18","v":0},{"$f":"'6 Rendiconto Finanz'!R18","v":0},{"$f":"'6 Rendiconto Finanz'!S18","v":0},{"$f":"'6 Rendiconto Finanz'!T18","v":0},{"$f":"'6 Rendiconto Finanz'!U18","v":0},{"$f":"'6 Rendiconto Finanz'!V18","v":0},{"$f":"'6 Rendiconto Finanz'!W18","v":0},{"$f":"'6 Rendiconto Finanz'!X18","v":0},{"$f":"'6 Rendiconto Finanz'!Y18","v":0},{"$f":"'6 Rendiconto Finanz'!Z18","v":0},{"$f":"'6 Rendiconto Finanz'!AA18","v":0},{"$f":"'6 Rendiconto Finanz'!AB18","v":0},{"$f":"'6 Rendiconto Finanz'!AC18","v":0},{"$f":"'6 Rendiconto Finanz'!AD18","v":0},{"$f":"'6 Rendiconto Finanz'!AE18","v":0},{"$f":"'6 Rendiconto Finanz'!AF18","v":0},{"$f":"'6 Rendiconto Finanz'!AG18","v":0},{"$f":"'6 Rendiconto Finanz'!AH18","v":0},{"$f":"'6 Rendiconto Finanz'!AI18","v":0},{"$f":"'6 Rendiconto Finanz'!AJ18","v":0},{"$f":"'6 Rendiconto Finanz'!AK18","v":0},{"$f":"'6 Rendiconto Finanz'!AL18","v":0},{"$f":"'6 Rendiconto Finanz'!AM18","v":0},{"$f":"'6 Rendiconto Finanz'!AN18","v":0},{"$f":"'6 Rendiconto Finanz'!AO18","v":0},{"$f":"'6 Rendiconto Finanz'!AP18","v":0},{"$f":"'6 Rendiconto Finanz'!AQ18","v":0},{"$f":"'6 Rendiconto Finanz'!AR18","v":0},{"$f":"'6 Rendiconto Finanz'!AS18","v":0},{"$f":"'6 Rendiconto Finanz'!AT18","v":0},{"$f":"'6 Rendiconto Finanz'!AU18","v":0},{"$f":"'6 Rendiconto Finanz'!AV18","v":0},{"$f":"'6 Rendiconto Finanz'!AW18","v":0},{"$f":"'6 Rendiconto Finanz'!AX18","v":0},{"$f":"'6 Rendiconto Finanz'!AY18","v":0},{"$f":"'6 Rendiconto Finanz'!AZ18","v":0},{"$f":"'6 Rendiconto Finanz'!BA18","v":0},{"$f":"'6 Rendiconto Finanz'!BB18","v":0},{"$f":"'6 Rendiconto Finanz'!BC18","v":0},{"$f":"'6 Rendiconto Finanz'!BD18","v":0},{"$f":"'6 Rendiconto Finanz'!BE18","v":0},{"$f":"'6 Rendiconto Finanz'!BF18","v":0},{"$f":"'6 Rendiconto Finanz'!BG18","v":0},{"$f":"'6 Rendiconto Finanz'!BH18","v":0},{"$f":"'6 Rendiconto Finanz'!BI18","v":0},{"$f":"'6 Rendiconto Finanz'!BJ18","v":0},{"$f":"'6 Rendiconto Finanz'!BK18","v":0},{"$f":"'6 Rendiconto Finanz'!BL18","v":0}]
[null," -","Oneri finanziari",{"$f":"'6 Rendiconto Finanz'!D55","v":-2.2000000000000003E-9},{"$f":"'6 Rendiconto Finanz'!E55","v":-6E-10},{"$f":"'6 Rendiconto Finanz'!F55","v":-1.1000000000000001E-9},{"$f":"'6 Rendiconto Finanz'!G55","v":-5.0000000000000003E-10},{"$f":"'6 Rendiconto Finanz'!H55","v":0},{"$f":"'6 Rendiconto Finanz'!I55","v":0},{"$f":"'6 Rendiconto Finanz'!J55","v":0},{"$f":"'6 Rendiconto Finanz'!K55","v":0},{"$f":"'6 Rendiconto Finanz'!L55","v":0},{"$f":"'6 Rendiconto Finanz'!M55","v":0},{"$f":"'6 Rendiconto Finanz'!N55","v":0},{"$f":"'6 Rendiconto Finanz'!O55","v":0},{"$f":"'6 Rendiconto Finanz'!P55","v":0},{"$f":"'6 Rendiconto Finanz'!Q55","v":0},{"$f":"'6 Rendiconto Finanz'!R55","v":0},{"$f":"'6 Rendiconto Finanz'!S55","v":0},{"$f":"'6 Rendiconto Finanz'!T55","v":0},{"$f":"'6 Rendiconto Finanz'!U55","v":0},{"$f":"'6 Rendiconto Finanz'!V55","v":0},{"$f":"'6 Rendiconto Finanz'!W55","v":0},{"$f":"'6 Rendiconto Finanz'!X55","v":0},{"$f":"'6 Rendiconto Finanz'!Y55","v":0},{"$f":"'6 Rendiconto Finanz'!Z55","v":0},{"$f":"'6 Rendiconto Finanz'!AA55","v":0},{"$f":"'6 Rendiconto Finanz'!AB55","v":0},{"$f":"'6 Rendiconto Finanz'!AC55","v":0},{"$f":"'6 Rendiconto Finanz'!AD55","v":0},{"$f":"'6 Rendiconto Finanz'!AE55","v":0},{"$f":"'6 Rendiconto Finanz'!AF55","v":0},{"$f":"'6 Rendiconto Finanz'!AG55","v":0},{"$f":"'6 Rendiconto Finanz'!AH55","v":0},{"$f":"'6 Rendiconto Finanz'!AI55","v":0},{"$f":"'6 Rendiconto Finanz'!AJ55","v":0},{"$f":"'6 Rendiconto Finanz'!AK55","v":0},{"$f":"'6 Rendiconto Finanz'!AL55","v":0},{"$f":"'6 Rendiconto Finanz'!AM55","v":0},{"$f":"'6 Rendiconto Finanz'!AN55","v":0},{"$f":"'6 Rendiconto Finanz'!AO55","v":0},{"$f":"'6 Rendiconto Finanz'!AP55","v":0},{"$f":"'6 Rendiconto Finanz'!AQ55","v":0},{"$f":"'6 Rendiconto Finanz'!AR55","v":0},{"$f":"'6 Rendiconto Finanz'!AS55","v":0},{"$f":"'6 Rendiconto Finanz'!AT55","v":0},{"$f":"'6 Rendiconto Finanz'!AU55","v":0},{"$f":"'6 Rendiconto Finanz'!AV55","v":0},{"$f":"'6 Rendiconto Finanz'!AW55","v":0},{"$f":"'6 Rendiconto Finanz'!AX55","v":0},{"$f":"'6 Rendiconto Finanz'!AY55","v":0},{"$f":"'6 Rendiconto Finanz'!AZ55","v":0},{"$f":"'6 Rendiconto Finanz'!BA55","v":0},{"$f":"'6 Rendiconto Finanz'!BB55","v":0},{"$f":"'6 Rendiconto Finanz'!BC55","v":0},{"$f":"'6 Rendiconto Finanz'!BD55","v":0},{"$f":"'6 Rendiconto Finanz'!BE55","v":0},{"$f":"'6 Rendiconto Finanz'!BF55","v":0},{"$f":"'6 Rendiconto Finanz'!BG55","v":0},{"$f":"'6 Rendiconto Finanz'!BH55","v":0},{"$f":"'6 Rendiconto Finanz'!BI55","v":0},{"$f":"'6 Rendiconto Finanz'!BJ55","v":0},{"$f":"'6 Rendiconto Finanz'!BK55","v":0},{"$f":"'6 Rendiconto Finanz'!BL55","v":0}]
[null," +","Proventi finanziari",{"$f":"'6 Rendiconto Finanz'!D60","v":0},{"$f":"'6 Rendiconto Finanz'!E60","v":0},{"$f":"'6 Rendiconto Finanz'!F60","v":0},{"$f":"'6 Rendiconto Finanz'!G60","v":0},{"$f":"'6 Rendiconto Finanz'!H60","v":0},{"$f":"'6 Rendiconto Finanz'!I60","v":0},{"$f":"'6 Rendiconto Finanz'!J60","v":0},{"$f":"'6 Rendiconto Finanz'!K60","v":0},{"$f":"'6 Rendiconto Finanz'!L60","v":0},{"$f":"'6 Rendiconto Finanz'!M60","v":0},{"$f":"'6 Rendiconto Finanz'!N60","v":0},{"$f":"'6 Rendiconto Finanz'!O60","v":0},{"$f":"'6 Rendiconto Finanz'!P60","v":0},{"$f":"'6 Rendiconto Finanz'!Q60","v":0},{"$f":"'6 Rendiconto Finanz'!R60","v":0},{"$f":"'6 Rendiconto Finanz'!S60","v":0},{"$f":"'6 Rendiconto Finanz'!T60","v":0},{"$f":"'6 Rendiconto Finanz'!U60","v":0},{"$f":"'6 Rendiconto Finanz'!V60","v":0},{"$f":"'6 Rendiconto Finanz'!W60","v":0},{"$f":"'6 Rendiconto Finanz'!X60","v":0},{"$f":"'6 Rendiconto Finanz'!Y60","v":0},{"$f":"'6 Rendiconto Finanz'!Z60","v":0},{"$f":"'6 Rendiconto Finanz'!AA60","v":0},{"$f":"'6 Rendiconto Finanz'!AB60","v":0},{"$f":"'6 Rendiconto Finanz'!AC60","v":0},{"$f":"'6 Rendiconto Finanz'!AD60","v":0},{"$f":"'6 Rendiconto Finanz'!AE60","v":0},{"$f":"'6 Rendiconto Finanz'!AF60","v":0},{"$f":"'6 Rendiconto Finanz'!AG60","v":0},{"$f":"'6 Rendiconto Finanz'!AH60","v":0},{"$f":"'6 Rendiconto Finanz'!AI60","v":0},{"$f":"'6 Rendiconto Finanz'!AJ60","v":0},{"$f":"'6 Rendiconto Finanz'!AK60","v":0},{"$f":"'6 Rendiconto Finanz'!AL60","v":0},{"$f":"'6 Rendiconto Finanz'!AM60","v":0},{"$f":"'6 Rendiconto Finanz'!AN60","v":0},{"$f":"'6 Rendiconto Finanz'!AO60","v":0},{"$f":"'6 Rendiconto Finanz'!AP60","v":0},{"$f":"'6 Rendiconto Finanz'!AQ60","v":0},{"$f":"'6 Rendiconto Finanz'!AR60","v":0},{"$f":"'6 Rendiconto Finanz'!AS60","v":0},{"$f":"'6 Rendiconto Finanz'!AT60","v":0},{"$f":"'6 Rendiconto Finanz'!AU60","v":0},{"$f":"'6 Rendiconto Finanz'!AV60","v":0},{"$f":"'6 Rendiconto Finanz'!AW60","v":0},{"$f":"'6 Rendiconto Finanz'!AX60","v":0},{"$f":"'6 Rendiconto Finanz'!AY60","v":0},{"$f":"'6 Rendiconto Finanz'!AZ60","v":0},{"$f":"'6 Rendiconto Finanz'!BA60","v":0},{"$f":"'6 Rendiconto Finanz'!BB60","v":0},{"$f":"'6 Rendiconto Finanz'!BC60","v":0},{"$f":"'6 Rendiconto Finanz'!BD60","v":0},{"$f":"'6 Rendiconto Finanz'!BE60","v":0},{"$f":"'6 Rendiconto Finanz'!BF60","v":0},{"$f":"'6 Rendiconto Finanz'!BG60","v":0},{"$f":"'6 Rendiconto Finanz'!BH60","v":0},{"$f":"'6 Rendiconto Finanz'!BI60","v":0},{"$f":"'6 Rendiconto Finanz'!BJ60","v":0},{"$f":"'6 Rendiconto Finanz'!BK60","v":0},{"$f":"'6 Rendiconto Finanz'!BL60","v":0}]
[null," ",{"$f":"'6 Rendiconto Finanz'!C19","v":"Reddito Operativo "},{"$f":"'6 Rendiconto Finanz'!D19","v":371367.31080709223},{"$f":"'6 Rendiconto Finanz'!E19","v":-29370.680000000579},{"$f":"'6 Rendiconto Finanz'!F19","v":4719.8663999989994},{"$f":"'6 Rendiconto Finanz'!G19","v":46139.992127999591},{"$f":"'6 Rendiconto Finanz'!H19","v":47062.791970560138},{"$f":"'6 Rendiconto Finanz'!I19","v":48004.047809971271},{"$f":"'6 Rendiconto Finanz'!J19","v":48964.128766170688},{"$f":"'6 Rendiconto Finanz'!K19","v":49943.41134149416},{"$f":"'6 Rendiconto Finanz'!L19","v":50942.279568324055},{"$f":"'6 Rendiconto Finanz'!M19","v":51961.125159690549},{"$f":"'6 Rendiconto Finanz'!N19","v":53000.347662884313},{"$f":"'6 Rendiconto Finanz'!O19","v":9.9999999999999991E-11},{"$f":"'6 Rendiconto Finanz'!P19","v":-1.0999999999999999E-9},{"$f":"'6 Rendiconto Finanz'!Q19","v":0},{"$f":"'6 Rendiconto Finanz'!R19","v":0},{"$f":"'6 Rendiconto Finanz'!S19","v":0},{"$f":"'6 Rendiconto Finanz'!T19","v":0},{"$f":"'6 Rendiconto Finanz'!U19","v":0},{"$f":"'6 Rendiconto Finanz'!V19","v":0},{"$f":"'6 Rendiconto Finanz'!W19","v":0},{"$f":"'6 Rendiconto Finanz'!X19","v":0},{"$f":"'6 Rendiconto Finanz'!Y19","v":0},{"$f":"'6 Rendiconto Finanz'!Z19","v":0},{"$f":"'6 Rendiconto Finanz'!AA19","v":0},{"$f":"'6 Rendiconto Finanz'!AB19","v":0},{"$f":"'6 Rendiconto Finanz'!AC19","v":0},{"$f":"'6 Rendiconto Finanz'!AD19","v":0},{"$f":"'6 Rendiconto Finanz'!AE19","v":0},{"$f":"'6 Rendiconto Finanz'!AF19","v":0},{"$f":"'6 Rendiconto Finanz'!AG19","v":0},{"$f":"'6 Rendiconto Finanz'!AH19","v":0},{"$f":"'6 Rendiconto Finanz'!AI19","v":0},{"$f":"'6 Rendiconto Finanz'!AJ19","v":0},{"$f":"'6 Rendiconto Finanz'!AK19","v":0},{"$f":"'6 Rendiconto Finanz'!AL19","v":0},{"$f":"'6 Rendiconto Finanz'!AM19","v":0},{"$f":"'6 Rendiconto Finanz'!AN19","v":0},{"$f":"'6 Rendiconto Finanz'!AO19","v":0},{"$f":"'6 Rendiconto Finanz'!AP19","v":0},{"$f":"'6 Rendiconto Finanz'!AQ19","v":0},{"$f":"'6 Rendiconto Finanz'!AR19","v":0},{"$f":"'6 Rendiconto Finanz'!AS19","v":0},{"$f":"'6 Rendiconto Finanz'!AT19","v":0},{"$f":"'6 Rendiconto Finanz'!AU19","v":0},{"$f":"'6 Rendiconto Finanz'!AV19","v":0},{"$f":"'6 Rendiconto Finanz'!AW19","v":0},{"$f":"'6 Rendiconto Finanz'!AX19","v":0},{"$f":"'6 Rendiconto Finanz'!AY19","v":0},{"$f":"'6 Rendiconto Finanz'!AZ19","v":0},{"$f":"'6 Rendiconto Finanz'!BA19","v":0},{"$f":"'6 Rendiconto Finanz'!BB19","v":0},{"$f":"'6 Rendiconto Finanz'!BC19","v":0},{"$f":"'6 Rendiconto Finanz'!BD19","v":0},{"$f":"'6 Rendiconto Finanz'!BE19","v":0},{"$f":"'6 Rendiconto Finanz'!BF19","v":0},{"$f":"'6 Rendiconto Finanz'!BG19","v":0},{"$f":"'6 Rendiconto Finanz'!BH19","v":0},{"$f":"'6 Rendiconto Finanz'!BI19","v":0},{"$f":"'6 Rendiconto Finanz'!BJ19","v":0},{"$f":"'6 Rendiconto Finanz'!BK19","v":0},{"$f":"'6 Rendiconto Finanz'!BL19","v":0}]
[null,{"$f":"'6 Rendiconto Finanz'!B20","v":"-"},{"$f":"'6 Rendiconto Finanz'!C20","v":"Imposte sul reddito netto operativo "},{"$f":"'6 Rendiconto Finanz'!D20","v":-111055.73236302572},{"$f":"'6 Rendiconto Finanz'!E20","v":0},{"$f":"'6 Rendiconto Finanz'!F20","v":-241.65715968000509},{"$f":"'6 Rendiconto Finanz'!G20","v":-8929.5630836731543},{"$f":"'6 Rendiconto Finanz'!H20","v":-13704.685021827112},{"$f":"'6 Rendiconto Finanz'!I20","v":-13978.778722263634},{"$f":"'6 Rendiconto Finanz'!J20","v":-14258.354296708905},{"$f":"'6 Rendiconto Finanz'!K20","v":-14543.521382643099},{"$f":"'6 Rendiconto Finanz'!L20","v":-14834.391810295965},{"$f":"'6 Rendiconto Finanz'!M20","v":-15131.079646501888},{"$f":"'6 Rendiconto Finanz'!N20","v":-15433.701239431914},{"$f":"'6 Rendiconto Finanz'!O20","v":-2.9119999999999999E-11},{"$f":"'6 Rendiconto Finanz'!P20","v":0},{"$f":"'6 Rendiconto Finanz'!Q20","v":0},{"$f":"'6 Rendiconto Finanz'!R20","v":0},{"$f":"'6 Rendiconto Finanz'!S20","v":0},{"$f":"'6 Rendiconto Finanz'!T20","v":0},{"$f":"'6 Rendiconto Finanz'!U20","v":0},{"$f":"'6 Rendiconto Finanz'!V20","v":0},{"$f":"'6 Rendiconto Finanz'!W20","v":0},{"$f":"'6 Rendiconto Finanz'!X20","v":0},{"$f":"'6 Rendiconto Finanz'!Y20","v":0},{"$f":"'6 Rendiconto Finanz'!Z20","v":0},{"$f":"'6 Rendiconto Finanz'!AA20","v":0},{"$f":"'6 Rendiconto Finanz'!AB20","v":0},{"$f":"'6 Rendiconto Finanz'!AC20","v":0},{"$f":"'6 Rendiconto Finanz'!AD20","v":0},{"$f":"'6 Rendiconto Finanz'!AE20","v":0},{"$f":"'6 Rendiconto Finanz'!AF20","v":0},{"$f":"'6 Rendiconto Finanz'!AG20","v":0},{"$f":"'6 Rendiconto Finanz'!AH20","v":0},{"$f":"'6 Rendiconto Finanz'!AI20","v":0},{"$f":"'6 Rendiconto Finanz'!AJ20","v":0},{"$f":"'6 Rendiconto Finanz'!AK20","v":0},{"$f":"'6 Rendiconto Finanz'!AL20","v":0},{"$f":"'6 Rendiconto Finanz'!AM20","v":0},{"$f":"'6 Rendiconto Finanz'!AN20","v":0},{"$f":"'6 Rendiconto Finanz'!AO20","v":0},{"$f":"'6 Rendiconto Finanz'!AP20","v":0},{"$f":"'6 Rendiconto Finanz'!AQ20","v":0},{"$f":"'6 Rendiconto Finanz'!AR20","v":0},{"$f":"'6 Rendiconto Finanz'!AS20","v":0},{"$f":"'6 Rendiconto Finanz'!AT20","v":0},{"$f":"'6 Rendiconto Finanz'!AU20","v":0},{"$f":"'6 Rendiconto Finanz'!AV20","v":0},{"$f":"'6 Rendiconto Finanz'!AW20","v":0},{"$f":"'6 Rendiconto Finanz'!AX20","v":0},{"$f":"'6 Rendiconto Finanz'!AY20","v":0},{"$f":"'6 Rendiconto Finanz'!AZ20","v":0},{"$f":"'6 Rendiconto Finanz'!BA20","v":0},{"$f":"'6 Rendiconto Finanz'!BB20","v":0},{"$f":"'6 Rendiconto Finanz'!BC20","v":0},{"$f":"'6 Rendiconto Finanz'!BD20","v":0},{"$f":"'6 Rendiconto Finanz'!BE20","v":0},{"$f":"'6 Rendiconto Finanz'!BF20","v":0},{"$f":"'6 Rendiconto Finanz'!BG20","v":0},{"$f":"'6 Rendiconto Finanz'!BH20","v":0},{"$f":"'6 Rendiconto Finanz'!BI20","v":0},{"$f":"'6 Rendiconto Finanz'!BJ20","v":0},{"$f":"'6 Rendiconto Finanz'!BK20","v":0},{"$f":"'6 Rendiconto Finanz'!BL20","v":0}]
[null,{"$f":"'6 Rendiconto Finanz'!B21","v":"+ / -"},{"$f":"'6 Rendiconto Finanz'!C21","v":"Utile Netto /Perdita"},{"$f":"'6 Rendiconto Finanz'!D21","v":260311.57844406646},{"$f":"'6 Rendiconto Finanz'!E21","v":-29370.680000000579},{"$f":"'6 Rendiconto Finanz'!F21","v":4478.2092403189945},{"$f":"'6 Rendiconto Finanz'!G21","v":37210.429044326433},{"$f":"'6 Rendiconto Finanz'!H21","v":33358.106948733024},{"$f":"'6 Rendiconto Finanz'!I21","v":34025.269087707638},{"$f":"'6 Rendiconto Finanz'!J21","v":34705.774469461787},{"$f":"'6 Rendiconto Finanz'!K21","v":35399.889958851061},{"$f":"'6 Rendiconto Finanz'!L21","v":36107.88775802809},{"$f":"'6 Rendiconto Finanz'!M21","v":36830.045513188663},{"$f":"'6 Rendiconto Finanz'!N21","v":37566.646423452403},{"$f":"'6 Rendiconto Finanz'!O21","v":7.0879999999999992E-11},{"$f":"'6 Rendiconto Finanz'!P21","v":-1.0999999999999999E-9},{"$f":"'6 Rendiconto Finanz'!Q21","v":0},{"$f":"'6 Rendiconto Finanz'!R21","v":0},{"$f":"'6 Rendiconto Finanz'!S21","v":0},{"$f":"'6 Rendiconto Finanz'!T21","v":0},{"$f":"'6 Rendiconto Finanz'!U21","v":0},{"$f":"'6 Rendiconto Finanz'!V21","v":0},{"$f":"'6 Rendiconto Finanz'!W21","v":0},{"$f":"'6 Rendiconto Finanz'!X21","v":0},{"$f":"'6 Rendiconto Finanz'!Y21","v":0},{"$f":"'6 Rendiconto Finanz'!Z21","v":0},{"$f":"'6 Rendiconto Finanz'!AA21","v":0},{"$f":"'6 Rendiconto Finanz'!AB21","v":0},{"$f":"'6 Rendiconto Finanz'!AC21","v":0},{"$f":"'6 Rendiconto Finanz'!AD21","v":0},{"$f":"'6 Rendiconto Finanz'!AE21","v":0},{"$f":"'6 Rendiconto Finanz'!AF21","v":0},{"$f":"'6 Rendiconto Finanz'!AG21","v":0},{"$f":"'6 Rendiconto Finanz'!AH21","v":0},{"$f":"'6 Rendiconto Finanz'!AI21","v":0},{"$f":"'6 Rendiconto Finanz'!AJ21","v":0},{"$f":"'6 Rendiconto Finanz'!AK21","v":0},{"$f":"'6 Rendiconto Finanz'!AL21","v":0},{"$f":"'6 Rendiconto Finanz'!AM21","v":0},{"$f":"'6 Rendiconto Finanz'!AN21","v":0},{"$f":"'6 Rendiconto Finanz'!AO21","v":0},{"$f":"'6 Rendiconto Finanz'!AP21","v":0},{"$f":"'6 Rendiconto Finanz'!AQ21","v":0},{"$f":"'6 Rendiconto Finanz'!AR21","v":0},{"$f":"'6 Rendiconto Finanz'!AS21","v":0},{"$f":"'6 Rendiconto Finanz'!AT21","v":0},{"$f":"'6 Rendiconto Finanz'!AU21","v":0},{"$f":"'6 Rendiconto Finanz'!AV21","v":0},{"$f":"'6 Rendiconto Finanz'!AW21","v":0},{"$f":"'6 Rendiconto Finanz'!AX21","v":0},{"$f":"'6 Rendiconto Finanz'!AY21","v":0},{"$f":"'6 Rendiconto Finanz'!AZ21","v":0},{"$f":"'6 Rendiconto Finanz'!BA21","v":0},{"$f":"'6 Rendiconto Finanz'!BB21","v":0},{"$f":"'6 Rendiconto Finanz'!BC21","v":0},{"$f":"'6 Rendiconto Finanz'!BD21","v":0},{"$f":"'6 Rendiconto Finanz'!BE21","v":0},{"$f":"'6 Rendiconto Finanz'!BF21","v":0},{"$f":"'6 Rendiconto Finanz'!BG21","v":0},{"$f":"'6 Rendiconto Finanz'!BH21","v":0},{"$f":"'6 Rendiconto Finanz'!BI21","v":0},{"$f":"'6 Rendiconto Finanz'!BJ21","v":0},{"$f":"'6 Rendiconto Finanz'!BK21","v":0},{"$f":"'6 Rendiconto Finanz'!BL21","v":0}]

{"sheet":"7 Stato-Patr","index":11,"n_rows":57,"n_cols":71,"rows_kept":57,"cut":false,"hidden":false,"merged":[[44,2,44,7],[0,44,0,49],[0,50,0,55],[0,56,0,61],[0,14,0,19],[0,20,0,25],[0,26,0,31],[0,32,0,37],[0,38,0,43],[0,8,0,11],[0,2,0,7]]}
[null,"7 - Stato Patrimoniale Riclassificato",{"$f":"'2 Descrizione Progetto'!$C$4","v":"Concessione per l'affidamento dei lavori di efficientamento energetico della piscina comunale e del successivo servizio di gestione dell'impianto natatorio "},null,null,null,null,null,{"$f":"'2 Descrizione Progetto'!$C$3","v":"Comune di Guardiagrele"},null,null,null,null,null,{"$f":"#REF!","v":{"$error":"#REF!"}},null,null,null,null,null,{"$f":"O1","v":{"$error":"#REF!"}},null,null,null,null,null,{"$f":"U1","v":{"$error":"#REF!"}},null,null,null,null,null,{"$f":"AA1","v":{"$error":"#REF!"}},null,null,null,null,null,{"$f":"AG1","v":{"$error":"#REF!"}},null,null,null,null,null,{"$f":"AM1","v":{"$error":"#REF!"}},null,null,null,null,null,{"$f":"AS1","v":{"$error":"#REF!"}},null,null,null,null,null,{"$f":"AY1","v":{"$error":"#REF!"}}]
[null,null,{"$f":"'6 Rendiconto Finanz'!E4","v":1},{"$f":"'6 Rendiconto Finanz'!F4","v":2},{"$f":"'6 Rendiconto Finanz'!G4","v":3},{"$f":"'6 Rendiconto Finanz'!H4","v":4},{"$f":"'6 Rendiconto Finanz'!I4","v":5},{"$f":"'6 Rendiconto Finanz'!J4","v":6},{"$f":"'6 Rendiconto Finanz'!K4","v":7},{"$f":"'6 Rendiconto Finanz'!L4","v":8},{"$f":"'6 Rendiconto Finanz'!M4","v":9},{"$f":"'6 Rendiconto Finanz'!N4","v":10},{"$f":"'6 Rendiconto Finanz'!O4","v":11},{"$f":"'6 Rendiconto Finanz'!P4","v":"0"},{"$f":"'6 Rendiconto Finanz'!Q4","v":"0"},{"$f":"'6 Rendiconto Finanz'!R4","v":"0"},{"$f":"'6 Rendiconto Finanz'!S4","v":"0"},{"$f":"'6 Rendiconto Finanz'!T4","v":"0"},{"$f":"'6 Rendiconto Finanz'!U4","v":"0"},{"$f":"'6 Rendiconto Finanz'!V4","v":"0"},{"$f":"'6 Rendiconto Finanz'!W4","v":"0"},{"$f":"'6 Rendiconto Finanz'!X4","v":"0"},{"$f":"'6 Rendiconto Finanz'!Y4","v":"0"},{"$f":"'6 Rendiconto Finanz'!Z4","v":"0"},{"$f":"'6 Rendiconto Finanz'!AA4","v":"0"},{"$f":"'6 Rendiconto Finanz'!AB4","v":"0"},{"$f":"'6 Rendiconto Finanz'!AC4","v":"0"},{"$f":"'6 Rendiconto Finanz'!AD4","v":"0"},{"$f":"'6 Rendiconto Finanz'!AE4","v":"0"},{"$f":"'6 Rendiconto Finanz'!AF4","v":"0"},{"$f":"'6 Rendiconto Finanz'!AG4","v":"0"},{"$f":"'6 Rendiconto Finanz'!AH4","v":"0"},{"$f":"'6 Rendiconto Finanz'!AI4","v":"0"},{"$f":"'6 Rendiconto Finanz'!AJ4","v":"0"},{"$f":"'6 Rendiconto Finanz'!AK4","v":"0"},{"$f":"'6 Rendiconto Finanz'!AL4","v":"0"},{"$f":"'6 Rendiconto Finanz'!AM4","v":"0"},{"$f":"'6 Rendiconto Finanz'!AN4","v":"0"},{"$f":"'6 Rendiconto Finanz'!AO4","v":"0"},{"$f":"'6 Rendiconto Finanz'!AP4","v":"0"},{"$f":"'6 Rendiconto Finanz'!AQ4","v":"0"},{"$f":"'6 Rendiconto Finanz'!AR4","v":"0"},{"$f":"'6 Rendiconto Finanz'!AS4","v":"0"},{"$f":"'6 Rendiconto Finanz'!AT4","v":"0"},{"$f":"'6 Rendiconto Finanz'!AU4","v":"0"},{"$f":"'6 Rendiconto Finanz'!AV4","v":"0"},{"$f":"'6 Rendiconto Finanz'!AW4","v":"0"},{"$f":"'6 Rendiconto Finanz'!AX4","v":"0"},{"$f":"'6 Rendiconto Finanz'!AY4","v":"0"},{"$f":"'6 Rendiconto Finanz'!AZ4","v":"0"},{"$f":"'6 Rendiconto Finanz'!BA4","v":"0"},{"$f":"'6 Rendiconto Finanz'!BB4","v":"0"},{"$f":"'6 Rendiconto Finanz'!BC4","v":"0"},{"$f":"'6 Rendiconto Finanz'!BD4","v":"0"},{"$f":"'6 Rendiconto Finanz'!BE4","v":"0"},{"$f":"'6 Rendiconto Finanz'!BF4","v":"0"},{"$f":"'6 Rendiconto Finanz'!BG4","v":"0"},{"$f":"'6 Rendiconto Finanz'!BH4","v":"0"},{"$f":"'6 Rendiconto Finanz'!BI4","v":"0"},{"$f":"'6 Rendiconto Finanz'!BJ4","v":"0"},{"$f":"'6 Rendiconto Finanz'!BK4","v":"0"},{"$f":"'6 Rendiconto Finanz'!BL4","v":"0"}]
[null," ","Importi/Euro","Importi/Euro","Importi/Euro","Importi/Euro","Importi/Euro","Importi/Euro","Importi/Euro","Importi/Euro","Importi/Euro","Importi/Euro","Importi/Euro","Importi/Euro","Importi/Euro","Importi/Euro","Importi/Euro","Importi/Euro","Importi/Euro","Importi/Euro","Importi/Euro","Importi/Euro","Importi/Euro","Importi/Euro","Importi/Euro","Importi/Euro","Importi/Euro","Importi/Euro","Importi/Euro","Importi/Euro","Importi/Euro","Importi/Euro","Importi/Euro","Importi/Euro","Importi/Euro","Importi/Euro","Importi/Euro","Importi/Euro","Importi/Euro","Importi/Euro","Importi/Euro","Importi/Euro","Importi/Euro","Importi/Euro","Importi/Euro","Importi/Euro","Importi/Euro","Importi/Euro","Importi/Euro","Importi/Euro","Importi/Euro","Importi/Euro","Importi/Euro","Importi/Euro","Importi/Euro","Importi/Euro","Importi/Euro","Importi/Euro","Importi/Euro","Importi/Euro","Importi/Euro","Importi/Euro"]
[null,"Rimanenze",0,0,0,0,0,0,0,0,0,0,0,0,0,0,0,0,0,0,0,0,0,0,0,0,0,0,0,0,0,0,0,0,0,0,0,0,0,0,0,0,0,0,0,0,0,0,0,0,0,0,0,0,0,0,0,0,0,0,0,0]
[null,"Altro attivo circolante",{"$f":"C6+C7+C8+C9+C10","v":29363.43013263493},33213.209073039972,70219.52888625479,100449.12514270087,130773.32475211436,166300.53903019664,202538.29759384133,239500.8113287575,277202.57533837267,315658.37462818011,{"$f":"M6+M7+M8+M9+M10","v":{"$error":"#DIV/0!"}},{"$error":"#DIV/0!"},{"$error":"#DIV/0!"},{"$error":"#DIV/0!"},{"$error":"#DIV/0!"},{"$error":"#DIV/0!"},{"$error":"#DIV/0!"},{"$error":"#DIV/0!"},{"$error":"#DIV/0!"},{"$error":"#DIV/0!"},-1.0291199999999999E-9,-1.0291199999999999E-9,-1.0291199999999999E-9,-1.0291199999999999E-9,-1.0291199999999999E-9,-1.0291199999999999E-9,-1.0291199999999999E-9,-1.0291199999999999E-9,-1.0291199999999999E-9,-1.0291199999999999E-9,-1.0291199999999999E-9,-1.0291199999999999E-9,-1.0291199999999999E-9,-1.0291199999999999E-9,-1.0291199999999999E-9,-1.0291199999999999E-9,-1.0291199999999999E-9,-1.0291199999999999E-9,-1.0291199999999999E-9,-1.0291199999999999E-9,-1.0291199999999999E-9,-1.0291199999999999E-9,-1.0291199999999999E-9,-1.0291199999999999E-9,-1.0291199999999999E-9,-1.0291199999999999E-9,-1.0291199999999999E-9,-1.0291199999999999E-9,-1.0291199999999999E-9,-1.0291199999999999E-9,-1.0291199999999999E-9,-1.0291199999999999E-9,-1.0291199999999999E-9,-1.0291199999999999E-9,-1.0291199999999999E-9,-1.0291199999999999E-9,-1.0291199999999999E-9,-1.0291199999999999E-9,-1.0291199999999999E-9,-1.0291199999999999E-9]
[null,"Disponibilità Liquide",{"$f":"C34-C11-C10-C8-C7-C4-C9","v":657.40353353081446},914.23918546063578,33616.510066988529,63114.045947049279,92691.543972549742,127457.12263504074,162918.01287078229,199088.12091123729,235981.63111250201,273613.01151779207,{"$f":"M34-M11-M10-M8-M7-M4-M9","v":{"$error":"#DIV/0!"}},{"$error":"#DIV/0!"},{"$error":"#DIV/0!"},{"$error":"#DIV/0!"},{"$error":"#DIV/0!"},{"$error":"#DIV/0!"},{"$error":"#DIV/0!"},{"$error":"#DIV/0!"},{"$error":"#DIV/0!"},{"$error":"#DIV/0!"},-1.0291199999999999E-9,-1.0291199999999999E-9,-1.0291199999999999E-9,-1.0291199999999999E-9,-1.0291199999999999E-9,-1.0291199999999999E-9,-1.0291199999999999E-9,-1.0291199999999999E-9,-1.0291199999999999E-9,-1.0291199999999999E-9,-1.0291199999999999E-9,-1.0291199999999999E-9,-1.0291199999999999E-9,-1.0291199999999999E-9,-1.0291199999999999E-9,-1.0291199999999999E-9,-1.0291199999999999E-9,-1.0291199999999999E-9,-1.0291199999999999E-9,-1.0291199999999999E-9,-1.0291199999999999E-9,-1.0291199999999999E-9,-1.0291199999999999E-9,-1.0291199999999999E-9,-1.0291199999999999E-9,-1.0291199999999999E-9,-1.0291199999999999E-9,-1.0291199999999999E-9,-1.0291199999999999E-9,-1.0291199999999999E-9,-1.0291199999999999E-9,-1.0291199999999999E-9,-1.0291199999999999E-9,-1.0291199999999999E-9,-1.0291199999999999E-9,-1.0291199999999999E-9,-1.0291199999999999E-9,-1.0291199999999999E-9,-1.0291199999999999E-9,-1.0291199999999999E-9]
[null,"Crediti Commerciali a Breve",{"$f":"-'5 Foglio di elaborazione'!E69-'5 Foglio di elaborazione'!E70","v":28391.150958904105},{"$f":"-'5 Foglio di elaborazione'!F69-'5 Foglio di elaborazione'!F70","v":32009.432646575337},{"$f":"-'5 Foglio di elaborazione'!G69-'5 Foglio di elaborazione'!G70","v":36345.548908642188},{"$f":"-'5 Foglio di elaborazione'!H69-'5 Foglio di elaborazione'!H70","v":37072.459886815035},{"$f":"-'5 Foglio di elaborazione'!I69-'5 Foglio di elaborazione'!I70","v":37813.909084551327},{"$f":"-'5 Foglio di elaborazione'!J69-'5 Foglio di elaborazione'!J70","v":38570.187266242356},{"$f":"-'5 Foglio di elaborazione'!K69-'5 Foglio di elaborazione'!K70","v":39341.591011567209},{"$f":"-'5 Foglio di elaborazione'!L69-'5 Foglio di elaborazione'!L70","v":40128.422831798554},{"$f":"-'5 Foglio di elaborazione'!M69-'5 Foglio di elaborazione'!M70","v":40930.991288434532},{"$f":"-'5 Foglio di elaborazione'!N69-'5 Foglio di elaborazione'!N70","v":41749.611114203217},{"$f":"-'5 Foglio di elaborazione'!O69-'5 Foglio di elaborazione'!O70","v":{"$error":"#DIV/0!"}},{"$f":"-'5 Foglio di elaborazione'!P69-'5 Foglio di elaborazione'!P70","v":{"$error":"#DIV/0!"}},{"$f":"-'5 Foglio di elaborazione'!Q69-'5 Foglio di elaborazione'!Q70","v":{"$error":"#DIV/0!"}},{"$f":"-'5 Foglio di elaborazione'!R69-'5 Foglio di elaborazione'!R70","v":{"$error":"#DIV/0!"}},{"$f":"-'5 Foglio di elaborazione'!S69-'5 Foglio di elaborazione'!S70","v":{"$error":"#DIV/0!"}},{"$f":"-'5 Foglio di elaborazione'!T69-'5 Foglio di elaborazione'!T70","v":{"$error":"#DIV/0!"}},{"$f":"-'5 Foglio di elaborazione'!U69-'5 Foglio di elaborazione'!U70","v":{"$error":"#DIV/0!"}},{"$f":"-'5 Foglio di elaborazione'!V69-'5 Foglio di elaborazione'!V70","v":{"$error":"#DIV/0!"}},{"$f":"-'5 Foglio di elaborazione'!W69-'5 Foglio di elaborazione'!W70","v":{"$error":"#DIV/0!"}},{"$f":"-'5 Foglio di elaborazione'!X69-'5 Foglio di elaborazione'!X70","v":{"$error":"#DIV/0!"}},{"$f":"-'5 Foglio di elaborazione'!Y69-'5 Foglio di elaborazione'!Y70","v":0},{"$f":"-'5 Foglio di elaborazione'!Z69-'5 Foglio di elaborazione'!Z70","v":0},{"$f":"-'5 Foglio di elaborazione'!AA69-'5 Foglio di elaborazione'!AA70","v":0},{"$f":"-'5 Foglio di elaborazione'!AB69-'5 Foglio di elaborazione'!AB70","v":0},{"$f":"-'5 Foglio di elaborazione'!AC69-'5 Foglio di elaborazione'!AC70","v":0},{"$f":"-'5 Foglio di elaborazione'!AD69-'5 Foglio di elaborazione'!AD70","v":0},{"$f":"-'5 Foglio di elaborazione'!AE69-'5 Foglio di elaborazione'!AE70","v":0},{"$f":"-'5 Foglio di elaborazione'!AF69-'5 Foglio di elaborazione'!AF70","v":0},{"$f":"-'5 Foglio di elaborazione'!AG69-'5 Foglio di elaborazione'!AG70","v":0},{"$f":"-'5 Foglio di elaborazione'!AH69-'5 Foglio di elaborazione'!AH70","v":0},{"$f":"-'5 Foglio di elaborazione'!AI69-'5 Foglio di elaborazione'!AI70","v":0},{"$f":"-'5 Foglio di elaborazione'!AJ69-'5 Foglio di elaborazione'!AJ70","v":0},{"$f":"-'5 Foglio di elaborazione'!AK69-'5 Foglio di elaborazione'!AK70","v":0},{"$f":"-'5 Foglio di elaborazione'!AL69-'5 Foglio di elaborazione'!AL70","v":0},{"$f":"-'5 Foglio di elaborazione'!AM69-'5 Foglio di elaborazione'!AM70","v":0},{"$f":"-'5 Foglio di elaborazione'!AN69-'5 Foglio di elaborazione'!AN70","v":0},{"$f":"-'5 Foglio di elaborazione'!AO69-'5 Foglio di elaborazione'!AO70","v":0},{"$f":"-'5 Foglio di elaborazione'!AP69-'5 Foglio di elaborazione'!AP70","v":0},{"$f":"-'5 Foglio di elaborazione'!AQ69-'5 Foglio di elaborazione'!AQ70","v":0},{"$f":"-'5 Foglio di elaborazione'!AR69-'5 Foglio di elaborazione'!AR70","v":0},{"$f":"-'5 Foglio di elaborazione'!AS69-'5 Foglio di elaborazione'!AS70","v":0},{"$f":"-'5 Foglio di elaborazione'!AT69-'5 Foglio di elaborazione'!AT70","v":0},{"$f":"-'5 Foglio di elaborazione'!AU69-'5 Foglio di elaborazione'!AU70","v":0},{"$f":"-'5 Foglio di elaborazione'!AV69-'5 Foglio di elaborazione'!AV70","v":0},{"$f":"-'5 Foglio di elaborazione'!AW69-'5 Foglio di elaborazione'!AW70","v":0},{"$f":"-'5 Foglio di elaborazione'!AX69-'5 Foglio di elaborazione'!AX70","v":0},{"$f":"-'5 Foglio di elaborazione'!AY69-'5 Foglio di elaborazione'!AY70","v":0},{"$f":"-'5 Foglio di elaborazione'!AZ69-'5 Foglio di elaborazione'!AZ70","v":0},{"$f":"-'5 Foglio di elaborazione'!BA69-'5 Foglio di elaborazione'!BA70","v":0},{"$f":"-'5 Foglio di elaborazione'!BB69-'5 Foglio di elaborazione'!BB70","v":0},{"$f":"-'5 Foglio di elaborazione'!BC69-'5 Foglio di elaborazione'!BC70","v":0},{"$f":"-'5 Foglio di elaborazione'!BD69-'5 Foglio di elaborazione'!BD70","v":0},{"$f":"-'5 Foglio di elaborazione'!BE69-'5 Foglio di elaborazione'!BE70","v":0},{"$f":"-'5 Foglio di elaborazione'!BF69-'5 Foglio di elaborazione'!BF70","v":0},{"$f":"-'5 Foglio di elaborazione'!BG69-'5 Foglio di elaborazione'!BG70","v":0},{"$f":"-'5 Foglio di elaborazione'!BH69-'5 Foglio di elaborazione'!BH70","v":0},{"$f":"-'5 Foglio di elaborazione'!BI69-'5 Foglio di elaborazione'!BI70","v":0},{"$f":"-'5 Foglio di elaborazione'!BJ69-'5 Foglio di elaborazione'!BJ70","v":0},{"$f":"-'5 Foglio di elaborazione'!BK69-'5 Foglio di elaborazione'!BK70","v":0},{"$f":"-'5 Foglio di elaborazione'!BL69-'5 Foglio di elaborazione'!BL70","v":0}]
[null,"Imposte a Credito - IVA",{"$f":"-'5 Foglio di elaborazione'!E73","v":314.87564020001003},{"$f":"-'5 Foglio di elaborazione'!F73","v":289.53724100399995},{"$f":"-'5 Foglio di elaborazione'!G73","v":257.46991062407983},{"$f":"-'5 Foglio di elaborazione'!H73","v":262.61930883656146},{"$f":"-'5 Foglio di elaborazione'!I73","v":267.87169501329288},{"$f":"-'5 Foglio di elaborazione'!J73","v":273.22912891355872},{"$f":"-'5 Foglio di elaborazione'!K73","v":278.69371149182984},{"$f":"-'5 Foglio di elaborazione'!L73","v":284.26758572166659},{"$f":"-'5 Foglio di elaborazione'!M73","v":289.95293743609966},{"$f":"-'5 Foglio di elaborazione'!N73","v":295.75199618482179},{"$f":"-'5 Foglio di elaborazione'!O73","v":0},{"$f":"-'5 Foglio di elaborazione'!P73","v":0},{"$f":"-'5 Foglio di elaborazione'!Q73","v":0},{"$f":"-'5 Foglio di elaborazione'!R73","v":0},{"$f":"-'5 Foglio di elaborazione'!S73","v":0},{"$f":"-'5 Foglio di elaborazione'!T73","v":0},{"$f":"-'5 Foglio di elaborazione'!U73","v":0},{"$f":"-'5 Foglio di elaborazione'!V73","v":0},{"$f":"-'5 Foglio di elaborazione'!W73","v":0},{"$f":"-'5 Foglio di elaborazione'!X73","v":0},{"$f":"-'5 Foglio di elaborazione'!Y73","v":0},{"$f":"-'5 Foglio di elaborazione'!Z73","v":0},{"$f":"-'5 Foglio di elaborazione'!AA73","v":0},{"$f":"-'5 Foglio di elaborazione'!AB73","v":0},{"$f":"-'5 Foglio di elaborazione'!AC73","v":0},{"$f":"-'5 Foglio di elaborazione'!AD73","v":0},{"$f":"-'5 Foglio di elaborazione'!AE73","v":0},{"$f":"-'5 Foglio di elaborazione'!AF73","v":0},{"$f":"-'5 Foglio di elaborazione'!AG73","v":0},{"$f":"-'5 Foglio di elaborazione'!AH73","v":0},{"$f":"-'5 Foglio di elaborazione'!AI73","v":0},{"$f":"-'5 Foglio di elaborazione'!AJ73","v":0},{"$f":"-'5 Foglio di elaborazione'!AK73","v":0},{"$f":"-'5 Foglio di elaborazione'!AL73","v":0},{"$f":"-'5 Foglio di elaborazione'!AM73","v":0},{"$f":"-'5 Foglio di elaborazione'!AN73","v":0},{"$f":"-'5 Foglio di elaborazione'!AO73","v":0},{"$f":"-'5 Foglio di elaborazione'!AP73","v":0},{"$f":"-'5 Foglio di elaborazione'!AQ73","v":0},{"$f":"-'5 Foglio di elaborazione'!AR73","v":0},{"$f":"-'5 Foglio di elaborazione'!AS73","v":0},{"$f":"-'5 Foglio di elaborazione'!AT73","v":0},{"$f":"-'5 Foglio di elaborazione'!AU73","v":0},{"$f":"-'5 Foglio di elaborazione'!AV73","v":0},{"$f":"-'5 Foglio di elaborazione'!AW73","v":0},{"$f":"-'5 Foglio di elaborazione'!AX73","v":0},{"$f":"-'5 Foglio di elaborazione'!AY73","v":0},{"$f":"-'5 Foglio di elaborazione'!AZ73","v":0},{"$f":"-'5 Foglio di elaborazione'!BA73","v":0},{"$f":"-'5 Foglio di elaborazione'!BB73","v":0},{"$f":"-'5 Foglio di elaborazione'!BC73","v":0},{"$f":"-'5 Foglio di elaborazione'!BD73","v":0},{"$f":"-'5 Foglio di elaborazione'!BE73","v":0},{"$f":"-'5 Foglio di elaborazione'!BF73","v":0},{"$f":"-'5 Foglio di elaborazione'!BG73","v":0},{"$f":"-'5 Foglio di elaborazione'!BH73","v":0},{"$f":"-'5 Foglio di elaborazione'!BI73","v":0},{"$f":"-'5 Foglio di elaborazione'!BJ73","v":0},{"$f":"-'5 Foglio di elaborazione'!BK73","v":0},{"$f":"-'5 Foglio di elaborazione'!BL73","v":0}]
[null,"Imposte a Credito - IRES IRAP",0,{"$f":"IF('6 Rendiconto Finanz'!E20>'6 Rendiconto Finanz'!F20,0,-'6 Rendiconto Finanz'!E20+'6 Rendiconto Finanz'!F20)","v":0},{"$f":"IF('6 Rendiconto Finanz'!F20>'6 Rendiconto Finanz'!G20,0,-'6 Rendiconto Finanz'!F20+'6 Rendiconto Finanz'!G20)","v":0},{"$f":"IF('6 Rendiconto Finanz'!G20>'6 Rendiconto Finanz'!H20,0,-'6 Rendiconto Finanz'!G20+'6 Rendiconto Finanz'!H20)","v":0},{"$f":"IF('6 Rendiconto Finanz'!H20>'6 Rendiconto Finanz'!I20,0,-'6 Rendiconto Finanz'!H20+'6 Rendiconto Finanz'!I20)","v":0},0,0,{"$f":"IF('6 Rendiconto Finanz'!K20>'6 Rendiconto Finanz'!L20,0,-'6 Rendiconto Finanz'!K20+'6 Rendiconto Finanz'!L20)","v":0},{"$f":"IF('6 Rendiconto Finanz'!L20>'6 Rendiconto Finanz'!M20,0,-'6 Rendiconto Finanz'!L20+'6 Rendiconto Finanz'!M20)","v":0},{"$f":"IF('6 Rendiconto Finanz'!M20>'6 Rendiconto Finanz'!N20,0,-'6 Rendiconto Finanz'!M20+'6 Rendiconto Finanz'!N20)","v":0},0,{"$f":"IF('6 Rendiconto Finanz'!O20>'6 Rendiconto Finanz'!P20,0,-'6 Rendiconto Finanz'!O20+'6 Rendiconto Finanz'!P20)","v":2.9119999999999999E-11},{"$f":"IF('6 Rendiconto Finanz'!P20>'6 Rendiconto Finanz'!Q20,0,-'6 Rendiconto Finanz'!P20+'6 Rendiconto Finanz'!Q20)","v":0},{"$f":"IF('6 Rendiconto Finanz'!Q20>'6 Rendiconto Finanz'!R20,0,-'6 Rendiconto Finanz'!Q20+'6 Rendiconto Finanz'!R20)","v":0},{"$f":"IF('6 Rendiconto Finanz'!R20>'6 Rendiconto Finanz'!S20,0,-'6 Rendiconto Finanz'!R20+'6 Rendiconto Finanz'!S20)","v":0},{"$f":"IF('6 Rendiconto Finanz'!S20>'6 Rendiconto Finanz'!T20,0,-'6 Rendiconto Finanz'!S20+'6 Rendiconto Finanz'!T20)","v":0},{"$f":"IF('6 Rendiconto Finanz'!T20>'6 Rendiconto Finanz'!U20,0,-'6 Rendiconto Finanz'!T20+'6 Rendiconto Finanz'!U20)","v":0},{"$f":"IF('6 Rendiconto Finanz'!U20>'6 Rendiconto Finanz'!V20,0,-'6 Rendiconto Finanz'!U20+'6 Rendiconto Finanz'!V20)","v":0},{"$f":"IF('6 Rendiconto Finanz'!V20>'6 Rendiconto Finanz'!W20,0,-'6 Rendiconto Finanz'!V20+'6 Rendiconto Finanz'!W20)","v":0},{"$f":"IF('6 Rendiconto Finanz'!W20>'6 Rendiconto Finanz'!X20,0,-'6 Rendiconto Finanz'!W20+'6 Rendiconto Finanz'!X20)","v":0},{"$f":"IF('6 Rendiconto Finanz'!X20>'6 Rendiconto Finanz'!Y20,0,-'6 Rendiconto Finanz'!X20+'6 Rendiconto Finanz'!Y20)","v":0},{"$f":"IF('6 Rendiconto Finanz'!Y20>'6 Rendiconto Finanz'!Z20,0,-'6 Rendiconto Finanz'!Y20+'6 Rendiconto Finanz'!Z20)","v":0},{"$f":"IF('6 Rendiconto Finanz'!Z20>'6 Rendiconto Finanz'!AA20,0,-'6 Rendiconto Finanz'!Z20+'6 Rendiconto Finanz'!AA20)","v":0},{"$f":"IF('6 Rendiconto Finanz'!AA20>'6 Rendiconto Finanz'!AB20,0,-'6 Rendiconto Finanz'!AA20+'6 Rendiconto Finanz'!AB20)","v":0},{"$f":"IF('6 Rendiconto Finanz'!AB20>'6 Rendiconto Finanz'!AC20,0,-'6 Rendiconto Finanz'!AB20+'6 Rendiconto Finanz'!AC20)","v":0},{"$f":"IF('6 Rendiconto Finanz'!AC20>'6 Rendiconto Finanz'!AD20,0,-'6 Rendiconto Finanz'!AC20+'6 Rendiconto Finanz'!AD20)","v":0},{"$f":"IF('6 Rendiconto Finanz'!AD20>'6 Rendiconto Finanz'!AE20,0,-'6 Rendiconto Finanz'!AD20+'6 Rendiconto Finanz'!AE20)","v":0},{"$f":"IF('6 Rendiconto Finanz'!AE20>'6 Rendiconto Finanz'!AF20,0,-'6 Rendiconto Finanz'!AE20+'6 Rendiconto Finanz'!AF20)","v":0},{"$f":"IF('6 Rendiconto Finanz'!AF20>'6 Rendiconto Finanz'!AG20,0,-'6 Rendiconto Finanz'!AF20+'6 Rendiconto Finanz'!AG20)","v":0},{"$f":"IF('6 Rendiconto Finanz'!AG20>'6 Rendiconto Finanz'!AH20,0,-'6 Rendiconto Finanz'!AG20+'6 Rendiconto Finanz'!AH20)","v":0},{"$f":"IF('6 Rendiconto Finanz'!AH20>'6 Rendiconto Finanz'!AI20,0,-'6 Rendiconto Finanz'!AH20+'6 Rendiconto Finanz'!AI20)","v":0},{"$f":"IF('6 Rendiconto Finanz'!AI20>'6 Rendiconto Finanz'!AJ20,0,-'6 Rendiconto Finanz'!AI20+'6 Rendiconto Finanz'!AJ20)","v":0},{"$f":"IF('6 Rendiconto Finanz'!AJ20>'6 Rendiconto Finanz'!AK20,0,-'6 Rendiconto Finanz'!AJ20+'6 Rendiconto Finanz'!AK20)","v":0},{"$f":"IF('6 Rendiconto Finanz'!AK20>'6 Rendiconto Finanz'!AL20,0,-'6 Rendiconto Finanz'!AK20+'6 Rendiconto Finanz'!AL20)","v":0},{"$f":"IF('6 Rendiconto Finanz'!AL20>'6 Rendiconto Finanz'!AM20,0,-'6 Rendiconto Finanz'!AL20+'6 Rendiconto Finanz'!AM20)","v":0},{"$f":"IF('6 Rendiconto Finanz'!AM20>'6 Rendiconto Finanz'!AN20,0,-'6 Rendiconto Finanz'!AM20+'6 Rendiconto Finanz'!AN20)","v":0},{"$f":"IF('6 Rendiconto Finanz'!AN20>'6 Rendiconto Finanz'!AO20,0,-'6 Rendiconto Finanz'!AN20+'6 Rendiconto Finanz'!AO20)","v":0},{"$f":"IF('6 Rendiconto Finanz'!AO20>'6 Rendiconto Finanz'!AP20,0,-'6 Rendiconto Finanz'!AO20+'6 Rendiconto Finanz'!AP20)","v":0},{"$f":"IF('6 Rendiconto Finanz'!AP20>'6 Rendiconto Finanz'!AQ20,0,-'6 Rendiconto Finanz'!AP20+'6 Rendiconto Finanz'!AQ20)","v":0},{"$f":"IF('6 Rendiconto Finanz'!AQ20>'6 Rendiconto Finanz'!AR20,0,-'6 Rendiconto Finanz'!AQ20+'6 Rendiconto Finanz'!AR20)","v":0},{"$f":"IF('6 Rendiconto Finanz'!AR20>'6 Rendiconto Finanz'!AS20,0,-'6 Rendiconto Finanz'!AR20+'6 Rendiconto Finanz'!AS20)","v":0},{"$f":"IF('6 Rendiconto Finanz'!AS20>'6 Rendiconto Finanz'!AT20,0,-'6 Rendiconto Finanz'!AS20+'6 Rendiconto Finanz'!AT20)","v":0},{"$f":"IF('6 Rendiconto Finanz'!AT20>'6 Rendiconto Finanz'!AU20,0,-'6 Rendiconto Finanz'!AT20+'6 Rendiconto Finanz'!AU20)","v":0},{"$f":"IF('6 Rendiconto Finanz'!AU20>'6 Rendiconto Finanz'!AV20,0,-'6 Rendiconto Finanz'!AU20+'6 Rendiconto Finanz'!AV20)","v":0},{"$f":"IF('6 Rendiconto Finanz'!AV20>'6 Rendiconto Finanz'!AW20,0,-'6 Rendiconto Finanz'!AV20+'6 Rendiconto Finanz'!AW20)","v":0},{"$f":"IF('6 Rendiconto Finanz'!AW20>'6 Rendiconto Finanz'!AX20,0,-'6 Rendiconto Finanz'!AW20+'6 Rendiconto Finanz'!AX20)","v":0},{"$f":"IF('6 Rendiconto Finanz'!AX20>'6 Rendiconto Finanz'!AY20,0,-'6 Rendiconto Finanz'!AX20+'6 Rendiconto Finanz'!AY20)","v":0},{"$f":"IF('6 Rendiconto Finanz'!AY20>'6 Rendiconto Finanz'!AZ20,0,-'6 Rendiconto Finanz'!AY20+'6 Rendiconto Finanz'!AZ20)","v":0},{"$f":"IF('6 Rendiconto Finanz'!AZ20>'6 Rendiconto Finanz'!BA20,0,-'6 Rendiconto Finanz'!AZ20+'6 Rendiconto Finanz'!BA20)","v":0},{"$f":"IF('6 Rendiconto Finanz'!BA20>'6 Rendiconto Finanz'!BB20,0,-'6 Rendiconto Finanz'!BA20+'6 Rendiconto Finanz'!BB20)","v":0},{"$f":"IF('6 Rendiconto Finanz'!BB20>'6 Rendiconto Finanz'!BC20,0,-'6 Rendiconto Finanz'!BB20+'6 Rendiconto Finanz'!BC20)","v":0},{"$f":"IF('6 Rendiconto Finanz'!BC20>'6 Rendiconto Finanz'!BD20,0,-'6 Rendiconto Finanz'!BC20+'6 Rendiconto Finanz'!BD20)","v":0},{"$f":"IF('6 Rendiconto Finanz'!BD20>'6 Rendiconto Finanz'!BE20,0,-'6 Rendiconto Finanz'!BD20+'6 Rendiconto Finanz'!BE20)","v":0},{"$f":"IF('6 Rendiconto Finanz'!BE20>'6 Rendiconto Finanz'!BF20,0,-'6 Rendiconto Finanz'!BE20+'6 Rendiconto Finanz'!BF20)","v":0},{"$f":"IF('6 Rendiconto Finanz'!BF20>'6 Rendiconto Finanz'!BG20,0,-'6 Rendiconto Finanz'!BF20+'6 Rendiconto Finanz'!BG20)","v":0},{"$f":"IF('6 Rendiconto Finanz'!BG20>'6 Rendiconto Finanz'!BH20,0,-'6 Rendiconto Finanz'!BG20+'6 Rendiconto Finanz'!BH20)","v":0},{"$f":"IF('6 Rendiconto Finanz'!BH20>'6 Rendiconto Finanz'!BI20,0,-'6 Rendiconto Finanz'!BH20+'6 Rendiconto Finanz'!BI20)","v":0},{"$f":"IF('6 Rendiconto Finanz'!BI20>'6 Rendiconto Finanz'!BJ20,0,-'6 Rendiconto Finanz'!BI20+'6 Rendiconto Finanz'!BJ20)","v":0},{"$f":"IF('6 Rendiconto Finanz'!BJ20>'6 Rendiconto Finanz'!BK20,0,-'6 Rendiconto Finanz'!BJ20+'6 Rendiconto Finanz'!BK20)","v":0},{"$f":"IF('6 Rendiconto Finanz'!BK20>'6 Rendiconto Finanz'!BL20,0,-'6 Rendiconto Finanz'!BK20+'6 Rendiconto Finanz'!BL20)","v":0}]
[null,"Imposte a Credito - accantonamento Fondo O&MRA",{"$f":"'6 Rendiconto Finanz'!E7","v":0},{"$f":"C10+'6 Rendiconto Finanz'!F7-'6 Rendiconto Finanz'!F8*'6 Rendiconto Finanz'!$J$43","v":0},{"$f":"D10+'6 Rendiconto Finanz'!G7-'6 Rendiconto Finanz'!G8*'6 Rendiconto Finanz'!$J$43","v":0},{"$f":"E10+'6 Rendiconto Finanz'!H7-'6 Rendiconto Finanz'!H8*'6 Rendiconto Finanz'!$J$43","v":0},{"$f":"F10+'6 Rendiconto Finanz'!I7-'6 Rendiconto Finanz'!I8*'6 Rendiconto Finanz'!$J$43","v":0},{"$f":"G10+'6 Rendiconto Finanz'!J7-'6 Rendiconto Finanz'!J8*'6 Rendiconto Finanz'!$J$43","v":0},0,{"$f":"I10+'6 Rendiconto Finanz'!L7-'6 Rendiconto Finanz'!L8*'6 Rendiconto Finanz'!$J$43","v":0},{"$f":"J10+'6 Rendiconto Finanz'!M7-'6 Rendiconto Finanz'!M8*'6 Rendiconto Finanz'!$J$43","v":0},{"$f":"K10+'6 Rendiconto Finanz'!N7-'6 Rendiconto Finanz'!N8*'6 Rendiconto Finanz'!$J$43","v":0},{"$f":"L10+'6 Rendiconto Finanz'!O7-'6 Rendiconto Finanz'!O8*'6 Rendiconto Finanz'!$J$43","v":0},{"$f":"M10+'6 Rendiconto Finanz'!P7-'6 Rendiconto Finanz'!P8*'6 Rendiconto Finanz'!$J$43","v":0},{"$f":"N10+'6 Rendiconto Finanz'!Q7-'6 Rendiconto Finanz'!Q8*'6 Rendiconto Finanz'!$J$43","v":0},{"$f":"O10+'6 Rendiconto Finanz'!R7-'6 Rendiconto Finanz'!R8*'6 Rendiconto Finanz'!$J$43","v":0},{"$f":"P10+'6 Rendiconto Finanz'!S7-'6 Rendiconto Finanz'!S8*'6 Rendiconto Finanz'!$J$43","v":0},{"$f":"Q10+'6 Rendiconto Finanz'!T7-'6 Rendiconto Finanz'!T8*'6 Rendiconto Finanz'!$J$43","v":0},{"$f":"R10+'6 Rendiconto Finanz'!U7-'6 Rendiconto Finanz'!U8*'6 Rendiconto Finanz'!$J$43","v":0},{"$f":"S10+'6 Rendiconto Finanz'!V7-'6 Rendiconto Finanz'!V8*'6 Rendiconto Finanz'!$J$43","v":0},{"$f":"T10+'6 Rendiconto Finanz'!W7-'6 Rendiconto Finanz'!W8*'6 Rendiconto Finanz'!$J$43","v":0},{"$f":"U10+'6 Rendiconto Finanz'!X7-'6 Rendiconto Finanz'!X8*'6 Rendiconto Finanz'!$J$43","v":0},{"$f":"V10+'6 Rendiconto Finanz'!Y7-'6 Rendiconto Finanz'!Y8*'6 Rendiconto Finanz'!$J$43","v":0},{"$f":"W10+'6 Rendiconto Finanz'!Z7-'6 Rendiconto Finanz'!Z8*'6 Rendiconto Finanz'!$J$43","v":0},{"$f":"X10+'6 Rendiconto Finanz'!AA7-'6 Rendiconto Finanz'!AA8*'6 Rendiconto Finanz'!$J$43","v":0},{"$f":"Y10+'6 Rendiconto Finanz'!AB7-'6 Rendiconto Finanz'!AB8*'6 Rendiconto Finanz'!$J$43","v":0},{"$f":"Z10+'6 Rendiconto Finanz'!AC7-'6 Rendiconto Finanz'!AC8*'6 Rendiconto Finanz'!$J$43","v":0},{"$f":"AA10+'6 Rendiconto Finanz'!AD7-'6 Rendiconto Finanz'!AD8*'6 Rendiconto Finanz'!$J$43","v":0},{"$f":"AB10+'6 Rendiconto Finanz'!AE7-'6 Rendiconto Finanz'!AE8*'6 Rendiconto Finanz'!$J$43","v":0},{"$f":"AC10+'6 Rendiconto Finanz'!AF7-'6 Rendiconto Finanz'!AF8*'6 Rendiconto Finanz'!$J$43","v":0},{"$f":"AD10+'6 Rendiconto Finanz'!AG7-'6 Rendiconto Finanz'!AG8*'6 Rendiconto Finanz'!$J$43","v":0},{"$f":"AE10+'6 Rendiconto Finanz'!AH7-'6 Rendiconto Finanz'!AH8*'6 Rendiconto Finanz'!$J$43","v":0},{"$f":"AF10+'6 Rendiconto Finanz'!AI7-'6 Rendiconto Finanz'!AI8*'6 Rendiconto Finanz'!$J$43","v":0},{"$f":"AG10+'6 Rendiconto Finanz'!AJ7-'6 Rendiconto Finanz'!AJ8*'6 Rendiconto Finanz'!$J$43","v":0},{"$f":"AH10+'6 Rendiconto Finanz'!AK7-'6 Rendiconto Finanz'!AK8*'6 Rendiconto Finanz'!$J$43","v":0},{"$f":"AI10+'6 Rendiconto Finanz'!AL7-'6 Rendiconto Finanz'!AL8*'6 Rendiconto Finanz'!$J$43","v":0},{"$f":"AJ10+'6 Rendiconto Finanz'!AM7-'6 Rendiconto Finanz'!AM8*'6 Rendiconto Finanz'!$J$43","v":0},{"$f":"AK10+'6 Rendiconto Finanz'!AN7-'6 Rendiconto Finanz'!AN8*'6 Rendiconto Finanz'!$J$43","v":0},{"$f":"AL10+'6 Rendiconto Finanz'!AO7-'6 Rendiconto Finanz'!AO8*'6 Rendiconto Finanz'!$J$43","v":0},{"$f":"AM10+'6 Rendiconto Finanz'!AP7-'6 Rendiconto Finanz'!AP8*'6 Rendiconto Finanz'!$J$43","v":0},{"$f":"AN10+'6 Rendiconto Finanz'!AQ7-'6 Rendiconto Finanz'!AQ8*'6 Rendiconto Finanz'!$J$43","v":0},{"$f":"AO10+'6 Rendiconto Finanz'!AR7-'6 Rendiconto Finanz'!AR8*'6 Rendiconto Finanz'!$J$43","v":0},{"$f":"AP10+'6 Rendiconto Finanz'!AS7-'6 Rendiconto Finanz'!AS8*'6 Rendiconto Finanz'!$J$43","v":0},{"$f":"AQ10+'6 Rendiconto Finanz'!AT7-'6 Rendiconto Finanz'!AT8*'6 Rendiconto Finanz'!$J$43","v":0},{"$f":"AR10+'6 Rendiconto Finanz'!AU7-'6 Rendiconto Finanz'!AU8*'6 Rendiconto Finanz'!$J$43","v":0},{"$f":"AS10+'6 Rendiconto Finanz'!AV7-'6 Rendiconto Finanz'!AV8*'6 Rendiconto Finanz'!$J$43","v":0},{"$f":"AT10+'6 Rendiconto Finanz'!AW7-'6 Rendiconto Finanz'!AW8*'6 Rendiconto Finanz'!$J$43","v":0},{"$f":"AU10+'6 Rendiconto Finanz'!AX7-'6 Rendiconto Finanz'!AX8*'6 Rendiconto Finanz'!$J$43","v":0},{"$f":"AV10+'6 Rendiconto Finanz'!AY7-'6 Rendiconto Finanz'!AY8*'6 Rendiconto Finanz'!$J$43","v":0},{"$f":"AW10+'6 Rendiconto Finanz'!AZ7-'6 Rendiconto Finanz'!AZ8*'6 Rendiconto Finanz'!$J$43","v":0},{"$f":"AX10+'6 Rendiconto Finanz'!BA7-'6 Rendiconto Finanz'!BA8*'6 Rendiconto Finanz'!$J$43","v":0},{"$f":"AY10+'6 Rendiconto Finanz'!BB7-'6 Rendiconto Finanz'!BB8*'6 Rendiconto Finanz'!$J$43","v":0},{"$f":"AZ10+'6 Rendiconto Finanz'!BC7-'6 Rendiconto Finanz'!BC8*'6 Rendiconto Finanz'!$J$43","v":0},{"$f":"BA10+'6 Rendiconto Finanz'!BD7-'6 Rendiconto Finanz'!BD8*'6 Rendiconto Finanz'!$J$43","v":0},{"$f":"BB10+'6 Rendiconto Finanz'!BE7-'6 Rendiconto Finanz'!BE8*'6 Rendiconto Finanz'!$J$43","v":0},{"$f":"BC10+'6 Rendiconto Finanz'!BF7-'6 Rendiconto Finanz'!BF8*'6 Rendiconto Finanz'!$J$43","v":0},{"$f":"BD10+'6 Rendiconto Finanz'!BG7-'6 Rendiconto Finanz'!BG8*'6 Rendiconto Finanz'!$J$43","v":0},{"$f":"BE10+'6 Rendiconto Finanz'!BH7-'6 Rendiconto Finanz'!BH8*'6 Rendiconto Finanz'!$J$43","v":0},{"$f":"BF10+'6 Rendiconto Finanz'!BI7-'6 Rendiconto Finanz'!BI8*'6 Rendiconto Finanz'!$J$43","v":0},{"$f":"BG10+'6 Rendiconto Finanz'!BJ7-'6 Rendiconto Finanz'!BJ8*'6 Rendiconto Finanz'!$J$43","v":0},{"$f":"BH10+'6 Rendiconto Finanz'!BK7-'6 Rendiconto Finanz'!BK8*'6 Rendiconto Finanz'!$J$43","v":0},{"$f":"BI10+'6 Rendiconto Finanz'!BL7-'6 Rendiconto Finanz'!BL8*'6 Rendiconto Finanz'!$J$43","v":0}," "," "]
[null,"Immobilizzazioni",{"$f":"SUM(C12:C14)","v":1E-10},2.0000000000000001E-10,3E-10,4.0000000000000001E-10,5.0000000000000003E-10,6E-10,0,7.9999999999999993E-10,8.9999999999999989E-10,9.9999999999999986E-10,{"$f":"SUM(M12:M14)","v":1.0999999999999999E-9},0,0,0,0,0,0,0,0,0,0,0,0,0,0,0,0,0,0,0,0,0,0,0,0,0,0,0,0,0,0,0,0,0,0,0,0,0,0,0,0,0,0,0,0,0,0,0,0,0,null,null,null,null,null," "]
[null,"Immobilizzazioni Materiali ed Immateriali",{"$f":"'5 Foglio di elaborazione'!E126","v":1E-10},{"$f":"'5 Foglio di elaborazione'!F126","v":2.0000000000000001E-10},{"$f":"'5 Foglio di elaborazione'!G126","v":3E-10},{"$f":"'5 Foglio di elaborazione'!H126","v":4.0000000000000001E-10},{"$f":"'5 Foglio di elaborazione'!I126","v":5.0000000000000003E-10},{"$f":"'5 Foglio di elaborazione'!J126","v":6E-10},0,{"$f":"'5 Foglio di elaborazione'!L126","v":7.9999999999999993E-10},{"$f":"'5 Foglio di elaborazione'!M126","v":8.9999999999999989E-10},{"$f":"'5 Foglio di elaborazione'!N126","v":9.9999999999999986E-10},{"$f":"'5 Foglio di elaborazione'!O126","v":1.0999999999999999E-9},{"$f":"'5 Foglio di elaborazione'!P126","v":0},{"$f":"'5 Foglio di elaborazione'!Q126","v":0},{"$f":"'5 Foglio di elaborazione'!R126","v":0},{"$f":"'5 Foglio di elaborazione'!S126","v":0},{"$f":"'5 Foglio di elaborazione'!T126","v":0},{"$f":"'5 Foglio di elaborazione'!U126","v":0},{"$f":"'5 Foglio di elaborazione'!V126","v":0},{"$f":"'5 Foglio di elaborazione'!W126","v":0},{"$f":"'5 Foglio di elaborazione'!X126","v":0},{"$f":"'5 Foglio di elaborazione'!Y126","v":0},{"$f":"'5 Foglio di elaborazione'!Z126","v":0},{"$f":"'5 Foglio di elaborazione'!AA126","v":0},{"$f":"'5 Foglio di elaborazione'!AB126","v":0},{"$f":"'5 Foglio di elaborazione'!AC126","v":0},{"$f":"'5 Foglio di elaborazione'!AD126","v":0},{"$f":"'5 Foglio di elaborazione'!AE126","v":0},{"$f":"'5 Foglio di elaborazione'!AF126","v":0},{"$f":"'5 Foglio di elaborazione'!AG126","v":0},{"$f":"'5 Foglio di elaborazione'!AH126","v":0},{"$f":"'5 Foglio di elaborazione'!AI126","v":0},{"$f":"'5 Foglio di elaborazione'!AJ126","v":0},{"$f":"'5 Foglio di elaborazione'!AK126","v":0},{"$f":"'5 Foglio di elaborazione'!AL126","v":0},{"$f":"'5 Foglio di elaborazione'!AM126","v":0},{"$f":"'5 Foglio di elaborazione'!AN126","v":0},{"$f":"'5 Foglio di elaborazione'!AO126","v":0},{"$f":"'5 Foglio di elaborazione'!AP126","v":0},{"$f":"'5 Foglio di elaborazione'!AQ126","v":0},{"$f":"'5 Foglio di elaborazione'!AR126","v":0},{"$f":"'5 Foglio di elaborazione'!AS126","v":0},{"$f":"'5 Foglio di elaborazione'!AT126","v":0},{"$f":"'5 Foglio di elaborazione'!AU126","v":0},{"$f":"'5 Foglio di elaborazione'!AV126","v":0},{"$f":"'5 Foglio di elaborazione'!AW126","v":0},{"$f":"'5 Foglio di elaborazione'!AX126","v":0},{"$f":"'5 Foglio di elaborazione'!AY126","v":0},{"$f":"'5 Foglio di elaborazione'!AZ126","v":0},{"$f":"'5 Foglio di elaborazione'!BA126","v":0},{"$f":"'5 Foglio di elaborazione'!BB126","v":0},{"$f":"'5 Foglio di elaborazione'!BC126","v":0},{"$f":"'5 Foglio di elaborazione'!BD126","v":0},{"$f":"'5 Foglio di elaborazione'!BE126","v":0},{"$f":"'5 Foglio di elaborazione'!BF126","v":0},{"$f":"'5 Foglio di elaborazione'!BG126","v":0},{"$f":"'5 Foglio di elaborazione'!BH126","v":0},{"$f":"'5 Foglio di elaborazione'!BI126","v":0},{"$f":"'5 Foglio di elaborazione'!BJ126","v":0},{"$f":"'5 Foglio di elaborazione'!BK126","v":0},{"$f":"'5 Foglio di elaborazione'!BL126","v":0}]
[null,"Immobilizzazioni Finanziarie: vincolo a servizio del debito - LLCR",{"$f":"'6 Rendiconto Finanz'!E119","v":0},{"$f":"'6 Rendiconto Finanz'!F119","v":0},{"$f":"'6 Rendiconto Finanz'!G119","v":0},{"$f":"'6 Rendiconto Finanz'!H119","v":0},{"$f":"'6 Rendiconto Finanz'!I119","v":0},{"$f":"'6 Rendiconto Finanz'!J119","v":0},0,{"$f":"'6 Rendiconto Finanz'!L119","v":0},{"$f":"'6 Rendiconto Finanz'!M119","v":0},{"$f":"'6 Rendiconto Finanz'!N119","v":0},{"$f":"'6 Rendiconto Finanz'!O119","v":0},{"$f":"'6 Rendiconto Finanz'!P119","v":0},{"$f":"'6 Rendiconto Finanz'!Q119","v":0},{"$f":"'6 Rendiconto Finanz'!R119","v":0},{"$f":"'6 Rendiconto Finanz'!S119","v":0},{"$f":"'6 Rendiconto Finanz'!T119","v":0},{"$f":"'6 Rendiconto Finanz'!U119","v":0},{"$f":"'6 Rendiconto Finanz'!V119","v":0},{"$f":"'6 Rendiconto Finanz'!W119","v":0},{"$f":"'6 Rendiconto Finanz'!X119","v":0},{"$f":"'6 Rendiconto Finanz'!Y119","v":0},{"$f":"'6 Rendiconto Finanz'!Z119","v":0},{"$f":"'6 Rendiconto Finanz'!AA119","v":0},{"$f":"'6 Rendiconto Finanz'!AB119","v":0},{"$f":"'6 Rendiconto Finanz'!AC119","v":0},{"$f":"'6 Rendiconto Finanz'!AD119","v":0},{"$f":"'6 Rendiconto Finanz'!AE119","v":0},{"$f":"'6 Rendiconto Finanz'!AF119","v":0},{"$f":"'6 Rendiconto Finanz'!AG119","v":0},{"$f":"'6 Rendiconto Finanz'!AH119","v":0},{"$f":"'6 Rendiconto Finanz'!AI119","v":0},{"$f":"'6 Rendiconto Finanz'!AJ119","v":0},{"$f":"'6 Rendiconto Finanz'!AK119","v":0},{"$f":"'6 Rendiconto Finanz'!AL119","v":0},{"$f":"'6 Rendiconto Finanz'!AM119","v":0},{"$f":"'6 Rendiconto Finanz'!AN119","v":0},{"$f":"'6 Rendiconto Finanz'!AO119","v":0},{"$f":"'6 Rendiconto Finanz'!AP119","v":0},{"$f":"'6 Rendiconto Finanz'!AQ119","v":0},{"$f":"'6 Rendiconto Finanz'!AR119","v":0},{"$f":"'6 Rendiconto Finanz'!AS119","v":0},{"$f":"'6 Rendiconto Finanz'!AT119","v":0},{"$f":"'6 Rendiconto Finanz'!AU119","v":0},{"$f":"'6 Rendiconto Finanz'!AV119","v":0},{"$f":"'6 Rendiconto Finanz'!AW119","v":0},{"$f":"'6 Rendiconto Finanz'!AX119","v":0},{"$f":"'6 Rendiconto Finanz'!AY119","v":0},{"$f":"'6 Rendiconto Finanz'!AZ119","v":0},{"$f":"'6 Rendiconto Finanz'!BA119","v":0},{"$f":"'6 Rendiconto Finanz'!BB119","v":0},{"$f":"'6 Rendiconto Finanz'!BC119","v":0},{"$f":"'6 Rendiconto Finanz'!BD119","v":0},{"$f":"'6 Rendiconto Finanz'!BE119","v":0},{"$f":"'6 Rendiconto Finanz'!BF119","v":0},{"$f":"'6 Rendiconto Finanz'!BG119","v":0},{"$f":"'6 Rendiconto Finanz'!BH119","v":0},{"$f":"'6 Rendiconto Finanz'!BI119","v":0},{"$f":"'6 Rendiconto Finanz'!BJ119","v":0},{"$f":"'6 Rendiconto Finanz'!BK119","v":0},{"$f":"'6 Rendiconto Finanz'!BL119","v":0}]
[null,"Altre Immobilizzazioni ",0,0,0,0,0,0,0,0,0,0,0,0,0,0,0,0,0,0,0,0,0,0,0,0,0,0,0,0,0,0,0,0,0,0,0,0,0,0,0,0,0,0,0,0,0,0,0,0,0,0,0,0,0,0,0,0,0,0,0,0]
[null,"Totale Attivo",{"$f":"C11+C5+C4","v":29363.430132635029},33213.209073040169,70219.528886255095,100449.12514270126,130773.32475211486,166300.53903019725,202538.29759384133,239500.81132875828,277202.57533837354,315658.3746281811,{"$f":"M11+M5+M4","v":{"$error":"#DIV/0!"}},{"$error":"#DIV/0!"},{"$error":"#DIV/0!"},{"$error":"#DIV/0!"},{"$error":"#DIV/0!"},{"$error":"#DIV/0!"},{"$error":"#DIV/0!"},{"$error":"#DIV/0!"},{"$error":"#DIV/0!"},{"$error":"#DIV/0!"},-1.0291199999999999E-9,-1.0291199999999999E-9,-1.0291199999999999E-9,-1.0291199999999999E-9,-1.0291199999999999E-9,-1.0291199999999999E-9,-1.0291199999999999E-9,-1.0291199999999999E-9,-1.0291199999999999E-9,-1.0291199999999999E-9,-1.0291199999999999E-9,-1.0291199999999999E-9,-1.0291199999999999E-9,-1.0291199999999999E-9,-1.0291199999999999E-9,-1.0291199999999999E-9,-1.0291199999999999E-9,-1.0291199999999999E-9,-1.0291199999999999E-9,-1.0291199999999999E-9,-1.0291199999999999E-9,-1.0291199999999999E-9,-1.0291199999999999E-9,-1.0291199999999999E-9,-1.0291199999999999E-9,-1.0291199999999999E-9,-1.0291199999999999E-9,-1.0291199999999999E-9,-1.0291199999999999E-9,-1.0291199999999999E-9,-1.0291199999999999E-9,-1.0291199999999999E-9,-1.0291199999999999E-9,-1.0291199999999999E-9,-1.0291199999999999E-9,-1.0291199999999999E-9,-1.0291199999999999E-9,-1.0291199999999999E-9,-1.0291199999999999E-9,-1.0291199999999999E-9]
[null,"Passivo Circolante",{"$f":"SUM(C17:C20)","v":48734.110132635607},48105.679832721755,47901.570601610249,44773.059909323398,41071.99043102935,41893.430239649962,42731.298844442979,43585.924821331835,44457.643317758455,45346.79618411362,{"$f":"SUM(M17:M20)","v":{"$error":"#DIV/0!"}},{"$error":"#DIV/0!"},{"$error":"#DIV/0!"},{"$error":"#DIV/0!"},{"$error":"#DIV/0!"},{"$error":"#DIV/0!"},{"$error":"#DIV/0!"},{"$error":"#DIV/0!"},{"$error":"#DIV/0!"},{"$error":"#DIV/0!"},0,0,0,0,0,0,0,0,0,0,0,0,0,0,0,0,0,0,0,0,0,0,0,0,0,0,0,0,0,0,0,0,0,0,0,0,0,0,0,0]
[null,"Debiti a Breve verso Fornitori",{"$f":"'5 Foglio di elaborazione'!E71+'5 Foglio di elaborazione'!E72","v":36734.110132635607},{"$f":"'5 Foglio di elaborazione'!F71+'5 Foglio di elaborazione'!F72","v":37864.022673041749},{"$f":"'5 Foglio di elaborazione'!G71+'5 Foglio di elaborazione'!G72","v":39213.664677617096},{"$f":"'5 Foglio di elaborazione'!H71+'5 Foglio di elaborazione'!H72","v":39997.937971169442},{"$f":"'5 Foglio di elaborazione'!I71+'5 Foglio di elaborazione'!I72","v":40797.896730592831},{"$f":"'5 Foglio di elaborazione'!J71+'5 Foglio di elaborazione'!J72","v":41613.854665204693},{"$f":"'5 Foglio di elaborazione'!K71+'5 Foglio di elaborazione'!K72","v":42446.131758508789},{"$f":"'5 Foglio di elaborazione'!L71+'5 Foglio di elaborazione'!L72","v":43295.054393678969},{"$f":"'5 Foglio di elaborazione'!M71+'5 Foglio di elaborazione'!M72","v":44160.955481552533},{"$f":"'5 Foglio di elaborazione'!N71+'5 Foglio di elaborazione'!N72","v":45044.174591183597},{"$f":"'5 Foglio di elaborazione'!O71+'5 Foglio di elaborazione'!O72","v":{"$error":"#DIV/0!"}},{"$f":"'5 Foglio di elaborazione'!P71+'5 Foglio di elaborazione'!P72","v":{"$error":"#DIV/0!"}},{"$f":"'5 Foglio di elaborazione'!Q71+'5 Foglio di elaborazione'!Q72","v":{"$error":"#DIV/0!"}},{"$f":"'5 Foglio di elaborazione'!R71+'5 Foglio di elaborazione'!R72","v":{"$error":"#DIV/0!"}},{"$f":"'5 Foglio di elaborazione'!S71+'5 Foglio di elaborazione'!S72","v":{"$error":"#DIV/0!"}},{"$f":"'5 Foglio di elaborazione'!T71+'5 Foglio di elaborazione'!T72","v":{"$error":"#DIV/0!"}},{"$f":"'5 Foglio di elaborazione'!U71+'5 Foglio di elaborazione'!U72","v":{"$error":"#DIV/0!"}},{"$f":"'5 Foglio di elaborazione'!V71+'5 Foglio di elaborazione'!V72","v":{"$error":"#DIV/0!"}},{"$f":"'5 Foglio di elaborazione'!W71+'5 Foglio di elaborazione'!W72","v":{"$error":"#DIV/0!"}},{"$f":"'5 Foglio di elaborazione'!X71+'5 Foglio di elaborazione'!X72","v":{"$error":"#DIV/0!"}},{"$f":"'5 Foglio di elaborazione'!Y71+'5 Foglio di elaborazione'!Y72","v":0},{"$f":"'5 Foglio di elaborazione'!Z71+'5 Foglio di elaborazione'!Z72","v":0},{"$f":"'5 Foglio di elaborazione'!AA71+'5 Foglio di elaborazione'!AA72","v":0},{"$f":"'5 Foglio di elaborazione'!AB71+'5 Foglio di elaborazione'!AB72","v":0},{"$f":"'5 Foglio di elaborazione'!AC71+'5 Foglio di elaborazione'!AC72","v":0},{"$f":"'5 Foglio di elaborazione'!AD71+'5 Foglio di elaborazione'!AD72","v":0},{"$f":"'5 Foglio di elaborazione'!AE71+'5 Foglio di elaborazione'!AE72","v":0},{"$f":"'5 Foglio di elaborazione'!AF71+'5 Foglio di elaborazione'!AF72","v":0},{"$f":"'5 Foglio di elaborazione'!AG71+'5 Foglio di elaborazione'!AG72","v":0},{"$f":"'5 Foglio di elaborazione'!AH71+'5 Foglio di elaborazione'!AH72","v":0},{"$f":"'5 Foglio di elaborazione'!AI71+'5 Foglio di elaborazione'!AI72","v":0},{"$f":"'5 Foglio di elaborazione'!AJ71+'5 Foglio di elaborazione'!AJ72","v":0},{"$f":"'5 Foglio di elaborazione'!AK71+'5 Foglio di elaborazione'!AK72","v":0},{"$f":"'5 Foglio di elaborazione'!AL71+'5 Foglio di elaborazione'!AL72","v":0},{"$f":"'5 Foglio di elaborazione'!AM71+'5 Foglio di elaborazione'!AM72","v":0},{"$f":"'5 Foglio di elaborazione'!AN71+'5 Foglio di elaborazione'!AN72","v":0},{"$f":"'5 Foglio di elaborazione'!AO71+'5 Foglio di elaborazione'!AO72","v":0},{"$f":"'5 Foglio di elaborazione'!AP71+'5 Foglio di elaborazione'!AP72","v":0},{"$f":"'5 Foglio di elaborazione'!AQ71+'5 Foglio di elaborazione'!AQ72","v":0},{"$f":"'5 Foglio di elaborazione'!AR71+'5 Foglio di elaborazione'!AR72","v":0},{"$f":"'5 Foglio di elaborazione'!AS71+'5 Foglio di elaborazione'!AS72","v":0},{"$f":"'5 Foglio di elaborazione'!AT71+'5 Foglio di elaborazione'!AT72","v":0},{"$f":"'5 Foglio di elaborazione'!AU71+'5 Foglio di elaborazione'!AU72","v":0},{"$f":"'5 Foglio di elaborazione'!AV71+'5 Foglio di elaborazione'!AV72","v":0},{"$f":"'5 Foglio di elaborazione'!AW71+'5 Foglio di elaborazione'!AW72","v":0},{"$f":"'5 Foglio di elaborazione'!AX71+'5 Foglio di elaborazione'!AX72","v":0},{"$f":"'5 Foglio di elaborazione'!AY71+'5 Foglio di elaborazione'!AY72","v":0},{"$f":"'5 Foglio di elaborazione'!AZ71+'5 Foglio di elaborazione'!AZ72","v":0},{"$f":"'5 Foglio di elaborazione'!BA71+'5 Foglio di elaborazione'!BA72","v":0},{"$f":"'5 Foglio di elaborazione'!BB71+'5 Foglio di elaborazione'!BB72","v":0},{"$f":"'5 Foglio di elaborazione'!BC71+'5 Foglio di elaborazione'!BC72","v":0},{"$f":"'5 Foglio di elaborazione'!BD71+'5 Foglio di elaborazione'!BD72","v":0},{"$f":"'5 Foglio di elaborazione'!BE71+'5 Foglio di elaborazione'!BE72","v":0},{"$f":"'5 Foglio di elaborazione'!BF71+'5 Foglio di elaborazione'!BF72","v":0},{"$f":"'5 Foglio di elaborazione'!BG71+'5 Foglio di elaborazione'!BG72","v":0},{"$f":"'5 Foglio di elaborazione'!BH71+'5 Foglio di elaborazione'!BH72","v":0},{"$f":"'5 Foglio di elaborazione'!BI71+'5 Foglio di elaborazione'!BI72","v":0},{"$f":"'5 Foglio di elaborazione'!BJ71+'5 Foglio di elaborazione'!BJ72","v":0},{"$f":"'5 Foglio di elaborazione'!BK71+'5 Foglio di elaborazione'!BK72","v":0},{"$f":"'5 Foglio di elaborazione'!BL71+'5 Foglio di elaborazione'!BL72","v":0}]
[null,"Debiti a Breve verso Istituti di Credito",12000,10000,0,0,0,0,0,0,0,0,0,0,0,0,0,0,0,0,0,0,0,0,0,0,0,0,0,0,0,0,0,0,0,0,0,0,0,0,0,0,0,0,0,0,0,0,0,0,0,0,0,0,0,0,0,0,0,0,0,0]
[null,"Imposte a Debito - IRES IRAP - saldo anno successivo",{"$f":"-'6 Rendiconto Finanz'!E20","v":0},{"$f":"IF('6 Rendiconto Finanz'!E20<'6 Rendiconto Finanz'!F20,0,100%*'6 Rendiconto Finanz'!E20-'6 Rendiconto Finanz'!F20)","v":241.65715968000509},{"$f":"IF('6 Rendiconto Finanz'!F20<'6 Rendiconto Finanz'!G20,0,100%*'6 Rendiconto Finanz'!F20-'6 Rendiconto Finanz'!G20)","v":8687.9059239931485},{"$f":"IF('6 Rendiconto Finanz'!G20<'6 Rendiconto Finanz'!H20,0,100%*'6 Rendiconto Finanz'!G20-'6 Rendiconto Finanz'!H20)","v":4775.1219381539577},{"$f":"IF('6 Rendiconto Finanz'!H20<'6 Rendiconto Finanz'!I20,0,100%*'6 Rendiconto Finanz'!H20-'6 Rendiconto Finanz'!I20)","v":274.09370043652234},{"$f":"IF('6 Rendiconto Finanz'!I20<'6 Rendiconto Finanz'!J20,0,100%*'6 Rendiconto Finanz'!I20-'6 Rendiconto Finanz'!J20)","v":279.57557444527083},{"$f":"IF('6 Rendiconto Finanz'!J20<'6 Rendiconto Finanz'!K20,0,100%*'6 Rendiconto Finanz'!J20-'6 Rendiconto Finanz'!K20)","v":285.16708593419389},{"$f":"IF('6 Rendiconto Finanz'!K20<'6 Rendiconto Finanz'!L20,0,100%*'6 Rendiconto Finanz'!K20-'6 Rendiconto Finanz'!L20)","v":290.87042765286606},{"$f":"IF('6 Rendiconto Finanz'!L20<'6 Rendiconto Finanz'!M20,0,100%*'6 Rendiconto Finanz'!L20-'6 Rendiconto Finanz'!M20)","v":296.6878362059233},{"$f":"IF('6 Rendiconto Finanz'!M20<'6 Rendiconto Finanz'!N20,0,100%*'6 Rendiconto Finanz'!M20-'6 Rendiconto Finanz'!N20)","v":302.62159293002514},{"$f":"IF('6 Rendiconto Finanz'!N20<'6 Rendiconto Finanz'!O20,0,100%*'6 Rendiconto Finanz'!N20-'6 Rendiconto Finanz'!O20)","v":0},{"$f":"IF('6 Rendiconto Finanz'!O20<'6 Rendiconto Finanz'!P20,0,100%*'6 Rendiconto Finanz'!O20-'6 Rendiconto Finanz'!P20)","v":0},{"$f":"IF('6 Rendiconto Finanz'!P20<'6 Rendiconto Finanz'!Q20,0,100%*'6 Rendiconto Finanz'!P20-'6 Rendiconto Finanz'!Q20)","v":0},{"$f":"IF('6 Rendiconto Finanz'!Q20<'6 Rendiconto Finanz'!R20,0,100%*'6 Rendiconto Finanz'!Q20-'6 Rendiconto Finanz'!R20)","v":0},{"$f":"IF('6 Rendiconto Finanz'!R20<'6 Rendiconto Finanz'!S20,0,100%*'6 Rendiconto Finanz'!R20-'6 Rendiconto Finanz'!S20)","v":0},{"$f":"IF('6 Rendiconto Finanz'!S20<'6 Rendiconto Finanz'!T20,0,100%*'6 Rendiconto Finanz'!S20-'6 Rendiconto Finanz'!T20)","v":0},{"$f":"IF('6 Rendiconto Finanz'!T20<'6 Rendiconto Finanz'!U20,0,100%*'6 Rendiconto Finanz'!T20-'6 Rendiconto Finanz'!U20)","v":0},{"$f":"IF('6 Rendiconto Finanz'!U20<'6 Rendiconto Finanz'!V20,0,100%*'6 Rendiconto Finanz'!U20-'6 Rendiconto Finanz'!V20)","v":0},{"$f":"IF('6 Rendiconto Finanz'!V20<'6 Rendiconto Finanz'!W20,0,100%*'6 Rendiconto Finanz'!V20-'6 Rendiconto Finanz'!W20)","v":0},{"$f":"IF('6 Rendiconto Finanz'!W20<'6 Rendiconto Finanz'!X20,0,100%*'6 Rendiconto Finanz'!W20-'6 Rendiconto Finanz'!X20)","v":0},{"$f":"IF('6 Rendiconto Finanz'!X20<'6 Rendiconto Finanz'!Y20,0,100%*'6 Rendiconto Finanz'!X20-'6 Rendiconto Finanz'!Y20)","v":0},{"$f":"IF('6 Rendiconto Finanz'!Y20<'6 Rendiconto Finanz'!Z20,0,100%*'6 Rendiconto Finanz'!Y20-'6 Rendiconto Finanz'!Z20)","v":0},{"$f":"IF('6 Rendiconto Finanz'!Z20<'6 Rendiconto Finanz'!AA20,0,100%*'6 Rendiconto Finanz'!Z20-'6 Rendiconto Finanz'!AA20)","v":0},{"$f":"IF('6 Rendiconto Finanz'!AA20<'6 Rendiconto Finanz'!AB20,0,100%*'6 Rendiconto Finanz'!AA20-'6 Rendiconto Finanz'!AB20)","v":0},{"$f":"IF('6 Rendiconto Finanz'!AB20<'6 Rendiconto Finanz'!AC20,0,100%*'6 Rendiconto Finanz'!AB20-'6 Rendiconto Finanz'!AC20)","v":0},{"$f":"IF('6 Rendiconto Finanz'!AC20<'6 Rendiconto Finanz'!AD20,0,100%*'6 Rendiconto Finanz'!AC20-'6 Rendiconto Finanz'!AD20)","v":0},{"$f":"IF('6 Rendiconto Finanz'!AD20<'6 Rendiconto Finanz'!AE20,0,100%*'6 Rendiconto Finanz'!AD20-'6 Rendiconto Finanz'!AE20)","v":0},{"$f":"IF('6 Rendiconto Finanz'!AE20<'6 Rendiconto Finanz'!AF20,0,100%*'6 Rendiconto Finanz'!AE20-'6 Rendiconto Finanz'!AF20)","v":0},{"$f":"IF('6 Rendiconto Finanz'!AF20<'6 Rendiconto Finanz'!AG20,0,100%*'6 Rendiconto Finanz'!AF20-'6 Rendiconto Finanz'!AG20)","v":0},{"$f":"IF('6 Rendiconto Finanz'!AG20<'6 Rendiconto Finanz'!AH20,0,100%*'6 Rendiconto Finanz'!AG20-'6 Rendiconto Finanz'!AH20)","v":0},{"$f":"IF('6 Rendiconto Finanz'!AH20<'6 Rendiconto Finanz'!AI20,0,100%*'6 Rendiconto Finanz'!AH20-'6 Rendiconto Finanz'!AI20)","v":0},{"$f":"IF('6 Rendiconto Finanz'!AI20<'6 Rendiconto Finanz'!AJ20,0,100%*'6 Rendiconto Finanz'!AI20-'6 Rendiconto Finanz'!AJ20)","v":0},{"$f":"IF('6 Rendiconto Finanz'!AJ20<'6 Rendiconto Finanz'!AK20,0,100%*'6 Rendiconto Finanz'!AJ20-'6 Rendiconto Finanz'!AK20)","v":0},{"$f":"IF('6 Rendiconto Finanz'!AK20<'6 Rendiconto Finanz'!AL20,0,100%*'6 Rendiconto Finanz'!AK20-'6 Rendiconto Finanz'!AL20)","v":0},{"$f":"IF('6 Rendiconto Finanz'!AL20<'6 Rendiconto Finanz'!AM20,0,100%*'6 Rendiconto Finanz'!AL20-'6 Rendiconto Finanz'!AM20)","v":0},{"$f":"IF('6 Rendiconto Finanz'!AM20<'6 Rendiconto Finanz'!AN20,0,100%*'6 Rendiconto Finanz'!AM20-'6 Rendiconto Finanz'!AN20)","v":0},{"$f":"IF('6 Rendiconto Finanz'!AN20<'6 Rendiconto Finanz'!AO20,0,100%*'6 Rendiconto Finanz'!AN20-'6 Rendiconto Finanz'!AO20)","v":0},{"$f":"IF('6 Rendiconto Finanz'!AO20<'6 Rendiconto Finanz'!AP20,0,100%*'6 Rendiconto Finanz'!AO20-'6 Rendiconto Finanz'!AP20)","v":0},{"$f":"IF('6 Rendiconto Finanz'!AP20<'6 Rendiconto Finanz'!AQ20,0,100%*'6 Rendiconto Finanz'!AP20-'6 Rendiconto Finanz'!AQ20)","v":0},{"$f":"IF('6 Rendiconto Finanz'!AQ20<'6 Rendiconto Finanz'!AR20,0,100%*'6 Rendiconto Finanz'!AQ20-'6 Rendiconto Finanz'!AR20)","v":0},{"$f":"IF('6 Rendiconto Finanz'!AR20<'6 Rendiconto Finanz'!AS20,0,100%*'6 Rendiconto Finanz'!AR20-'6 Rendiconto Finanz'!AS20)","v":0},{"$f":"IF('6 Rendiconto Finanz'!AS20<'6 Rendiconto Finanz'!AT20,0,100%*'6 Rendiconto Finanz'!AS20-'6 Rendiconto Finanz'!AT20)","v":0},{"$f":"IF('6 Rendiconto Finanz'!AT20<'6 Rendiconto Finanz'!AU20,0,100%*'6 Rendiconto Finanz'!AT20-'6 Rendiconto Finanz'!AU20)","v":0},{"$f":"IF('6 Rendiconto Finanz'!AU20<'6 Rendiconto Finanz'!AV20,0,100%*'6 Rendiconto Finanz'!AU20-'6 Rendiconto Finanz'!AV20)","v":0},{"$f":"IF('6 Rendiconto Finanz'!AV20<'6 Rendiconto Finanz'!AW20,0,100%*'6 Rendiconto Finanz'!AV20-'6 Rendiconto Finanz'!AW20)","v":0},{"$f":"IF('6 Rendiconto Finanz'!AW20<'6 Rendiconto Finanz'!AX20,0,100%*'6 Rendiconto Finanz'!AW20-'6 Rendiconto Finanz'!AX20)","v":0},{"$f":"IF('6 Rendiconto Finanz'!AX20<'6 Rendiconto Finanz'!AY20,0,100%*'6 Rendiconto Finanz'!AX20-'6 Rendiconto Finanz'!AY20)","v":0},{"$f":"IF('6 Rendiconto Finanz'!AY20<'6 Rendiconto Finanz'!AZ20,0,100%*'6 Rendiconto Finanz'!AY20-'6 Rendiconto Finanz'!AZ20)","v":0},{"$f":"IF('6 Rendiconto Finanz'!AZ20<'6 Rendiconto Finanz'!BA20,0,100%*'6 Rendiconto Finanz'!AZ20-'6 Rendiconto Finanz'!BA20)","v":0},{"$f":"IF('6 Rendiconto Finanz'!BA20<'6 Rendiconto Finanz'!BB20,0,100%*'6 Rendiconto Finanz'!BA20-'6 Rendiconto Finanz'!BB20)","v":0},{"$f":"IF('6 Rendiconto Finanz'!BB20<'6 Rendiconto Finanz'!BC20,0,100%*'6 Rendiconto Finanz'!BB20-'6 Rendiconto Finanz'!BC20)","v":0},{"$f":"IF('6 Rendiconto Finanz'!BC20<'6 Rendiconto Finanz'!BD20,0,100%*'6 Rendiconto Finanz'!BC20-'6 Rendiconto Finanz'!BD20)","v":0},{"$f":"IF('6 Rendiconto Finanz'!BD20<'6 Rendiconto Finanz'!BE20,0,100%*'6 Rendiconto Finanz'!BD20-'6 Rendiconto Finanz'!BE20)","v":0},{"$f":"IF('6 Rendiconto Finanz'!BE20<'6 Rendiconto Finanz'!BF20,0,100%*'6 Rendiconto Finanz'!BE20-'6 Rendiconto Finanz'!BF20)","v":0},{"$f":"IF('6 Rendiconto Finanz'!BF20<'6 Rendiconto Finanz'!BG20,0,100%*'6 Rendiconto Finanz'!BF20-'6 Rendiconto Finanz'!BG20)","v":0},{"$f":"IF('6 Rendiconto Finanz'!BG20<'6 Rendiconto Finanz'!BH20,0,100%*'6 Rendiconto Finanz'!BG20-'6 Rendiconto Finanz'!BH20)","v":0},{"$f":"IF('6 Rendiconto Finanz'!BH20<'6 Rendiconto Finanz'!BI20,0,100%*'6 Rendiconto Finanz'!BH20-'6 Rendiconto Finanz'!BI20)","v":0},{"$f":"IF('6 Rendiconto Finanz'!BI20<'6 Rendiconto Finanz'!BJ20,0,100%*'6 Rendiconto Finanz'!BI20-'6 Rendiconto Finanz'!BJ20)","v":0},{"$f":"IF('6 Rendiconto Finanz'!BJ20<'6 Rendiconto Finanz'!BK20,0,100%*'6 Rendiconto Finanz'!BJ20-'6 Rendiconto Finanz'!BK20)","v":0},{"$f":"IF('6 Rendiconto Finanz'!BK20<'6 Rendiconto Finanz'!BL20,0,100%*'6 Rendiconto Finanz'!BK20-'6 Rendiconto Finanz'!BL20)","v":0}]
[null,"Ratei e Risconti",0,0,0,0,0,0,0,0,0,0,0,0,0,0,0,0,0,0,0,0,0,0,0,0,0,0,0,0,0,0,0,0,0,0,0,0,0,0,0,0,0,0,0,0,0,0,0,0,0,0,0,0,0,0,0,0,0,0,0,0]
[null,"Passivo a M/L Termine",{"$f":"SUM(C22:C26)","v":0},0,0,0,0,0,0,0,0,0,{"$f":"SUM(M22:M26)","v":0},0,0,0,0,0,0,0,0,0,0,0,0,0,0,0,0,0,0,0,0,0,0,0,0,0,0,0,0,0,0,0,0,0,0,0,0,0,0,0,0,0,0,0,0,0,0,0,0,0]
[null,"Debiti Commerciali a Medio/Lungo Termine ",0,0,0,0,0,0,0,0,0,0,0,0,0,0,0,0,0,0,0,0,0,0,0,0,0,0,0,0,0,0,0,0,0,0,0,0,0,0,0,0,0,0,0,0,0,0,0,0,0,0,0,0,0,0,0,0,0,0,0,0]
[null,"Debiti Finanziari a Medio/Lungo Termine",{"$f":"'5 Foglio di elaborazione'!E87+'5 Foglio di elaborazione'!E97","v":0},{"$f":"'5 Foglio di elaborazione'!F87+'5 Foglio di elaborazione'!F97","v":0},{"$f":"'5 Foglio di elaborazione'!G87+'5 Foglio di elaborazione'!G97","v":0},{"$f":"'5 Foglio di elaborazione'!H87+'5 Foglio di elaborazione'!H97","v":0},{"$f":"'5 Foglio di elaborazione'!I87+'5 Foglio di elaborazione'!I97","v":0},{"$f":"'5 Foglio di elaborazione'!J87+'5 Foglio di elaborazione'!J97","v":0},0,{"$f":"'5 Foglio di elaborazione'!L87+'5 Foglio di elaborazione'!L97","v":0},{"$f":"'5 Foglio di elaborazione'!M87+'5 Foglio di elaborazione'!M97","v":0},{"$f":"'5 Foglio di elaborazione'!N87+'5 Foglio di elaborazione'!N97","v":0},{"$f":"'5 Foglio di elaborazione'!O87+'5 Foglio di elaborazione'!O97","v":0},{"$f":"'5 Foglio di elaborazione'!P87+'5 Foglio di elaborazione'!P97","v":0},{"$f":"'5 Foglio di elaborazione'!Q87+'5 Foglio di elaborazione'!Q97","v":0},{"$f":"'5 Foglio di elaborazione'!R87+'5 Foglio di elaborazione'!R97","v":0},{"$f":"'5 Foglio di elaborazione'!S87+'5 Foglio di elaborazione'!S97","v":0},{"$f":"'5 Foglio di elaborazione'!T87+'5 Foglio di elaborazione'!T97","v":0},{"$f":"'5 Foglio di elaborazione'!U87+'5 Foglio di elaborazione'!U97","v":0},{"$f":"'5 Foglio di elaborazione'!V87+'5 Foglio di elaborazione'!V97","v":0},{"$f":"'5 Foglio di elaborazione'!W87+'5 Foglio di elaborazione'!W97","v":0},{"$f":"'5 Foglio di elaborazione'!X87+'5 Foglio di elaborazione'!X97","v":0},{"$f":"'5 Foglio di elaborazione'!Y87+'5 Foglio di elaborazione'!Y97","v":0},{"$f":"'5 Foglio di elaborazione'!Z87+'5 Foglio di elaborazione'!Z97","v":0},{"$f":"'5 Foglio di elaborazione'!AA87+'5 Foglio di elaborazione'!AA97","v":0},{"$f":"'5 Foglio di elaborazione'!AB87+'5 Foglio di elaborazione'!AB97","v":0},{"$f":"'5 Foglio di elaborazione'!AC87+'5 Foglio di elaborazione'!AC97","v":0},{"$f":"'5 Foglio di elaborazione'!AD87+'5 Foglio di elaborazione'!AD97","v":0},{"$f":"'5 Foglio di elaborazione'!AE87+'5 Foglio di elaborazione'!AE97","v":0},{"$f":"'5 Foglio di elaborazione'!AF87+'5 Foglio di elaborazione'!AF97","v":0},{"$f":"'5 Foglio di elaborazione'!AG87+'5 Foglio di elaborazione'!AG97","v":0},{"$f":"'5 Foglio di elaborazione'!AH87+'5 Foglio di elaborazione'!AH97","v":0},{"$f":"'5 Foglio di elaborazione'!AI87+'5 Foglio di elaborazione'!AI97","v":0},{"$f":"'5 Foglio di elaborazione'!AJ87+'5 Foglio di elaborazione'!AJ97","v":0},{"$f":"'5 Foglio di elaborazione'!AK87+'5 Foglio di elaborazione'!AK97","v":0},{"$f":"'5 Foglio di elaborazione'!AL87+'5 Foglio di elaborazione'!AL97","v":0},{"$f":"'5 Foglio di elaborazione'!AM87+'5 Foglio di elaborazione'!AM97","v":0},{"$f":"'5 Foglio di elaborazione'!AN87+'5 Foglio di elaborazione'!AN97","v":0},{"$f":"'5 Foglio di elaborazione'!AO87+'5 Foglio di elaborazione'!AO97","v":0},{"$f":"'5 Foglio di elaborazione'!AP87+'5 Foglio di elaborazione'!AP97","v":0},{"$f":"'5 Foglio di elaborazione'!AQ87+'5 Foglio di elaborazione'!AQ97","v":0},{"$f":"'5 Foglio di elaborazione'!AR87+'5 Foglio di elaborazione'!AR97","v":0},{"$f":"'5 Foglio di elaborazione'!AS87+'5 Foglio di elaborazione'!AS97","v":0},{"$f":"'5 Foglio di elaborazione'!AT87+'5 Foglio di elaborazione'!AT97","v":0},{"$f":"'5 Foglio di elaborazione'!AU87+'5 Foglio di elaborazione'!AU97","v":0},{"$f":"'5 Foglio di elaborazione'!AV87+'5 Foglio di elaborazione'!AV97","v":0},{"$f":"'5 Foglio di elaborazione'!AW87+'5 Foglio di elaborazione'!AW97","v":0},{"$f":"'5 Foglio di elaborazione'!AX87+'5 Foglio di elaborazione'!AX97","v":0},{"$f":"'5 Foglio di elaborazione'!AY87+'5 Foglio di elaborazione'!AY97","v":0},{"$f":"'5 Foglio di elaborazione'!AZ87+'5 Foglio di elaborazione'!AZ97","v":0},{"$f":"'5 Foglio di elaborazione'!BA87+'5 Foglio di elaborazione'!BA97","v":0},{"$f":"'5 Foglio di elaborazione'!BB87+'5 Foglio di elaborazione'!BB97","v":0},{"$f":"'5 Foglio di elaborazione'!BC87+'5 Foglio di elaborazione'!BC97","v":0},{"$f":"'5 Foglio di elaborazione'!BD87+'5 Foglio di elaborazione'!BD97","v":0},{"$f":"'5 Foglio di elaborazione'!BE87+'5 Foglio di elaborazione'!BE97","v":0},{"$f":"'5 Foglio di elaborazione'!BF87+'5 Foglio di elaborazione'!BF97","v":0},{"$f":"'5 Foglio di elaborazione'!BG87+'5 Foglio di elaborazione'!BG97","v":0},{"$f":"'5 Foglio di elaborazione'!BH87+'5 Foglio di elaborazione'!BH97","v":0},{"$f":"'5 Foglio di elaborazione'!BI87+'5 Foglio di elaborazione'!BI97","v":0},{"$f":"'5 Foglio di elaborazione'!BJ87+'5 Foglio di elaborazione'!BJ97","v":0},{"$f":"'5 Foglio di elaborazione'!BK87+'5 Foglio di elaborazione'!BK97","v":0},{"$f":"'5 Foglio di elaborazione'!BL87+'5 Foglio di elaborazione'!BL97","v":0}]
[null,"Debiti Diversi a Medio/Lungo Termine ",0,0,0,0,0,0,0,0,0,0,0,0,0,0,0,0,0,0,0,0,0,0,0,0,0,0,0,0,0,0,0,0,0,0,0,0,0,0,0,0,0,0,0,0,0,0,0,0,0,0,0,0,0,0,0,0,0,0,0,0]
[null,"Altri Debiti a Medio/Lungo Termine ",0,0,0,0,0,0,0,0,0,0,0,0,0,0,0,0,0,0,0,0,0,0,0,0,0,0,0,0,0,0,0,0,0,0,0,0,0,0,0,0,0,0,0,0,0,0,0,0,0,0,0,0,0,0,0,0,0,0,0,0]
[null,"Accantonamenti a Fondo O&MRA ",{"$f":"'6 Rendiconto Finanz'!E17-'6 Rendiconto Finanz'!E8","v":0},{"$f":"C26+'6 Rendiconto Finanz'!F17-'6 Rendiconto Finanz'!F8","v":0},{"$f":"D26+'6 Rendiconto Finanz'!G17-'6 Rendiconto Finanz'!G8","v":0},{"$f":"E26+'6 Rendiconto Finanz'!H17-'6 Rendiconto Finanz'!H8","v":0},{"$f":"F26+'6 Rendiconto Finanz'!I17-'6 Rendiconto Finanz'!I8","v":0},{"$f":"G26+'6 Rendiconto Finanz'!J17-'6 Rendiconto Finanz'!J8","v":0},0,{"$f":"I26+'6 Rendiconto Finanz'!L17-'6 Rendiconto Finanz'!L8","v":0},{"$f":"J26+'6 Rendiconto Finanz'!M17-'6 Rendiconto Finanz'!M8","v":0},{"$f":"K26+'6 Rendiconto Finanz'!N17-'6 Rendiconto Finanz'!N8","v":0},{"$f":"L26+'6 Rendiconto Finanz'!O17-'6 Rendiconto Finanz'!O8","v":0},{"$f":"M26+'6 Rendiconto Finanz'!P17-'6 Rendiconto Finanz'!P8","v":0},{"$f":"N26+'6 Rendiconto Finanz'!Q17-'6 Rendiconto Finanz'!Q8","v":0},{"$f":"O26+'6 Rendiconto Finanz'!R17-'6 Rendiconto Finanz'!R8","v":0},{"$f":"P26+'6 Rendiconto Finanz'!S17-'6 Rendiconto Finanz'!S8","v":0},{"$f":"Q26+'6 Rendiconto Finanz'!T17-'6 Rendiconto Finanz'!T8","v":0},{"$f":"R26+'6 Rendiconto Finanz'!U17-'6 Rendiconto Finanz'!U8","v":0},{"$f":"S26+'6 Rendiconto Finanz'!V17-'6 Rendiconto Finanz'!V8","v":0},{"$f":"T26+'6 Rendiconto Finanz'!W17-'6 Rendiconto Finanz'!W8","v":0},{"$f":"U26+'6 Rendiconto Finanz'!X17-'6 Rendiconto Finanz'!X8","v":0},{"$f":"V26+'6 Rendiconto Finanz'!Y17-'6 Rendiconto Finanz'!Y8","v":0},{"$f":"W26+'6 Rendiconto Finanz'!Z17-'6 Rendiconto Finanz'!Z8","v":0},{"$f":"X26+'6 Rendiconto Finanz'!AA17-'6 Rendiconto Finanz'!AA8","v":0},{"$f":"Y26+'6 Rendiconto Finanz'!AB17-'6 Rendiconto Finanz'!AB8","v":0},{"$f":"Z26+'6 Rendiconto Finanz'!AC17-'6 Rendiconto Finanz'!AC8","v":0},{"$f":"AA26+'6 Rendiconto Finanz'!AD17-'6 Rendiconto Finanz'!AD8","v":0},{"$f":"AB26+'6 Rendiconto Finanz'!AE17-'6 Rendiconto Finanz'!AE8","v":0},{"$f":"AC26+'6 Rendiconto Finanz'!AF17-'6 Rendiconto Finanz'!AF8","v":0},{"$f":"AD26+'6 Rendiconto Finanz'!AG17-'6 Rendiconto Finanz'!AG8","v":0},{"$f":"AE26+'6 Rendiconto Finanz'!AH17-'6 Rendiconto Finanz'!AH8","v":0},{"$f":"AF26+'6 Rendiconto Finanz'!AI17-'6 Rendiconto Finanz'!AI8","v":0},{"$f":"AG26+'6 Rendiconto Finanz'!AJ17-'6 Rendiconto Finanz'!AJ8","v":0},{"$f":"AH26+'6 Rendiconto Finanz'!AK17-'6 Rendiconto Finanz'!AK8","v":0},{"$f":"AI26+'6 Rendiconto Finanz'!AL17-'6 Rendiconto Finanz'!AL8","v":0},{"$f":"AJ26+'6 Rendiconto Finanz'!AM17-'6 Rendiconto Finanz'!AM8","v":0},{"$f":"AK26+'6 Rendiconto Finanz'!AN17-'6 Rendiconto Finanz'!AN8","v":0},{"$f":"AL26+'6 Rendiconto Finanz'!AO17-'6 Rendiconto Finanz'!AO8","v":0},{"$f":"AM26+'6 Rendiconto Finanz'!AP17-'6 Rendiconto Finanz'!AP8","v":0},{"$f":"AN26+'6 Rendiconto Finanz'!AQ17-'6 Rendiconto Finanz'!AQ8","v":0},{"$f":"AO26+'6 Rendiconto Finanz'!AR17-'6 Rendiconto Finanz'!AR8","v":0},{"$f":"AP26+'6 Rendiconto Finanz'!AS17-'6 Rendiconto Finanz'!AS8","v":0},{"$f":"AQ26+'6 Rendiconto Finanz'!AT17-'6 Rendiconto Finanz'!AT8","v":0},{"$f":"AR26+'6 Rendiconto Finanz'!AU17-'6 Rendiconto Finanz'!AU8","v":0},{"$f":"AS26+'6 Rendiconto Finanz'!AV17-'6 Rendiconto Finanz'!AV8","v":0},{"$f":"AT26+'6 Rendiconto Finanz'!AW17-'6 Rendiconto Finanz'!AW8","v":0},{"$f":"AU26+'6 Rendiconto Finanz'!AX17-'6 Rendiconto Finanz'!AX8","v":0},{"$f":"AV26+'6 Rendiconto Finanz'!AY17-'6 Rendiconto Finanz'!AY8","v":0},{"$f":"AW26+'6 Rendiconto Finanz'!AZ17-'6 Rendiconto Finanz'!AZ8","v":0},{"$f":"AX26+'6 Rendiconto Finanz'!BA17-'6 Rendiconto Finanz'!BA8","v":0},{"$f":"AY26+'6 Rendiconto Finanz'!BB17-'6 Rendiconto Finanz'!BB8","v":0},{"$f":"AZ26+'6 Rendiconto Finanz'!BC17-'6 Rendiconto Finanz'!BC8","v":0},{"$f":"BA26+'6 Rendiconto Finanz'!BD17-'6 Rendiconto Finanz'!BD8","v":0},{"$f":"BB26+'6 Rendiconto Finanz'!BE17-'6 Rendiconto Finanz'!BE8","v":0},{"$f":"BC26+'6 Rendiconto Finanz'!BF17-'6 Rendiconto Finanz'!BF8","v":0},{"$f":"BD26+'6 Rendiconto Finanz'!BG17-'6 Rendiconto Finanz'!BG8","v":0},{"$f":"BE26+'6 Rendiconto Finanz'!BH17-'6 Rendiconto Finanz'!BH8","v":0},{"$f":"BF26+'6 Rendiconto Finanz'!BI17-'6 Rendiconto Finanz'!BI8","v":0},{"$f":"BG26+'6 Rendiconto Finanz'!BJ17-'6 Rendiconto Finanz'!BJ8","v":0},{"$f":"BH26+'6 Rendiconto Finanz'!BK17-'6 Rendiconto Finanz'!BK8","v":0},{"$f":"BI26+'6 Rendiconto Finanz'!BL17-'6 Rendiconto Finanz'!BL8","v":0}]
[null,"Mezzi Propri (al netto di utili/perdite esercizio)",{"$f":"SUM(C28:C31)","v":10000},-19370.680000000579,-14892.470759681584,22317.958284644847,55676.065233377871,89701.334321085509,124407.1087905473,159806.99874939836,195914.88650742645,232744.93202061512,{"$f":"SUM(M28:M31)","v":0},7.0879999999999992E-11,-1.0291199999999999E-9,-1.0291199999999999E-9,-1.0291199999999999E-9,-1.0291199999999999E-9,-1.0291199999999999E-9,-1.0291199999999999E-9,-1.0291199999999999E-9,-1.0291199999999999E-9,-1.0291199999999999E-9,-1.0291199999999999E-9,-1.0291199999999999E-9,-1.0291199999999999E-9,-1.0291199999999999E-9,-1.0291199999999999E-9,-1.0291199999999999E-9,-1.0291199999999999E-9,-1.0291199999999999E-9,-1.0291199999999999E-9,-1.0291199999999999E-9,-1.0291199999999999E-9,-1.0291199999999999E-9,-1.0291199999999999E-9,-1.0291199999999999E-9,-1.0291199999999999E-9,-1.0291199999999999E-9,-1.0291199999999999E-9,-1.0291199999999999E-9,-1.0291199999999999E-9,-1.0291199999999999E-9,-1.0291199999999999E-9,-1.0291199999999999E-9,-1.0291199999999999E-9,-1.0291199999999999E-9,-1.0291199999999999E-9,-1.0291199999999999E-9,-1.0291199999999999E-9,-1.0291199999999999E-9,-1.0291199999999999E-9,-1.0291199999999999E-9,-1.0291199999999999E-9,-1.0291199999999999E-9,-1.0291199999999999E-9,-1.0291199999999999E-9,-1.0291199999999999E-9,-1.0291199999999999E-9,-1.0291199999999999E-9,-1.0291199999999999E-9,-1.0291199999999999E-9]
[null,"Capitale Sociale",{"$f":"'5 Foglio di elaborazione'!E28","v":10000},{"$f":"'5 Foglio di elaborazione'!F28+C28","v":10000},{"$f":"'5 Foglio di elaborazione'!G28+D28","v":10000},{"$f":"'5 Foglio di elaborazione'!H28+E28","v":10000},{"$f":"'5 Foglio di elaborazione'!I28+F28","v":10000},{"$f":"'5 Foglio di elaborazione'!J28+G28","v":10000},{"$f":"'5 Foglio di elaborazione'!K28+H28","v":10000},{"$f":"'5 Foglio di elaborazione'!L28+I28","v":10000},{"$f":"'5 Foglio di elaborazione'!M28+J28","v":10000},{"$f":"'5 Foglio di elaborazione'!N28+K28","v":10000},0,{"$f":"'5 Foglio di elaborazione'!P28+M28","v":0},{"$f":"'5 Foglio di elaborazione'!Q28+N28","v":0},{"$f":"'5 Foglio di elaborazione'!R28+O28","v":0},{"$f":"'5 Foglio di elaborazione'!S28+P28","v":0},{"$f":"'5 Foglio di elaborazione'!T28+Q28","v":0},{"$f":"'5 Foglio di elaborazione'!U28+R28","v":0},{"$f":"'5 Foglio di elaborazione'!V28+S28","v":0},{"$f":"'5 Foglio di elaborazione'!W28+T28","v":0},{"$f":"'5 Foglio di elaborazione'!X28+U28","v":0},{"$f":"'5 Foglio di elaborazione'!Y28+V28","v":0},{"$f":"'5 Foglio di elaborazione'!Z28+W28","v":0},{"$f":"'5 Foglio di elaborazione'!AA28+X28","v":0},{"$f":"'5 Foglio di elaborazione'!AB28+Y28","v":0},{"$f":"'5 Foglio di elaborazione'!AC28+Z28","v":0},{"$f":"'5 Foglio di elaborazione'!AD28+AA28","v":0},{"$f":"'5 Foglio di elaborazione'!AE28+AB28","v":0},{"$f":"'5 Foglio di elaborazione'!AF28+AC28","v":0},{"$f":"'5 Foglio di elaborazione'!AG28+AD28","v":0},{"$f":"'5 Foglio di elaborazione'!AH28+AE28","v":0},{"$f":"'5 Foglio di elaborazione'!AI28+AF28","v":0},{"$f":"'5 Foglio di elaborazione'!AJ28+AG28","v":0},{"$f":"'5 Foglio di elaborazione'!AK28+AH28","v":0},{"$f":"'5 Foglio di elaborazione'!AL28+AI28","v":0},{"$f":"'5 Foglio di elaborazione'!AM28+AJ28","v":0},{"$f":"'5 Foglio di elaborazione'!AN28+AK28","v":0},{"$f":"'5 Foglio di elaborazione'!AO28+AL28","v":0},{"$f":"'5 Foglio di elaborazione'!AP28+AM28","v":0},{"$f":"'5 Foglio di elaborazione'!AQ28+AN28","v":0},{"$f":"'5 Foglio di elaborazione'!AR28+AO28","v":0},{"$f":"'5 Foglio di elaborazione'!AS28+AP28","v":0},{"$f":"'5 Foglio di elaborazione'!AT28+AQ28","v":0},{"$f":"'5 Foglio di elaborazione'!AU28+AR28","v":0},{"$f":"'5 Foglio di elaborazione'!AV28+AS28","v":0},{"$f":"'5 Foglio di elaborazione'!AW28+AT28","v":0},{"$f":"'5 Foglio di elaborazione'!AX28+AU28","v":0},{"$f":"'5 Foglio di elaborazione'!AY28+AV28","v":0},{"$f":"'5 Foglio di elaborazione'!AZ28+AW28","v":0},{"$f":"'5 Foglio di elaborazione'!BA28+AX28","v":0},{"$f":"'5 Foglio di elaborazione'!BB28+AY28","v":0},{"$f":"'5 Foglio di elaborazione'!BC28+AZ28","v":0},{"$f":"'5 Foglio di elaborazione'!BD28+BA28","v":0},{"$f":"'5 Foglio di elaborazione'!BE28+BB28","v":0},{"$f":"'5 Foglio di elaborazione'!BF28+BC28","v":0},{"$f":"'5 Foglio di elaborazione'!BG28+BD28","v":0},{"$f":"'5 Foglio di elaborazione'!BH28+BE28","v":0},{"$f":"'5 Foglio di elaborazione'!BI28+BF28","v":0},{"$f":"'5 Foglio di elaborazione'!BJ28+BG28","v":0},{"$f":"'5 Foglio di elaborazione'!BK28+BH28","v":0},{"$f":"'5 Foglio di elaborazione'!BL28+BI28","v":0}]
[null,"Riserva a Sservizio del Debito - DSRA",{"$f":"C13","v":0},0,0,0,0,0,0,{"$f":"J13","v":0},0,0,0,0,0,0,0,0,0,0,0,0,0,0,0,0,0,0,0,0,0,0,0,0,0,0,0,0,0,0,0,0,0,0,0,0,0,0,0,0,0,0,0,0,0,0,0,0,0,0,0,0]
[null,"Riserva Legale",0,{"$f":"IF((C30+C32*0.05)>D28*0.2,D28*0.2,IF(C32<0,(0+C30),(C32*5%+C30)))","v":0},223.91046201594975,2000,{"$f":"IF((F30+F32*0.05)>G28*0.2,G28*0.2,IF(F32<0,(0+F30),(F32*5%+F30)))","v":2000},{"$f":"IF((G30+G32*0.05)>H28*0.2,H28*0.2,IF(G32<0,(0+G30),(G32*5%+G30)))","v":2000},{"$f":"IF((H30+H32*0.05)>I28*0.2,I28*0.2,IF(H32<0,(0+H30),(H32*5%+H30)))","v":2000},{"$f":"IF((I30+I32*0.05)>J28*0.2,J28*0.2,IF(I32<0,(0+I30),(I32*5%+I30)))","v":2000},{"$f":"IF((J30+J32*0.05)>K28*0.2,K28*0.2,IF(J32<0,(0+J30),(J32*5%+J30)))","v":2000},{"$f":"IF((K30+K32*0.05)>L28*0.2,L28*0.2,IF(K32<0,(0+K30),(K32*5%+K30)))","v":2000},{"$f":"IF((L30+L32*0.05)>M28*0.2,M28*0.2,IF(L32<0,(0+L30),(L32*5%+L30)))","v":0},0,0,0,0,0,0,0,0,0,0,0,0,0,0,0,0,0,0,0,0,0,0,0,0,0,0,0,0,0,0,0,0,0,0,0,0,0,0,0,0,0,0,0,0,0,0,0,0,0]
[null,"Utili - Perdite portati a Nuovo",{"$f":"-C29","v":0},{"$f":"(C30+C31+C32)-D30-D33+C29-D29","v":-29370.680000000579},-25116.381221697535,10317.958284644847,{"$f":"(F30+F31+F32)-G30-G33+F29-G29","v":43676.065233377871},{"$f":"(G30+G31+G32)-H30-H33+G29-H29","v":77701.334321085509},{"$f":"(H30+H31+H32)-I30-I33+H29-I29","v":112407.1087905473},{"$f":"(I30+I31+I32)-J30-J33+I29-J29","v":147806.99874939836},{"$f":"(J30+J31+J32)-K30-K33+J29-K29","v":183914.88650742645},{"$f":"(K30+K31+K32)-L30-L33+K29-L29","v":220744.93202061512},0,{"$f":"(M30+M31+M32)-N30-N33+M29-N29","v":7.0879999999999992E-11},-1.0291199999999999E-9,-1.0291199999999999E-9,-1.0291199999999999E-9,-1.0291199999999999E-9,-1.0291199999999999E-9,-1.0291199999999999E-9,-1.0291199999999999E-9,-1.0291199999999999E-9,-1.0291199999999999E-9,-1.0291199999999999E-9,-1.0291199999999999E-9,-1.0291199999999999E-9,-1.0291199999999999E-9,-1.0291199999999999E-9,-1.0291199999999999E-9,-1.0291199999999999E-9,-1.0291199999999999E-9,-1.0291199999999999E-9,-1.0291199999999999E-9,-1.0291199999999999E-9,-1.0291199999999999E-9,-1.0291199999999999E-9,-1.0291199999999999E-9,-1.0291199999999999E-9,-1.0291199999999999E-9,-1.0291199999999999E-9,-1.0291199999999999E-9,-1.0291199999999999E-9,-1.0291199999999999E-9,-1.0291199999999999E-9,-1.0291199999999999E-9,-1.0291199999999999E-9,-1.0291199999999999E-9,-1.0291199999999999E-9,-1.0291199999999999E-9,-1.0291199999999999E-9,-1.0291199999999999E-9,-1.0291199999999999E-9,-1.0291199999999999E-9,-1.0291199999999999E-9,-1.0291199999999999E-9,-1.0291199999999999E-9,-1.0291199999999999E-9,-1.0291199999999999E-9,-1.0291199999999999E-9,-1.0291199999999999E-9,-1.0291199999999999E-9,-1.0291199999999999E-9]
[null,"Utili - Perdite di Esercizio",{"$f":"'6 Rendiconto Finanz'!E19+'6 Rendiconto Finanz'!E20","v":-29370.680000000579},{"$f":"'6 Rendiconto Finanz'!F19+'6 Rendiconto Finanz'!F20","v":4478.2092403189945},{"$f":"'6 Rendiconto Finanz'!G19+'6 Rendiconto Finanz'!G20","v":37210.429044326433},{"$f":"'6 Rendiconto Finanz'!H19+'6 Rendiconto Finanz'!H20","v":33358.106948733024},{"$f":"'6 Rendiconto Finanz'!I19+'6 Rendiconto Finanz'!I20","v":34025.269087707638},{"$f":"'6 Rendiconto Finanz'!J19+'6 Rendiconto Finanz'!J20","v":34705.774469461787},{"$f":"'6 Rendiconto Finanz'!K19+'6 Rendiconto Finanz'!K20","v":35399.889958851061},{"$f":"'6 Rendiconto Finanz'!L19+'6 Rendiconto Finanz'!L20","v":36107.88775802809},{"$f":"'6 Rendiconto Finanz'!M19+'6 Rendiconto Finanz'!M20","v":36830.045513188663},{"$f":"'6 Rendiconto Finanz'!N19+'6 Rendiconto Finanz'!N20","v":37566.646423452403},{"$f":"'6 Rendiconto Finanz'!O19+'6 Rendiconto Finanz'!O20","v":7.0879999999999992E-11},{"$f":"'6 Rendiconto Finanz'!P19+'6 Rendiconto Finanz'!P20","v":-1.0999999999999999E-9},{"$f":"'6 Rendiconto Finanz'!Q19+'6 Rendiconto Finanz'!Q20","v":0},{"$f":"'6 Rendiconto Finanz'!R19+'6 Rendiconto Finanz'!R20","v":0},{"$f":"'6 Rendiconto Finanz'!S19+'6 Rendiconto Finanz'!S20","v":0},{"$f":"'6 Rendiconto Finanz'!T19+'6 Rendiconto Finanz'!T20","v":0},{"$f":"'6 Rendiconto Finanz'!U19+'6 Rendiconto Finanz'!U20","v":0},{"$f":"'6 Rendiconto Finanz'!V19+'6 Rendiconto Finanz'!V20","v":0},{"$f":"'6 Rendiconto Finanz'!W19+'6 Rendiconto Finanz'!W20","v":0},{"$f":"'6 Rendiconto Finanz'!X19+'6 Rendiconto Finanz'!X20","v":0},{"$f":"'6 Rendiconto Finanz'!Y19+'6 Rendiconto Finanz'!Y20","v":0},{"$f":"'6 Rendiconto Finanz'!Z19+'6 Rendiconto Finanz'!Z20","v":0},{"$f":"'6 Rendiconto Finanz'!AA19+'6 Rendiconto Finanz'!AA20","v":0},{"$f":"'6 Rendiconto Finanz'!AB19+'6 Rendiconto Finanz'!AB20","v":0},{"$f":"'6 Rendiconto Finanz'!AC19+'6 Rendiconto Finanz'!AC20","v":0},{"$f":"'6 Rendiconto Finanz'!AD19+'6 Rendiconto Finanz'!AD20","v":0},{"$f":"'6 Rendiconto Finanz'!AE19+'6 Rendiconto Finanz'!AE20","v":0},{"$f":"'6 Rendiconto Finanz'!AF19+'6 Rendiconto Finanz'!AF20","v":0},{"$f":"'6 Rendiconto Finanz'!AG19+'6 Rendiconto Finanz'!AG20","v":0},{"$f":"'6 Rendiconto Finanz'!AH19+'6 Rendiconto Finanz'!AH20","v":0},{"$f":"'6 Rendiconto Finanz'!AI19+'6 Rendiconto Finanz'!AI20","v":0},{"$f":"'6 Rendiconto Finanz'!AJ19+'6 Rendiconto Finanz'!AJ20","v":0},{"$f":"'6 Rendiconto Finanz'!AK19+'6 Rendiconto Finanz'!AK20","v":0},{"$f":"'6 Rendiconto Finanz'!AL19+'6 Rendiconto Finanz'!AL20","v":0},{"$f":"'6 Rendiconto Finanz'!AM19+'6 Rendiconto Finanz'!AM20","v":0},{"$f":"'6 Rendiconto Finanz'!AN19+'6 Rendiconto Finanz'!AN20","v":0},{"$f":"'6 Rendiconto Finanz'!AO19+'6 Rendiconto Finanz'!AO20","v":0},{"$f":"'6 Rendiconto Finanz'!AP19+'6 Rendiconto Finanz'!AP20","v":0},{"$f":"'6 Rendiconto Finanz'!AQ19+'6 Rendiconto Finanz'!AQ20","v":0},{"$f":"'6 Rendiconto Finanz'!AR19+'6 Rendiconto Finanz'!AR20","v":0},{"$f":"'6 Rendiconto Finanz'!AS19+'6 Rendiconto Finanz'!AS20","v":0},{"$f":"'6 Rendiconto Finanz'!AT19+'6 Rendiconto Finanz'!AT20","v":0},{"$f":"'6 Rendiconto Finanz'!AU19+'6 Rendiconto Finanz'!AU20","v":0},{"$f":"'6 Rendiconto Finanz'!AV19+'6 Rendiconto Finanz'!AV20","v":0},{"$f":"'6 Rendiconto Finanz'!AW19+'6 Rendiconto Finanz'!AW20","v":0},{"$f":"'6 Rendiconto Finanz'!AX19+'6 Rendiconto Finanz'!AX20","v":0},{"$f":"'6 Rendiconto Finanz'!AY19+'6 Rendiconto Finanz'!AY20","v":0},{"$f":"'6 Rendiconto Finanz'!AZ19+'6 Rendiconto Finanz'!AZ20","v":0},{"$f":"'6 Rendiconto Finanz'!BA19+'6 Rendiconto Finanz'!BA20","v":0},{"$f":"'6 Rendiconto Finanz'!BB19+'6 Rendiconto Finanz'!BB20","v":0},{"$f":"'6 Rendiconto Finanz'!BC19+'6 Rendiconto Finanz'!BC20","v":0},{"$f":"'6 Rendiconto Finanz'!BD19+'6 Rendiconto Finanz'!BD20","v":0},{"$f":"'6 Rendiconto Finanz'!BE19+'6 Rendiconto Finanz'!BE20","v":0},{"$f":"'6 Rendiconto Finanz'!BF19+'6 Rendiconto Finanz'!BF20","v":0},{"$f":"'6 Rendiconto Finanz'!BG19+'6 Rendiconto Finanz'!BG20","v":0},{"$f":"'6 Rendiconto Finanz'!BH19+'6 Rendiconto Finanz'!BH20","v":0},{"$f":"'6 Rendiconto Finanz'!BI19+'6 Rendiconto Finanz'!BI20","v":0},{"$f":"'6 Rendiconto Finanz'!BJ19+'6 Rendiconto Finanz'!BJ20","v":0},{"$f":"'6 Rendiconto Finanz'!BK19+'6 Rendiconto Finanz'!BK20","v":0},{"$f":"'6 Rendiconto Finanz'!BL19+'6 Rendiconto Finanz'!BL20","v":0},"Totale Utili Netti",{"$f":"SUM(C32:BJ32)","v":260311.57844406646}]
[null,"Utili Distribuiti/Dividendi Erogati",0,0,0,0,0,0,0,0,0,0,0,0,0,0,0,0,0,0,0,0,0,0,0,0,0,0,0,0,0,0,0,0,0,0,0,0,0,0,0,0,0,0,0,0,0,0,0,0,0,0,0,0,0,0,0,0,0,0,0,0,null,null,null,null,null,null," "," "," "]
[null,"Totale Passivo",{"$f":"C32+C27+C21+C16","v":29363.430132635029},33213.209073040169,70219.528886255095,100449.12514270126,130773.32475211486,166300.53903019725,202538.29759384133,239500.81132875828,277202.57533837354,315658.3746281811,{"$f":"M32+M27+M21+M16","v":{"$error":"#DIV/0!"}},{"$error":"#DIV/0!"},{"$error":"#DIV/0!"},{"$error":"#DIV/0!"},{"$error":"#DIV/0!"},{"$error":"#DIV/0!"},{"$error":"#DIV/0!"},{"$error":"#DIV/0!"},{"$error":"#DIV/0!"},{"$error":"#DIV/0!"},-1.0291199999999999E-9,-1.0291199999999999E-9,-1.0291199999999999E-9,-1.0291199999999999E-9,-1.0291199999999999E-9,-1.0291199999999999E-9,-1.0291199999999999E-9,-1.0291199999999999E-9,-1.0291199999999999E-9,-1.0291199999999999E-9,-1.0291199999999999E-9,-1.0291199999999999E-9,-1.0291199999999999E-9,-1.0291199999999999E-9,-1.0291199999999999E-9,-1.0291199999999999E-9,-1.0291199999999999E-9,-1.0291199999999999E-9,-1.0291199999999999E-9,-1.0291199999999999E-9,-1.0291199999999999E-9,-1.0291199999999999E-9,-1.0291199999999999E-9,-1.0291199999999999E-9,-1.0291199999999999E-9,-1.0291199999999999E-9,-1.0291199999999999E-9,-1.0291199999999999E-9,-1.0291199999999999E-9,-1.0291199999999999E-9,-1.0291199999999999E-9,-1.0291199999999999E-9,-1.0291199999999999E-9,-1.0291199999999999E-9,-1.0291199999999999E-9,-1.0291199999999999E-9,-1.0291199999999999E-9,-1.0291199999999999E-9,-1.0291199999999999E-9,-1.0291199999999999E-9]
[null,"Erogazioni e rimborsi Debiti a Breve verso Istituti di Credito",{"$f":"C18","v":12000},{"$f":"D18-C18","v":-2000},-10000,0,0,0,0,0,0,0,0,0,0,0,0,0,0,0,0,0,0,0,0,0,0,0,0,0,0,0,0,0,0,0,0,0,0,0,0,0,0,0,0,0,0,0,0,0,0,0,0,0,0,0,0,0,0,0,0,0]
[null,"Interessi Passivi su Finanziamenti a Breve",{"$f":"C18*C39/2","v":6E-10},{"$f":"(C18+D18)*D39/2","v":1.1000000000000001E-9},5.0000000000000003E-10,0,0,0,0,0,0,0,0,0,0,0,0,0,0,0,0,0,0,0,0,0,0,0,0,0,0,0,0,0,0,0,0,0,0,0,0,0,0,0,0,0,0,0,0,0,0,0,0,0,0,0,0,0,0,0,0,0,{"$f":"SUM(C36:BJ36)","v":2.2000000000000003E-9}]
[null,"Interessi Passivi su Finanziamenti a Medio/Lungo Termine",{"$f":"'5 Foglio di elaborazione'!E86+'5 Foglio di elaborazione'!E96","v":0},{"$f":"'5 Foglio di elaborazione'!F86+'5 Foglio di elaborazione'!F96","v":0},{"$f":"'5 Foglio di elaborazione'!G86+'5 Foglio di elaborazione'!G96","v":0},{"$f":"'5 Foglio di elaborazione'!H86+'5 Foglio di elaborazione'!H96","v":0},{"$f":"'5 Foglio di elaborazione'!I86+'5 Foglio di elaborazione'!I96","v":0},{"$f":"'5 Foglio di elaborazione'!J86+'5 Foglio di elaborazione'!J96","v":0},{"$f":"'5 Foglio di elaborazione'!K86+'5 Foglio di elaborazione'!K96","v":0},{"$f":"'5 Foglio di elaborazione'!L86+'5 Foglio di elaborazione'!L96","v":0},{"$f":"'5 Foglio di elaborazione'!M86+'5 Foglio di elaborazione'!M96","v":0},{"$f":"'5 Foglio di elaborazione'!N86+'5 Foglio di elaborazione'!N96","v":0},{"$f":"'5 Foglio di elaborazione'!O86+'5 Foglio di elaborazione'!O96","v":0},{"$f":"'5 Foglio di elaborazione'!P86+'5 Foglio di elaborazione'!P96","v":0},{"$f":"'5 Foglio di elaborazione'!Q86+'5 Foglio di elaborazione'!Q96","v":0},{"$f":"'5 Foglio di elaborazione'!R86+'5 Foglio di elaborazione'!R96","v":0},{"$f":"'5 Foglio di elaborazione'!S86+'5 Foglio di elaborazione'!S96","v":0},{"$f":"'5 Foglio di elaborazione'!T86+'5 Foglio di elaborazione'!T96","v":0},{"$f":"'5 Foglio di elaborazione'!U86+'5 Foglio di elaborazione'!U96","v":0},{"$f":"'5 Foglio di elaborazione'!V86+'5 Foglio di elaborazione'!V96","v":0},{"$f":"'5 Foglio di elaborazione'!W86+'5 Foglio di elaborazione'!W96","v":0},{"$f":"'5 Foglio di elaborazione'!X86+'5 Foglio di elaborazione'!X96","v":0},{"$f":"'5 Foglio di elaborazione'!Y86+'5 Foglio di elaborazione'!Y96","v":0},{"$f":"'5 Foglio di elaborazione'!Z86+'5 Foglio di elaborazione'!Z96","v":0},{"$f":"'5 Foglio di elaborazione'!AA86+'5 Foglio di elaborazione'!AA96","v":0},{"$f":"'5 Foglio di elaborazione'!AB86+'5 Foglio di elaborazione'!AB96","v":0},{"$f":"'5 Foglio di elaborazione'!AC86+'5 Foglio di elaborazione'!AC96","v":0},{"$f":"'5 Foglio di elaborazione'!AD86+'5 Foglio di elaborazione'!AD96","v":0},{"$f":"'5 Foglio di elaborazione'!AE86+'5 Foglio di elaborazione'!AE96","v":0},{"$f":"'5 Foglio di elaborazione'!AF86+'5 Foglio di elaborazione'!AF96","v":0},{"$f":"'5 Foglio di elaborazione'!AG86+'5 Foglio di elaborazione'!AG96","v":0},{"$f":"'5 Foglio di elaborazione'!AH86+'5 Foglio di elaborazione'!AH96","v":0},{"$f":"'5 Foglio di elaborazione'!AI86+'5 Foglio di elaborazione'!AI96","v":0},{"$f":"'5 Foglio di elaborazione'!AJ86+'5 Foglio di elaborazione'!AJ96","v":0},{"$f":"'5 Foglio di elaborazione'!AK86+'5 Foglio di elaborazione'!AK96","v":0},{"$f":"'5 Foglio di elaborazione'!AL86+'5 Foglio di elaborazione'!AL96","v":0},{"$f":"'5 Foglio di elaborazione'!AM86+'5 Foglio di elaborazione'!AM96","v":0},{"$f":"'5 Foglio di elaborazione'!AN86+'5 Foglio di elaborazione'!AN96","v":0},{"$f":"'5 Foglio di elaborazione'!AO86+'5 Foglio di elaborazione'!AO96","v":0},{"$f":"'5 Foglio di elaborazione'!AP86+'5 Foglio di elaborazione'!AP96","v":0},{"$f":"'5 Foglio di elaborazione'!AQ86+'5 Foglio di elaborazione'!AQ96","v":0},{"$f":"'5 Foglio di elaborazione'!AR86+'5 Foglio di elaborazione'!AR96","v":0},{"$f":"'5 Foglio di elaborazione'!AS86+'5 Foglio di elaborazione'!AS96","v":0},{"$f":"'5 Foglio di elaborazione'!AT86+'5 Foglio di elaborazione'!AT96","v":0},{"$f":"'5 Foglio di elaborazione'!AU86+'5 Foglio di elaborazione'!AU96","v":0},{"$f":"'5 Foglio di elaborazione'!AV86+'5 Foglio di elaborazione'!AV96","v":0},{"$f":"'5 Foglio di elaborazione'!AW86+'5 Foglio di elaborazione'!AW96","v":0},{"$f":"'5 Foglio di elaborazione'!AX86+'5 Foglio di elaborazione'!AX96","v":0},{"$f":"'5 Foglio di elaborazione'!AY86+'5 Foglio di elaborazione'!AY96","v":0},{"$f":"'5 Foglio di elaborazione'!AZ86+'5 Foglio di elaborazione'!AZ96","v":0},{"$f":"'5 Foglio di elaborazione'!BA86+'5 Foglio di elaborazione'!BA96","v":0},{"$f":"'5 Foglio di elaborazione'!BB86+'5 Foglio di elaborazione'!BB96","v":0},{"$f":"'5 Foglio di elaborazione'!BC86+'5 Foglio di elaborazione'!BC96","v":0},{"$f":"'5 Foglio di elaborazione'!BD86+'5 Foglio di elaborazione'!BD96","v":0},{"$f":"'5 Foglio di elaborazione'!BE86+'5 Foglio di elaborazione'!BE96","v":0},{"$f":"'5 Foglio di elaborazione'!BF86+'5 Foglio di elaborazione'!BF96","v":0},{"$f":"'5 Foglio di elaborazione'!BG86+'5 Foglio di elaborazione'!BG96","v":0},{"$f":"'5 Foglio di elaborazione'!BH86+'5 Foglio di elaborazione'!BH96","v":0},{"$f":"'5 Foglio di elaborazione'!BI86+'5 Foglio di elaborazione'!BI96","v":0},{"$f":"'5 Foglio di elaborazione'!BJ86+'5 Foglio di elaborazione'!BJ96","v":0},{"$f":"'5 Foglio di elaborazione'!BK86+'5 Foglio di elaborazione'!BK96","v":0},{"$f":"'5 Foglio di elaborazione'!BL86+'5 Foglio di elaborazione'!BL96","v":0}]
[null,"Totale Oneri Finanziari",{"$f":"SUM(C36:C37)","v":6E-10},1.1000000000000001E-9,5.0000000000000003E-10,0,0,0,0,0,0,0,0,0,0,0,0,0,0,0,0,0,0,0,0,0,0,0,0,0,0,0,0,0,0,0,0,0,0,0,0,0,0,0,0,0,0,0,0,0,0,0,0,0,0,0,0,0,0,0,0,0]
[null,"Tasso Debitore su Finanziamenti a Breve Termine",{"$f":"'2 Investimento'!E75","v":1E-13},{"$f":"C39","v":1E-13},1E-13,1E-13,1E-13,1E-13,1E-13,1E-13,1E-13,1E-13,1E-13,1E-13,1E-13,1E-13,1E-13,1E-13,1E-13,1E-13,1E-13,1E-13,1E-13,1E-13,1E-13,1E-13,1E-13,1E-13,1E-13,1E-13,1E-13,1E-13,1E-13,1E-13,1E-13,1E-13,1E-13,1E-13,1E-13,1E-13,1E-13,1E-13,1E-13,1E-13,1E-13,1E-13,1E-13,1E-13,1E-13,1E-13,1E-13,1E-13,1E-13,1E-13,1E-13,1E-13,1E-13,1E-13,1E-13,1E-13,1E-13,1E-13]
[null,"Interessi Attivi su Disponibilità Liquide e Vincolate",{"$f":"C6/2*C41+C13/2*C42+C14/2*C43","v":0},{"$f":"(D6+C6)/2*D41+(D13+C13)/2*D42+(D14+C14)/2*D43","v":0},0,0,0,0,0,0,0,0,{"$error":"#DIV/0!"},{"$error":"#DIV/0!"},{"$error":"#DIV/0!"},{"$error":"#DIV/0!"},{"$error":"#DIV/0!"},{"$error":"#DIV/0!"},{"$error":"#DIV/0!"},{"$error":"#DIV/0!"},{"$error":"#DIV/0!"},{"$error":"#DIV/0!"},{"$error":"#DIV/0!"},0,0,0,0,0,0,0,0,0,0,0,0,0,0,0,0,0,0,0,0,0,0,0,0,0,0,0,0,0,0,0,0,0,0,0,0,0,0,0," "]
[null,"Tasso di Interesse su Disponibilità Liquide e Vincolate",{"$f":"'2 Investimento'!E65","v":0},{"$f":"C41","v":0},0,0,0,0,0,0,0,0,0,0,0,0,0,0,0,0,0,0,0,0,0,0,0,0,0,0,0,0,0,0,0,0,0,0,0,0,0,0,0,0,0,0,0,0,0,0,0,0,0,0,0,0,0,0,0,0,0,0]
[null,"Tasso di Interesse su Riserva DSRA",{"$f":"'2 Investimento'!E66","v":0},{"$f":"C42","v":0},0,0,0,0,0,0,0,0,0,0,0,0,0,0,0,0,0,0,0,0,0,0,0,0,0,0,0,0,0,0,0,0,0,0,0,0,0,0,0,0,0,0,0,0,0,0,0,0,0,0,0,0,0,0,0,0,0,0]
[null,"Tasso di Interesse su Altre Immobilizzazioni Finanziarie",{"$f":"'2 Investimento'!E67","v":0},{"$f":"C43","v":0},0,0,0,0,0,0,0,0,0,0,0,0,0,0,0,0,0,0,0,0,0,0,0,0,0,0,0,0,0,0,0,0,0,0,0,0,0,0,0,0,0,0,0,0,0,0,0,0,0,0,0,0,0,0,0,0,0,0]
[null,"Flussi (variazioni) delle immobilizzazioni finanziarie, a servizio del debito, per rettifica dei flussi di cassa per il calcolo di Van e Tir Operativo e Finanziario ",{"$f":"-C13","v":0},{"$f":"(C13)-(D13)","v":0},0,0,0,0,0,0,0,0,0,0,0,0,0,0,0,0,0,0,0,0,0,0,0,0,0,0,0,0,0,0,0,0,0,0,0,0,0,0,0,0,0,0,0,0,0,0,0,0,0,0,0,0,0,0,0,0,0,0,0]
[null,"↑  Ciò in quanto le somme vincolate a garanzia del servizio del debito non sono disponibili per il Progetto o per l'investitore e, dunque, non concorrono a determinare il Van e Tir sino a quando non ritornano disponibili per il Progetto e per l'investitore."," "]
[]
[]
[null,"* Specifica debiti a breve termine vs. Banche",1,{"$f":"C48+1","v":2},3,4,5,6,7,8,9,10,11,12,13,14,15,16,17,18,19,20,21,22,23,24,25,26,27,28,29,30,31,32,33,34,35,36,37,38,39,40,41,42,43,44,45,46,47,48,49,50,51,52,53,54,55,56,57,58,59,60,61,null,null," "]
[null,"Anticipazioni su Iva a credito",{"$f":"C8","v":314.87564020001003},289.53724100399995,257.46991062407983,262.61930883656146,267.87169501329288,273.22912891355872,278.69371149182984,284.26758572166659,289.95293743609966,295.75199618482179,0,0,0,0,0,0,0,0,0,0,0,0,0,0,0,0,0,0,0,0,0,0,0,0,0,0,0,0,0,0,0,0,0,0,0,0,0,0,0,0,0,0,0,0,0,0,0,0,0,0,0]
[null,"Copertura tesoreria negativa",{"$f":"C18-C8","v":11685.124359799989},9710.462758996,-257.46991062407983,-262.61930883656146,-267.87169501329288,-273.22912891355872,-278.69371149182984,-284.26758572166659,-289.95293743609966,-295.75199618482179,0,0,0,0,0,0,0,0,0,0,0,0,0,0,0,0,0,0,0,0,0,0,0,0,0,0,0,0,0,0,0,0,0,0,0,0,0,0,0,0,0,0,0,0,0,0,0,0,0,0,0]
[]
[]
[null,"Saldi liquidi e vincolati da Stato Patrimoniale",{"$f":"C6+C13+C14","v":657.40353353081446},914.23918546063578,33616.510066988529,63114.045947049279,92691.543972549742,127457.12263504074,162918.01287078229,199088.12091123729,235981.63111250201,273613.01151779207,{"$error":"#DIV/0!"},{"$error":"#DIV/0!"},{"$error":"#DIV/0!"},{"$error":"#DIV/0!"},{"$error":"#DIV/0!"},{"$error":"#DIV/0!"},{"$error":"#DIV/0!"},{"$error":"#DIV/0!"},{"$error":"#DIV/0!"},{"$error":"#DIV/0!"},-1.0291199999999999E-9,-1.0291199999999999E-9,-1.0291199999999999E-9,-1.0291199999999999E-9,-1.0291199999999999E-9,-1.0291199999999999E-9,-1.0291199999999999E-9,-1.0291199999999999E-9,-1.0291199999999999E-9,-1.0291199999999999E-9,-1.0291199999999999E-9,-1.0291199999999999E-9,-1.0291199999999999E-9,-1.0291199999999999E-9,-1.0291199999999999E-9,-1.0291199999999999E-9,-1.0291199999999999E-9,-1.0291199999999999E-9,-1.0291199999999999E-9,-1.0291199999999999E-9,-1.0291199999999999E-9,-1.0291199999999999E-9,-1.0291199999999999E-9,-1.0291199999999999E-9,-1.0291199999999999E-9,-1.0291199999999999E-9,-1.0291199999999999E-9,-1.0291199999999999E-9,-1.0291199999999999E-9,-1.0291199999999999E-9,-1.0291199999999999E-9,-1.0291199999999999E-9,-1.0291199999999999E-9,-1.0291199999999999E-9,-1.0291199999999999E-9,-1.0291199999999999E-9,-1.0291199999999999E-9,-1.0291199999999999E-9,-1.0291199999999999E-9,-1.0291199999999999E-9,0]
[null,"Saldi liquidi e vincolati da rendicotazione finanziaria",{"$f":"'6 Rendiconto Finanz'!E62","v":-11342.596466469186},{"$f":"'6 Rendiconto Finanz'!F62","v":-11085.760814539366},{"$f":"'6 Rendiconto Finanz'!G62","v":21616.510066988529},{"$f":"'6 Rendiconto Finanz'!H62","v":51114.045947049279},{"$f":"'6 Rendiconto Finanz'!I62","v":80691.543972549742},{"$f":"'6 Rendiconto Finanz'!J62","v":115457.12263504075},{"$f":"'6 Rendiconto Finanz'!K62","v":150918.01287078159},{"$f":"'6 Rendiconto Finanz'!L62","v":187088.12091123726},{"$f":"'6 Rendiconto Finanz'!M62","v":223981.63111250201},{"$f":"'6 Rendiconto Finanz'!N62","v":261613.01151779207},{"$f":"'6 Rendiconto Finanz'!O62","v":0},{"$f":"'6 Rendiconto Finanz'!P62","v":0},{"$f":"'6 Rendiconto Finanz'!Q62","v":0},{"$f":"'6 Rendiconto Finanz'!R62","v":0},{"$f":"'6 Rendiconto Finanz'!S62","v":0},{"$f":"'6 Rendiconto Finanz'!T62","v":0},{"$f":"'6 Rendiconto Finanz'!U62","v":0},{"$f":"'6 Rendiconto Finanz'!V62","v":0},{"$f":"'6 Rendiconto Finanz'!W62","v":0},{"$f":"'6 Rendiconto Finanz'!X62","v":0},{"$f":"'6 Rendiconto Finanz'!Y62","v":0},{"$f":"'6 Rendiconto Finanz'!Z62","v":0},{"$f":"'6 Rendiconto Finanz'!AA62","v":0},{"$f":"'6 Rendiconto Finanz'!AB62","v":0},{"$f":"'6 Rendiconto Finanz'!AC62","v":0},{"$f":"'6 Rendiconto Finanz'!AD62","v":0},{"$f":"'6 Rendiconto Finanz'!AE62","v":0},{"$f":"'6 Rendiconto Finanz'!AF62","v":0},{"$f":"'6 Rendiconto Finanz'!AG62","v":0},{"$f":"'6 Rendiconto Finanz'!AH62","v":0},{"$f":"'6 Rendiconto Finanz'!AI62","v":0},{"$f":"'6 Rendiconto Finanz'!AJ62","v":0},{"$f":"'6 Rendiconto Finanz'!AK62","v":0},{"$f":"'6 Rendiconto Finanz'!AL62","v":0},{"$f":"'6 Rendiconto Finanz'!AM62","v":0},{"$f":"'6 Rendiconto Finanz'!AN62","v":0},{"$f":"'6 Rendiconto Finanz'!AO62","v":0},{"$f":"'6 Rendiconto Finanz'!AP62","v":0},{"$f":"'6 Rendiconto Finanz'!AQ62","v":0},{"$f":"'6 Rendiconto Finanz'!AR62","v":0},{"$f":"'6 Rendiconto Finanz'!AS62","v":0},{"$f":"'6 Rendiconto Finanz'!AT62","v":0},{"$f":"'6 Rendiconto Finanz'!AU62","v":0},{"$f":"'6 Rendiconto Finanz'!AV62","v":0},{"$f":"'6 Rendiconto Finanz'!AW62","v":0},{"$f":"'6 Rendiconto Finanz'!AX62","v":0},{"$f":"'6 Rendiconto Finanz'!AY62","v":0},{"$f":"'6 Rendiconto Finanz'!AZ62","v":0},{"$f":"'6 Rendiconto Finanz'!BA62","v":0},{"$f":"'6 Rendiconto Finanz'!BB62","v":0},{"$f":"'6 Rendiconto Finanz'!BC62","v":0},{"$f":"'6 Rendiconto Finanz'!BD62","v":0},{"$f":"'6 Rendiconto Finanz'!BE62","v":0},{"$f":"'6 Rendiconto Finanz'!BF62","v":0},{"$f":"'6 Rendiconto Finanz'!BG62","v":0},{"$f":"'6 Rendiconto Finanz'!BH62","v":0},{"$f":"'6 Rendiconto Finanz'!BI62","v":0},{"$f":"'6 Rendiconto Finanz'!BJ62","v":0},{"$f":"'6 Rendiconto Finanz'!BK62","v":0},{"$f":"'6 Rendiconto Finanz'!BL62","v":0},{"$f":"'6 Rendiconto Finanz'!BM62","v":0}]
[null,null,"VERIFICA OK",{"$f":"IF(D53=D54,\"VERIFICA OK\",\"ERROR\")","v":"ERROR"},{"$f":"IF(E53=E54,\"VERIFICA OK\",\"ERROR\")","v":"ERROR"},"ERROR","ERROR","ERROR","ERROR","ERROR","ERROR","ERROR",{"$error":"#DIV/0!"},{"$error":"#DIV/0!"},{"$error":"#DIV/0!"},{"$error":"#DIV/0!"},{"$error":"#DIV/0!"},{"$error":"#DIV/0!"},{"$error":"#DIV/0!"},{"$error":"#DIV/0!"},{"$error":"#DIV/0!"},{"$error":"#DIV/0!"},"ERROR","ERROR","ERROR","ERROR","ERROR","ERROR","ERROR","ERROR","ERROR","ERROR","ERROR","ERROR","ERROR","ERROR","ERROR","ERROR","ERROR","ERROR","ERROR","ERROR","ERROR","ERROR","ERROR","ERROR","ERROR","ERROR","ERROR","ERROR","ERROR","ERROR","ERROR","ERROR","ERROR","ERROR","ERROR","ERROR","ERROR","ERROR","ERROR","ERROR","VERIFICA OK"]
[null," "," "," "," "," "," "," "," "," "," "," "," "," "," "," "," "," "," "," "," "," "," "," "," "," "," "," "," "," "," "," "," "," "," "," "," "," "," "," "," "," "," "," "," "," "," "," "," "," "," "," "," "," "," "," "," "," "," "," "," "," "," "]
[null,null,null,null,null,null,null,null,null,null,null,null,null,null,null,null,null,null,null,null,null,null,null,null,null,null,null,null,null,null,null,null,null,null,null,null,null,null,null,null,null,null,null,null,null,null,null,null,null,null,null,null,null,null,null,null,null,null,null,null,null,null," "]

{"sheet":"8 Indici","index":12,"n_rows":17,"n_cols":68,"rows_kept":17,"cut":false,"hidden":false,"merged":[[0,3,0,5],[0,11,0,14],[0,6,0,10]]}
[null,null,null,"8       Indici di Bilancio",null,null,{"$f":"'2 Descrizione Progetto'!$C$4","v":"Concessione per l'affidamento dei lavori di efficientamento energetico della piscina comunale e del successivo servizio di gestione dell'impianto natatorio "},null,null,null,null,{"$f":"'2 Descrizione Progetto'!$C$3","v":"Comune di Guardiagrele"}]
[null,null,null,"Indici","Valore ",{"$f":"'6 Rendiconto Finanz'!E4","v":1},{"$f":"'6 Rendiconto Finanz'!F4","v":2},{"$f":"'6 Rendiconto Finanz'!G4","v":3},{"$f":"'6 Rendiconto Finanz'!H4","v":4},{"$f":"'6 Rendiconto Finanz'!I4","v":5},{"$f":"'6 Rendiconto Finanz'!J4","v":6},{"$f":"'6 Rendiconto Finanz'!K4","v":7},{"$f":"'6 Rendiconto Finanz'!L4","v":8},{"$f":"'6 Rendiconto Finanz'!M4","v":9},{"$f":"'6 Rendiconto Finanz'!N4","v":10},{"$f":"'6 Rendiconto Finanz'!O4","v":11},{"$f":"'6 Rendiconto Finanz'!P4","v":"0"},{"$f":"'6 Rendiconto Finanz'!Q4","v":"0"},{"$f":"'6 Rendiconto Finanz'!R4","v":"0"},{"$f":"'6 Rendiconto Finanz'!S4","v":"0"},{"$f":"'6 Rendiconto Finanz'!T4","v":"0"},{"$f":"'6 Rendiconto Finanz'!U4","v":"0"},{"$f":"'6 Rendiconto Finanz'!V4","v":"0"},{"$f":"'6 Rendiconto Finanz'!W4","v":"0"},{"$f":"'6 Rendiconto Finanz'!X4","v":"0"},{"$f":"'6 Rendiconto Finanz'!Y4","v":"0"},{"$f":"'6 Rendiconto Finanz'!Z4","v":"0"},{"$f":"'6 Rendiconto Finanz'!AA4","v":"0"},{"$f":"'6 Rendiconto Finanz'!AB4","v":"0"},{"$f":"'6 Rendiconto Finanz'!AC4","v":"0"},{"$f":"'6 Rendiconto Finanz'!AD4","v":"0"},{"$f":"'6 Rendiconto Finanz'!AE4","v":"0"},{"$f":"'6 Rendiconto Finanz'!AF4","v":"0"},{"$f":"'6 Rendiconto Finanz'!AG4","v":"0"},{"$f":"'6 Rendiconto Finanz'!AH4","v":"0"},{"$f":"'6 Rendiconto Finanz'!AI4","v":"0"},{"$f":"'6 Rendiconto Finanz'!AJ4","v":"0"},{"$f":"'6 Rendiconto Finanz'!AK4","v":"0"},{"$f":"'6 Rendiconto Finanz'!AL4","v":"0"},{"$f":"'6 Rendiconto Finanz'!AM4","v":"0"},{"$f":"'6 Rendiconto Finanz'!AN4","v":"0"},{"$f":"'6 Rendiconto Finanz'!AO4","v":"0"},{"$f":"'6 Rendiconto Finanz'!AP4","v":"0"},{"$f":"'6 Rendiconto Finanz'!AQ4","v":"0"},{"$f":"'6 Rendiconto Finanz'!AR4","v":"0"},{"$f":"'6 Rendiconto Finanz'!AS4","v":"0"},{"$f":"'6 Rendiconto Finanz'!AT4","v":"0"},{"$f":"'6 Rendiconto Finanz'!AU4","v":"0"},{"$f":"'6 Rendiconto Finanz'!AV4","v":"0"},{"$f":"'6 Rendiconto Finanz'!AW4","v":"0"},{"$f":"'6 Rendiconto Finanz'!AX4","v":"0"},{"$f":"'6 Rendiconto Finanz'!AY4","v":"0"},{"$f":"'6 Rendiconto Finanz'!AZ4","v":"0"},{"$f":"'6 Rendiconto Finanz'!BA4","v":"0"},{"$f":"'6 Rendiconto Finanz'!BB4","v":"0"},{"$f":"'6 Rendiconto Finanz'!BC4","v":"0"},{"$f":"'6 Rendiconto Finanz'!BD4","v":"0"},{"$f":"'6 Rendiconto Finanz'!BE4","v":"0"},{"$f":"'6 Rendiconto Finanz'!BF4","v":"0"},{"$f":"'6 Rendiconto Finanz'!BG4","v":"0"},{"$f":"'6 Rendiconto Finanz'!BH4","v":"0"},{"$f":"'6 Rendiconto Finanz'!BI4","v":"0"},{"$f":"'6 Rendiconto Finanz'!BJ4","v":"0"},{"$f":"'6 Rendiconto Finanz'!BK4","v":"0"},{"$f":"'6 Rendiconto Finanz'!BL4","v":"0"}]
[null,null,null,"Redditività del Capitale Netto - ROE",{"$f":"SUM(BO3)","v":0.81101593649846127},{"$f":"'7 Stato-Patr'!C32/('7 Stato-Patr'!C27+'7 Stato-Patr'!C32-IF('7 Stato-Patr'!C31>0,'7 Stato-Patr'!C31,0))","v":1.5162441380477971},{"$f":"'7 Stato-Patr'!D32/('7 Stato-Patr'!D27+'7 Stato-Patr'!D32-IF('7 Stato-Patr'!D31>0,'7 Stato-Patr'!D31,0))","v":-0.30070290636009567},{"$f":"'7 Stato-Patr'!E32/('7 Stato-Patr'!E27+'7 Stato-Patr'!E32-IF('7 Stato-Patr'!E31>0,'7 Stato-Patr'!E31,0))","v":1.6672864322865892},{"$f":"'7 Stato-Patr'!F32/('7 Stato-Patr'!F27+'7 Stato-Patr'!F32-IF('7 Stato-Patr'!F31>0,'7 Stato-Patr'!F31,0))","v":0.73543869426554198},{"$f":"'7 Stato-Patr'!G32/('7 Stato-Patr'!G27+'7 Stato-Patr'!G32-IF('7 Stato-Patr'!G31>0,'7 Stato-Patr'!G31,0))","v":0.73927365906036724},{"$f":"'7 Stato-Patr'!H32/('7 Stato-Patr'!H27+'7 Stato-Patr'!H32-IF('7 Stato-Patr'!H31>0,'7 Stato-Patr'!H31,0))","v":0.74307245439541725},{"$f":"'7 Stato-Patr'!I32/('7 Stato-Patr'!I27+'7 Stato-Patr'!I32-IF('7 Stato-Patr'!I31>0,'7 Stato-Patr'!I31,0))","v":0.74683485530414773},{"$f":"'7 Stato-Patr'!J32/('7 Stato-Patr'!J27+'7 Stato-Patr'!J32-IF('7 Stato-Patr'!J31>0,'7 Stato-Patr'!J31,0))","v":0.75056065524312132},{"$f":"'7 Stato-Patr'!K32/('7 Stato-Patr'!K27+'7 Stato-Patr'!K32-IF('7 Stato-Patr'!K31>0,'7 Stato-Patr'!K31,0))","v":0.75424966587919962},{"$f":"'7 Stato-Patr'!L32/('7 Stato-Patr'!L27+'7 Stato-Patr'!L32-IF('7 Stato-Patr'!L31>0,'7 Stato-Patr'!L31,0))","v":0.75790171686252705},0,0,0,0,0,0,0,0,0,0,0,0,0,0,0,0,0,0,0,0,0,0,0,0,0,0,0,0,0,0,0,0,0,0,0,0,0,0,0,0,0,0,0,0,0,0,0,0,0,0,"Redditività del Capitale Netto - ROE",{"$f":"SUM(F3:BM3)/'2 Descrizione Progetto'!D21","v":0.81101593649846127},"E' un indice di redditività del capitale proprio. Esprime, in massima sintesi, i risultati economici dell'azienda."]
[null,null,null,"Redditività dell'Attivo Netto - ROA  ",0.36499986171624033,{"$f":"F9/('7 Stato-Patr'!C15-IF('7 Stato-Patr'!C31>0,'7 Stato-Patr'!C31,0))","v":-1.0002469012418578},{"$f":"G9/('7 Stato-Patr'!D15-IF('7 Stato-Patr'!D31>0,'7 Stato-Patr'!D31,0))","v":0.14210811095129347},{"$f":"H9/('7 Stato-Patr'!E15-IF('7 Stato-Patr'!E31>0,'7 Stato-Patr'!E31,0))","v":0.65708205195651237},{"$f":"I9/('7 Stato-Patr'!F15-IF('7 Stato-Patr'!F31>0,'7 Stato-Patr'!F31,0))","v":0.52215891140827286},{"$f":"J9/('7 Stato-Patr'!G15-IF('7 Stato-Patr'!G31>0,'7 Stato-Patr'!G31,0))","v":0.55115451479439825},{"$f":"K9/('7 Stato-Patr'!H15-IF('7 Stato-Patr'!H31>0,'7 Stato-Patr'!H31,0))","v":0.5526474975360034},{"$f":"L9/('7 Stato-Patr'!I15-IF('7 Stato-Patr'!I31>0,'7 Stato-Patr'!I31,0))","v":0.55411907914021519},{"$f":"M9/('7 Stato-Patr'!J15-IF('7 Stato-Patr'!J31>0,'7 Stato-Patr'!J31,0))","v":0.55556943413421822},{"$f":"N9/('7 Stato-Patr'!K15-IF('7 Stato-Patr'!K31>0,'7 Stato-Patr'!K31,0))","v":0.55699874025020391},{"$f":"O9/('7 Stato-Patr'!L15-IF('7 Stato-Patr'!L31>0,'7 Stato-Patr'!L31,0))","v":0.55840717823314323},0,0,0,0,0,0,0,0,0,0,0,0,0,0,0,0,0,0,0,0,0,0,0,0,0,0,0,0,0,0,0,0,0,0,0,0,0,0,0,0,0,0,0,0,0,0,0,0,0,0,"Redditività dell'Attivo Netto - ROA  ",{"$f":"SUM(F4:BM4)/'2 Descrizione Progetto'!D21","v":0.36499986171624033},"E' un indice di bilancio che misura la redditività relativa al capitale globale investito."]
[null,null,null,"Rapporto di Indebitamento - Leverage  ",0.88476819419920005,{"$f":"('7 Stato-Patr'!C34-'7 Stato-Patr'!C26)/('7 Stato-Patr'!C27+'7 Stato-Patr'!C32)","v":-1.5158698678948881},{"$f":"('7 Stato-Patr'!D34-'7 Stato-Patr'!D26)/('7 Stato-Patr'!D27+'7 Stato-Patr'!D32)","v":-2.2302013956581574},{"$f":"('7 Stato-Patr'!E34-'7 Stato-Patr'!E26)/('7 Stato-Patr'!E27+'7 Stato-Patr'!E32)","v":3.1463240494793552},{"$f":"('7 Stato-Patr'!F34-'7 Stato-Patr'!F26)/('7 Stato-Patr'!F27+'7 Stato-Patr'!F32)","v":1.8041706920495861},{"$f":"('7 Stato-Patr'!G34-'7 Stato-Patr'!G26)/('7 Stato-Patr'!G27+'7 Stato-Patr'!G32)","v":1.4578749105783906},{"$f":"('7 Stato-Patr'!H34-'7 Stato-Patr'!H26)/('7 Stato-Patr'!H27+'7 Stato-Patr'!H32)","v":1.3367446655333983},{"$f":"('7 Stato-Patr'!I34-'7 Stato-Patr'!I26)/('7 Stato-Patr'!I27+'7 Stato-Patr'!I32)","v":1.2673931628704955},{"$f":"('7 Stato-Patr'!J34-'7 Stato-Patr'!J26)/('7 Stato-Patr'!J27+'7 Stato-Patr'!J32)","v":1.2224737772526522},{"$f":"('7 Stato-Patr'!K34-'7 Stato-Patr'!K26)/('7 Stato-Patr'!K27+'7 Stato-Patr'!K32)","v":1.1910144419979063},{"$f":"('7 Stato-Patr'!L34-'7 Stato-Patr'!L26)/('7 Stato-Patr'!L27+'7 Stato-Patr'!L32)","v":1.167757505783263},0,0,0,0,0,0,0,0,0,0,0,0,0,0,0,0,0,0,0,0,0,0,0,0,0,0,0,0,0,0,0,0,0,0,0,0,0,0,0,0,0,0,0,0,0,0,0,0,0,0,"Rapporto di Indebitamento - Leverage  ",{"$f":"SUM(F5:BM5)/'2 Descrizione Progetto'!D21","v":0.88476819419920005},"E' un indicatore utilizzato per misurare l'indebitamento di un'azienda, cioè indica la dimensione dei debiti nei confronti dei mezzi propri."]
[null,null,null,"Oneri Finanziari su Fatturato - %  ",0,{"$f":"-'6 Rendiconto Finanz'!E55/('6 Rendiconto Finanz'!E5+IF('6 Rendiconto Finanz'!E6<0,0,'6 Rendiconto Finanz'!E6))","v":1.7378711078928312E-15},{"$f":"-'6 Rendiconto Finanz'!F55/('6 Rendiconto Finanz'!F5+IF('6 Rendiconto Finanz'!F6<0,0,'6 Rendiconto Finanz'!F6))","v":2.8260780203066554E-15},{"$f":"-'6 Rendiconto Finanz'!G55/('6 Rendiconto Finanz'!G5+IF('6 Rendiconto Finanz'!G6<0,0,'6 Rendiconto Finanz'!G6))","v":1.1313804434303005E-15},{"$f":"-'6 Rendiconto Finanz'!H55/('6 Rendiconto Finanz'!H5+IF('6 Rendiconto Finanz'!H6<0,0,'6 Rendiconto Finanz'!H6))","v":0},{"$f":"-'6 Rendiconto Finanz'!I55/('6 Rendiconto Finanz'!I5+IF('6 Rendiconto Finanz'!I6<0,0,'6 Rendiconto Finanz'!I6))","v":0},0,0,0,0,0,0,0,0,0,0,0,0,0,0,0,0,0,0,0,0,0,0,0,0,0,0,0,0,0,0,0,0,0,0,0,0,0,0,0,0,0,0,0,0,0,0,0,0,0,0,0,0,0,0,0,"Oneri Finanziari su Fatturato - %  ",null,"Indica l'incidenza degli oneri finanziari sul fatturato prodotto dall'impresa."]
[null,null,null,"Margine Operativo Lordo - MOL o EBITDA ",37136.731080709447,{"$f":"'6 Rendiconto Finanz'!E15-'6 Rendiconto Finanz'!E14-'6 Rendiconto Finanz'!E7-'6 Rendiconto Finanz'!E8","v":-29370.679999999978},{"$f":"'6 Rendiconto Finanz'!F15-'6 Rendiconto Finanz'!F14-'6 Rendiconto Finanz'!F7-'6 Rendiconto Finanz'!F8","v":4719.866399999999},{"$f":"'6 Rendiconto Finanz'!G15-'6 Rendiconto Finanz'!G14-'6 Rendiconto Finanz'!G7-'6 Rendiconto Finanz'!G8","v":46139.992127999991},{"$f":"'6 Rendiconto Finanz'!H15-'6 Rendiconto Finanz'!H14-'6 Rendiconto Finanz'!H7-'6 Rendiconto Finanz'!H8","v":47062.791970560036},{"$f":"'6 Rendiconto Finanz'!I15-'6 Rendiconto Finanz'!I14-'6 Rendiconto Finanz'!I7-'6 Rendiconto Finanz'!I8","v":48004.047809971169},{"$f":"'6 Rendiconto Finanz'!J15-'6 Rendiconto Finanz'!J14-'6 Rendiconto Finanz'!J7-'6 Rendiconto Finanz'!J8","v":48964.128766170586},{"$f":"'6 Rendiconto Finanz'!K15-'6 Rendiconto Finanz'!K14-'6 Rendiconto Finanz'!K7-'6 Rendiconto Finanz'!K8","v":49943.411341494058},{"$f":"'6 Rendiconto Finanz'!L15-'6 Rendiconto Finanz'!L14-'6 Rendiconto Finanz'!L7-'6 Rendiconto Finanz'!L8","v":50942.279568323953},{"$f":"'6 Rendiconto Finanz'!M15-'6 Rendiconto Finanz'!M14-'6 Rendiconto Finanz'!M7-'6 Rendiconto Finanz'!M8","v":51961.125159690448},{"$f":"'6 Rendiconto Finanz'!N15-'6 Rendiconto Finanz'!N14-'6 Rendiconto Finanz'!N7-'6 Rendiconto Finanz'!N8","v":53000.347662884211},0,0,0,0,0,0,0,0,0,0,0,0,0,0,0,0,0,0,0,0,0,0,0,0,0,0,0,0,0,0,0,0,0,0,0,0,0,0,0,0,0,0,0,0,0,0,0,0,0,0,"Margine Operativo Lordo - MOL o EBITDA ",{"$f":"SUM(F7:BM7)/'2 Descrizione Progetto'!D21","v":37136.731080709447},"E' un indicatore di redditività che evidenzia il reddito di un'azienda basato sulla sua gestione caratteristica."]
[null,null,null,"Margine Operativo Netto - MON         ",37136.731080709542,{"$f":"F7-'6 Rendiconto Finanz'!E16-'6 Rendiconto Finanz'!E17","v":-29370.679999999978},{"$f":"G7-'6 Rendiconto Finanz'!F16-'6 Rendiconto Finanz'!F17","v":4719.866400000099},{"$f":"H7-'6 Rendiconto Finanz'!G16-'6 Rendiconto Finanz'!G17","v":46139.992128000093},{"$f":"I7-'6 Rendiconto Finanz'!H16-'6 Rendiconto Finanz'!H17","v":47062.791970560138},{"$f":"J7-'6 Rendiconto Finanz'!I16-'6 Rendiconto Finanz'!I17","v":48004.047809971271},{"$f":"K7-'6 Rendiconto Finanz'!J16-'6 Rendiconto Finanz'!J17","v":48964.128766170688},{"$f":"L7-'6 Rendiconto Finanz'!K16-'6 Rendiconto Finanz'!K17","v":49943.41134149416},{"$f":"M7-'6 Rendiconto Finanz'!L16-'6 Rendiconto Finanz'!L17","v":50942.279568324055},{"$f":"N7-'6 Rendiconto Finanz'!M16-'6 Rendiconto Finanz'!M17","v":51961.125159690549},{"$f":"O7-'6 Rendiconto Finanz'!N16-'6 Rendiconto Finanz'!N17","v":53000.347662884313},0,0,0,0,0,0,0,0,0,0,0,0,0,0,0,0,0,0,0,0,0,0,0,0,0,0,0,0,0,0,0,0,0,0,0,0,0,0,0,0,0,0,0,0,0,0,0,0,0,0,"Margine Operativo Netto - MON         ",{"$f":"SUM(F8:BM8)/'2 Descrizione Progetto'!D21","v":37136.731080709542},"Reddito Op. della Gestione Caratteristica  E' il risultato della sottrazione al M.O.L. degli accantonamenti ed ammortamenti. "]
[null,null,null,"Reddito Operativo Aziendale - EBIT  ",37136.731080709542,{"$f":"'6 Rendiconto Finanz'!E18","v":-29370.679999999978},{"$f":"'6 Rendiconto Finanz'!F18","v":4719.866400000099},{"$f":"'6 Rendiconto Finanz'!G18","v":46139.992128000093},{"$f":"'6 Rendiconto Finanz'!H18","v":47062.791970560138},{"$f":"'6 Rendiconto Finanz'!I18","v":48004.047809971271},{"$f":"'6 Rendiconto Finanz'!J18","v":48964.128766170688},{"$f":"'6 Rendiconto Finanz'!K18","v":49943.41134149416},{"$f":"'6 Rendiconto Finanz'!L18","v":50942.279568324055},{"$f":"'6 Rendiconto Finanz'!M18","v":51961.125159690549},{"$f":"'6 Rendiconto Finanz'!N18","v":53000.347662884313},0,0,0,0,0,0,0,0,0,0,0,0,0,0,0,0,0,0,0,0,0,0,0,0,0,0,0,0,0,0,0,0,0,0,0,0,0,0,0,0,0,0,0,0,0,0,0,0,0,0,"Reddito Operativo Aziendale - EBIT  ",{"$f":"SUM(F9:BM9)/'2 Descrizione Progetto'!D21","v":37136.731080709542},"E' un indice di fondamentale importanza per valutare la bontà delle scelte aziendali, in quanto è il risultato aziendale prima di imposte e oneri finanziari."]
[null,null,null,"Flusso Finanziario della Gestione Primaria ",null,{"$f":"F7+'6 Rendiconto Finanz'!E55+'6 Rendiconto Finanz'!E60","v":-29370.680000000579},{"$f":"G7+'6 Rendiconto Finanz'!F55+'6 Rendiconto Finanz'!F60","v":4719.8663999988994},{"$f":"H7+'6 Rendiconto Finanz'!G55+'6 Rendiconto Finanz'!G60","v":46139.992127999489},{"$f":"I7+'6 Rendiconto Finanz'!H55+'6 Rendiconto Finanz'!H60","v":47062.791970560036},{"$f":"J7+'6 Rendiconto Finanz'!I55+'6 Rendiconto Finanz'!I60","v":48004.047809971169},{"$f":"K7+'6 Rendiconto Finanz'!J55+'6 Rendiconto Finanz'!J60","v":48964.128766170586},{"$f":"L7+'6 Rendiconto Finanz'!K55+'6 Rendiconto Finanz'!K60","v":49943.411341494058},{"$f":"M7+'6 Rendiconto Finanz'!L55+'6 Rendiconto Finanz'!L60","v":50942.279568323953},{"$f":"N7+'6 Rendiconto Finanz'!M55+'6 Rendiconto Finanz'!M60","v":51961.125159690448},{"$f":"O7+'6 Rendiconto Finanz'!N55+'6 Rendiconto Finanz'!N60","v":53000.347662884211},0,0,0,0,0,0,0,0,0,0,0,0,0,0,0,0,0,0,0,0,0,0,0,0,0,0,0,0,0,0,0,0,0,0,0,0,0,0,0,0,0,0,0,0,0,0,0,0,0,0,"Flusso Finanziario della Gestione Primaria ",null,"E' dato dal M.O.L. al netto degli oneri finanziari e incrementato dai proventi finanziari. "]
[null,null,null,"Cash Flow ",null,{"$f":"'7 Stato-Patr'!C32+'6 Rendiconto Finanz'!E16+'6 Rendiconto Finanz'!E17-'6 Rendiconto Finanz'!E8","v":-29370.680000000579},{"$f":"'7 Stato-Patr'!D32+'6 Rendiconto Finanz'!F16+'6 Rendiconto Finanz'!F17-'6 Rendiconto Finanz'!F8","v":4478.2092403188944},{"$f":"'7 Stato-Patr'!E32+'6 Rendiconto Finanz'!G16+'6 Rendiconto Finanz'!G17-'6 Rendiconto Finanz'!G8","v":37210.429044326331},{"$f":"'7 Stato-Patr'!F32+'6 Rendiconto Finanz'!H16+'6 Rendiconto Finanz'!H17-'6 Rendiconto Finanz'!H8","v":33358.106948732922},{"$f":"'7 Stato-Patr'!G32+'6 Rendiconto Finanz'!I16+'6 Rendiconto Finanz'!I17-'6 Rendiconto Finanz'!I8","v":34025.269087707537},{"$f":"'7 Stato-Patr'!H32+'6 Rendiconto Finanz'!J16+'6 Rendiconto Finanz'!J17-'6 Rendiconto Finanz'!J8","v":34705.774469461685},{"$f":"'7 Stato-Patr'!I32+'6 Rendiconto Finanz'!K16+'6 Rendiconto Finanz'!K17-'6 Rendiconto Finanz'!K8","v":35399.889958850959},{"$f":"'7 Stato-Patr'!J32+'6 Rendiconto Finanz'!L16+'6 Rendiconto Finanz'!L17-'6 Rendiconto Finanz'!L8","v":36107.887758027988},{"$f":"'7 Stato-Patr'!K32+'6 Rendiconto Finanz'!M16+'6 Rendiconto Finanz'!M17-'6 Rendiconto Finanz'!M8","v":36830.045513188561},{"$f":"'7 Stato-Patr'!L32+'6 Rendiconto Finanz'!N16+'6 Rendiconto Finanz'!N17-'6 Rendiconto Finanz'!N8","v":37566.646423452301},0,0,0,0,0,0,0,0,0,0,0,0,0,0,0,0,0,0,0,0,0,0,0,0,0,0,0,0,0,0,0,0,0,0,0,0,0,0,0,0,0,0,0,0,0,0,0,0,0,0,"Cash Flow ",null,"La somma dell'utile netto + ammortamenti ed ogni altra deduzione contabile che non da luogo a effettivi esborsi monetari. "]
[null,null,null,"Oneri Finanziari sul MOL - %  ",{"$f":"SUM(BO12)","v":2.2346549411213756E-14},{"$f":"-'6 Rendiconto Finanz'!E55/F7","v":-2.042853621366616E-14},{"$f":"-'6 Rendiconto Finanz'!F55/G7","v":2.3305744416833499E-13},{"$f":"-'6 Rendiconto Finanz'!G55/H7","v":1.0836586157468711E-14},{"$f":"-'6 Rendiconto Finanz'!H55/I7","v":0},{"$f":"-'6 Rendiconto Finanz'!I55/J7","v":0},0,0,0,0,0,0,0,0,0,0,0,0,0,0,0,0,0,0,0,0,0,0,0,0,0,0,0,0,0,0,0,0,0,0,0,0,0,0,0,0,0,0,0,0,0,0,0,0,0,0,0,0,0,0,0,"Oneri Finanziari sul MOL - %  ",{"$f":"SUM(F12:K12)/'2 Descrizione Progetto'!D21","v":2.2346549411213756E-14},"Oneri finanziari sul margine operativo lordo."]
[null,null,null,"Redditività del Capitale Investito - ROI ",null,0,{"$f":"G8/('7 Stato-Patr'!D15-IF('7 Stato-Patr'!D31>0,'7 Stato-Patr'!D31,0))","v":0.14210811095129347},{"$f":"H8/('7 Stato-Patr'!E15-IF('7 Stato-Patr'!E31>0,'7 Stato-Patr'!E31,0))","v":0.65708205195651237},{"$f":"I8/('7 Stato-Patr'!F15-IF('7 Stato-Patr'!F31>0,'7 Stato-Patr'!F31,0))","v":0.52215891140827286},{"$f":"J8/('7 Stato-Patr'!G15-IF('7 Stato-Patr'!G31>0,'7 Stato-Patr'!G31,0))","v":0.55115451479439825},{"$f":"K8/('7 Stato-Patr'!H15-IF('7 Stato-Patr'!H31>0,'7 Stato-Patr'!H31,0))","v":0.5526474975360034},{"$f":"L8/('7 Stato-Patr'!I15-IF('7 Stato-Patr'!I31>0,'7 Stato-Patr'!I31,0))","v":0.55411907914021519},{"$f":"M8/('7 Stato-Patr'!J15-IF('7 Stato-Patr'!J31>0,'7 Stato-Patr'!J31,0))","v":0.55556943413421822},{"$f":"N8/('7 Stato-Patr'!K15-IF('7 Stato-Patr'!K31>0,'7 Stato-Patr'!K31,0))","v":0.55699874025020391},{"$f":"O8/('7 Stato-Patr'!L15-IF('7 Stato-Patr'!L31>0,'7 Stato-Patr'!L31,0))","v":0.55840717823314323},0,0,0,0,0,0,0,0,0,0,0,0,0,0,0,0,0,0,0,0,0,0,0,0,0,0,0,0,0,0,0,0,0,0,0,0,0,0,0,0,0,0,0,0,0,0,0,0,0,0,"Redditività del Capitale Investito - ROI ",null,"E' la redditività economica della gestione caratteristica a prescindere dalle fonti utilizzate, cioè quanto rendono i capitali (totale attivo) investiti nell'azienda."]
[null,null,null,"Redditività delle Vendite - ROS  ",{"$f":"SUM(BO14)","v":7.6228549636867871E-2},{"$f":"F8/('6 Rendiconto Finanz'!E5+IF('6 Rendiconto Finanz'!E6<0,0,'6 Rendiconto Finanz'!E6))","v":-8.5070760318609634E-2},{"$f":"G8/('6 Rendiconto Finanz'!F5+IF('6 Rendiconto Finanz'!F6<0,0,'6 Rendiconto Finanz'!F6))","v":1.2126100628931071E-2},{"$f":"H8/('6 Rendiconto Finanz'!G5+IF('6 Rendiconto Finanz'!G6<0,0,'6 Rendiconto Finanz'!G6))","v":0.10440376950729463},{"$f":"I8/('6 Rendiconto Finanz'!H5+IF('6 Rendiconto Finanz'!H6<0,0,'6 Rendiconto Finanz'!H6))","v":0.10440376950729473},{"$f":"J8/('6 Rendiconto Finanz'!I5+IF('6 Rendiconto Finanz'!I6<0,0,'6 Rendiconto Finanz'!I6))","v":0.10440376950729457},{"$f":"K8/('6 Rendiconto Finanz'!J5+IF('6 Rendiconto Finanz'!J6<0,0,'6 Rendiconto Finanz'!J6))","v":0.10440376950729456},{"$f":"L8/('6 Rendiconto Finanz'!K5+IF('6 Rendiconto Finanz'!K6<0,0,'6 Rendiconto Finanz'!K6))","v":0.10440376950729467},{"$f":"M8/('6 Rendiconto Finanz'!L5+IF('6 Rendiconto Finanz'!L6<0,0,'6 Rendiconto Finanz'!L6))","v":0.10440376950729469},{"$f":"N8/('6 Rendiconto Finanz'!M5+IF('6 Rendiconto Finanz'!M6<0,0,'6 Rendiconto Finanz'!M6))","v":0.10440376950729471},{"$f":"O8/('6 Rendiconto Finanz'!N5+IF('6 Rendiconto Finanz'!N6<0,0,'6 Rendiconto Finanz'!N6))","v":0.10440376950729463},0,0,0,0,0,0,0,0,0,0,0,0,0,0,0,0,0,0,0,0,0,0,0,0,0,0,0,0,0,0,0,0,0,0,0,0,0,0,0,0,0,0,0,0,0,0,0,0,0,0,"Redditività delle Vendite - ROS  ",{"$f":"SUM(F14:BM14)/'2 Descrizione Progetto'!D21","v":7.6228549636867871E-2},"E' il rapporto tra il risultato operativo caratteristico (MON) e ricavi netti del periodo. "]
[null,null,null,"Indice Impiego Capitale Proprio ",null,{"$f":"('7 Stato-Patr'!C32+'7 Stato-Patr'!C27-IF('7 Stato-Patr'!C31>0,'7 Stato-Patr'!C31,0))/('7 Stato-Patr'!C34-IF('7 Stato-Patr'!C31>0,'7 Stato-Patr'!C31,0))","v":-0.65968723383143402},{"$f":"('7 Stato-Patr'!D32+'7 Stato-Patr'!D27-IF('7 Stato-Patr'!D31>0,'7 Stato-Patr'!D31,0))/('7 Stato-Patr'!D34-IF('7 Stato-Patr'!D31>0,'7 Stato-Patr'!D31,0))","v":-0.44838999829649412},{"$f":"('7 Stato-Patr'!E32+'7 Stato-Patr'!E27-IF('7 Stato-Patr'!E31>0,'7 Stato-Patr'!E31,0))/('7 Stato-Patr'!E34-IF('7 Stato-Patr'!E31>0,'7 Stato-Patr'!E31,0))","v":0.31783121645257018},{"$f":"('7 Stato-Patr'!F32+'7 Stato-Patr'!F27-IF('7 Stato-Patr'!F31>0,'7 Stato-Patr'!F31,0))/('7 Stato-Patr'!F34-IF('7 Stato-Patr'!F31>0,'7 Stato-Patr'!F31,0))","v":0.50324553126184979},{"$f":"('7 Stato-Patr'!G32+'7 Stato-Patr'!G27-IF('7 Stato-Patr'!G31>0,'7 Stato-Patr'!G31,0))/('7 Stato-Patr'!G34-IF('7 Stato-Patr'!G31>0,'7 Stato-Patr'!G31,0))","v":0.52843533013580468},{"$f":"('7 Stato-Patr'!H32+'7 Stato-Patr'!H27-IF('7 Stato-Patr'!H31>0,'7 Stato-Patr'!H31,0))/('7 Stato-Patr'!H34-IF('7 Stato-Patr'!H31>0,'7 Stato-Patr'!H31,0))","v":0.52715794258882842},{"$f":"('7 Stato-Patr'!I32+'7 Stato-Patr'!I27-IF('7 Stato-Patr'!I31>0,'7 Stato-Patr'!I31,0))/('7 Stato-Patr'!I34-IF('7 Stato-Patr'!I31>0,'7 Stato-Patr'!I31,0))","v":0.52589886573335354},{"$f":"('7 Stato-Patr'!J32+'7 Stato-Patr'!J27-IF('7 Stato-Patr'!J31>0,'7 Stato-Patr'!J31,0))/('7 Stato-Patr'!J34-IF('7 Stato-Patr'!J31>0,'7 Stato-Patr'!J31,0))","v":0.5246579502449118},{"$f":"('7 Stato-Patr'!K32+'7 Stato-Patr'!K27-IF('7 Stato-Patr'!K31>0,'7 Stato-Patr'!K31,0))/('7 Stato-Patr'!K34-IF('7 Stato-Patr'!K31>0,'7 Stato-Patr'!K31,0))","v":0.52343504405685171},{"$f":"('7 Stato-Patr'!L32+'7 Stato-Patr'!L27-IF('7 Stato-Patr'!L31>0,'7 Stato-Patr'!L31,0))/('7 Stato-Patr'!L34-IF('7 Stato-Patr'!L31>0,'7 Stato-Patr'!L31,0))","v":0.52222999252480173},0,0,0,0,0,0,0,0,0,0,0,0,0,0,0,0,0,0,0,0,0,0,0,0,0,0,0,0,0,0,0,0,0,0,0,0,0,0,0,0,0,0,0,0,0,0,0,0,0,0,"Indice Impiego Capitale Proprio ",null,"Indica la capacità di impiegare il capitale proprio nella attività aziendale."]
[]
[null,null,null," ",null,null,null,null,null,null,null,null," ",null,null,null,null,null,null,null,null,null," ",null,null,null,null,null,null,null,null,null," ",null,null,null,null,null,null,null,null,null," ",null," ",null,null,null,null,null,null,null," ",null,null,null,null,null,null,null,null,null," "]

{"sheet":"9 Riep. Imposte Dir","index":13,"n_rows":17,"n_cols":66,"rows_kept":17,"cut":false,"hidden":false,"merged":[[0,3,0,5],[0,6,0,8],[0,52,0,59],[0,9,0,13],[0,20,0,27],[0,28,0,35],[0,36,0,43],[0,44,0,51]]}
[null,null,null,"9    -    Imposte Dirette",null,null,{"$f":"'2 Descrizione Progetto'!$C$3","v":"Comune di Guardiagrele"},null,null,{"$f":"'2 Descrizione Progetto'!C4","v":"Concessione per l'affidamento dei lavori di efficientamento energetico della piscina comunale e del successivo servizio di gestione dell'impianto natatorio "},null,null,null,null,null,null,null,null,null,null,null,null,null,null,null,null,null,null,{"$f":"U1","v":0}]
[null,null,null,null,{"$f":"'6 Rendiconto Finanz'!E4","v":1},{"$f":"'6 Rendiconto Finanz'!F4","v":2},{"$f":"'6 Rendiconto Finanz'!G4","v":3},{"$f":"'6 Rendiconto Finanz'!H4","v":4},{"$f":"'6 Rendiconto Finanz'!I4","v":5},{"$f":"'6 Rendiconto Finanz'!J4","v":6},{"$f":"'6 Rendiconto Finanz'!K4","v":7},{"$f":"'6 Rendiconto Finanz'!L4","v":8},{"$f":"'6 Rendiconto Finanz'!M4","v":9},{"$f":"'6 Rendiconto Finanz'!N4","v":10},{"$f":"'6 Rendiconto Finanz'!O4","v":11},{"$f":"'6 Rendiconto Finanz'!P4","v":"0"},{"$f":"'6 Rendiconto Finanz'!Q4","v":"0"},{"$f":"'6 Rendiconto Finanz'!R4","v":"0"},{"$f":"'6 Rendiconto Finanz'!S4","v":"0"},{"$f":"'6 Rendiconto Finanz'!T4","v":"0"},{"$f":"'6 Rendiconto Finanz'!U4","v":"0"},{"$f":"'6 Rendiconto Finanz'!V4","v":"0"},{"$f":"'6 Rendiconto Finanz'!W4","v":"0"},{"$f":"'6 Rendiconto Finanz'!X4","v":"0"},{"$f":"'6 Rendiconto Finanz'!Y4","v":"0"},{"$f":"'6 Rendiconto Finanz'!Z4","v":"0"},{"$f":"'6 Rendiconto Finanz'!AA4","v":"0"},{"$f":"'6 Rendiconto Finanz'!AB4","v":"0"},{"$f":"'6 Rendiconto Finanz'!AC4","v":"0"},{"$f":"'6 Rendiconto Finanz'!AD4","v":"0"},{"$f":"'6 Rendiconto Finanz'!AE4","v":"0"},{"$f":"'6 Rendiconto Finanz'!AF4","v":"0"},{"$f":"'6 Rendiconto Finanz'!AG4","v":"0"},{"$f":"'6 Rendiconto Finanz'!AH4","v":"0"},{"$f":"'6 Rendiconto Finanz'!AI4","v":"0"},{"$f":"'6 Rendiconto Finanz'!AJ4","v":"0"},{"$f":"'6 Rendiconto Finanz'!AK4","v":"0"},{"$f":"'6 Rendiconto Finanz'!AL4","v":"0"},{"$f":"'6 Rendiconto Finanz'!AM4","v":"0"},{"$f":"'6 Rendiconto Finanz'!AN4","v":"0"},{"$f":"'6 Rendiconto Finanz'!AO4","v":"0"},{"$f":"'6 Rendiconto Finanz'!AP4","v":"0"},{"$f":"'6 Rendiconto Finanz'!AQ4","v":"0"},{"$f":"'6 Rendiconto Finanz'!AR4","v":"0"},{"$f":"'6 Rendiconto Finanz'!AS4","v":"0"},{"$f":"'6 Rendiconto Finanz'!AT4","v":"0"},{"$f":"'6 Rendiconto Finanz'!AU4","v":"0"},{"$f":"'6 Rendiconto Finanz'!AV4","v":"0"},{"$f":"'6 Rendiconto Finanz'!AW4","v":"0"},{"$f":"'6 Rendiconto Finanz'!AX4","v":"0"},{"$f":"'6 Rendiconto Finanz'!AY4","v":"0"},{"$f":"'6 Rendiconto Finanz'!AZ4","v":"0"},{"$f":"'6 Rendiconto Finanz'!BA4","v":"0"},{"$f":"'6 Rendiconto Finanz'!BB4","v":"0"},{"$f":"'6 Rendiconto Finanz'!BC4","v":"0"},{"$f":"'6 Rendiconto Finanz'!BD4","v":"0"},{"$f":"'6 Rendiconto Finanz'!BE4","v":"0"},{"$f":"'6 Rendiconto Finanz'!BF4","v":"0"},{"$f":"'6 Rendiconto Finanz'!BG4","v":"0"},{"$f":"'6 Rendiconto Finanz'!BH4","v":"0"},{"$f":"'6 Rendiconto Finanz'!BI4","v":"0"},{"$f":"'6 Rendiconto Finanz'!BJ4","v":"0"},{"$f":"'6 Rendiconto Finanz'!BK4","v":"0"},{"$f":"'6 Rendiconto Finanz'!BL4","v":"0"}]
[null,null,null,"Reddito Operativo Ante Imposte",{"$f":"'6 Rendiconto Finanz'!E19","v":-29370.680000000579},{"$f":"'6 Rendiconto Finanz'!F19","v":4719.8663999989994},{"$f":"'6 Rendiconto Finanz'!G19","v":46139.992127999591},{"$f":"'6 Rendiconto Finanz'!H19","v":47062.791970560138},{"$f":"'6 Rendiconto Finanz'!I19","v":48004.047809971271},{"$f":"'6 Rendiconto Finanz'!J19","v":48964.128766170688},{"$f":"'6 Rendiconto Finanz'!K19","v":49943.41134149416},{"$f":"'6 Rendiconto Finanz'!L19","v":50942.279568324055},{"$f":"'6 Rendiconto Finanz'!M19","v":51961.125159690549},{"$f":"'6 Rendiconto Finanz'!N19","v":53000.347662884313},{"$f":"'6 Rendiconto Finanz'!O19","v":9.9999999999999991E-11},{"$f":"'6 Rendiconto Finanz'!P19","v":-1.0999999999999999E-9},{"$f":"'6 Rendiconto Finanz'!Q19","v":0},{"$f":"'6 Rendiconto Finanz'!R19","v":0},{"$f":"'6 Rendiconto Finanz'!S19","v":0},{"$f":"'6 Rendiconto Finanz'!T19","v":0},{"$f":"'6 Rendiconto Finanz'!U19","v":0},{"$f":"'6 Rendiconto Finanz'!V19","v":0},{"$f":"'6 Rendiconto Finanz'!W19","v":0},{"$f":"'6 Rendiconto Finanz'!X19","v":0},{"$f":"'6 Rendiconto Finanz'!Y19","v":0},{"$f":"'6 Rendiconto Finanz'!Z19","v":0},{"$f":"'6 Rendiconto Finanz'!AA19","v":0},{"$f":"'6 Rendiconto Finanz'!AB19","v":0},{"$f":"'6 Rendiconto Finanz'!AC19","v":0},{"$f":"'6 Rendiconto Finanz'!AD19","v":0},{"$f":"'6 Rendiconto Finanz'!AE19","v":0},{"$f":"'6 Rendiconto Finanz'!AF19","v":0},{"$f":"'6 Rendiconto Finanz'!AG19","v":0},{"$f":"'6 Rendiconto Finanz'!AH19","v":0},{"$f":"'6 Rendiconto Finanz'!AI19","v":0},{"$f":"'6 Rendiconto Finanz'!AJ19","v":0},{"$f":"'6 Rendiconto Finanz'!AK19","v":0},{"$f":"'6 Rendiconto Finanz'!AL19","v":0},{"$f":"'6 Rendiconto Finanz'!AM19","v":0},{"$f":"'6 Rendiconto Finanz'!AN19","v":0},{"$f":"'6 Rendiconto Finanz'!AO19","v":0},{"$f":"'6 Rendiconto Finanz'!AP19","v":0},{"$f":"'6 Rendiconto Finanz'!AQ19","v":0},{"$f":"'6 Rendiconto Finanz'!AR19","v":0},{"$f":"'6 Rendiconto Finanz'!AS19","v":0},{"$f":"'6 Rendiconto Finanz'!AT19","v":0},{"$f":"'6 Rendiconto Finanz'!AU19","v":0},{"$f":"'6 Rendiconto Finanz'!AV19","v":0},{"$f":"'6 Rendiconto Finanz'!AW19","v":0},{"$f":"'6 Rendiconto Finanz'!AX19","v":0},{"$f":"'6 Rendiconto Finanz'!AY19","v":0},{"$f":"'6 Rendiconto Finanz'!AZ19","v":0},{"$f":"'6 Rendiconto Finanz'!BA19","v":0},{"$f":"'6 Rendiconto Finanz'!BB19","v":0},{"$f":"'6 Rendiconto Finanz'!BC19","v":0},{"$f":"'6 Rendiconto Finanz'!BD19","v":0},{"$f":"'6 Rendiconto Finanz'!BE19","v":0},{"$f":"'6 Rendiconto Finanz'!BF19","v":0},{"$f":"'6 Rendiconto Finanz'!BG19","v":0},{"$f":"'6 Rendiconto Finanz'!BH19","v":0},{"$f":"'6 Rendiconto Finanz'!BI19","v":0},{"$f":"'6 Rendiconto Finanz'!BJ19","v":0},{"$f":"'6 Rendiconto Finanz'!BK19","v":0},{"$f":"'6 Rendiconto Finanz'!BL19","v":0}]
[null,null,null,"Perdite Pregresse per Calcolo IRES",0,{"$f":"IF((E3+E4)>0,0,(IF(E4>0,0,E4)+IF('6 Rendiconto Finanz'!E21<0,'6 Rendiconto Finanz'!E21*0.8,0)+IF(E3>0,E3,0)))","v":-23496.544000000464},{"$f":"IF((F3+F4)>0,0,(IF(F4>0,0,F4)+IF('6 Rendiconto Finanz'!F21<0,'6 Rendiconto Finanz'!F21*0.8,0)+IF(F3>0,F3,0)))","v":-18776.677600001465},{"$f":"IF((G3+G4)>0,0,(IF(G4>0,0,G4)+IF('6 Rendiconto Finanz'!G21<0,'6 Rendiconto Finanz'!G21*0.8,0)+IF(G3>0,G3,0)))","v":0},{"$f":"IF((H3+H4)>0,0,(IF(H4>0,0,H4)+IF('6 Rendiconto Finanz'!H21<0,'6 Rendiconto Finanz'!H21*0.8,0)+IF(H3>0,H3,0)))","v":0},{"$f":"IF((I3+I4)>0,0,(IF(I4>0,0,I4)+IF('6 Rendiconto Finanz'!I21<0,'6 Rendiconto Finanz'!I21*0.8,0)+IF(I3>0,I3,0)))","v":0},{"$f":"IF((J3+J4)>0,0,(IF(J4>0,0,J4)+IF('6 Rendiconto Finanz'!J21<0,'6 Rendiconto Finanz'!J21*0.8,0)+IF(J3>0,J3,0)))","v":0},{"$f":"IF((K3+K4)>0,0,(IF(K4>0,0,K4)+IF('6 Rendiconto Finanz'!K21<0,'6 Rendiconto Finanz'!K21*0.8,0)+IF(K3>0,K3,0)))","v":0},{"$f":"IF((L3+L4)>0,0,(IF(L4>0,0,L4)+IF('6 Rendiconto Finanz'!L21<0,'6 Rendiconto Finanz'!L21*0.8,0)+IF(L3>0,L3,0)))","v":0},{"$f":"IF((M3+M4)>0,0,(IF(M4>0,0,M4)+IF('6 Rendiconto Finanz'!M21<0,'6 Rendiconto Finanz'!M21*0.8,0)+IF(M3>0,M3,0)))","v":0},{"$f":"IF((N3+N4)>0,0,(IF(N4>0,0,N4)+IF('6 Rendiconto Finanz'!N21<0,'6 Rendiconto Finanz'!N21*0.8,0)+IF(N3>0,N3,0)))","v":0},{"$f":"IF((O3+O4)>0,0,(IF(O4>0,0,O4)+IF('6 Rendiconto Finanz'!O21<0,'6 Rendiconto Finanz'!O21*0.8,0)+IF(O3>0,O3,0)))","v":0},{"$f":"IF((P3+P4)>0,0,(IF(P4>0,0,P4)+IF('6 Rendiconto Finanz'!P21<0,'6 Rendiconto Finanz'!P21*0.8,0)+IF(P3>0,P3,0)))","v":-8.7999999999999996E-10},{"$f":"IF((Q3+Q4)>0,0,(IF(Q4>0,0,Q4)+IF('6 Rendiconto Finanz'!Q21<0,'6 Rendiconto Finanz'!Q21*0.8,0)+IF(Q3>0,Q3,0)))","v":-8.7999999999999996E-10},{"$f":"IF((R3+R4)>0,0,(IF(R4>0,0,R4)+IF('6 Rendiconto Finanz'!R21<0,'6 Rendiconto Finanz'!R21*0.8,0)+IF(R3>0,R3,0)))","v":-8.7999999999999996E-10},{"$f":"IF((S3+S4)>0,0,(IF(S4>0,0,S4)+IF('6 Rendiconto Finanz'!S21<0,'6 Rendiconto Finanz'!S21*0.8,0)+IF(S3>0,S3,0)))","v":-8.7999999999999996E-10},{"$f":"IF((T3+T4)>0,0,(IF(T4>0,0,T4)+IF('6 Rendiconto Finanz'!T21<0,'6 Rendiconto Finanz'!T21*0.8,0)+IF(T3>0,T3,0)))","v":-8.7999999999999996E-10},{"$f":"IF((U3+U4)>0,0,(IF(U4>0,0,U4)+IF('6 Rendiconto Finanz'!U21<0,'6 Rendiconto Finanz'!U21*0.8,0)+IF(U3>0,U3,0)))","v":-8.7999999999999996E-10},{"$f":"IF((V3+V4)>0,0,(IF(V4>0,0,V4)+IF('6 Rendiconto Finanz'!V21<0,'6 Rendiconto Finanz'!V21*0.8,0)+IF(V3>0,V3,0)))","v":-8.7999999999999996E-10},{"$f":"IF((W3+W4)>0,0,(IF(W4>0,0,W4)+IF('6 Rendiconto Finanz'!W21<0,'6 Rendiconto Finanz'!W21*0.8,0)+IF(W3>0,W3,0)))","v":-8.7999999999999996E-10},{"$f":"IF((X3+X4)>0,0,(IF(X4>0,0,X4)+IF('6 Rendiconto Finanz'!X21<0,'6 Rendiconto Finanz'!X21*0.8,0)+IF(X3>0,X3,0)))","v":-8.7999999999999996E-10},{"$f":"IF((Y3+Y4)>0,0,(IF(Y4>0,0,Y4)+IF('6 Rendiconto Finanz'!Y21<0,'6 Rendiconto Finanz'!Y21*0.8,0)+IF(Y3>0,Y3,0)))","v":-8.7999999999999996E-10},{"$f":"IF((Z3+Z4)>0,0,(IF(Z4>0,0,Z4)+IF('6 Rendiconto Finanz'!Z21<0,'6 Rendiconto Finanz'!Z21*0.8,0)+IF(Z3>0,Z3,0)))","v":-8.7999999999999996E-10},{"$f":"IF((AA3+AA4)>0,0,(IF(AA4>0,0,AA4)+IF('6 Rendiconto Finanz'!AA21<0,'6 Rendiconto Finanz'!AA21*0.8,0)+IF(AA3>0,AA3,0)))","v":-8.7999999999999996E-10},{"$f":"IF((AB3+AB4)>0,0,(IF(AB4>0,0,AB4)+IF('6 Rendiconto Finanz'!AB21<0,'6 Rendiconto Finanz'!AB21*0.8,0)+IF(AB3>0,AB3,0)))","v":-8.7999999999999996E-10},{"$f":"IF((AC3+AC4)>0,0,(IF(AC4>0,0,AC4)+IF('6 Rendiconto Finanz'!AC21<0,'6 Rendiconto Finanz'!AC21*0.8,0)+IF(AC3>0,AC3,0)))","v":-8.7999999999999996E-10},{"$f":"IF((AD3+AD4)>0,0,(IF(AD4>0,0,AD4)+IF('6 Rendiconto Finanz'!AD21<0,'6 Rendiconto Finanz'!AD21*0.8,0)+IF(AD3>0,AD3,0)))","v":-8.7999999999999996E-10},{"$f":"IF((AE3+AE4)>0,0,(IF(AE4>0,0,AE4)+IF('6 Rendiconto Finanz'!AE21<0,'6 Rendiconto Finanz'!AE21*0.8,0)+IF(AE3>0,AE3,0)))","v":-8.7999999999999996E-10},{"$f":"IF((AF3+AF4)>0,0,(IF(AF4>0,0,AF4)+IF('6 Rendiconto Finanz'!AF21<0,'6 Rendiconto Finanz'!AF21*0.8,0)+IF(AF3>0,AF3,0)))","v":-8.7999999999999996E-10},{"$f":"IF((AG3+AG4)>0,0,(IF(AG4>0,0,AG4)+IF('6 Rendiconto Finanz'!AG21<0,'6 Rendiconto Finanz'!AG21*0.8,0)+IF(AG3>0,AG3,0)))","v":-8.7999999999999996E-10},{"$f":"IF((AH3+AH4)>0,0,(IF(AH4>0,0,AH4)+IF('6 Rendiconto Finanz'!AH21<0,'6 Rendiconto Finanz'!AH21*0.8,0)+IF(AH3>0,AH3,0)))","v":-8.7999999999999996E-10},{"$f":"IF((AI3+AI4)>0,0,(IF(AI4>0,0,AI4)+IF('6 Rendiconto Finanz'!AI21<0,'6 Rendiconto Finanz'!AI21*0.8,0)+IF(AI3>0,AI3,0)))","v":-8.7999999999999996E-10},{"$f":"IF((AJ3+AJ4)>0,0,(IF(AJ4>0,0,AJ4)+IF('6 Rendiconto Finanz'!AJ21<0,'6 Rendiconto Finanz'!AJ21*0.8,0)+IF(AJ3>0,AJ3,0)))","v":-8.7999999999999996E-10},{"$f":"IF((AK3+AK4)>0,0,(IF(AK4>0,0,AK4)+IF('6 Rendiconto Finanz'!AK21<0,'6 Rendiconto Finanz'!AK21*0.8,0)+IF(AK3>0,AK3,0)))","v":-8.7999999999999996E-10},{"$f":"IF((AL3+AL4)>0,0,(IF(AL4>0,0,AL4)+IF('6 Rendiconto Finanz'!AL21<0,'6 Rendiconto Finanz'!AL21*0.8,0)+IF(AL3>0,AL3,0)))","v":-8.7999999999999996E-10},{"$f":"IF((AM3+AM4)>0,0,(IF(AM4>0,0,AM4)+IF('6 Rendiconto Finanz'!AM21<0,'6 Rendiconto Finanz'!AM21*0.8,0)+IF(AM3>0,AM3,0)))","v":-8.7999999999999996E-10},{"$f":"IF((AN3+AN4)>0,0,(IF(AN4>0,0,AN4)+IF('6 Rendiconto Finanz'!AN21<0,'6 Rendiconto Finanz'!AN21*0.8,0)+IF(AN3>0,AN3,0)))","v":-8.7999999999999996E-10},{"$f":"IF((AO3+AO4)>0,0,(IF(AO4>0,0,AO4)+IF('6 Rendiconto Finanz'!AO21<0,'6 Rendiconto Finanz'!AO21*0.8,0)+IF(AO3>0,AO3,0)))","v":-8.7999999999999996E-10},{"$f":"IF((AP3+AP4)>0,0,(IF(AP4>0,0,AP4)+IF('6 Rendiconto Finanz'!AP21<0,'6 Rendiconto Finanz'!AP21*0.8,0)+IF(AP3>0,AP3,0)))","v":-8.7999999999999996E-10},{"$f":"IF((AQ3+AQ4)>0,0,(IF(AQ4>0,0,AQ4)+IF('6 Rendiconto Finanz'!AQ21<0,'6 Rendiconto Finanz'!AQ21*0.8,0)+IF(AQ3>0,AQ3,0)))","v":-8.7999999999999996E-10},{"$f":"IF((AR3+AR4)>0,0,(IF(AR4>0,0,AR4)+IF('6 Rendiconto Finanz'!AR21<0,'6 Rendiconto Finanz'!AR21*0.8,0)+IF(AR3>0,AR3,0)))","v":-8.7999999999999996E-10},{"$f":"IF((AS3+AS4)>0,0,(IF(AS4>0,0,AS4)+IF('6 Rendiconto Finanz'!AS21<0,'6 Rendiconto Finanz'!AS21*0.8,0)+IF(AS3>0,AS3,0)))","v":-8.7999999999999996E-10},{"$f":"IF((AT3+AT4)>0,0,(IF(AT4>0,0,AT4)+IF('6 Rendiconto Finanz'!AT21<0,'6 Rendiconto Finanz'!AT21*0.8,0)+IF(AT3>0,AT3,0)))","v":-8.7999999999999996E-10},{"$f":"IF((AU3+AU4)>0,0,(IF(AU4>0,0,AU4)+IF('6 Rendiconto Finanz'!AU21<0,'6 Rendiconto Finanz'!AU21*0.8,0)+IF(AU3>0,AU3,0)))","v":-8.7999999999999996E-10},{"$f":"IF((AV3+AV4)>0,0,(IF(AV4>0,0,AV4)+IF('6 Rendiconto Finanz'!AV21<0,'6 Rendiconto Finanz'!AV21*0.8,0)+IF(AV3>0,AV3,0)))","v":-8.7999999999999996E-10},{"$f":"IF((AW3+AW4)>0,0,(IF(AW4>0,0,AW4)+IF('6 Rendiconto Finanz'!AW21<0,'6 Rendiconto Finanz'!AW21*0.8,0)+IF(AW3>0,AW3,0)))","v":-8.7999999999999996E-10},{"$f":"IF((AX3+AX4)>0,0,(IF(AX4>0,0,AX4)+IF('6 Rendiconto Finanz'!AX21<0,'6 Rendiconto Finanz'!AX21*0.8,0)+IF(AX3>0,AX3,0)))","v":-8.7999999999999996E-10},{"$f":"IF((AY3+AY4)>0,0,(IF(AY4>0,0,AY4)+IF('6 Rendiconto Finanz'!AY21<0,'6 Rendiconto Finanz'!AY21*0.8,0)+IF(AY3>0,AY3,0)))","v":-8.7999999999999996E-10},{"$f":"IF((AZ3+AZ4)>0,0,(IF(AZ4>0,0,AZ4)+IF('6 Rendiconto Finanz'!AZ21<0,'6 Rendiconto Finanz'!AZ21*0.8,0)+IF(AZ3>0,AZ3,0)))","v":-8.7999999999999996E-10},{"$f":"IF((BA3+BA4)>0,0,(IF(BA4>0,0,BA4)+IF('6 Rendiconto Finanz'!BA21<0,'6 Rendiconto Finanz'!BA21*0.8,0)+IF(BA3>0,BA3,0)))","v":-8.7999999999999996E-10},{"$f":"IF((BB3+BB4)>0,0,(IF(BB4>0,0,BB4)+IF('6 Rendiconto Finanz'!BB21<0,'6 Rendiconto Finanz'!BB21*0.8,0)+IF(BB3>0,BB3,0)))","v":-8.7999999999999996E-10},{"$f":"IF((BC3+BC4)>0,0,(IF(BC4>0,0,BC4)+IF('6 Rendiconto Finanz'!BC21<0,'6 Rendiconto Finanz'!BC21*0.8,0)+IF(BC3>0,BC3,0)))","v":-8.7999999999999996E-10},{"$f":"IF((BD3+BD4)>0,0,(IF(BD4>0,0,BD4)+IF('6 Rendiconto Finanz'!BD21<0,'6 Rendiconto Finanz'!BD21*0.8,0)+IF(BD3>0,BD3,0)))","v":-8.7999999999999996E-10},{"$f":"IF((BE3+BE4)>0,0,(IF(BE4>0,0,BE4)+IF('6 Rendiconto Finanz'!BE21<0,'6 Rendiconto Finanz'!BE21*0.8,0)+IF(BE3>0,BE3,0)))","v":-8.7999999999999996E-10},{"$f":"IF((BF3+BF4)>0,0,(IF(BF4>0,0,BF4)+IF('6 Rendiconto Finanz'!BF21<0,'6 Rendiconto Finanz'!BF21*0.8,0)+IF(BF3>0,BF3,0)))","v":-8.7999999999999996E-10},{"$f":"IF((BG3+BG4)>0,0,(IF(BG4>0,0,BG4)+IF('6 Rendiconto Finanz'!BG21<0,'6 Rendiconto Finanz'!BG21*0.8,0)+IF(BG3>0,BG3,0)))","v":-8.7999999999999996E-10},{"$f":"IF((BH3+BH4)>0,0,(IF(BH4>0,0,BH4)+IF('6 Rendiconto Finanz'!BH21<0,'6 Rendiconto Finanz'!BH21*0.8,0)+IF(BH3>0,BH3,0)))","v":-8.7999999999999996E-10},{"$f":"IF((BI3+BI4)>0,0,(IF(BI4>0,0,BI4)+IF('6 Rendiconto Finanz'!BI21<0,'6 Rendiconto Finanz'!BI21*0.8,0)+IF(BI3>0,BI3,0)))","v":-8.7999999999999996E-10},{"$f":"IF((BJ3+BJ4)>0,0,(IF(BJ4>0,0,BJ4)+IF('6 Rendiconto Finanz'!BJ21<0,'6 Rendiconto Finanz'!BJ21*0.8,0)+IF(BJ3>0,BJ3,0)))","v":-8.7999999999999996E-10},{"$f":"IF((BK3+BK4)>0,0,(IF(BK4>0,0,BK4)+IF('6 Rendiconto Finanz'!BK21<0,'6 Rendiconto Finanz'!BK21*0.8,0)+IF(BK3>0,BK3,0)))","v":-8.7999999999999996E-10}]
[null,null,null,"Accantonamenti Fondo O&MRA a copertura delle Manutenzioni Straordinarie",{"$f":"'6 Rendiconto Finanz'!E17","v":0},{"$f":"'6 Rendiconto Finanz'!F17","v":0},{"$f":"'6 Rendiconto Finanz'!G17","v":0},{"$f":"'6 Rendiconto Finanz'!H17","v":0},{"$f":"'6 Rendiconto Finanz'!I17","v":0},{"$f":"'6 Rendiconto Finanz'!J17","v":0},{"$f":"'6 Rendiconto Finanz'!K17","v":0},{"$f":"'6 Rendiconto Finanz'!L17","v":0},{"$f":"'6 Rendiconto Finanz'!M17","v":0},{"$f":"'6 Rendiconto Finanz'!N17","v":0},{"$f":"'6 Rendiconto Finanz'!O17","v":0},{"$f":"'6 Rendiconto Finanz'!P17","v":0},{"$f":"'6 Rendiconto Finanz'!Q17","v":0},{"$f":"'6 Rendiconto Finanz'!R17","v":0},{"$f":"'6 Rendiconto Finanz'!S17","v":0},{"$f":"'6 Rendiconto Finanz'!T17","v":0},{"$f":"'6 Rendiconto Finanz'!U17","v":0},{"$f":"'6 Rendiconto Finanz'!V17","v":0},{"$f":"'6 Rendiconto Finanz'!W17","v":0},{"$f":"'6 Rendiconto Finanz'!X17","v":0},{"$f":"'6 Rendiconto Finanz'!Y17","v":0},{"$f":"'6 Rendiconto Finanz'!Z17","v":0},{"$f":"'6 Rendiconto Finanz'!AA17","v":0},{"$f":"'6 Rendiconto Finanz'!AB17","v":0},{"$f":"'6 Rendiconto Finanz'!AC17","v":0},{"$f":"'6 Rendiconto Finanz'!AD17","v":0},{"$f":"'6 Rendiconto Finanz'!AE17","v":0},{"$f":"'6 Rendiconto Finanz'!AF17","v":0},{"$f":"'6 Rendiconto Finanz'!AG17","v":0},{"$f":"'6 Rendiconto Finanz'!AH17","v":0},{"$f":"'6 Rendiconto Finanz'!AI17","v":0},{"$f":"'6 Rendiconto Finanz'!AJ17","v":0},{"$f":"'6 Rendiconto Finanz'!AK17","v":0},{"$f":"'6 Rendiconto Finanz'!AL17","v":0},{"$f":"'6 Rendiconto Finanz'!AM17","v":0},{"$f":"'6 Rendiconto Finanz'!AN17","v":0},{"$f":"'6 Rendiconto Finanz'!AO17","v":0},{"$f":"'6 Rendiconto Finanz'!AP17","v":0},{"$f":"'6 Rendiconto Finanz'!AQ17","v":0},{"$f":"'6 Rendiconto Finanz'!AR17","v":0},{"$f":"'6 Rendiconto Finanz'!AS17","v":0},{"$f":"'6 Rendiconto Finanz'!AT17","v":0},{"$f":"'6 Rendiconto Finanz'!AU17","v":0},{"$f":"'6 Rendiconto Finanz'!AV17","v":0},{"$f":"'6 Rendiconto Finanz'!AW17","v":0},{"$f":"'6 Rendiconto Finanz'!AX17","v":0},{"$f":"'6 Rendiconto Finanz'!AY17","v":0},{"$f":"'6 Rendiconto Finanz'!AZ17","v":0},{"$f":"'6 Rendiconto Finanz'!BA17","v":0},{"$f":"'6 Rendiconto Finanz'!BB17","v":0},{"$f":"'6 Rendiconto Finanz'!BC17","v":0},{"$f":"'6 Rendiconto Finanz'!BD17","v":0},{"$f":"'6 Rendiconto Finanz'!BE17","v":0},{"$f":"'6 Rendiconto Finanz'!BF17","v":0},{"$f":"'6 Rendiconto Finanz'!BG17","v":0},{"$f":"'6 Rendiconto Finanz'!BH17","v":0},{"$f":"'6 Rendiconto Finanz'!BI17","v":0},{"$f":"'6 Rendiconto Finanz'!BJ17","v":0},{"$f":"'6 Rendiconto Finanz'!BK17","v":0},{"$f":"'6 Rendiconto Finanz'!BL17","v":0}]
[null,null,null,"Imposte Anticipate su Accantonamenti Fondi O&MRA",{"$f":"'6 Rendiconto Finanz'!E7","v":0},{"$f":"'6 Rendiconto Finanz'!F7","v":0},{"$f":"'6 Rendiconto Finanz'!G7","v":0},{"$f":"'6 Rendiconto Finanz'!H7","v":0},{"$f":"'6 Rendiconto Finanz'!I7","v":0},{"$f":"'6 Rendiconto Finanz'!J7","v":0},{"$f":"'6 Rendiconto Finanz'!K7","v":0},{"$f":"'6 Rendiconto Finanz'!L7","v":0},{"$f":"'6 Rendiconto Finanz'!M7","v":0},{"$f":"'6 Rendiconto Finanz'!N7","v":0},{"$f":"'6 Rendiconto Finanz'!O7","v":0},{"$f":"'6 Rendiconto Finanz'!P7","v":0},{"$f":"'6 Rendiconto Finanz'!Q7","v":0},{"$f":"'6 Rendiconto Finanz'!R7","v":0},{"$f":"'6 Rendiconto Finanz'!S7","v":0},{"$f":"'6 Rendiconto Finanz'!T7","v":0},{"$f":"'6 Rendiconto Finanz'!U7","v":0},{"$f":"'6 Rendiconto Finanz'!V7","v":0},{"$f":"'6 Rendiconto Finanz'!W7","v":0},{"$f":"'6 Rendiconto Finanz'!X7","v":0},{"$f":"'6 Rendiconto Finanz'!Y7","v":0},{"$f":"'6 Rendiconto Finanz'!Z7","v":0},{"$f":"'6 Rendiconto Finanz'!AA7","v":0},{"$f":"'6 Rendiconto Finanz'!AB7","v":0},{"$f":"'6 Rendiconto Finanz'!AC7","v":0},{"$f":"'6 Rendiconto Finanz'!AD7","v":0},{"$f":"'6 Rendiconto Finanz'!AE7","v":0},{"$f":"'6 Rendiconto Finanz'!AF7","v":0},{"$f":"'6 Rendiconto Finanz'!AG7","v":0},{"$f":"'6 Rendiconto Finanz'!AH7","v":0},{"$f":"'6 Rendiconto Finanz'!AI7","v":0},{"$f":"'6 Rendiconto Finanz'!AJ7","v":0},{"$f":"'6 Rendiconto Finanz'!AK7","v":0},{"$f":"'6 Rendiconto Finanz'!AL7","v":0},{"$f":"'6 Rendiconto Finanz'!AM7","v":0},{"$f":"'6 Rendiconto Finanz'!AN7","v":0},{"$f":"'6 Rendiconto Finanz'!AO7","v":0},{"$f":"'6 Rendiconto Finanz'!AP7","v":0},{"$f":"'6 Rendiconto Finanz'!AQ7","v":0},{"$f":"'6 Rendiconto Finanz'!AR7","v":0},{"$f":"'6 Rendiconto Finanz'!AS7","v":0},{"$f":"'6 Rendiconto Finanz'!AT7","v":0},{"$f":"'6 Rendiconto Finanz'!AU7","v":0},{"$f":"'6 Rendiconto Finanz'!AV7","v":0},{"$f":"'6 Rendiconto Finanz'!AW7","v":0},{"$f":"'6 Rendiconto Finanz'!AX7","v":0},{"$f":"'6 Rendiconto Finanz'!AY7","v":0},{"$f":"'6 Rendiconto Finanz'!AZ7","v":0},{"$f":"'6 Rendiconto Finanz'!BA7","v":0},{"$f":"'6 Rendiconto Finanz'!BB7","v":0},{"$f":"'6 Rendiconto Finanz'!BC7","v":0},{"$f":"'6 Rendiconto Finanz'!BD7","v":0},{"$f":"'6 Rendiconto Finanz'!BE7","v":0},{"$f":"'6 Rendiconto Finanz'!BF7","v":0},{"$f":"'6 Rendiconto Finanz'!BG7","v":0},{"$f":"'6 Rendiconto Finanz'!BH7","v":0},{"$f":"'6 Rendiconto Finanz'!BI7","v":0},{"$f":"'6 Rendiconto Finanz'!BJ7","v":0},{"$f":"'6 Rendiconto Finanz'!BK7","v":0},{"$f":"'6 Rendiconto Finanz'!BL7","v":0}]
[null,null,null,"( - ) Costo del Personale  ",{"$f":"'6 Rendiconto Finanz'!E11","v":-151645.389},{"$f":"'6 Rendiconto Finanz'!F11","v":-154678.29678},{"$f":"'6 Rendiconto Finanz'!G11","v":-157771.8627156},{"$f":"'6 Rendiconto Finanz'!H11","v":-160927.29996991198},{"$f":"'6 Rendiconto Finanz'!I11","v":-164145.84596931023},{"$f":"'6 Rendiconto Finanz'!J11","v":-167428.76288869645},{"$f":"'6 Rendiconto Finanz'!K11","v":-170777.33814647037},{"$f":"'6 Rendiconto Finanz'!L11","v":-174192.88490939979},{"$f":"'6 Rendiconto Finanz'!M11","v":-177676.7426075878},{"$f":"'6 Rendiconto Finanz'!N11","v":-181230.27745973956},{"$f":"'6 Rendiconto Finanz'!O11","v":0},{"$f":"'6 Rendiconto Finanz'!P11","v":0},{"$f":"'6 Rendiconto Finanz'!Q11","v":0},{"$f":"'6 Rendiconto Finanz'!R11","v":0},{"$f":"'6 Rendiconto Finanz'!S11","v":0},{"$f":"'6 Rendiconto Finanz'!T11","v":0},{"$f":"'6 Rendiconto Finanz'!U11","v":0},{"$f":"'6 Rendiconto Finanz'!V11","v":0},{"$f":"'6 Rendiconto Finanz'!W11","v":0},{"$f":"'6 Rendiconto Finanz'!X11","v":0},{"$f":"'6 Rendiconto Finanz'!Y11","v":0},{"$f":"'6 Rendiconto Finanz'!Z11","v":0},{"$f":"'6 Rendiconto Finanz'!AA11","v":0},{"$f":"'6 Rendiconto Finanz'!AB11","v":0},{"$f":"'6 Rendiconto Finanz'!AC11","v":0},{"$f":"'6 Rendiconto Finanz'!AD11","v":0},{"$f":"'6 Rendiconto Finanz'!AE11","v":0},{"$f":"'6 Rendiconto Finanz'!AF11","v":0},{"$f":"'6 Rendiconto Finanz'!AG11","v":0},{"$f":"'6 Rendiconto Finanz'!AH11","v":0},{"$f":"'6 Rendiconto Finanz'!AI11","v":0},{"$f":"'6 Rendiconto Finanz'!AJ11","v":0},{"$f":"'6 Rendiconto Finanz'!AK11","v":0},{"$f":"'6 Rendiconto Finanz'!AL11","v":0},{"$f":"'6 Rendiconto Finanz'!AM11","v":0},{"$f":"'6 Rendiconto Finanz'!AN11","v":0},{"$f":"'6 Rendiconto Finanz'!AO11","v":0},{"$f":"'6 Rendiconto Finanz'!AP11","v":0},{"$f":"'6 Rendiconto Finanz'!AQ11","v":0},{"$f":"'6 Rendiconto Finanz'!AR11","v":0},{"$f":"'6 Rendiconto Finanz'!AS11","v":0},{"$f":"'6 Rendiconto Finanz'!AT11","v":0},{"$f":"'6 Rendiconto Finanz'!AU11","v":0},{"$f":"'6 Rendiconto Finanz'!AV11","v":0},{"$f":"'6 Rendiconto Finanz'!AW11","v":0},{"$f":"'6 Rendiconto Finanz'!AX11","v":0},{"$f":"'6 Rendiconto Finanz'!AY11","v":0},{"$f":"'6 Rendiconto Finanz'!AZ11","v":0},{"$f":"'6 Rendiconto Finanz'!BA11","v":0},{"$f":"'6 Rendiconto Finanz'!BB11","v":0},{"$f":"'6 Rendiconto Finanz'!BC11","v":0},{"$f":"'6 Rendiconto Finanz'!BD11","v":0},{"$f":"'6 Rendiconto Finanz'!BE11","v":0},{"$f":"'6 Rendiconto Finanz'!BF11","v":0},{"$f":"'6 Rendiconto Finanz'!BG11","v":0},{"$f":"'6 Rendiconto Finanz'!BH11","v":0},{"$f":"'6 Rendiconto Finanz'!BI11","v":0},{"$f":"'6 Rendiconto Finanz'!BJ11","v":0},{"$f":"'6 Rendiconto Finanz'!BK11","v":0},{"$f":"'6 Rendiconto Finanz'!BL11","v":0}]
[null,null,null,"(-) Oneri Finanziari Finaziamenti a Breve e Medio/Lungo Termine",{"$f":"'6 Rendiconto Finanz'!E55","v":-6E-10},{"$f":"'6 Rendiconto Finanz'!F55","v":-1.1000000000000001E-9},{"$f":"'6 Rendiconto Finanz'!G55","v":-5.0000000000000003E-10},{"$f":"'6 Rendiconto Finanz'!H55","v":0},{"$f":"'6 Rendiconto Finanz'!I55","v":0},{"$f":"'6 Rendiconto Finanz'!J55","v":0},{"$f":"'6 Rendiconto Finanz'!K55","v":0},{"$f":"'6 Rendiconto Finanz'!L55","v":0},{"$f":"'6 Rendiconto Finanz'!M55","v":0},{"$f":"'6 Rendiconto Finanz'!N55","v":0},{"$f":"'6 Rendiconto Finanz'!O55","v":0},{"$f":"'6 Rendiconto Finanz'!P55","v":0},{"$f":"'6 Rendiconto Finanz'!Q55","v":0},{"$f":"'6 Rendiconto Finanz'!R55","v":0},{"$f":"'6 Rendiconto Finanz'!S55","v":0},{"$f":"'6 Rendiconto Finanz'!T55","v":0},{"$f":"'6 Rendiconto Finanz'!U55","v":0},{"$f":"'6 Rendiconto Finanz'!V55","v":0},{"$f":"'6 Rendiconto Finanz'!W55","v":0},{"$f":"'6 Rendiconto Finanz'!X55","v":0},{"$f":"'6 Rendiconto Finanz'!Y55","v":0},{"$f":"'6 Rendiconto Finanz'!Z55","v":0},{"$f":"'6 Rendiconto Finanz'!AA55","v":0},{"$f":"'6 Rendiconto Finanz'!AB55","v":0},{"$f":"'6 Rendiconto Finanz'!AC55","v":0},{"$f":"'6 Rendiconto Finanz'!AD55","v":0},{"$f":"'6 Rendiconto Finanz'!AE55","v":0},{"$f":"'6 Rendiconto Finanz'!AF55","v":0},{"$f":"'6 Rendiconto Finanz'!AG55","v":0},{"$f":"'6 Rendiconto Finanz'!AH55","v":0},{"$f":"'6 Rendiconto Finanz'!AI55","v":0},{"$f":"'6 Rendiconto Finanz'!AJ55","v":0},{"$f":"'6 Rendiconto Finanz'!AK55","v":0},{"$f":"'6 Rendiconto Finanz'!AL55","v":0},{"$f":"'6 Rendiconto Finanz'!AM55","v":0},{"$f":"'6 Rendiconto Finanz'!AN55","v":0},{"$f":"'6 Rendiconto Finanz'!AO55","v":0},{"$f":"'6 Rendiconto Finanz'!AP55","v":0},{"$f":"'6 Rendiconto Finanz'!AQ55","v":0},{"$f":"'6 Rendiconto Finanz'!AR55","v":0},{"$f":"'6 Rendiconto Finanz'!AS55","v":0},{"$f":"'6 Rendiconto Finanz'!AT55","v":0},{"$f":"'6 Rendiconto Finanz'!AU55","v":0},{"$f":"'6 Rendiconto Finanz'!AV55","v":0},{"$f":"'6 Rendiconto Finanz'!AW55","v":0},{"$f":"'6 Rendiconto Finanz'!AX55","v":0},{"$f":"'6 Rendiconto Finanz'!AY55","v":0},{"$f":"'6 Rendiconto Finanz'!AZ55","v":0},{"$f":"'6 Rendiconto Finanz'!BA55","v":0},{"$f":"'6 Rendiconto Finanz'!BB55","v":0},{"$f":"'6 Rendiconto Finanz'!BC55","v":0},{"$f":"'6 Rendiconto Finanz'!BD55","v":0},{"$f":"'6 Rendiconto Finanz'!BE55","v":0},{"$f":"'6 Rendiconto Finanz'!BF55","v":0},{"$f":"'6 Rendiconto Finanz'!BG55","v":0},{"$f":"'6 Rendiconto Finanz'!BH55","v":0},{"$f":"'6 Rendiconto Finanz'!BI55","v":0},{"$f":"'6 Rendiconto Finanz'!BJ55","v":0},{"$f":"'6 Rendiconto Finanz'!BK55","v":0},{"$f":"'6 Rendiconto Finanz'!BL55","v":0}]
[null,null,null,"( - ) Oneri Finanziari su Canoni Leasing ",0,0,0,0,0,0,0,0,0,0,0,0,0,0,0,0,0,0,0,0,0,0,0,0,0,0,0,0,0,0,0,0,0,0,0,0,0,0,0,0,0,0,0,0,0,0,0,0,0,0,0,0,0,0,0,0,0,0,0,0]
[null,null,null,"Aliquota IRES",{"$f":"'5 Foglio di elaborazione'!D37/100","v":0.24},{"$f":"E10","v":0.24},0.24,0.24,0.24,0.24,0.24,0.24,0.24,0.24,0.24,0.24,0.24,0.24,0.24,0.24,0.24,0.24,0.24,0.24,0.24,0.24,0.24,0.24,0.24,0.24,0.24,0.24,0.24,0.24,0.24,0.24,0.24,0.24,0.24,0.24,0.24,0.24,0.24,0.24,0.24,0.24,0.24,0.24,0.24,0.24,0.24,0.24,0.24,0.24,0.24,0.24,0.24,0.24,0.24,0.24,0.24,0.24,0.24,0.24]
[null,null,null,"Aliquota IRAP",{"$f":"'5 Foglio di elaborazione'!D45/100","v":5.1200000000000002E-2},{"$f":"E11","v":5.1200000000000002E-2},5.1200000000000002E-2,5.1200000000000002E-2,5.1200000000000002E-2,5.1200000000000002E-2,5.1200000000000002E-2,5.1200000000000002E-2,5.1200000000000002E-2,5.1200000000000002E-2,5.1200000000000002E-2,5.1200000000000002E-2,5.1200000000000002E-2,5.1200000000000002E-2,5.1200000000000002E-2,5.1200000000000002E-2,5.1200000000000002E-2,5.1200000000000002E-2,5.1200000000000002E-2,5.1200000000000002E-2,5.1200000000000002E-2,5.1200000000000002E-2,5.1200000000000002E-2,5.1200000000000002E-2,5.1200000000000002E-2,5.1200000000000002E-2,5.1200000000000002E-2,5.1200000000000002E-2,5.1200000000000002E-2,5.1200000000000002E-2,5.1200000000000002E-2,5.1200000000000002E-2,5.1200000000000002E-2,5.1200000000000002E-2,5.1200000000000002E-2,5.1200000000000002E-2,5.1200000000000002E-2,5.1200000000000002E-2,5.1200000000000002E-2,5.1200000000000002E-2,5.1200000000000002E-2,5.1200000000000002E-2,5.1200000000000002E-2,5.1200000000000002E-2,5.1200000000000002E-2,5.1200000000000002E-2,5.1200000000000002E-2,5.1200000000000002E-2,5.1200000000000002E-2,5.1200000000000002E-2,5.1200000000000002E-2,5.1200000000000002E-2,5.1200000000000002E-2,5.1200000000000002E-2,5.1200000000000002E-2,5.1200000000000002E-2,5.1200000000000002E-2,5.1200000000000002E-2,5.1200000000000002E-2,5.1200000000000002E-2]
[null,null,null,"% Costo Personale Gravata da IRAP",{"$f":"'6 Rendiconto Finanz'!BQ40","v":0},{"$f":"E12","v":0},0,0,0,0,0,0,0,0,0,0,0,0,0,0,0,0,0,0,0,0,0,0,0,0,0,0,0,0,0,0,0,0,0,0,0,0,0,0,0,0,0,0,0,0,0,0,0,0,0,0,0,0,0,0,0,0,0,0]
[null,null,null,"IRES - Controvalore",{"$f":"IF((E3+E4+E5-E6)<0,0,-(E3+E4+E5-E6)*E10)","v":0},0,-6567.19548671955,-11295.070072934433,-11520.971474393105,-11751.390903880965,-11986.418721958598,-12226.147096397774,-12470.670038325732,-12720.083439092235,-2.3999999999999998E-11,0,0,0,0,0,0,0,0,0,0,0,0,0,0,0,0,0,0,0,0,0,0,0,0,0,0,0,0,0,0,0,0,0,0,0,0,0,0,0,0,0,0,0,0,0,0,0,0,0]
[null,null,null,"IRAP - Controvalore",{"$f":"IF((E3+E5-E6-E8-E9-E7*E12)<0,0,-(E3+E5-E6-E8-E9-E7*E12)*E11)","v":0},-241.65715968000509,-2362.3675969536048,-2409.614948892679,-2457.8072478705294,-2506.9633928279395,-2557.1026606845012,-2608.2447138981915,-2660.4096081761563,-2713.6178003396772,-5.12E-12,0,0,0,0,0,0,0,0,0,0,0,0,0,0,0,0,0,0,0,0,0,0,0,0,0,0,0,0,0,0,0,0,0,0,0,0,0,0,0,0,0,0,0,0,0,0,0,0,0]
[null,null,null,"Totale Imposte Dirette ",{"$f":"SUM(E13:E14)","v":0},-241.65715968000509,-8929.5630836731543,-13704.685021827112,-13978.778722263634,-14258.354296708905,-14543.521382643099,-14834.391810295965,-15131.079646501888,-15433.701239431914,-2.9119999999999999E-11,0,0,0,0,0,0,0,0,0,0,0,0,0,0,0,0,0,0,0,0,0,0,0,0,0,0,0,0,0,0,0,0,0,0,0,0,0,0,0,0,0,0,0,0,0,0,0,0,0,null," "]
[null,null,null,null,null,null,null,null,null,null,null,null,null,null,null,null,null,null,null,null,null,null,null,null,null,null,null,null,null,null,null,null,null,null,null,null,null,null,null,null,null,null,null,null,null,null,null,null,null,null,null,null,null,null,null,null,null,null,null,null,null,null,null,null,null," "]
[null,null,null," ",null,null,null,null,null,null,null," ",null,null,null,null,null,null,null,null,null," ",null,null,null,null,null,null,null,null,null," ",null,null,null,null,null,null,null,null,null," ",null," ",null,null,null,null,null,null,null," ",null,null,null,null,null,null,null,null,null," "]

{"sheet":"10 Schema Sintesi","index":14,"n_rows":144,"n_cols":90,"rows_kept":144,"cut":false,"hidden":true,"merged":[[64,67,64,68],[64,69,64,70],[38,2,38,4],[39,2,39,4],[40,2,40,4],[41,2,41,4],[42,2,42,4],[43,2,43,4],[44,2,44,4],[45,2,45,4],[46,2,46,4],[47,2,47,4],[60,2,60,3],[62,2,62,3],[37,6,40,6],[37,2,37,4],[35,7,36,7],[36,2,36,4],[11,3,11,4],[12,3,12,4],[6,2,6,6],[8,2,8,6],[9,2,9,6],[10,2,10,3],[35,5,35,6],[35,2,35,4]]}
[]
[]
[]
[]
[null,10,"Schema di Sintesi"]
[]
[null,null,"Schema di sintesi - Riepilogo ipotesi di progetto"]
[]
[null,null,{"$f":"'2 Descrizione Progetto'!C3","v":"Comune di Guardiagrele"}]
[null,null,{"$f":"'2 Descrizione Progetto'!C4","v":"Concessione per l'affidamento dei lavori di efficientamento energetico della piscina comunale e del successivo servizio di gestione dell'impianto natatorio "}]
[null,null,"Anni di durata della gestione",null,{"$f":"'2 Descrizione Progetto'!D21","v":10}]
[null,null,"Costo totale investimento - valore attuale",{"$f":"'2 Investimento'!E27","v":1E-10}]
[null,null,"Investimento medio annuo - valore attuale",{"$f":"D12/'2 Descrizione Progetto'!D18","v":1E-10}]
[null,null,null,null,null,null,"                            Su totale delle Fonti"]
[null,31,"Impieghi","€","%","Fonti","€","%"]
[null,null,{"$f":"'2 Investimento'!C7","v":"Opere civili"},{"$f":"'2 Investimento'!E7","v":1E-10},{"$f":"D16/'10 Schema Sintesi'!$D$25","v":1},{"$f":"'2 Investimento'!D55","v":"Capitale Sociale"},{"$f":"'2 Investimento'!E55","v":10000},{"$f":"G16/'10 Schema Sintesi'!$G$25","v":1}]
[null,null,{"$f":"'2 Investimento'!C8","v":"Impianti e Macchinari"},{"$f":"'2 Investimento'!E8","v":0},{"$f":"D17/'10 Schema Sintesi'!$D$25","v":0},"Contributi pubblici in c/c",{"$f":"'2 Investimento'!E59","v":0},{"$f":"G17/'10 Schema Sintesi'!$G$25","v":0},null,"←"]
[null,null,{"$f":"'2 Investimento'!C9","v":"Espropri (<10% spese ammissibili)"},{"$f":"'2 Investimento'!E9","v":0},{"$f":"D18/'10 Schema Sintesi'!$D$25","v":0},"Finanziamento Bancario",{"$f":"SUM(G20:G21)","v":0},{"$f":"G18/'10 Schema Sintesi'!$G$25","v":0},null,"Se analisi di sensitività su costo investimenti sostituire la"]
[null,null,{"$f":"'2 Investimento'!C10","v":"Manodopera"},{"$f":"'2 Investimento'!E10","v":0},{"$f":"D19/'10 Schema Sintesi'!$D$25","v":0},"di cui",null,null,null,"presente scheda 31 (nascondendo quest'ultima) con la scheda"]
[null,null,{"$f":"'2 Investimento'!C11","v":"Progettazione consulenze e spese tecniche"},{"$f":"'2 Investimento'!E11","v":0},{"$f":"D20/'10 Schema Sintesi'!$D$25","v":0},"I Banca (mlt)",{"$f":"'2 Investimento'!E60","v":0},{"$f":"G20/'10 Schema Sintesi'!$G$18","v":{"$error":"#DIV/0!"}},null,"evidenziata nei righi da 33 a 41"]
[null,null,{"$f":"'2 Investimento'!C12","v":"Altro (spese generali + imprevisti)"},{"$f":"'2 Investimento'!E12","v":0},{"$f":"D21/'10 Schema Sintesi'!$D$25","v":0},"Altre Banche (mlt)",{"$f":"'2 Investimento'!E61","v":0},{"$f":"G21/'10 Schema Sintesi'!$G$18","v":{"$error":"#DIV/0!"}}]
[null,null,{"$f":"'5 Foglio di elaborazione'!C22","v":"Altri costi in % su investimento iniziale"},{"$f":"'2 Investimento'!E24","v":0},{"$f":"D22/'10 Schema Sintesi'!$D$25","v":0}]
[null,null,{"$f":"'2 Investimento'!C25","v":"Investimento non ammissibile al contributo pubblico"},{"$f":"'2 Investimento'!E25","v":0},{"$f":"D23/'10 Schema Sintesi'!$D$25","v":0}]
[null,null,"Manutenzioni straordinarie negli anni di esercizio (da capitalizzare) ",{"$f":"'2 Investimento'!E26","v":0},{"$f":"D24/'10 Schema Sintesi'!$D$25","v":0}]
[null,null,"Costo totale investimento (valore attuale)",{"$f":"SUM('10 Schema Sintesi'!D16:D24)","v":1E-10},{"$f":"SUM('10 Schema Sintesi'!E16:E24)","v":1},"Totale finanziamenti",{"$f":"SUM('10 Schema Sintesi'!G16:G18)","v":10000},{"$f":"SUM('10 Schema Sintesi'!H16:H18)","v":1}]
[null,null,{"$f":"C16","v":"Opere civili"},{"$f":"'5 Foglio di elaborazione'!D16","v":1E-10},{"$f":"D26/$D$34","v":1},{"$f":"F16","v":"Capitale Sociale"},{"$f":"'5 Foglio di elaborazione'!D28","v":10000},0]
[null,null,"Impianti e Macchinari",{"$f":"'5 Foglio di elaborazione'!D17","v":0},0,"Contributi pubblici in c/c",{"$f":"'5 Foglio di elaborazione'!D29","v":0},0,null," "]
[null,null,"Espropri (<10% spese ammissibili)",{"$f":"'5 Foglio di elaborazione'!D18","v":0},0,"Finanziamento Bancario",{"$f":"SUM(G30:G31)","v":0},0,null," "]
[null,null,"Manodopera",{"$f":"'5 Foglio di elaborazione'!D19","v":0},0,"di cui",null,null,null," "]
[null,null,"Progettazione consulenze e spese tecniche",{"$f":"'5 Foglio di elaborazione'!D20","v":0},0,"I Banca (mlt)",{"$f":"'5 Foglio di elaborazione'!D30","v":0},{"$f":"G30/G28","v":{"$error":"#DIV/0!"}},null," "]
[null,null,"Altro (spese generali + imprevisti)",{"$f":"'5 Foglio di elaborazione'!D21","v":0},0,"Altre Banche (mlt)",{"$f":"'5 Foglio di elaborazione'!D31","v":0},{"$f":"G31/G28","v":{"$error":"#DIV/0!"}}]
[null,null,{"$f":"C23","v":"Investimento non ammissibile al contributo pubblico"},{"$f":"'5 Foglio di elaborazione'!D23","v":0},0]
[null,null,"Manutenzioni straordinarie negli anni di esercizio (da capitalizzare) ",{"$f":"'5 Foglio di elaborazione'!D24","v":0},0]
[null,null,"Costo totale investimento (rivalutato)",{"$f":"SUM(D26:D33)","v":1E-10},{"$f":"SUM('10 Schema Sintesi'!E26:E33)","v":1},"Totale finanziamenti",{"$f":"SUM('10 Schema Sintesi'!G26:G28)","v":10000},{"$f":"SUM('10 Schema Sintesi'!H26:H28)","v":0}]
[]
[null,32,"Ipotesi Domanda",null,null,"Media degli anni di gestione ",null,{"$f":"'4 Sviluppo Domanda e Gestione'!D274","v":"Canone di concessione"}]
[null,null,"Servizi erogati (per una migliore lettura di costi e ricavi vedi schede nn. 3 e 4)",null,null,"Ricavi per servizi","Costi globali",null,null," "]
[null,null,{"$f":"IF('4 Sviluppo Domanda e Gestione'!C9<>0,'4 Sviluppo Domanda e Gestione'!C9&\" (\"&'4 Sviluppo Domanda e Gestione'!F9&\")\",\"\")","v":"Ricavi Istituzionali (*)"},null,null,{"$f":"IF(C38=\"\",\"\",AVERAGEIF('4 Sviluppo Domanda e Gestione'!E154:BL154,\">=0\"))*(1+E201)","v":331105.52637201344},{"$f":"SUM('4 Sviluppo Domanda e Gestione'!BN293)","v":415625.47862985532},{"$f":"IF(C38=\"\",\"\",'4 Sviluppo Domanda e Gestione'!D275)*(1+E203)","v":0}]
[null,null,{"$f":"IF('4 Sviluppo Domanda e Gestione'!C10<>0,'4 Sviluppo Domanda e Gestione'!C10&\" (\"&'4 Sviluppo Domanda e Gestione'!F10&\")\",\"\")","v":"Ricavi Commerciali (*)"},null,null,{"$f":"IF(C39=\"\",\"\",AVERAGEIF('4 Sviluppo Domanda e Gestione'!E155:BL155,\">=0\"))*(1+E201)","v":80928.177019578987},null,{"$f":"IF(C39=\"\",\"\",'4 Sviluppo Domanda e Gestione'!D276)*(1+E203)","v":0}]
[null,null,{"$f":"IF('4 Sviluppo Domanda e Gestione'!C11<>0,'4 Sviluppo Domanda e Gestione'!C11&\" (\"&'4 Sviluppo Domanda e Gestione'!F11&\")\",\"\")","v":"Ricavi Bar (*)"},null,null,{"$f":"IF(C40=\"\",\"\",AVERAGEIF('4 Sviluppo Domanda e Gestione'!E156:BL156,\">=0\"))*(1+E202)","v":38241.076069037939},null,{"$f":"IF(C40=\"\",\"\",'4 Sviluppo Domanda e Gestione'!D277)*(1+E203)","v":0}]
[null,null,{"$f":"IF('4 Sviluppo Domanda e Gestione'!C12<>0,'4 Sviluppo Domanda e Gestione'!C12&\" (\"&'4 Sviluppo Domanda e Gestione'!F12&\")\",\"\")","v":"Proventi diversi/pubblicità (*)"},null,null,{"$f":"IF(C41=\"\",\"\",AVERAGEIF('4 Sviluppo Domanda e Gestione'!E157:BL157,\">=0\"))*(1+E201)","v":2487.430249934464},null,{"$f":"IF(C41=\"\",\"\",'4 Sviluppo Domanda e Gestione'!D278)*(1+E203)","v":0}]
[null,null,{"$f":"IF('4 Sviluppo Domanda e Gestione'!C13<>0,'4 Sviluppo Domanda e Gestione'!C13&\" (\"&'4 Sviluppo Domanda e Gestione'!F13&\")\",\"\")","v":"b (*)"},null,null,{"$f":"IF(C42=\"\",\"\",AVERAGEIF('4 Sviluppo Domanda e Gestione'!E158:BL158,\">=0\"))*(1+E201)","v":0},null,{"$f":"IF(C42=\"\",\"\",'4 Sviluppo Domanda e Gestione'!D279)*(1+E203)","v":0}]
[null,null,{"$f":"IF('4 Sviluppo Domanda e Gestione'!C14<>0,'4 Sviluppo Domanda e Gestione'!C14&\" (\"&'4 Sviluppo Domanda e Gestione'!F14&\")\",\"\")","v":"c (*)"},null,null,{"$f":"IF(C43=\"\",\"\",AVERAGEIF('4 Sviluppo Domanda e Gestione'!E159:BL159,\">=0\"))*(1+E201)","v":0},null,{"$f":"IF(C43=\"\",\"\",'4 Sviluppo Domanda e Gestione'!D280)*(1+E203)","v":0}]
[null,null,{"$f":"IF('4 Sviluppo Domanda e Gestione'!C15<>0,'4 Sviluppo Domanda e Gestione'!C15&\" (\"&'4 Sviluppo Domanda e Gestione'!F15&\")\",\"\")","v":"d (*)"},null,null,{"$f":"IF(C44=\"\",\"\",AVERAGEIF('4 Sviluppo Domanda e Gestione'!E160:BL160,\">=0\"))*(1+E201)","v":0},null,{"$f":"IF(C44=\"\",\"\",'4 Sviluppo Domanda e Gestione'!D281)*(1+E203)","v":0}]
[null,null,{"$f":"IF('4 Sviluppo Domanda e Gestione'!C16<>0,'4 Sviluppo Domanda e Gestione'!C16&\" (\"&'4 Sviluppo Domanda e Gestione'!F16&\")\",\"\")","v":"e (*)"},null,null,{"$f":"IF(C45=\"\",\"\",AVERAGEIF('4 Sviluppo Domanda e Gestione'!E161:BL161,\">=0\"))*(1+E201)","v":0},null,{"$f":"IF(C45=\"\",\"\",'4 Sviluppo Domanda e Gestione'!D282)*(1+E203)","v":0}]
[null,null,{"$f":"IF('4 Sviluppo Domanda e Gestione'!C17<>0,'4 Sviluppo Domanda e Gestione'!C17&\" (\"&'4 Sviluppo Domanda e Gestione'!F17&\")\",\"\")","v":"f (*)"},null,null,{"$f":"IF(C46=\"\",\"\",AVERAGEIF('4 Sviluppo Domanda e Gestione'!E162:BL162,\">=0\"))*(1+E201)","v":0},null,{"$f":"IF(C46=\"\",\"\",'4 Sviluppo Domanda e Gestione'!D283)*(1+E203)","v":0}]
[null,null,{"$f":"IF('4 Sviluppo Domanda e Gestione'!C18<>0,'4 Sviluppo Domanda e Gestione'!C18&\" (\"&'4 Sviluppo Domanda e Gestione'!F18&\")\",\"\")","v":"g (*)"},null,null,{"$f":"IF(C47=\"\",\"\",AVERAGEIF('4 Sviluppo Domanda e Gestione'!E163:BL163,\">=0\"))*(1+E201)","v":0},null,{"$f":"IF(C47=\"\",\"\",'4 Sviluppo Domanda e Gestione'!D284)*(1+E203)","v":0}]
[null,null,"TOTALE",null,null,{"$f":"IF(C48=\"\",\"\",AVERAGEIF('4 Sviluppo Domanda e Gestione'!E164:BL164,\">0\"))*(1+E201)","v":452762.20971056476},{"$f":"SUM(G38:G47)","v":415625.47862985532},0]
[null,null,"* Sono esclusi i costi e ricavi non caratteristici della gestione",null,null,{"$f":"SUM('4 Sviluppo Domanda e Gestione'!#REF!)","v":{"$error":"#REF!"}}]
[]
[null,33,"Ipotesi finanziarie","Costo "]
[null,null,"% di interesse su liquidità",{"$f":"'2 Investimento'!E65","v":0}]
[null,null,"% di interesse su riserve Dsra",{"$f":"'2 Investimento'!E66","v":0}]
[null,null,"% di interesse su altre immobilizzazioni finanziarie",{"$f":"'2 Investimento'!E67","v":0}]
[null,null,"Tasso di sconto per calcolo del Van",{"$f":"'6 Rendiconto Finanz'!D41","v":5.8964000000000016E-2}," "]
[null,null,"Finanziamento I banca ",9.9999999999999998E-13]
[null,null,"Finanziamento altre banche",1E-13]
[null,null,"Finanziamento a bt vs Banche",{"$f":"'2 Investimento'!E75","v":1E-13}]
[null,null,"WACC (costo globale delle fonti)",{"$f":"'6 Rendiconto Finanz'!D40","v":3.8199999999999998E-2},"Fattore (tasso) di sconto per analisi operativa"]
[]
[null,34,"Schema di sintesi - Indicatori di fattibilità del progetto"]
[null,null,null,null,null," "]
[null,null,"  ANALISI OPERATIVA                                                                                                                                     (Valori calcolati sui Flussi di Cassa Operativi netti)"]
[null,"34a","Indicatori comuni all'analisi finanziaria ed economica","Incluse eventuali contribuzioni pubbliche"]
[null,null,"Indice di redditività operativa",{"$f":"'6 Rendiconto Finanz'!D46","v":1992175.7192093264},null,null,null,null,null,null,null,null,null,null,null,null,null,null,null,null,null,null,null,null,null,null,null,null,null,null,null,null,null,null,null,null,null,null,null,null,null,null,null,null,null,null,null,null,null,null,null,null,null,null,null,null,null,null,null,null,null,null,null,null,null,null,null,"      Analisi finanziaria per l'Investitore/organo di governo (Valori calcolati sui Flussi di Cassa Finanziari prima di eventuale distribuzione di utili/dividendi)",null,"Analisi per l'Azionista (Valori calcolati su utili/dividendi distribuiti + patrimonio netto ultimo anno) "]
[null,null,"Wacc (costo medio delle fonti)",{"$f":"'6 Rendiconto Finanz'!D41","v":5.8964000000000016E-2}]
[null,null,"TASSO DI SCONTO/ATTUALIZZAZIONE",{"$f":"'6 Rendiconto Finanz'!D41","v":5.8964000000000016E-2}]
[null,null,"Valore Aggiunto Netto - VAN di Progetto",{"$f":"'6 Rendiconto Finanz'!D42","v":178003.75038047857}]
[null,null,"Redditività del Capitale Netto - ROE ",{"$f":"'8 Indici'!BO3","v":0.81101593649846127}]
[null,null,"Redditività dell'Attivo Netto - ROA",{"$f":"'8 Indici'!BO4","v":0.36499986171624033}]
[null,null,"MOL (EBITDA) - Valore Medio Annuo",{"$f":"'6a Conto Economico'!D11/E11","v":37136.731080709447},null,null,null,null,null,null,null,null,null,null,null,null,null,null,null,null,null,null,null,null,null,null,null,null,null,null,null,null,null,null,null,null,null,null,null,null,null,null,null,null,null,null,null,null,null,null,null,null,null,null,null,null,null,null,null,null,null,null,null,null,null,null,null,"Incluse eventuali contribuzioni pubbliche","Senza contribuzioni pubbliche","Incluse eventuali contribuzioni pubbliche","Senza contribuzioni pubbliche","← solo se valorizzata distribuzione dei dividendi"]
[null,null,"WACC"," ",null,null,null,null,null,null,null,null,null,null,null,null,null,null,null,null,null,null,null,null,null,null,null,null,null,null,null,null,null,null,null,null,null,null,null,null,null,null,null,null,null,null,null,null,null,null,null,null,null,null,null,null,null,null,null,null,null,null,null,null,null,null,null,"n.d.","n.d.","n.d.","n.d."]
[null,null,"Reddito Operativo Aziendale - EBIT  - Valore Medio Annuo",{"$f":"'6a Conto Economico'!D18/E11","v":37136.731080709447},null,null,null,null,null,null,null,null,null,null,null,null,null,null,null,null,null,null,null,null,null,null,null,null,null,null,null,null,null,null,null,null,null,null,null,null,null,null,null,null,null,null,null,null,null,null,null,null,null,null,null,null,null,null,null,null,null,null,null,null,null,null,null,{"$f":"'6 Rendiconto Finanz'!D68","v":0},0,{"$f":"'6 Rendiconto Finanz'!D68","v":0},0]
[null,null,"ONERI FINANZIARI SU M.O.L. ","ND"]
[null,null,"Redditività delle Vendite - ROS",{"$f":"'2 Descrizione Progetto'!D51","v":7.6228549636867871E-2}]
[null,null,"UTILE NETTO - MEDIA ANNUA",{"$f":"'2 Descrizione Progetto'!D52","v":26031.157844406647}]
[null,null,"LEVERAGE - Valore Medio Annuo",{"$f":"'8 Indici'!BO5","v":0.88476819419920005},null,null,null,null,null,null,null,null,null,null,null,null,null,null,null,null,null,null,null,null,null,null,null,null,null,null,null,null,null,null,null,null,null,null,null,null,null,null,null,null,null,null,null,null,null,null,null,null,null,null,null,null,null,null,null,null,null,null,null,null,null,null,null,{"$f":"'6 Rendiconto Finanz'!D40","v":3.8199999999999998E-2},{"$f":"'6 Rendiconto Finanz'!#REF!","v":{"$error":"#REF!"}}," "," "]
[null,null,"Tempo di Ritorno (Payback Period in anni)",{"$f":"'6 Rendiconto Finanz'!D35","v":3},0,null,null,null,null,null,null,null,null,null,null,null,null,null,null,null,null,null,null,null,null,null,null,null,null,null,null,null,null,null,null,null,null,null,null,null,null,null,null,null,null,null,null,null,null,null,null,null,null,null,null,null,null,null,null,null,null,null,null,null,null,null,null,{"$f":"'6 Rendiconto Finanz'!D69","v":251613.01151779204},0,{"$f":"'6 Rendiconto Finanz'!D71","v":-10000.00000000103},0," "," "]
[null,null,"Evidenza annualità in cui si verifica il recupero dell'investimento e delle Fonti (DPBP - Discounted Payback Period)",{"$f":"'6 Rendiconto Finanz'!D38","v":3},0,null,null,null,null,null,null,null,null,null,null,null,null,null,null,null,null,null,null,null,null,null,null,null,null,null,null,null,null,null,null,null,null,null,null,null,null,null,null,null,null,null,null,null,null,null,null,null,null,null,null,null,null,null,null,null,null,null,null,null,null,null,null,null,null,null,null," "]
[null,null,null,null,null,null,null,null,null,null,null,null,null,null,null,null,null,null,null,null,null,null,null,null,null,null,null,null,null,null,null,null,null,null,null,null,null,null,null,null,null,null,null,null,null,null,null,null,null,null,null,null,null,null,null,null,null,null,null,null,null,null,null,null,null,null,null," "," "," "," "," "," "]
[null,"34b","Analisi finanziaria: Indici di bancabilità - NO FINANZIAMENTI","DSCR","LLCR"]
[null,null,"Anni di calcolo (rimborso debito)",{"$f":"'6 Rendiconto Finanz'!D81","v":1.0000000000000001E-9},{"$f":"'6 Rendiconto Finanz'!E81","v":1.0000000000000001E-9},null,null,null,null,null,null,null,null,null,null,null,null,null,null,null,null,null,null,null,null,null,null,null,null,null,null,null,null,null,null,null,null,null,null,null,null,null,null,null,null,null,null,null,null,null,null,null,null,null,null,null,null,null,null,null,null,null,null,null,null,null,null,null,null,null,null," "," "]
[null,null,"Valori minimi - DSCR/LLCR",{"$f":"'6 Rendiconto Finanz'!D82","v":"n.c."},{"$f":"'6 Rendiconto Finanz'!E82","v":"n.c."},null,null,null,null,null,null,null,null,null,null,null,null,null,null,null,null,null,null,null,null,null,null,null,null,null,null,null,null,null,null,null,null,null,null,null,null,null,null,null,null,null,null,null,null,null,null,null,null,null,null,null,null,null,null,null,null,null,null,null,null,null,null," "," "]
[null,null,"Periodi in cui si verificano i valori minimi",{"$f":"'6 Rendiconto Finanz'!D83","v":"n.c."},{"$f":"'6 Rendiconto Finanz'!E83","v":"n.c."},null,null,null,null,null,null,null,null,null,null,null,null,null,null,null,null,null,null,null,null,null,null,null,null,null,null,null,null,null,null,null,null,null,null,null,null,null,null,null,null,null,null,null,null,null,null,null,null,null,null,null,null,null,null,null,null,null,null,null,null,null,null," "," "]
[null,null,"Valori medi - Average DSCR/LLCR",{"$f":"'6 Rendiconto Finanz'!D84","v":{"$error":"#DIV/0!"}},{"$f":"'6 Rendiconto Finanz'!E84","v":{"$error":"#DIV/0!"}},null,null,null,null,null,null,null,null,null,null,null,null,null,null,null,null,null,null,null,null,null,null,null,null,null,null,null,null,null,null,null,null,null,null,null,null,null,null,null,null,null,null,null,null,null,null,null,null,null,null,null,null,null,null,null,null,null,null,null,null,null,null," "," "]
[null,null,null,null,null,null,null,null,null,null,null,null,null,null,null,null,null,null,null,null,null,null,null,null,null,null,null,null,null,null,null,null,null,null,null,null,null,null,null,null,null,null,null,null,null,null,null,null,null,null,null,null,null,null,null,null,null,null,null,null,null,null,null,null,null,null,null," "," "]
[null,null,null,null,null,null,null,null,null,null,null,null,null,null,null,null,null,null,null,null,null,null,null,null,null,null,null,null,null,null,null,null,null,null,null,null,null,null,null,null,null,null,null,null,null,null,null,null,null,null,null,null,null,null,null,null,null,null,null,null,null,null,null,null,null,null,null," "," "]
[]
[null,null,null,null,null,null,null,null,null,null,null,null,null,null,null,null,null,null,null,null,null,null,null,null,null,null,null,null,null,null,null,null,null,null,null,null,null,null,null,null,null,null,null,null,null,null,null,null,null,null,null,null,null,null,null,null,null,null,null,null,null,null,null,null,null,null,null,null,null,null,null,null,null,null,null,null,null,null,null,null,null,null,null,null,null,null,null,"Altri indicatori e dati di sintesi di natura finanziaria","Unità di misura","Valore"]
[]
[]
[]
[null,null,null,null,null,null,null,null,null,null," "]
[]
[]
[]
[]
[]
[]
[]
[]
[]
[]
[]
[]
[]
[]
[]
[null,null,null,"Senza contribuzioni pubbliche"]
[null,null,null,0]
[null,null,null,0]
[null,null,null,0]
[null,null,null,0]
[null,null,null,0]
[null,null,null,0]
[null,null,null,0]
[null,null,null,0]
[null,null,null,"ND"]
[null,null,null,0]
[null,null,null,0]
[null,null,null,0]
[]
[]
[]
[]
[]
[]
[]
[]
[]
[]
[]
[]
[]
[]
[]
[]
[]
[]
[]
[]
[]
[]
[null,null,null,null,null," "]

{"sheet":"Matrice allocazione rischi","index":15,"n_rows":23,"n_cols":11,"rows_kept":23,"cut":false,"hidden":true,"merged":[[0,1,0,7],[4,2,4,7]]}
[null,{"$f":"'2 Descrizione Progetto'!C3","v":"Comune di Guardiagrele"}]
[]
[null,{"$f":"'2 Descrizione Progetto'!C4","v":"Concessione per l'affidamento dei lavori di efficientamento energetico della piscina comunale e del successivo servizio di gestione dell'impianto natatorio "}]
[]
[null,12,"MATRICE DI ALLOCAZIONE DEI RISCHI"]
[]
[null,38,"Tipologie di rischi","Ente concedente (pubblico)","Concessionario: SPV/soggetto privato","Banca","Altri finanziatori","Costruttore"]
[null,1,"Rischi sito "]
[null,2,"Rischi procedurali/autorizzativi"]
[null,3,"Rischi di costruzione",null,"X"]
[null,4,"Rischio di tempi di realizzazione",null,"X"]
[null,5,"Rischi di manutenzione",null,"X"]
[null,6,"Rischi operativi ",null,"X",null,null,null,null,null," "]
[null,7,"Rischi di performance",null,"X"]
[null,8,"Rischi di governance"]
[null,9,"Rischio regolatorio"]
[null,10,"Rischi normativi"]
[null,11,"Rischi tecnologici"]
[null,12,"Rischi di forza maggiore"]
[null,13,"Rischio di fallimento del gestore"]
[null,14,"Altri rischi contrattuali"]
[]
[null,null," "]

{"sheet":"Matrice calcolo","index":16,"n_rows":38,"n_cols":9,"rows_kept":38,"cut":false,"hidden":true,"merged":[[2,0,2,3],[3,0,3,3]]}
["13 - CALCOLO MATRICE"]
[{"$f":"'Matrice allocazione rischi'!B1","v":"Comune di Guardiagrele"}]
[{"$f":"'Matrice allocazione rischi'!B3","v":"Concessione per l'affidamento dei lavori di efficientamento energetico della piscina comunale e del successivo servizio di gestione dell'impianto natatorio "}]
["CALCOLO MATRICE DI PERCENTUALE DI AUMENTO DEI RISCHI TRASFERIBILI AL SOGGETTO PRIVATO"]
["Costo per rischio di costruzione","Rischio %","Probabilità","Totali"]
["Nessun incremento (0)",0,0.28000000000000003,{"$f":"B6*C6","v":0}]
["Incremento lieve (<= 15%)",0.15,0.3,4.4999999999999998E-2]
["Incremento medio (> 15% <= 30%)",0.3,0.33,9.9000000000000005E-2]
["Incremento alto (> 30%)",0.55000000000000004,0.09,4.9500000000000002E-2]
["RISCHIO TOTALE",null,{"$f":"SUM(C6:C9)","v":1.0000000000000002},0.19350000000000001]
[]
["Costo per rischio  ritardo tempi costruzione","Rischio %","Probabilità","Totali"]
["Nessun incremento (0)",0,0.95,{"$f":"B13*C13","v":0}]
["Incremento lieve (<= 15%)",0.1,0.02,2E-3]
["Incremento medio (> 15% <= 30%)",0.2,0.03,6.0000000000000001E-3]
["Incremento alto (> 30%)",0.7,0,0]
["RISCHIO TOTALE",null,{"$f":"SUM(C13:C16)","v":1},8.0000000000000002E-3]
[null,null,null,null,null,null,null,null," "]
["Costo rischio di manutenzione","Rischio %","Probabilità","Totali"]
["Nessun incremento (0)",0,0.2,{"$f":"B20*C20","v":0}]
["Incremento lieve (<= 15%)",0.15,0.45,6.7500000000000004E-2]
["Incremento medio (> 15% <= 30%)",0.25,0.25,6.25E-2]
["Incremento alto (> 30%)",0.6,0.1,0.06]
["RISCHIO TOTALE",null,{"$f":"SUM(C20:C23)","v":1},0.19]
[]
["Incremento dei costi operativi","Rischio %","Probabilità","Totali"]
["Nessun incremento (0)",0,0.3,{"$f":"B27*C27","v":0}]
["Incremento lieve (<= 15%)",0.15,0.5,7.4999999999999997E-2]
["Incremento medio (> 15% <= 30%)",0.3,0.1,0.03]
["Incremento alto (> 30%)",0.55000000000000004,0.1,5.5000000000000007E-2]
["RISCHIO TOTALE",null,{"$f":"SUM(C27:C30)","v":1},0.16]
[]
["Costo x rischio di performance","Rischio %","Probabilità","Totali"]
["Nessun incremento (0)",0,1,{"$f":"B34*C34","v":0}]
["Incremento lieve (<= 15%)",0.15,0,0]
["Incremento medio (> 15% <= 30%)",0.3,0,0]
["Incremento alto (> 30%)",0.55000000000000004,0,0]
["RISCHIO TOTALE",null,{"$f":"SUM(C34:C37)","v":1},0]

{"sheet":"PSC Calcolo!","index":17,"n_rows":51,"n_cols":64,"rows_kept":51,"cut":false,"hidden":true,"merged":[[43,42,43,51],[43,52,43,61],[34,0,34,1],[35,0,35,1],[36,0,36,1],[37,0,37,1],[38,0,38,1],[39,0,39,1],[40,0,40,1],[41,0,41,1],[43,2,43,11],[43,12,43,21],[43,22,43,31],[43,32,43,41],[25,52,33,61],[33,0,33,1],[14,0,14,1],[15,0,15,1],[16,0,16,1],[17,0,17,1],[18,0,18,1],[19,0,19,1],[23,0,23,1],[25,2,33,11],[25,12,33,21],[25,22,33,31],[25,32,33,41],[25,42,33,51],[10,0,10,1],[11,0,11,1],[12,0,12,1],[13,0,13,1],[24,0,24,1],[5,0,5,1],[6,0,6,1],[7,0,7,1],[8,0,8,1],[9,0,9,1],[0,0,0,1],[0,2,0,11],[1,0,2,1],[3,0,3,1],[4,0,4,1]]}
["14 - CALCOLO DEL PUBLIC SECTOR COMPARATOR (PSC)",null,{"$f":"'Matrice allocazione rischi'!B3","v":"Concessione per l'affidamento dei lavori di efficientamento energetico della piscina comunale e del successivo servizio di gestione dell'impianto natatorio "},null,null,null,null,null,null,null,null,null,{"$f":"C1","v":"Concessione per l'affidamento dei lavori di efficientamento energetico della piscina comunale e del successivo servizio di gestione dell'impianto natatorio "},null,null,null,null,null,null,null,null,null,{"$f":"C1","v":"Concessione per l'affidamento dei lavori di efficientamento energetico della piscina comunale e del successivo servizio di gestione dell'impianto natatorio "},null,null,null,null,null,null,null,null,null,{"$f":"C1","v":"Concessione per l'affidamento dei lavori di efficientamento energetico della piscina comunale e del successivo servizio di gestione dell'impianto natatorio "},null,null,null,null,null,null,null,null,null,{"$f":"C1","v":"Concessione per l'affidamento dei lavori di efficientamento energetico della piscina comunale e del successivo servizio di gestione dell'impianto natatorio "},null,null,null,null,null,null,null,null,null,{"$f":"C1","v":"Concessione per l'affidamento dei lavori di efficientamento energetico della piscina comunale e del successivo servizio di gestione dell'impianto natatorio "}]
[{"$f":"'Matrice allocazione rischi'!B1","v":"Comune di Guardiagrele"},null,{"$f":"'6 Rendiconto Finanz'!E4","v":1},{"$f":"C2+1","v":2},3,4,5,6,7,8,9,10,11,12,13,14,15,16,17,18,19,20,21,22,23,24,25,26,27,28,29,30,31,32,33,34,35,36,37,38,39,40,41,42,43,44,45,46,47,48,49,50,51,52,53,54,55,56,57,58,59,60]
[null,null,"Importi/Euro","Importi/Euro","Importi/Euro","Importi/Euro","Importi/Euro","Importi/Euro","Importi/Euro","Importi/Euro","Importi/Euro","Importi/Euro","Importi/Euro","Importi/Euro","Importi/Euro","Importi/Euro","Importi/Euro","Importi/Euro","Importi/Euro","Importi/Euro","Importi/Euro","Importi/Euro","Importi/Euro","Importi/Euro","Importi/Euro","Importi/Euro","Importi/Euro","Importi/Euro","Importi/Euro","Importi/Euro","Importi/Euro","Importi/Euro","Importi/Euro","Importi/Euro","Importi/Euro","Importi/Euro","Importi/Euro","Importi/Euro","Importi/Euro","Importi/Euro","Importi/Euro","Importi/Euro","Importi/Euro","Importi/Euro","Importi/Euro","Importi/Euro","Importi/Euro","Importi/Euro","Importi/Euro","Importi/Euro","Importi/Euro","Importi/Euro","Importi/Euro","Importi/Euro","Importi/Euro","Importi/Euro","Importi/Euro","Importi/Euro","Importi/Euro","Importi/Euro","Importi/Euro","Importi/Euro"]
["COSTI DIRETTI",null," ",null,null,null,null,null,null,null,null,null,null,null,null,null,null,null,null,null,null,null,null,null,null,null,null,null,null,null,null,null,null,null,null,null,null,null,null,null,null,null,null,null,null,null,null,null,null,null,null,null,null,null,null,null,null,null,null,null,null,null," "]
["COSTI DIRETTI DI INVESTIMENTO DI CUI:"]
["Costi di acquisizione dell'area",null,{"$f":"'5 Foglio di elaborazione'!E18","v":0},{"$f":"'5 Foglio di elaborazione'!F18","v":0},{"$f":"'5 Foglio di elaborazione'!G18","v":0},{"$f":"'5 Foglio di elaborazione'!H18","v":0},{"$f":"'5 Foglio di elaborazione'!I18","v":0},{"$f":"'5 Foglio di elaborazione'!J18","v":0},{"$f":"'5 Foglio di elaborazione'!K18","v":0},{"$f":"'5 Foglio di elaborazione'!L18","v":0},{"$f":"'5 Foglio di elaborazione'!M18","v":0},{"$f":"'5 Foglio di elaborazione'!N18","v":0},{"$f":"'5 Foglio di elaborazione'!O18","v":0},{"$f":"'5 Foglio di elaborazione'!P18","v":0},{"$f":"'5 Foglio di elaborazione'!Q18","v":0},{"$f":"'5 Foglio di elaborazione'!R18","v":0},{"$f":"'5 Foglio di elaborazione'!S18","v":0},{"$f":"'5 Foglio di elaborazione'!T18","v":0},{"$f":"'5 Foglio di elaborazione'!U18","v":0},{"$f":"'5 Foglio di elaborazione'!V18","v":0},{"$f":"'5 Foglio di elaborazione'!W18","v":0},{"$f":"'5 Foglio di elaborazione'!X18","v":0},{"$f":"'5 Foglio di elaborazione'!Y18","v":0},{"$f":"'5 Foglio di elaborazione'!Z18","v":0},{"$f":"'5 Foglio di elaborazione'!AA18","v":0},{"$f":"'5 Foglio di elaborazione'!AB18","v":0},{"$f":"'5 Foglio di elaborazione'!AC18","v":0},{"$f":"'5 Foglio di elaborazione'!AD18","v":0},{"$f":"'5 Foglio di elaborazione'!AE18","v":0},{"$f":"'5 Foglio di elaborazione'!AF18","v":0},{"$f":"'5 Foglio di elaborazione'!AG18","v":0},{"$f":"'5 Foglio di elaborazione'!AH18","v":0},{"$f":"'5 Foglio di elaborazione'!AI18","v":0},{"$f":"'5 Foglio di elaborazione'!AJ18","v":0},{"$f":"'5 Foglio di elaborazione'!AK18","v":0},{"$f":"'5 Foglio di elaborazione'!AL18","v":0},{"$f":"'5 Foglio di elaborazione'!AM18","v":0},{"$f":"'5 Foglio di elaborazione'!AN18","v":0},{"$f":"'5 Foglio di elaborazione'!AO18","v":0},{"$f":"'5 Foglio di elaborazione'!AP18","v":0},{"$f":"'5 Foglio di elaborazione'!AQ18","v":0},{"$f":"'5 Foglio di elaborazione'!AR18","v":0},{"$f":"'5 Foglio di elaborazione'!AS18","v":0},{"$f":"'5 Foglio di elaborazione'!AT18","v":0},{"$f":"'5 Foglio di elaborazione'!AU18","v":0},{"$f":"'5 Foglio di elaborazione'!AV18","v":0},{"$f":"'5 Foglio di elaborazione'!AW18","v":0},{"$f":"'5 Foglio di elaborazione'!AX18","v":0},{"$f":"'5 Foglio di elaborazione'!AY18","v":0},{"$f":"'5 Foglio di elaborazione'!AZ18","v":0},{"$f":"'5 Foglio di elaborazione'!BA18","v":0},{"$f":"'5 Foglio di elaborazione'!BB18","v":0},{"$f":"'5 Foglio di elaborazione'!BC18","v":0},{"$f":"'5 Foglio di elaborazione'!BD18","v":0},{"$f":"'5 Foglio di elaborazione'!BE18","v":0},{"$f":"'5 Foglio di elaborazione'!BF18","v":0},{"$f":"'5 Foglio di elaborazione'!BG18","v":0},{"$f":"'5 Foglio di elaborazione'!BH18","v":0},{"$f":"'5 Foglio di elaborazione'!BI18","v":0},{"$f":"'5 Foglio di elaborazione'!BJ18","v":0},{"$f":"'5 Foglio di elaborazione'!BK18","v":0},{"$f":"'5 Foglio di elaborazione'!BL18","v":0}]
["Costi di progettazione e costruzione",null,{"$f":"'5 Foglio di elaborazione'!E16+'5 Foglio di elaborazione'!E19+'5 Foglio di elaborazione'!E20+'5 Foglio di elaborazione'!E21+'5 Foglio di elaborazione'!E22+'5 Foglio di elaborazione'!E23","v":1E-10},{"$f":"'5 Foglio di elaborazione'!F16+'5 Foglio di elaborazione'!F19+'5 Foglio di elaborazione'!F20+'5 Foglio di elaborazione'!F21+'5 Foglio di elaborazione'!F22+'5 Foglio di elaborazione'!F23","v":0},{"$f":"'5 Foglio di elaborazione'!G16+'5 Foglio di elaborazione'!G19+'5 Foglio di elaborazione'!G20+'5 Foglio di elaborazione'!G21+'5 Foglio di elaborazione'!G22+'5 Foglio di elaborazione'!G23","v":0},{"$f":"'5 Foglio di elaborazione'!H16+'5 Foglio di elaborazione'!H19+'5 Foglio di elaborazione'!H20+'5 Foglio di elaborazione'!H21+'5 Foglio di elaborazione'!H22+'5 Foglio di elaborazione'!H23","v":0},{"$f":"'5 Foglio di elaborazione'!I16+'5 Foglio di elaborazione'!I19+'5 Foglio di elaborazione'!I20+'5 Foglio di elaborazione'!I21+'5 Foglio di elaborazione'!I22+'5 Foglio di elaborazione'!I23","v":0},{"$f":"'5 Foglio di elaborazione'!J16+'5 Foglio di elaborazione'!J19+'5 Foglio di elaborazione'!J20+'5 Foglio di elaborazione'!J21+'5 Foglio di elaborazione'!J22+'5 Foglio di elaborazione'!J23","v":0},{"$f":"'5 Foglio di elaborazione'!K16+'5 Foglio di elaborazione'!K19+'5 Foglio di elaborazione'!K20+'5 Foglio di elaborazione'!K21+'5 Foglio di elaborazione'!K22+'5 Foglio di elaborazione'!K23","v":0},{"$f":"'5 Foglio di elaborazione'!L16+'5 Foglio di elaborazione'!L19+'5 Foglio di elaborazione'!L20+'5 Foglio di elaborazione'!L21+'5 Foglio di elaborazione'!L22+'5 Foglio di elaborazione'!L23","v":0},{"$f":"'5 Foglio di elaborazione'!M16+'5 Foglio di elaborazione'!M19+'5 Foglio di elaborazione'!M20+'5 Foglio di elaborazione'!M21+'5 Foglio di elaborazione'!M22+'5 Foglio di elaborazione'!M23","v":0},{"$f":"'5 Foglio di elaborazione'!N16+'5 Foglio di elaborazione'!N19+'5 Foglio di elaborazione'!N20+'5 Foglio di elaborazione'!N21+'5 Foglio di elaborazione'!N22+'5 Foglio di elaborazione'!N23","v":0},{"$f":"'5 Foglio di elaborazione'!O16+'5 Foglio di elaborazione'!O19+'5 Foglio di elaborazione'!O20+'5 Foglio di elaborazione'!O21+'5 Foglio di elaborazione'!O22+'5 Foglio di elaborazione'!O23","v":0},{"$f":"'5 Foglio di elaborazione'!P16+'5 Foglio di elaborazione'!P19+'5 Foglio di elaborazione'!P20+'5 Foglio di elaborazione'!P21+'5 Foglio di elaborazione'!P22+'5 Foglio di elaborazione'!P23","v":0},{"$f":"'5 Foglio di elaborazione'!Q16+'5 Foglio di elaborazione'!Q19+'5 Foglio di elaborazione'!Q20+'5 Foglio di elaborazione'!Q21+'5 Foglio di elaborazione'!Q22+'5 Foglio di elaborazione'!Q23","v":0},{"$f":"'5 Foglio di elaborazione'!R16+'5 Foglio di elaborazione'!R19+'5 Foglio di elaborazione'!R20+'5 Foglio di elaborazione'!R21+'5 Foglio di elaborazione'!R22+'5 Foglio di elaborazione'!R23","v":0},{"$f":"'5 Foglio di elaborazione'!S16+'5 Foglio di elaborazione'!S19+'5 Foglio di elaborazione'!S20+'5 Foglio di elaborazione'!S21+'5 Foglio di elaborazione'!S22+'5 Foglio di elaborazione'!S23","v":0},{"$f":"'5 Foglio di elaborazione'!T16+'5 Foglio di elaborazione'!T19+'5 Foglio di elaborazione'!T20+'5 Foglio di elaborazione'!T21+'5 Foglio di elaborazione'!T22+'5 Foglio di elaborazione'!T23","v":0},{"$f":"'5 Foglio di elaborazione'!U16+'5 Foglio di elaborazione'!U19+'5 Foglio di elaborazione'!U20+'5 Foglio di elaborazione'!U21+'5 Foglio di elaborazione'!U22+'5 Foglio di elaborazione'!U23","v":0},{"$f":"'5 Foglio di elaborazione'!V16+'5 Foglio di elaborazione'!V19+'5 Foglio di elaborazione'!V20+'5 Foglio di elaborazione'!V21+'5 Foglio di elaborazione'!V22+'5 Foglio di elaborazione'!V23","v":0},{"$f":"'5 Foglio di elaborazione'!W16+'5 Foglio di elaborazione'!W19+'5 Foglio di elaborazione'!W20+'5 Foglio di elaborazione'!W21+'5 Foglio di elaborazione'!W22+'5 Foglio di elaborazione'!W23","v":0},{"$f":"'5 Foglio di elaborazione'!X16+'5 Foglio di elaborazione'!X19+'5 Foglio di elaborazione'!X20+'5 Foglio di elaborazione'!X21+'5 Foglio di elaborazione'!X22+'5 Foglio di elaborazione'!X23","v":0},{"$f":"'5 Foglio di elaborazione'!Y16+'5 Foglio di elaborazione'!Y19+'5 Foglio di elaborazione'!Y20+'5 Foglio di elaborazione'!Y21+'5 Foglio di elaborazione'!Y22+'5 Foglio di elaborazione'!Y23","v":0},{"$f":"'5 Foglio di elaborazione'!Z16+'5 Foglio di elaborazione'!Z19+'5 Foglio di elaborazione'!Z20+'5 Foglio di elaborazione'!Z21+'5 Foglio di elaborazione'!Z22+'5 Foglio di elaborazione'!Z23","v":0},{"$f":"'5 Foglio di elaborazione'!AA16+'5 Foglio di elaborazione'!AA19+'5 Foglio di elaborazione'!AA20+'5 Foglio di elaborazione'!AA21+'5 Foglio di elaborazione'!AA22+'5 Foglio di elaborazione'!AA23","v":0},{"$f":"'5 Foglio di elaborazione'!AB16+'5 Foglio di elaborazione'!AB19+'5 Foglio di elaborazione'!AB20+'5 Foglio di elaborazione'!AB21+'5 Foglio di elaborazione'!AB22+'5 Foglio di elaborazione'!AB23","v":0},{"$f":"'5 Foglio di elaborazione'!AC16+'5 Foglio di elaborazione'!AC19+'5 Foglio di elaborazione'!AC20+'5 Foglio di elaborazione'!AC21+'5 Foglio di elaborazione'!AC22+'5 Foglio di elaborazione'!AC23","v":0},{"$f":"'5 Foglio di elaborazione'!AD16+'5 Foglio di elaborazione'!AD19+'5 Foglio di elaborazione'!AD20+'5 Foglio di elaborazione'!AD21+'5 Foglio di elaborazione'!AD22+'5 Foglio di elaborazione'!AD23","v":0},{"$f":"'5 Foglio di elaborazione'!AE16+'5 Foglio di elaborazione'!AE19+'5 Foglio di elaborazione'!AE20+'5 Foglio di elaborazione'!AE21+'5 Foglio di elaborazione'!AE22+'5 Foglio di elaborazione'!AE23","v":0},{"$f":"'5 Foglio di elaborazione'!AF16+'5 Foglio di elaborazione'!AF19+'5 Foglio di elaborazione'!AF20+'5 Foglio di elaborazione'!AF21+'5 Foglio di elaborazione'!AF22+'5 Foglio di elaborazione'!AF23","v":0},{"$f":"'5 Foglio di elaborazione'!AG16+'5 Foglio di elaborazione'!AG19+'5 Foglio di elaborazione'!AG20+'5 Foglio di elaborazione'!AG21+'5 Foglio di elaborazione'!AG22+'5 Foglio di elaborazione'!AG23","v":0},{"$f":"'5 Foglio di elaborazione'!AH16+'5 Foglio di elaborazione'!AH19+'5 Foglio di elaborazione'!AH20+'5 Foglio di elaborazione'!AH21+'5 Foglio di elaborazione'!AH22+'5 Foglio di elaborazione'!AH23","v":0},{"$f":"'5 Foglio di elaborazione'!AI16+'5 Foglio di elaborazione'!AI19+'5 Foglio di elaborazione'!AI20+'5 Foglio di elaborazione'!AI21+'5 Foglio di elaborazione'!AI22+'5 Foglio di elaborazione'!AI23","v":0},{"$f":"'5 Foglio di elaborazione'!AJ16+'5 Foglio di elaborazione'!AJ19+'5 Foglio di elaborazione'!AJ20+'5 Foglio di elaborazione'!AJ21+'5 Foglio di elaborazione'!AJ22+'5 Foglio di elaborazione'!AJ23","v":0},{"$f":"'5 Foglio di elaborazione'!AK16+'5 Foglio di elaborazione'!AK19+'5 Foglio di elaborazione'!AK20+'5 Foglio di elaborazione'!AK21+'5 Foglio di elaborazione'!AK22+'5 Foglio di elaborazione'!AK23","v":0},{"$f":"'5 Foglio di elaborazione'!AL16+'5 Foglio di elaborazione'!AL19+'5 Foglio di elaborazione'!AL20+'5 Foglio di elaborazione'!AL21+'5 Foglio di elaborazione'!AL22+'5 Foglio di elaborazione'!AL23","v":0},{"$f":"'5 Foglio di elaborazione'!AM16+'5 Foglio di elaborazione'!AM19+'5 Foglio di elaborazione'!AM20+'5 Foglio di elaborazione'!AM21+'5 Foglio di elaborazione'!AM22+'5 Foglio di elaborazione'!AM23","v":0},{"$f":"'5 Foglio di elaborazione'!AN16+'5 Foglio di elaborazione'!AN19+'5 Foglio di elaborazione'!AN20+'5 Foglio di elaborazione'!AN21+'5 Foglio di elaborazione'!AN22+'5 Foglio di elaborazione'!AN23","v":0},{"$f":"'5 Foglio di elaborazione'!AO16+'5 Foglio di elaborazione'!AO19+'5 Foglio di elaborazione'!AO20+'5 Foglio di elaborazione'!AO21+'5 Foglio di elaborazione'!AO22+'5 Foglio di elaborazione'!AO23","v":0},{"$f":"'5 Foglio di elaborazione'!AP16+'5 Foglio di elaborazione'!AP19+'5 Foglio di elaborazione'!AP20+'5 Foglio di elaborazione'!AP21+'5 Foglio di elaborazione'!AP22+'5 Foglio di elaborazione'!AP23","v":0},{"$f":"'5 Foglio di elaborazione'!AQ16+'5 Foglio di elaborazione'!AQ19+'5 Foglio di elaborazione'!AQ20+'5 Foglio di elaborazione'!AQ21+'5 Foglio di elaborazione'!AQ22+'5 Foglio di elaborazione'!AQ23","v":0},{"$f":"'5 Foglio di elaborazione'!AR16+'5 Foglio di elaborazione'!AR19+'5 Foglio di elaborazione'!AR20+'5 Foglio di elaborazione'!AR21+'5 Foglio di elaborazione'!AR22+'5 Foglio di elaborazione'!AR23","v":0},{"$f":"'5 Foglio di elaborazione'!AS16+'5 Foglio di elaborazione'!AS19+'5 Foglio di elaborazione'!AS20+'5 Foglio di elaborazione'!AS21+'5 Foglio di elaborazione'!AS22+'5 Foglio di elaborazione'!AS23","v":0},{"$f":"'5 Foglio di elaborazione'!AT16+'5 Foglio di elaborazione'!AT19+'5 Foglio di elaborazione'!AT20+'5 Foglio di elaborazione'!AT21+'5 Foglio di elaborazione'!AT22+'5 Foglio di elaborazione'!AT23","v":0},{"$f":"'5 Foglio di elaborazione'!AU16+'5 Foglio di elaborazione'!AU19+'5 Foglio di elaborazione'!AU20+'5 Foglio di elaborazione'!AU21+'5 Foglio di elaborazione'!AU22+'5 Foglio di elaborazione'!AU23","v":0},{"$f":"'5 Foglio di elaborazione'!AV16+'5 Foglio di elaborazione'!AV19+'5 Foglio di elaborazione'!AV20+'5 Foglio di elaborazione'!AV21+'5 Foglio di elaborazione'!AV22+'5 Foglio di elaborazione'!AV23","v":0},{"$f":"'5 Foglio di elaborazione'!AW16+'5 Foglio di elaborazione'!AW19+'5 Foglio di elaborazione'!AW20+'5 Foglio di elaborazione'!AW21+'5 Foglio di elaborazione'!AW22+'5 Foglio di elaborazione'!AW23","v":0},{"$f":"'5 Foglio di elaborazione'!AX16+'5 Foglio di elaborazione'!AX19+'5 Foglio di elaborazione'!AX20+'5 Foglio di elaborazione'!AX21+'5 Foglio di elaborazione'!AX22+'5 Foglio di elaborazione'!AX23","v":0},{"$f":"'5 Foglio di elaborazione'!AY16+'5 Foglio di elaborazione'!AY19+'5 Foglio di elaborazione'!AY20+'5 Foglio di elaborazione'!AY21+'5 Foglio di elaborazione'!AY22+'5 Foglio di elaborazione'!AY23","v":0},{"$f":"'5 Foglio di elaborazione'!AZ16+'5 Foglio di elaborazione'!AZ19+'5 Foglio di elaborazione'!AZ20+'5 Foglio di elaborazione'!AZ21+'5 Foglio di elaborazione'!AZ22+'5 Foglio di elaborazione'!AZ23","v":0},{"$f":"'5 Foglio di elaborazione'!BA16+'5 Foglio di elaborazione'!BA19+'5 Foglio di elaborazione'!BA20+'5 Foglio di elaborazione'!BA21+'5 Foglio di elaborazione'!BA22+'5 Foglio di elaborazione'!BA23","v":0},{"$f":"'5 Foglio di elaborazione'!BB16+'5 Foglio di elaborazione'!BB19+'5 Foglio di elaborazione'!BB20+'5 Foglio di elaborazione'!BB21+'5 Foglio di elaborazione'!BB22+'5 Foglio di elaborazione'!BB23","v":0},{"$f":"'5 Foglio di elaborazione'!BC16+'5 Foglio di elaborazione'!BC19+'5 Foglio di elaborazione'!BC20+'5 Foglio di elaborazione'!BC21+'5 Foglio di elaborazione'!BC22+'5 Foglio di elaborazione'!BC23","v":0},{"$f":"'5 Foglio di elaborazione'!BD16+'5 Foglio di elaborazione'!BD19+'5 Foglio di elaborazione'!BD20+'5 Foglio di elaborazione'!BD21+'5 Foglio di elaborazione'!BD22+'5 Foglio di elaborazione'!BD23","v":0},{"$f":"'5 Foglio di elaborazione'!BE16+'5 Foglio di elaborazione'!BE19+'5 Foglio di elaborazione'!BE20+'5 Foglio di elaborazione'!BE21+'5 Foglio di elaborazione'!BE22+'5 Foglio di elaborazione'!BE23","v":0},{"$f":"'5 Foglio di elaborazione'!BF16+'5 Foglio di elaborazione'!BF19+'5 Foglio di elaborazione'!BF20+'5 Foglio di elaborazione'!BF21+'5 Foglio di elaborazione'!BF22+'5 Foglio di elaborazione'!BF23","v":0},{"$f":"'5 Foglio di elaborazione'!BG16+'5 Foglio di elaborazione'!BG19+'5 Foglio di elaborazione'!BG20+'5 Foglio di elaborazione'!BG21+'5 Foglio di elaborazione'!BG22+'5 Foglio di elaborazione'!BG23","v":0},{"$f":"'5 Foglio di elaborazione'!BH16+'5 Foglio di elaborazione'!BH19+'5 Foglio di elaborazione'!BH20+'5 Foglio di elaborazione'!BH21+'5 Foglio di elaborazione'!BH22+'5 Foglio di elaborazione'!BH23","v":0},{"$f":"'5 Foglio di elaborazione'!BI16+'5 Foglio di elaborazione'!BI19+'5 Foglio di elaborazione'!BI20+'5 Foglio di elaborazione'!BI21+'5 Foglio di elaborazione'!BI22+'5 Foglio di elaborazione'!BI23","v":0},{"$f":"'5 Foglio di elaborazione'!BJ16+'5 Foglio di elaborazione'!BJ19+'5 Foglio di elaborazione'!BJ20+'5 Foglio di elaborazione'!BJ21+'5 Foglio di elaborazione'!BJ22+'5 Foglio di elaborazione'!BJ23","v":0},{"$f":"'5 Foglio di elaborazione'!BK16+'5 Foglio di elaborazione'!BK19+'5 Foglio di elaborazione'!BK20+'5 Foglio di elaborazione'!BK21+'5 Foglio di elaborazione'!BK22+'5 Foglio di elaborazione'!BK23","v":0},{"$f":"'5 Foglio di elaborazione'!BL16+'5 Foglio di elaborazione'!BL19+'5 Foglio di elaborazione'!BL20+'5 Foglio di elaborazione'!BL21+'5 Foglio di elaborazione'!BL22+'5 Foglio di elaborazione'!BL23","v":0}]
["Costi degli impianti e dei macchinari per la disponibilità del servizio",null,{"$f":"'5 Foglio di elaborazione'!E17","v":0},{"$f":"'5 Foglio di elaborazione'!F17","v":0},{"$f":"'5 Foglio di elaborazione'!G17","v":0},{"$f":"'5 Foglio di elaborazione'!H17","v":0},{"$f":"'5 Foglio di elaborazione'!I17","v":0},{"$f":"'5 Foglio di elaborazione'!J17","v":0},{"$f":"'5 Foglio di elaborazione'!K17","v":0},{"$f":"'5 Foglio di elaborazione'!L17","v":0},{"$f":"'5 Foglio di elaborazione'!M17","v":0},{"$f":"'5 Foglio di elaborazione'!N17","v":0},{"$f":"'5 Foglio di elaborazione'!O17","v":0},{"$f":"'5 Foglio di elaborazione'!P17","v":0},{"$f":"'5 Foglio di elaborazione'!Q17","v":0},{"$f":"'5 Foglio di elaborazione'!R17","v":0},{"$f":"'5 Foglio di elaborazione'!S17","v":0},{"$f":"'5 Foglio di elaborazione'!T17","v":0},{"$f":"'5 Foglio di elaborazione'!U17","v":0},{"$f":"'5 Foglio di elaborazione'!V17","v":0},{"$f":"'5 Foglio di elaborazione'!W17","v":0},{"$f":"'5 Foglio di elaborazione'!X17","v":0},{"$f":"'5 Foglio di elaborazione'!Y17","v":0},{"$f":"'5 Foglio di elaborazione'!Z17","v":0},{"$f":"'5 Foglio di elaborazione'!AA17","v":0},{"$f":"'5 Foglio di elaborazione'!AB17","v":0},{"$f":"'5 Foglio di elaborazione'!AC17","v":0},{"$f":"'5 Foglio di elaborazione'!AD17","v":0},{"$f":"'5 Foglio di elaborazione'!AE17","v":0},{"$f":"'5 Foglio di elaborazione'!AF17","v":0},{"$f":"'5 Foglio di elaborazione'!AG17","v":0},{"$f":"'5 Foglio di elaborazione'!AH17","v":0},{"$f":"'5 Foglio di elaborazione'!AI17","v":0},{"$f":"'5 Foglio di elaborazione'!AJ17","v":0},{"$f":"'5 Foglio di elaborazione'!AK17","v":0},{"$f":"'5 Foglio di elaborazione'!AL17","v":0},{"$f":"'5 Foglio di elaborazione'!AM17","v":0},{"$f":"'5 Foglio di elaborazione'!AN17","v":0},{"$f":"'5 Foglio di elaborazione'!AO17","v":0},{"$f":"'5 Foglio di elaborazione'!AP17","v":0},{"$f":"'5 Foglio di elaborazione'!AQ17","v":0},{"$f":"'5 Foglio di elaborazione'!AR17","v":0},{"$f":"'5 Foglio di elaborazione'!AS17","v":0},{"$f":"'5 Foglio di elaborazione'!AT17","v":0},{"$f":"'5 Foglio di elaborazione'!AU17","v":0},{"$f":"'5 Foglio di elaborazione'!AV17","v":0},{"$f":"'5 Foglio di elaborazione'!AW17","v":0},{"$f":"'5 Foglio di elaborazione'!AX17","v":0},{"$f":"'5 Foglio di elaborazione'!AY17","v":0},{"$f":"'5 Foglio di elaborazione'!AZ17","v":0},{"$f":"'5 Foglio di elaborazione'!BA17","v":0},{"$f":"'5 Foglio di elaborazione'!BB17","v":0},{"$f":"'5 Foglio di elaborazione'!BC17","v":0},{"$f":"'5 Foglio di elaborazione'!BD17","v":0},{"$f":"'5 Foglio di elaborazione'!BE17","v":0},{"$f":"'5 Foglio di elaborazione'!BF17","v":0},{"$f":"'5 Foglio di elaborazione'!BG17","v":0},{"$f":"'5 Foglio di elaborazione'!BH17","v":0},{"$f":"'5 Foglio di elaborazione'!BI17","v":0},{"$f":"'5 Foglio di elaborazione'!BJ17","v":0},{"$f":"'5 Foglio di elaborazione'!BK17","v":0},{"$f":"'5 Foglio di elaborazione'!BL17","v":0}]
["COSTI DIRETTI DI MANUTENZIONE DI CUI:  (1)",null,"   (1)  Controllare anno avvio gestione per corretta imputazione manutenzioni straordinarie non capitalizzate"]
["Costi di manutenzione e riparazione degli edifici e dei macchinari",null,{"$f":"'5 Foglio di elaborazione'!E24-'6 Rendiconto Finanz'!E14-'6 Rendiconto Finanz'!E13","v":16141.526},{"$f":"'5 Foglio di elaborazione'!F24-'6 Rendiconto Finanz'!F14-'6 Rendiconto Finanz'!F13","v":16464.356520000001},{"$f":"'5 Foglio di elaborazione'!G24-'6 Rendiconto Finanz'!G14-'6 Rendiconto Finanz'!G13","v":16793.643650400001},{"$f":"'5 Foglio di elaborazione'!H24-'6 Rendiconto Finanz'!H14-'6 Rendiconto Finanz'!H13","v":17129.516523407998},{"$f":"'5 Foglio di elaborazione'!I24-'6 Rendiconto Finanz'!I14-'6 Rendiconto Finanz'!I13","v":17472.106853876161},{"$f":"'5 Foglio di elaborazione'!J24-'6 Rendiconto Finanz'!J14-'6 Rendiconto Finanz'!J13","v":17821.548990953685},{"$f":"'5 Foglio di elaborazione'!K24-'6 Rendiconto Finanz'!K14-'6 Rendiconto Finanz'!K13","v":18177.979970772758},{"$f":"'5 Foglio di elaborazione'!L24-'6 Rendiconto Finanz'!L14-'6 Rendiconto Finanz'!L13","v":18541.539570188212},{"$f":"'5 Foglio di elaborazione'!M24-'6 Rendiconto Finanz'!M14-'6 Rendiconto Finanz'!M13","v":18912.370361591977},{"$f":"'5 Foglio di elaborazione'!N24-'6 Rendiconto Finanz'!N14-'6 Rendiconto Finanz'!N13","v":19290.617768823817},{"$f":"'5 Foglio di elaborazione'!O24-'6 Rendiconto Finanz'!O14-'6 Rendiconto Finanz'!O13","v":0},{"$f":"'5 Foglio di elaborazione'!P24-'6 Rendiconto Finanz'!P14-'6 Rendiconto Finanz'!P13","v":0},{"$f":"'5 Foglio di elaborazione'!Q24-'6 Rendiconto Finanz'!Q14-'6 Rendiconto Finanz'!Q13","v":0},{"$f":"'5 Foglio di elaborazione'!R24-'6 Rendiconto Finanz'!R14-'6 Rendiconto Finanz'!R13","v":0},{"$f":"'5 Foglio di elaborazione'!S24-'6 Rendiconto Finanz'!S14-'6 Rendiconto Finanz'!S13","v":0},{"$f":"'5 Foglio di elaborazione'!T24-'6 Rendiconto Finanz'!T14-'6 Rendiconto Finanz'!T13","v":0},{"$f":"'5 Foglio di elaborazione'!U24-'6 Rendiconto Finanz'!U14-'6 Rendiconto Finanz'!U13","v":0},{"$f":"'5 Foglio di elaborazione'!V24-'6 Rendiconto Finanz'!V14-'6 Rendiconto Finanz'!V13","v":0},{"$f":"'5 Foglio di elaborazione'!W24-'6 Rendiconto Finanz'!W14-'6 Rendiconto Finanz'!W13","v":0},{"$f":"'5 Foglio di elaborazione'!X24-'6 Rendiconto Finanz'!X14-'6 Rendiconto Finanz'!X13","v":0},{"$f":"'5 Foglio di elaborazione'!Y24-'6 Rendiconto Finanz'!Y14-'6 Rendiconto Finanz'!Y13","v":0},{"$f":"'5 Foglio di elaborazione'!Z24-'6 Rendiconto Finanz'!Z14-'6 Rendiconto Finanz'!Z13","v":0},{"$f":"'5 Foglio di elaborazione'!AA24-'6 Rendiconto Finanz'!AA14-'6 Rendiconto Finanz'!AA13","v":0},{"$f":"'5 Foglio di elaborazione'!AB24-'6 Rendiconto Finanz'!AB14-'6 Rendiconto Finanz'!AB13","v":0},{"$f":"'5 Foglio di elaborazione'!AC24-'6 Rendiconto Finanz'!AC14-'6 Rendiconto Finanz'!AC13","v":0},{"$f":"'5 Foglio di elaborazione'!AD24-'6 Rendiconto Finanz'!AD14-'6 Rendiconto Finanz'!AD13","v":0},{"$f":"'5 Foglio di elaborazione'!AE24-'6 Rendiconto Finanz'!AE14-'6 Rendiconto Finanz'!AE13","v":0},{"$f":"'5 Foglio di elaborazione'!AF24-'6 Rendiconto Finanz'!AF14-'6 Rendiconto Finanz'!AF13","v":0},{"$f":"'5 Foglio di elaborazione'!AG24-'6 Rendiconto Finanz'!AG14-'6 Rendiconto Finanz'!AG13","v":0},{"$f":"'5 Foglio di elaborazione'!AH24-'6 Rendiconto Finanz'!AH14-'6 Rendiconto Finanz'!AH13","v":0},{"$f":"'5 Foglio di elaborazione'!AI24-'6 Rendiconto Finanz'!AI14-'6 Rendiconto Finanz'!AI13","v":0},{"$f":"'5 Foglio di elaborazione'!AJ24-'6 Rendiconto Finanz'!AJ14-'6 Rendiconto Finanz'!AJ13","v":0},{"$f":"'5 Foglio di elaborazione'!AK24-'6 Rendiconto Finanz'!AK14-'6 Rendiconto Finanz'!AK13","v":0},{"$f":"'5 Foglio di elaborazione'!AL24-'6 Rendiconto Finanz'!AL14-'6 Rendiconto Finanz'!AL13","v":0},{"$f":"'5 Foglio di elaborazione'!AM24-'6 Rendiconto Finanz'!AM14-'6 Rendiconto Finanz'!AM13","v":0},{"$f":"'5 Foglio di elaborazione'!AN24-'6 Rendiconto Finanz'!AN14-'6 Rendiconto Finanz'!AN13","v":0},{"$f":"'5 Foglio di elaborazione'!AO24-'6 Rendiconto Finanz'!AO14-'6 Rendiconto Finanz'!AO13","v":0},{"$f":"'5 Foglio di elaborazione'!AP24-'6 Rendiconto Finanz'!AP14-'6 Rendiconto Finanz'!AP13","v":0},{"$f":"'5 Foglio di elaborazione'!AQ24-'6 Rendiconto Finanz'!AQ14-'6 Rendiconto Finanz'!AQ13","v":0},{"$f":"'5 Foglio di elaborazione'!AR24-'6 Rendiconto Finanz'!AR14-'6 Rendiconto Finanz'!AR13","v":0},{"$f":"'5 Foglio di elaborazione'!AS24-'6 Rendiconto Finanz'!AS14-'6 Rendiconto Finanz'!AS13","v":0},{"$f":"'5 Foglio di elaborazione'!AT24-'6 Rendiconto Finanz'!AT14-'6 Rendiconto Finanz'!AT13","v":0},{"$f":"'5 Foglio di elaborazione'!AU24-'6 Rendiconto Finanz'!AU14-'6 Rendiconto Finanz'!AU13","v":0},{"$f":"'5 Foglio di elaborazione'!AV24-'6 Rendiconto Finanz'!AV14-'6 Rendiconto Finanz'!AV13","v":0},{"$f":"'5 Foglio di elaborazione'!AW24-'6 Rendiconto Finanz'!AW14-'6 Rendiconto Finanz'!AW13","v":0},{"$f":"'5 Foglio di elaborazione'!AX24-'6 Rendiconto Finanz'!AX14-'6 Rendiconto Finanz'!AX13","v":0},{"$f":"'5 Foglio di elaborazione'!AY24-'6 Rendiconto Finanz'!AY14-'6 Rendiconto Finanz'!AY13","v":0},{"$f":"'5 Foglio di elaborazione'!AZ24-'6 Rendiconto Finanz'!AZ14-'6 Rendiconto Finanz'!AZ13","v":0},{"$f":"'5 Foglio di elaborazione'!BA24-'6 Rendiconto Finanz'!BA14-'6 Rendiconto Finanz'!BA13","v":0},{"$f":"'5 Foglio di elaborazione'!BB24-'6 Rendiconto Finanz'!BB14-'6 Rendiconto Finanz'!BB13","v":0},{"$f":"'5 Foglio di elaborazione'!BC24-'6 Rendiconto Finanz'!BC14-'6 Rendiconto Finanz'!BC13","v":0},{"$f":"'5 Foglio di elaborazione'!BD24-'6 Rendiconto Finanz'!BD14-'6 Rendiconto Finanz'!BD13","v":0},{"$f":"'5 Foglio di elaborazione'!BE24-'6 Rendiconto Finanz'!BE14-'6 Rendiconto Finanz'!BE13","v":0},{"$f":"'5 Foglio di elaborazione'!BF24-'6 Rendiconto Finanz'!BF14-'6 Rendiconto Finanz'!BF13","v":0},{"$f":"'5 Foglio di elaborazione'!BG24-'6 Rendiconto Finanz'!BG14-'6 Rendiconto Finanz'!BG13","v":0},{"$f":"'5 Foglio di elaborazione'!BH24-'6 Rendiconto Finanz'!BH14-'6 Rendiconto Finanz'!BH13","v":0},{"$f":"'5 Foglio di elaborazione'!BI24-'6 Rendiconto Finanz'!BI14-'6 Rendiconto Finanz'!BI13","v":0},{"$f":"'5 Foglio di elaborazione'!BJ24-'6 Rendiconto Finanz'!BJ14-'6 Rendiconto Finanz'!BJ13","v":0},{"$f":"'5 Foglio di elaborazione'!BK24-'6 Rendiconto Finanz'!BK14-'6 Rendiconto Finanz'!BK13","v":0},{"$f":"'5 Foglio di elaborazione'!BL24-'6 Rendiconto Finanz'!BL14-'6 Rendiconto Finanz'!BL13","v":0}]
["COSTI DIRETTI DI GESTIONE DI CUI:",null," "]
["Salari e stipendi",null,{"$f":"-'6 Rendiconto Finanz'!E11","v":151645.389},{"$f":"-'6 Rendiconto Finanz'!F11","v":154678.29678},{"$f":"-'6 Rendiconto Finanz'!G11","v":157771.8627156},{"$f":"-'6 Rendiconto Finanz'!H11","v":160927.29996991198},{"$f":"-'6 Rendiconto Finanz'!I11","v":164145.84596931023},{"$f":"-'6 Rendiconto Finanz'!J11","v":167428.76288869645},{"$f":"-'6 Rendiconto Finanz'!K11","v":170777.33814647037},{"$f":"-'6 Rendiconto Finanz'!L11","v":174192.88490939979},{"$f":"-'6 Rendiconto Finanz'!M11","v":177676.7426075878},{"$f":"-'6 Rendiconto Finanz'!N11","v":181230.27745973956},{"$f":"-'6 Rendiconto Finanz'!O11","v":0},{"$f":"-'6 Rendiconto Finanz'!P11","v":0},{"$f":"-'6 Rendiconto Finanz'!Q11","v":0},{"$f":"-'6 Rendiconto Finanz'!R11","v":0},{"$f":"-'6 Rendiconto Finanz'!S11","v":0},{"$f":"-'6 Rendiconto Finanz'!T11","v":0},{"$f":"-'6 Rendiconto Finanz'!U11","v":0},{"$f":"-'6 Rendiconto Finanz'!V11","v":0},{"$f":"-'6 Rendiconto Finanz'!W11","v":0},{"$f":"-'6 Rendiconto Finanz'!X11","v":0},{"$f":"-'6 Rendiconto Finanz'!Y11","v":0},{"$f":"-'6 Rendiconto Finanz'!Z11","v":0},{"$f":"-'6 Rendiconto Finanz'!AA11","v":0},{"$f":"-'6 Rendiconto Finanz'!AB11","v":0},{"$f":"-'6 Rendiconto Finanz'!AC11","v":0},{"$f":"-'6 Rendiconto Finanz'!AD11","v":0},{"$f":"-'6 Rendiconto Finanz'!AE11","v":0},{"$f":"-'6 Rendiconto Finanz'!AF11","v":0},{"$f":"-'6 Rendiconto Finanz'!AG11","v":0},{"$f":"-'6 Rendiconto Finanz'!AH11","v":0},{"$f":"-'6 Rendiconto Finanz'!AI11","v":0},{"$f":"-'6 Rendiconto Finanz'!AJ11","v":0},{"$f":"-'6 Rendiconto Finanz'!AK11","v":0},{"$f":"-'6 Rendiconto Finanz'!AL11","v":0},{"$f":"-'6 Rendiconto Finanz'!AM11","v":0},{"$f":"-'6 Rendiconto Finanz'!AN11","v":0},{"$f":"-'6 Rendiconto Finanz'!AO11","v":0},{"$f":"-'6 Rendiconto Finanz'!AP11","v":0},{"$f":"-'6 Rendiconto Finanz'!AQ11","v":0},{"$f":"-'6 Rendiconto Finanz'!AR11","v":0},{"$f":"-'6 Rendiconto Finanz'!AS11","v":0},{"$f":"-'6 Rendiconto Finanz'!AT11","v":0},{"$f":"-'6 Rendiconto Finanz'!AU11","v":0},{"$f":"-'6 Rendiconto Finanz'!AV11","v":0},{"$f":"-'6 Rendiconto Finanz'!AW11","v":0},{"$f":"-'6 Rendiconto Finanz'!AX11","v":0},{"$f":"-'6 Rendiconto Finanz'!AY11","v":0},{"$f":"-'6 Rendiconto Finanz'!AZ11","v":0},{"$f":"-'6 Rendiconto Finanz'!BA11","v":0},{"$f":"-'6 Rendiconto Finanz'!BB11","v":0},{"$f":"-'6 Rendiconto Finanz'!BC11","v":0},{"$f":"-'6 Rendiconto Finanz'!BD11","v":0},{"$f":"-'6 Rendiconto Finanz'!BE11","v":0},{"$f":"-'6 Rendiconto Finanz'!BF11","v":0},{"$f":"-'6 Rendiconto Finanz'!BG11","v":0},{"$f":"-'6 Rendiconto Finanz'!BH11","v":0},{"$f":"-'6 Rendiconto Finanz'!BI11","v":0},{"$f":"-'6 Rendiconto Finanz'!BJ11","v":0},{"$f":"-'6 Rendiconto Finanz'!BK11","v":0},{"$f":"-'6 Rendiconto Finanz'!BL11","v":0}]
["Costi di gestione/servizi (elettricità, gas, luce, ecc.)",null,{"$f":"-'6 Rendiconto Finanz'!E10","v":200833.76499999998},{"$f":"-'6 Rendiconto Finanz'!F10","v":207249.4803},{"$f":"-'6 Rendiconto Finanz'!G10","v":214990.09230599998},{"$f":"-'6 Rendiconto Finanz'!H10","v":219289.89415211996},{"$f":"-'6 Rendiconto Finanz'!I10","v":223675.69203516238},{"$f":"-'6 Rendiconto Finanz'!J10","v":228149.20587586562},{"$f":"-'6 Rendiconto Finanz'!K10","v":232712.18999338296},{"$f":"-'6 Rendiconto Finanz'!L10","v":237366.43379325062},{"$f":"-'6 Rendiconto Finanz'!M10","v":242113.76246911564},{"$f":"-'6 Rendiconto Finanz'!N10","v":246956.03771849794},{"$f":"-'6 Rendiconto Finanz'!O10","v":0},{"$f":"-'6 Rendiconto Finanz'!P10","v":0},{"$f":"-'6 Rendiconto Finanz'!Q10","v":0},{"$f":"-'6 Rendiconto Finanz'!R10","v":0},{"$f":"-'6 Rendiconto Finanz'!S10","v":0},{"$f":"-'6 Rendiconto Finanz'!T10","v":0},{"$f":"-'6 Rendiconto Finanz'!U10","v":0},{"$f":"-'6 Rendiconto Finanz'!V10","v":0},{"$f":"-'6 Rendiconto Finanz'!W10","v":0},{"$f":"-'6 Rendiconto Finanz'!X10","v":0},{"$f":"-'6 Rendiconto Finanz'!Y10","v":0},{"$f":"-'6 Rendiconto Finanz'!Z10","v":0},{"$f":"-'6 Rendiconto Finanz'!AA10","v":0},{"$f":"-'6 Rendiconto Finanz'!AB10","v":0},{"$f":"-'6 Rendiconto Finanz'!AC10","v":0},{"$f":"-'6 Rendiconto Finanz'!AD10","v":0},{"$f":"-'6 Rendiconto Finanz'!AE10","v":0},{"$f":"-'6 Rendiconto Finanz'!AF10","v":0},{"$f":"-'6 Rendiconto Finanz'!AG10","v":0},{"$f":"-'6 Rendiconto Finanz'!AH10","v":0},{"$f":"-'6 Rendiconto Finanz'!AI10","v":0},{"$f":"-'6 Rendiconto Finanz'!AJ10","v":0},{"$f":"-'6 Rendiconto Finanz'!AK10","v":0},{"$f":"-'6 Rendiconto Finanz'!AL10","v":0},{"$f":"-'6 Rendiconto Finanz'!AM10","v":0},{"$f":"-'6 Rendiconto Finanz'!AN10","v":0},{"$f":"-'6 Rendiconto Finanz'!AO10","v":0},{"$f":"-'6 Rendiconto Finanz'!AP10","v":0},{"$f":"-'6 Rendiconto Finanz'!AQ10","v":0},{"$f":"-'6 Rendiconto Finanz'!AR10","v":0},{"$f":"-'6 Rendiconto Finanz'!AS10","v":0},{"$f":"-'6 Rendiconto Finanz'!AT10","v":0},{"$f":"-'6 Rendiconto Finanz'!AU10","v":0},{"$f":"-'6 Rendiconto Finanz'!AV10","v":0},{"$f":"-'6 Rendiconto Finanz'!AW10","v":0},{"$f":"-'6 Rendiconto Finanz'!AX10","v":0},{"$f":"-'6 Rendiconto Finanz'!AY10","v":0},{"$f":"-'6 Rendiconto Finanz'!AZ10","v":0},{"$f":"-'6 Rendiconto Finanz'!BA10","v":0},{"$f":"-'6 Rendiconto Finanz'!BB10","v":0},{"$f":"-'6 Rendiconto Finanz'!BC10","v":0},{"$f":"-'6 Rendiconto Finanz'!BD10","v":0},{"$f":"-'6 Rendiconto Finanz'!BE10","v":0},{"$f":"-'6 Rendiconto Finanz'!BF10","v":0},{"$f":"-'6 Rendiconto Finanz'!BG10","v":0},{"$f":"-'6 Rendiconto Finanz'!BH10","v":0},{"$f":"-'6 Rendiconto Finanz'!BI10","v":0},{"$f":"-'6 Rendiconto Finanz'!BJ10","v":0},{"$f":"-'6 Rendiconto Finanz'!BK10","v":0},{"$f":"-'6 Rendiconto Finanz'!BL10","v":0}]
["TOTALE COSTI DIRETTI (1)",null,{"$f":"C6+C7+C8+C10+C12+C13","v":368620.68000000005},378392.1336,389555.59867199999,397346.71064543992,405293.64485834877,413399.51775551576,421667.50811062608,430100.85827283864,438702.87543829542,447476.93294706132,0,0,0,0,0,0,0,0,0,0,0,0,0,0,0,0,0,0,0,0,0,0,0,0,0,0,0,0,0,0,0,0,0,0,0,0,0,0,0,0,0,0,0,0,0,0,0,0,0,0]
["COSTI INDIRETTI",null," "]
["Costi amministrativi complessivi",null,{"$f":"-'6 Rendiconto Finanz'!E12","v":6000},{"$f":"-'6 Rendiconto Finanz'!F12","v":6120},{"$f":"-'6 Rendiconto Finanz'!G12","v":6242.4},{"$f":"-'6 Rendiconto Finanz'!H12","v":6367.2479999999996},{"$f":"-'6 Rendiconto Finanz'!I12","v":6494.5929599999999},{"$f":"-'6 Rendiconto Finanz'!J12","v":6624.4848191999999},{"$f":"-'6 Rendiconto Finanz'!K12","v":6756.9745155840001},{"$f":"-'6 Rendiconto Finanz'!L12","v":6892.1140058956798},{"$f":"-'6 Rendiconto Finanz'!M12","v":7029.9562860135948},{"$f":"-'6 Rendiconto Finanz'!N12","v":7170.5554117338661},{"$f":"-'6 Rendiconto Finanz'!O12","v":0},{"$f":"-'6 Rendiconto Finanz'!P12","v":0},{"$f":"-'6 Rendiconto Finanz'!Q12","v":0},{"$f":"-'6 Rendiconto Finanz'!R12","v":0},{"$f":"-'6 Rendiconto Finanz'!S12","v":0},{"$f":"-'6 Rendiconto Finanz'!T12","v":0},{"$f":"-'6 Rendiconto Finanz'!U12","v":0},{"$f":"-'6 Rendiconto Finanz'!V12","v":0},{"$f":"-'6 Rendiconto Finanz'!W12","v":0},{"$f":"-'6 Rendiconto Finanz'!X12","v":0},{"$f":"-'6 Rendiconto Finanz'!Y12","v":0},{"$f":"-'6 Rendiconto Finanz'!Z12","v":0},{"$f":"-'6 Rendiconto Finanz'!AA12","v":0},{"$f":"-'6 Rendiconto Finanz'!AB12","v":0},{"$f":"-'6 Rendiconto Finanz'!AC12","v":0},{"$f":"-'6 Rendiconto Finanz'!AD12","v":0},{"$f":"-'6 Rendiconto Finanz'!AE12","v":0},{"$f":"-'6 Rendiconto Finanz'!AF12","v":0},{"$f":"-'6 Rendiconto Finanz'!AG12","v":0},{"$f":"-'6 Rendiconto Finanz'!AH12","v":0},{"$f":"-'6 Rendiconto Finanz'!AI12","v":0},{"$f":"-'6 Rendiconto Finanz'!AJ12","v":0},{"$f":"-'6 Rendiconto Finanz'!AK12","v":0},{"$f":"-'6 Rendiconto Finanz'!AL12","v":0},{"$f":"-'6 Rendiconto Finanz'!AM12","v":0},{"$f":"-'6 Rendiconto Finanz'!AN12","v":0},{"$f":"-'6 Rendiconto Finanz'!AO12","v":0},{"$f":"-'6 Rendiconto Finanz'!AP12","v":0},{"$f":"-'6 Rendiconto Finanz'!AQ12","v":0},{"$f":"-'6 Rendiconto Finanz'!AR12","v":0},{"$f":"-'6 Rendiconto Finanz'!AS12","v":0},{"$f":"-'6 Rendiconto Finanz'!AT12","v":0},{"$f":"-'6 Rendiconto Finanz'!AU12","v":0},{"$f":"-'6 Rendiconto Finanz'!AV12","v":0},{"$f":"-'6 Rendiconto Finanz'!AW12","v":0},{"$f":"-'6 Rendiconto Finanz'!AX12","v":0},{"$f":"-'6 Rendiconto Finanz'!AY12","v":0},{"$f":"-'6 Rendiconto Finanz'!AZ12","v":0},{"$f":"-'6 Rendiconto Finanz'!BA12","v":0},{"$f":"-'6 Rendiconto Finanz'!BB12","v":0},{"$f":"-'6 Rendiconto Finanz'!BC12","v":0},{"$f":"-'6 Rendiconto Finanz'!BD12","v":0},{"$f":"-'6 Rendiconto Finanz'!BE12","v":0},{"$f":"-'6 Rendiconto Finanz'!BF12","v":0},{"$f":"-'6 Rendiconto Finanz'!BG12","v":0},{"$f":"-'6 Rendiconto Finanz'!BH12","v":0},{"$f":"-'6 Rendiconto Finanz'!BI12","v":0},{"$f":"-'6 Rendiconto Finanz'!BJ12","v":0},{"$f":"-'6 Rendiconto Finanz'!BK12","v":0},{"$f":"-'6 Rendiconto Finanz'!BL12","v":0}]
["TOTALE COSTI INDIRETTI (2)",null,{"$f":"C16","v":6000},6120,6242.4,6367.2479999999996,6494.5929599999999,6624.4848191999999,6756.9745155840001,6892.1140058956798,7029.9562860135948,7170.5554117338661,0,0,0,0,0,0,0,0,0,0,0,0,0,0,0,0,0,0,0,0,0,0,0,0,0,0,0,0,0,0,0,0,0,0,0,0,0,0,0,0,0,0,0,0,0,0,0,0,0,0]
["TOTALE COSTI DIRETTI E INDIRETTI (1+2)",null,{"$f":"C14+C17","v":374620.68000000005},384512.1336,395797.99867200002,403713.95864543994,411788.23781834875,420024.00257471576,428424.48262621008,436992.97227873432,445732.83172430901,454647.48835879518,0,0,0,0,0,0,0,0,0,0,0,0,0,0,0,0,0,0,0,0,0,0,0,0,0,0,0,0,0,0,0,0,0,0,0,0,0,0,0,0,0,0,0,0,0,0,0,0,0,0]
["Meno redditi da terzi utilizzatori non tradizionali (servizi accessori all'opera)",null,0,0,0,0,0,0,0,0,0,0,0,0,0,0,0,0,0,0,0,0,0,0,0,0,0,0,0,0,0,0,0,0,0,0,0,0,0,0,0,0,0,0,0,0,0,0,0,0,0,0,0,0,0,0,0,0,0,0,0,0]
["FLUSSO DEI COSTI",null,{"$f":"C18-C19","v":374620.68000000005},384512.1336,395797.99867200002,403713.95864543994,411788.23781834875,420024.00257471576,428424.48262621008,436992.97227873432,445732.83172430901,454647.48835879518,0,0,0,0,0,0,0,0,0,0,0,0,0,0,0,0,0,0,0,0,0,0,0,0,0,0,0,0,0,0,0,0,0,0,0,0,0,0,0,0,0,0,0,0,0,0,0,0,0,0]
["IPOTESI TASSO DI SCONTO (tasso di periodo Cassa Depositi e Prestiti)",2.87E-2," ",null,null,null,null,null,null,null,null,null,null,null,null,null,null,null,null,null,null,null,null,null,null,null,null,null,null,null,null,null,null,null,null,null,null,null,null,null,null,null,null,null,null,null,null,null,null,null,null,null,null,null,null,null,null,null,null,null,null,null," "]
["INFLAZIONE PROGRAMMATA",{"$f":"'4 Sviluppo Domanda e Gestione'!G27","v":0.02},null,null,null,null,null,null,null,null,null,null,null,null,null,null,null,null,null,null,null,null,null,null,null,null,null,null,null,null,null,null,null,null,null,null,null,null,null,null,null,null,null,null,null,null,null,null,null,null,null,null,null,null,null,null,null,null,null,null,null,null," "]
["TASSO DI SCONTO NOMINALE",{"$f":"(1+B21)*(1+B22)-1","v":4.927400000000004E-2},null,null,null,null,null,null,null,null,null,null,null,null,null,null,null,null,null,null,null,null,null,null,null,null,null,null,null,null,null,null,null,null,null,null,null,null,null,null,null,null,null,null,null,null,null,null,null,null,null,null,null,null,null,null,null,null,null,null,null,null," "]
["Fattore di sconto",null,{"$f":"C41","v":1},1.049274,1.100975927076,1.1552254149067429,1.2121479920008578,1.2718753721587082,1.3345457592464565,1.4003041669875664,1.4693027545117119,1.5417011784375221,1.6176669623038527,1.6973758842044127,1.781012383522701,1.8687699877083985,1.9608517600827422,2.0574707697090595,2.158850584415704,2.2652257881122035,2.3768425235956445,2.4939590621032965,2.6168464009293744,2.7457888904887686,2.8810848922787122,3.0230474692608538,3.172005110261213,3.3283024900642242,3.4923012669596489,3.6643809195878188,3.8449396250195891,4.0343951801028046,4.2331859682071906,4.4417719736046317,4.6606358458320267,4.890284016499554,5.1312478711285534,5.3840849787305416,5.6493803819725104,5.9277479509138242,6.2198318034471525,6.526307795730208,6.8478850860570182,7.1853077757873915,7.5393566311315396,7.9108508897739158,8.3006501565166353,8.7096563923288368,9.1388160014044484,9.5891220210576513,10.061616419523247,10.557392506978836,11.077597465367711,11.62343500287624,12.196168139207964,12.797122128099298,13.427687523839264,14.08932339888892,14.783560720045774,15.512005890965309,16.276344469236733,17.078345066613906]
["FLUSSO SCONTATO DEI COSTI",null,{"$f":"C20/C24","v":374620.68000000005},366455.4097404491,359497.41401083168,349467.69127134403,339717.79067886074,330239.90539405146,321026.44638286327,312070.03633990791,303363.50378138223,294899.87730279204,0,0,0,0,0,0,0,0,0,0,0,0,0,0,0,0,0,0,0,0,0,0,0,0,0,0,0,0,0,0,0,0,0,0,0,0,0,0,0,0,0,0,0,0,0,0,0,0,0,0]
["A) VALORE ATTUALE DEL PSC DI BASE",{"$f":"SUM(C25:BJ25)","v":3351358.754902482}," ",null,null,null,null,null,null,null,null,null," ",null,null,null,null,null,null,null,null,null," ",null,null,null,null,null,null,null,null,null," ",null,null,null,null,null,null,null,null,null," ",null,null,null,null,null,null,null,null,null," ",null,null,null,null,null,null,null,null,null," "]
[" "]
["CALCOLO DEL VALORE % DEI RISCHI TRASFERIBILI AL SOGGETTO PRIVATO"]
[{"$f":"'Matrice calcolo'!A5","v":"Costo per rischio di costruzione"},{"$f":"'Matrice calcolo'!D10","v":0.19350000000000001}]
[{"$f":"'Matrice calcolo'!A12","v":"Costo per rischio  ritardo tempi costruzione"},{"$f":"'Matrice calcolo'!D17","v":8.0000000000000002E-3}]
[{"$f":"'Matrice calcolo'!A19","v":"Costo rischio di manutenzione"},{"$f":"'Matrice calcolo'!D24","v":0.19}]
[{"$f":"'Matrice calcolo'!A26","v":"Incremento dei costi operativi"},{"$f":"'Matrice calcolo'!D31","v":0.16}]
[{"$f":"'Matrice calcolo'!A33","v":"Costo x rischio di performance"},{"$f":"'Matrice calcolo'!D38","v":0},null,null,null,null,null,null,null,null,null,null,null,null,null,null,null,null,null,null,null,null,null,null,null,null,null,null,null,null,null,null,null,null,null,null,null,null,null,null,null,null,null,null,null,null,null,null,null,null,null,null,null,null,null,null,null,null,null,null,null,null," "," "]
["CALCOLO VALORE RISCHI TRASFERIBILI (flussi nominali)",null,null,null,null,null,null,null,null,null,null,null,null,null,null,null,null,null,null,null,null,null,null,null,null,null,null,null,null,null,null,null,null,null,null,null,null,null,null,null,null,null,null,null,null,null,null,null,null,null,null,null,null,null,null,null,null,null,null,null,null,null," "]
["Incremento dei costi di costruzione",null,{"$f":"(C6+C7+C8)*$B$29","v":1.935E-11},0,0,0,0,0,0,0,0,0,0,0,0,0,0,0,0,0,0,0,0,0,0,0,0,0,0,0,0,0,0,0,0,0,0,0,0,0,0,0,0,0,0,0,0,0,0,0,0,0,0,0,0,0,0,0,0,0,0,0]
["Ritardo nei tempi di realizzazione",null,{"$f":"(C7+C8+C6)*$B$30","v":8.0000000000000002E-13},0,0,0,0,0,0,0,0,0,0,0,0,0,0,0,0,0,0,0,0,0,0,0,0,0,0,0,0,0,0,0,0,0,0,0,0,0,0,0,0,0,0,0,0,0,0,0,0,0,0,0,0,0,0,0,0,0,0,0]
["Rischio di manutenzione",null,{"$f":"C10*$B$31","v":3066.88994},3128.2277388000002,3190.7922935760002,3254.6081394475195,3319.7003022364706,3386.0943082812,3453.8161944468238,3522.8925183357601,3593.3503687024754,3665.2173760765254,0,0,0,0,0,0,0,0,0,0,0,0,0,0,0,0,0,0,0,0,0,0,0,0,0,0,0,0,0,0,0,0,0,0,0,0,0,0,0,0,0,0,0,0,0,0,0,0,0,0]
["Rischio dei costi operativi",null,{"$f":"(C12+C13)*$B$32","v":56396.664639999995},57908.444332800005,59641.912803456005,60834.751059525108,62051.446080715621,63292.475002329928,64558.324502376534,65849.490992424064,67166.480812272552,68509.810428518002,0,0,0,0,0,0,0,0,0,0,0,0,0,0,0,0,0,0,0,0,0,0,0,0,0,0,0,0,0,0,0,0,0,0,0,0,0,0,0,0,0,0,0,0,0,0,0,0,0,0]
["Rischio di performance *",null,{"$f":"'6 Rendiconto Finanz'!E5*$B$33","v":0},{"$f":"'6 Rendiconto Finanz'!F5*$B$33","v":0},{"$f":"'6 Rendiconto Finanz'!G5*$B$33","v":0},{"$f":"'6 Rendiconto Finanz'!H5*$B$33","v":0},{"$f":"'6 Rendiconto Finanz'!I5*$B$33","v":0},{"$f":"'6 Rendiconto Finanz'!J5*$B$33","v":0},{"$f":"'6 Rendiconto Finanz'!K5*$B$33","v":0},{"$f":"'6 Rendiconto Finanz'!L5*$B$33","v":0},{"$f":"'6 Rendiconto Finanz'!M5*$B$33","v":0},{"$f":"'6 Rendiconto Finanz'!N5*$B$33","v":0},{"$f":"'6 Rendiconto Finanz'!O5*$B$33","v":0},{"$f":"'6 Rendiconto Finanz'!P5*$B$33","v":0},{"$f":"'6 Rendiconto Finanz'!Q5*$B$33","v":0},{"$f":"'6 Rendiconto Finanz'!R5*$B$33","v":0},{"$f":"'6 Rendiconto Finanz'!S5*$B$33","v":0},{"$f":"'6 Rendiconto Finanz'!T5*$B$33","v":0},{"$f":"'6 Rendiconto Finanz'!U5*$B$33","v":0},{"$f":"'6 Rendiconto Finanz'!V5*$B$33","v":0},{"$f":"'6 Rendiconto Finanz'!W5*$B$33","v":0},{"$f":"'6 Rendiconto Finanz'!X5*$B$33","v":0},{"$f":"'6 Rendiconto Finanz'!Y5*$B$33","v":0},{"$f":"'6 Rendiconto Finanz'!Z5*$B$33","v":0},{"$f":"'6 Rendiconto Finanz'!AA5*$B$33","v":0},{"$f":"'6 Rendiconto Finanz'!AB5*$B$33","v":0},{"$f":"'6 Rendiconto Finanz'!AC5*$B$33","v":0},{"$f":"'6 Rendiconto Finanz'!AD5*$B$33","v":0},{"$f":"'6 Rendiconto Finanz'!AE5*$B$33","v":0},{"$f":"'6 Rendiconto Finanz'!AF5*$B$33","v":0},{"$f":"'6 Rendiconto Finanz'!AG5*$B$33","v":0},{"$f":"'6 Rendiconto Finanz'!AH5*$B$33","v":0},{"$f":"'6 Rendiconto Finanz'!AI5*$B$33","v":0},{"$f":"'6 Rendiconto Finanz'!AJ5*$B$33","v":0},{"$f":"'6 Rendiconto Finanz'!AK5*$B$33","v":0},{"$f":"'6 Rendiconto Finanz'!AL5*$B$33","v":0},{"$f":"'6 Rendiconto Finanz'!AM5*$B$33","v":0},{"$f":"'6 Rendiconto Finanz'!AN5*$B$33","v":0},{"$f":"'6 Rendiconto Finanz'!AO5*$B$33","v":0},{"$f":"'6 Rendiconto Finanz'!AP5*$B$33","v":0},{"$f":"'6 Rendiconto Finanz'!AQ5*$B$33","v":0},{"$f":"'6 Rendiconto Finanz'!AR5*$B$33","v":0},{"$f":"'6 Rendiconto Finanz'!AS5*$B$33","v":0},{"$f":"'6 Rendiconto Finanz'!AT5*$B$33","v":0},{"$f":"'6 Rendiconto Finanz'!AU5*$B$33","v":0},{"$f":"'6 Rendiconto Finanz'!AV5*$B$33","v":0},{"$f":"'6 Rendiconto Finanz'!AW5*$B$33","v":0},{"$f":"'6 Rendiconto Finanz'!AX5*$B$33","v":0},{"$f":"'6 Rendiconto Finanz'!AY5*$B$33","v":0},{"$f":"'6 Rendiconto Finanz'!AZ5*$B$33","v":0},{"$f":"'6 Rendiconto Finanz'!BA5*$B$33","v":0},{"$f":"'6 Rendiconto Finanz'!BB5*$B$33","v":0},{"$f":"'6 Rendiconto Finanz'!BC5*$B$33","v":0},{"$f":"'6 Rendiconto Finanz'!BD5*$B$33","v":0},{"$f":"'6 Rendiconto Finanz'!BE5*$B$33","v":0},{"$f":"'6 Rendiconto Finanz'!BF5*$B$33","v":0},{"$f":"'6 Rendiconto Finanz'!BG5*$B$33","v":0},{"$f":"'6 Rendiconto Finanz'!BH5*$B$33","v":0},{"$f":"'6 Rendiconto Finanz'!BI5*$B$33","v":0},{"$f":"'6 Rendiconto Finanz'!BJ5*$B$33","v":0},{"$f":"'6 Rendiconto Finanz'!BK5*$B$33","v":0},{"$f":"'6 Rendiconto Finanz'!BL5*$B$33","v":0}]
["TOTALE VALORE DEI RISCHI ",null,{"$f":"SUM(C35:C39)","v":59463.554580000018},61036.672071600005,62832.705097032005,64089.359198972626,65371.146382952094,66678.569310611128,68012.140696823364,69372.383510759828,70759.83118097503,72175.027804594531,0,0,0,0,0,0,0,0,0,0,0,0,0,0,0,0,0,0,0,0,0,0,0,0,0,0,0,0,0,0,0,0,0,0,0,0,0,0,0,0,0,0,0,0,0,0,0,0,0,0]
["Fattore di sconto",null,1,{"$f":"C41*(1+$B$23)","v":1.049274},1.100975927076,1.1552254149067429,1.2121479920008578,1.2718753721587082,1.3345457592464565,1.4003041669875664,1.4693027545117119,1.5417011784375221,1.6176669623038527,1.6973758842044127,1.781012383522701,1.8687699877083985,1.9608517600827422,2.0574707697090595,2.158850584415704,2.2652257881122035,2.3768425235956445,2.4939590621032965,2.6168464009293744,2.7457888904887686,2.8810848922787122,3.0230474692608538,3.172005110261213,3.3283024900642242,3.4923012669596489,3.6643809195878188,3.8449396250195891,4.0343951801028046,4.2331859682071906,4.4417719736046317,4.6606358458320267,4.890284016499554,5.1312478711285534,5.3840849787305416,5.6493803819725104,5.9277479509138242,6.2198318034471525,6.526307795730208,6.8478850860570182,7.1853077757873915,7.5393566311315396,7.9108508897739158,8.3006501565166353,8.7096563923288368,9.1388160014044484,9.5891220210576513,10.061616419523247,10.557392506978836,11.077597465367711,11.62343500287624,12.196168139207964,12.797122128099298,13.427687523839264,14.08932339888892,14.783560720045774,15.512005890965309,16.276344469236733,17.078345066613906]
["FLUSSO SCONTATO DEI RISCHI ",null,{"$f":"C40/C41","v":59463.554580000018},58170.384543598717,57070.008118982863,55477.795391253858,53930.004268741002,52425.395420181776,50962.764090776494,49540.939137529393,48158.78209150325,46815.18624623627,0,0,0,0,0,0,0,0,0,0,0,0,0,0,0,0,0,0,0,0,0,0,0,0,0,0,0,0,0,0,0,0,0,0,0,0,0,0,0,0,0,0,0,0,0,0,0,0,0,0]
["B) VALORE ATTUALE DEL PSC DEI RISCHI",{"$f":"SUM(C42:BJ42)","v":532014.81388880371}," "]
["PSC COMPLESSIVO (A+B) ",{"$f":"B26+B43","v":3883373.5687912856},"Rappresenta il benchmark per la Pubblica Amministrazione che voglia quantificare non solo i flussi di cassa a cui sarebbe esposta nel caso in cui decidesse di svolgere un appalto in modo tradizionale, ma anche i flussi legati alle componenti di rischio potenzialmente trasferibili al privato, il quale dovrà dimostrare di essere in grado di comprimere quel costo. ",null,null,null,null,null,null,null,null,null,"Rappresenta il benchmark per la Pubblica Amministrazione che voglia quantificare non solo i flussi di cassa a cui sarebbe esposta nel caso in cui decidesse di svolgere un appalto in modo tradizionale, ma anche i flussi legati alle componenti di rischio potenzialmente trasferibili al privato, il quale dovrà dimostrare di essere in grado di comprimere quel costo. ",null,null,null,null,null,null,null,null,null,"Rappresenta il benchmark per la Pubblica Amministrazione che voglia quantificare non solo i flussi di cassa a cui sarebbe esposta nel caso in cui decidesse di svolgere un appalto in modo tradizionale, ma anche i flussi legati alle componenti di rischio potenzialmente trasferibili al privato, il quale dovrà dimostrare di essere in grado di comprimere quel costo. ",null,null,null,null,null,null,null,null,null,"Rappresenta il benchmark per la Pubblica Amministrazione che voglia quantificare non solo i flussi di cassa a cui sarebbe esposta nel caso in cui decidesse di svolgere un appalto in modo tradizionale, ma anche i flussi legati alle componenti di rischio potenzialmente trasferibili al privato, il quale dovrà dimostrare di essere in grado di comprimere quel costo. ",null,null,null,null,null,null,null,null,null,"Rappresenta il benchmark per la Pubblica Amministrazione che voglia quantificare non solo i flussi di cassa a cui sarebbe esposta nel caso in cui decidesse di svolgere un appalto in modo tradizionale, ma anche i flussi legati alle componenti di rischio potenzialmente trasferibili al privato, il quale dovrà dimostrare di essere in grado di comprimere quel costo. ",null,null,null,null,null,null,null,null,null,"Rappresenta il benchmark per la Pubblica Amministrazione che voglia quantificare non solo i flussi di cassa a cui sarebbe esposta nel caso in cui decidesse di svolgere un appalto in modo tradizionale, ma anche i flussi legati alle componenti di rischio potenzialmente trasferibili al privato, il quale dovrà dimostrare di essere in grado di comprimere quel costo. "]
[]
["* Sono considerati solo i ricavi di FCF(E5), in quanto qualunque valore di FCF(E6) dovrebbe risultare neutro. "]
["   Se metodo Veronica Vecchi per il PSC del PPP considerare solo il canone di disponibilità (metodo da "]
["   utilizzare se gli introiti arrivano solo da un canone di disponibilità \"Opera Fredda\" - pag. 219 del libro Vecchi-Leone)."]
["   Naturalmente nel caso ipotesi Veronica Vecchi il solo canone di disponibilità (e null'altro) andrà al rigo 13 (costi di gestione)."]
[" - Comunque, anche se opera fredda, il PSC del PPP, come quello della PA, potrà essere calcolato sui soli costi considerando nulli"]
["   i canoni (anche un eventuale canone di concessione è da considerarsi nullo per il calcolo del PSC sia del PPP che per la PA)."]

{"sheet":"PSC Calcolo (sg2)","index":18,"n_rows":58,"n_cols":43,"rows_kept":58,"cut":false,"hidden":true,"merged":[[43,0,43,1],[44,0,44,1],[38,0,38,1],[39,0,39,1],[40,0,40,1],[41,0,41,1],[42,0,42,1],[45,2,45,11],[46,2,46,11],[47,2,47,11],[50,2,50,11],[50,12,50,21],[31,12,37,21],[31,22,37,31],[31,32,37,41],[37,0,37,1],[22,0,22,1],[23,0,23,1],[29,0,29,1],[30,4,30,11],[30,14,30,21],[30,24,30,31],[30,34,30,41],[8,0,8,1],[9,0,9,1],[10,0,10,1],[11,0,11,1],[31,2,37,11],[12,0,12,1],[13,0,13,1],[14,0,14,1],[15,0,15,1],[16,0,16,1],[17,0,17,1],[18,0,18,1],[3,0,3,1],[4,0,4,1],[5,0,5,1],[6,0,6,1],[7,0,7,1],[0,0,0,1],[0,2,0,11],[0,32,0,41],[1,0,1,1],[2,0,2,1]]}
["14 - CALCOLO DEL PUBLIC SECTOR COMPARATOR (PSC)",null,{"$f":"'Matrice calcolo'!A3","v":"Concessione per l'affidamento dei lavori di efficientamento energetico della piscina comunale e del successivo servizio di gestione dell'impianto natatorio "},null,null,null,null,null,null,null,null,null,{"$f":"C1","v":"Concessione per l'affidamento dei lavori di efficientamento energetico della piscina comunale e del successivo servizio di gestione dell'impianto natatorio "},null,null,null,null,null,null,null,null,null,{"$f":"M1","v":"Concessione per l'affidamento dei lavori di efficientamento energetico della piscina comunale e del successivo servizio di gestione dell'impianto natatorio "},null,null,null,null,null,null,null,null,null,{"$f":"W1","v":"Concessione per l'affidamento dei lavori di efficientamento energetico della piscina comunale e del successivo servizio di gestione dell'impianto natatorio "}]
[{"$f":"'Matrice calcolo'!A2","v":"Comune di Guardiagrele"},null,1,{"$f":"C2+1","v":2},3,4,5,6,7,8,9,10,11,12,13,14,15,16,17,18,19,20,21,22,23,24,25,26,27,28,29,30,31,32,33,34,35,36,37,38,39,40]
[null,null,"Importi/Euro","Importi/Euro","Importi/Euro","Importi/Euro","Importi/Euro","Importi/Euro","Importi/Euro","Importi/Euro","Importi/Euro","Importi/Euro","Importi/Euro","Importi/Euro","Importi/Euro","Importi/Euro","Importi/Euro","Importi/Euro","Importi/Euro","Importi/Euro","Importi/Euro","Importi/Euro","Importi/Euro","Importi/Euro","Importi/Euro","Importi/Euro","Importi/Euro","Importi/Euro","Importi/Euro","Importi/Euro","Importi/Euro","Importi/Euro","Importi/Euro","Importi/Euro","Importi/Euro","Importi/Euro","Importi/Euro","Importi/Euro","Importi/Euro","Importi/Euro","Importi/Euro","Importi/Euro"]
["COSTI DIRETTI - APPALTO",null," ",null,null,null,null,null,null,null,null,null,null,null,null,null,null,null,null,null,null,null," ",null,null,null,null,null,null,null,null,null," ",null,null,null,null,null,null,null,null,null," "]
["COSTI DIRETTI DI INVESTIMENTO DI CUI:"]
["Costi di acquisizione dell'area/Rettifiche x contributi eff. Energetico",null,0,-25900,{"$f":"D6","v":-25900},-25900,-25900,-25900,-1400,{"$f":"I6","v":-1400},-1400,-1400,-1400,0,0,0,0,0,0,0,0,0,0,0,0,0,0,0,0,0,0,0,0,0,0,0,0,0,0,0,0,0]
["Costo dell'investimento (rate mutuo + pref. primo anno)",null,8700.92,{"$f":"939576.05/19","v":49451.371052631584},{"$f":"D7","v":49451.371052631584},49451.371052631584,49451.371052631584,49451.371052631584,49451.371052631584,49451.371052631584,49451.371052631584,49451.371052631584,49451.371052631584,49451.371052631584,49451.371052631584,49451.371052631584,49451.371052631584,49451.371052631584,49451.371052631584,49451.371052631584,49451.371052631584,49451.371052631584,0,0,0,0,0,0,0,0,0,0,0,0,0,0,0,0,0,0,0,0,{"$f":"SUM(C7:V7)","v":948276.97000000044}]
["Costi degli impianti e dei macchinari per la disponibilità del servizio",null,0,0,0,0,0,0,0,0,0,0,0,0,0,0,0,0,0,0,0,0,0,0,0,0,0,0,0,0,0,0,0,0,0,0,0,0,0,0,0,0]
["COSTI DIRETTI DI MANUTENZIONE DI CUI:  ",null,"   ",null,null,null,null,null,null,null,null,null,"   ",null,null,null,null,null,null,null,null,null,"   ",null,null,null,null,null,null,null,null,null,"   "]
["Costi di manutenzione e riparazione degli edifici e dei macchinari",null,55469.837500000001,{"$f":"C10","v":55469.837500000001},55469.837500000001,55469.837500000001,55469.837500000001,55469.837500000001,55469.837500000001,55469.837500000001,55469.837500000001,55469.837500000001,55469.837500000001,55469.837500000001,55469.837500000001,55469.837500000001,55469.837500000001,55469.837500000001,55469.837500000001,55469.837500000001,55469.837500000001,55469.837500000001,0,0,0,0,0,0,0,0,0,0,0,0,0,0,0,0,0,0,0,0]
["COSTI DIRETTI DI GESTIONE DI CUI:",null," ",null,null,null,null,null,null,null,null,null,null,null,null,null,null,null,null,null,null,null," ",null,null,null,null,null,null,null,null,null," "]
["Salari e stipendi",null,0,0,0,0,0,0,0,0,0,0,0,0,0,0,0,0,0,0,0,0,0,0,0,0,0,0,0,0,0,0,0,0,0,0,0,0,0,0,0,0]
["Costi di gestione/servizi - Costo energia",null,{"$f":"275325.89*1.22","v":335897.5858},{"$f":"232053.39*1.22","v":283105.13579999999},{"$f":"D13","v":283105.13579999999},283105.13579999999,283105.13579999999,283105.13579999999,283105.13579999999,283105.13579999999,283105.13579999999,283105.13579999999,283105.13579999999,283105.13579999999,283105.13579999999,283105.13579999999,283105.13579999999,283105.13579999999,283105.13579999999,283105.13579999999,283105.13579999999,283105.13579999999,0,0,0,0,0,0,0,0,0,0,0,0,0,0,0,0,0,0,0,0,{"$f":"SUM(C13:V13)","v":5714895.1660000002}]
["TOTALE COSTI DIRETTI (1)",null,{"$f":"C6+C7+C8+C10+C12+C13","v":400068.34330000001},362126.3443526316,362126.3443526316,362126.3443526316,362126.3443526316,362126.3443526316,386626.3443526316,386626.3443526316,386626.3443526316,386626.3443526316,386626.3443526316,388026.3443526316,388026.3443526316,388026.3443526316,388026.3443526316,388026.3443526316,388026.3443526316,388026.3443526316,388026.3443526316,388026.3443526316,0,0,0,0,0,0,0,0,0,0,0,0,0,0,0,0,0,0,0,0,7636068.8860000037]
["COSTI INDIRETTI - APPALTO",null," ",null,null,null,null,null,null,null,null,null,null,null,null,null,null,null,null,null,null,null," ",null,null,null,null,null,null,null,null,null," "]
["Altri oneri",null,0,0,0,0,0,0,0,0,0,0,0,0,0,0,0,0,0,0,0,0,0,0,0,0,0,0,0,0,0,0,0,0,0,0,0,0,0,0,0,0]
["TOTALE COSTI INDIRETTI (2)",null,{"$f":"C16","v":0},0,0,0,0,0,0,0,0,0,0,0,0,0,0,0,0,0,0,0,0,0,0,0,0,0,0,0,0,0,0,0,0,0,0,0,0,0,0,0]
["TOTALE COSTI DIRETTI E INDIRETTI (1+2) - APPALTO",null,{"$f":"C14+C17","v":400068.34330000001},362126.3443526316,362126.3443526316,362126.3443526316,362126.3443526316,362126.3443526316,386626.3443526316,386626.3443526316,386626.3443526316,386626.3443526316,386626.3443526316,388026.3443526316,388026.3443526316,388026.3443526316,388026.3443526316,388026.3443526316,388026.3443526316,388026.3443526316,388026.3443526316,388026.3443526316,0,0,0,0,0,0,0,0,0,0,0,0,0,0,0,0,0,0,0,0,{"$f":"SUM(C18:V18)","v":7636068.8860000037}]
["Meno redditi da terzi utilizzatori non tradizionali (servizi accessori all'opera)",null,0,0,0,0,0,0,0,0,0,0,0,0,0,0,0,0,0,0,0,0,0,0,0,0,0,0,0,0,0,0,0,0,0,0,0,0,0,0,0,0]
["IPOTESI TASSO DI SCONTO",0.03," ",null,null,null,null,null,null,null,null,null,null,null,null,null,null,null,null,null,null,null," ",null,null,null,null,null,null,null,null,null," ",null,null,null,null,null,null,null,null,null," "]
["INFLAZIONE PROGRAMMATA",1.4999999999999999E-2,null,null,null,null," ",null,null,null,null,null,null,null,null,null,null,null,null,null,null,null,null,null,null,null," ",null,null,null,null,null,null,null,null,null," ",null,null,null,null,null," "]
["TASSO DI SCONTO NOMINALE",{"$f":"(1+B20)*(1+B21)-1","v":4.544999999999999E-2},null,null,null,null,null,null,null,null,null,null,null,null,null,null,null,null,null,null,null,null,null,null,null,null,null,null,null,null,null,null,null,null,null,null,null,null,null,null,null,null," "]
["Fattore di sconto",null,1,{"$f":"C23*(1+$B$22)","v":1.04545},1.0929657024999999,1.1426409936786248,1.1945740268413183,1.2488674163612563,1.3056284404348755,1.3649692530526405,1.4270071056038829,1.4918645785535793,1.5596698236488395,1.6305568171336793,1.704665624472405,1.7821426771046758,1.8631410617790833,1.9478208230369427,2.0363492794439719,2.1289013541947006,2.2256599207428498,2.3268161641406122,2.4325699588008032,2.5431302634282997,2.6587155339011161,2.779554154916922,2.9058848912578963,3.0379573595655676,3.1760325215578225,3.3203831996626256,3.4712946160872917,3.6290649563884592,3.7940059586563146,3.9664435294772442,4.1467183878919851,4.335186738621676,4.5322209758920309,4.7382104192463235,4.9535620828010689,5.1787014794643778,5.4140734617060335,5.6601431005405729]
["FLUSSO DEI COSTI SCONTATI - APPALTO",null,{"$f":"(C18-C19)/C23","v":400068.34330000001},346383.226699155,331324.52694930893,316920.49064929836,303142.65689348924,289963.80208856403,296122.79602599272,283249.12336887728,270935.12207076116,259156.46092186254,247889.86648989673,237971.67953627935,227626.074452417,217730.23525985653,208264.60879033577,199210.49193202521,190549.99467408791,182266.00475784388,174342.15386469357,166762.78527399068,0,0,0,0,0,0,0,0,0,0,0,0,0,0,0,0,0,0,0,0,{"$f":"SUM(C24:V24)","v":5149880.4439987363}]
["A) PSC GREZZO (al netto dei rischi) - APPALTO",{"$f":"SUM(C24:V24)","v":5149880.4439987363},"Valore ante attualizzazione",{"$f":"AQ14","v":7636068.8860000037},null,null,null,null,null,null,null,null,{"$f":"C25","v":"Valore ante attualizzazione"},7636068.8860000037,null,null,null,null,null,null,null,null,{"$f":"M25","v":"Valore ante attualizzazione"},7636068.8860000037,null,null,null,null,null,null,null,null,{"$f":"W25","v":"Valore ante attualizzazione"},7636068.8860000037]
["CANONI PAGATI DALL'ENTE IVATI - PF",null,457500,{"$f":"C26","v":457500},457500,457500,457500,457500,457500,457500,457500,457500,457500,457500,457500,457500,457500,457500,457500,457500,457500,457500,0,0,0,0,0,0,0,0,0,0,0,0,0,0,0,0,0,0,0,0,{"$f":"SUM(C26:V26)","v":9150000}]
["Altri costi ivati",null,0,0,0,0,0,0,0,0,0,0,0,0,0,0,0,0,0,0,0,0,0,0,0,0,0,0,0,0,0,0,0,0,0,0,0,0,0,0,0,0,{"$f":"SUM(C27:AP27)","v":0}]
["Altri costi ivati2",null,25000,{"$f":"C28","v":25000},25000,25000,25000,25000,25000,25000,25000,25000,25000,25000,25000,25000,25000,25000,25000,25000,25000,25000,0,0,0,0,0,0,0,0,0,0,0,0,0,0,0,0,0,0,0,0,{"$f":"SUM(C28:V28)","v":500000}]
["TOTALE COSTI DELLA P.A. SE PROJECT FINANCING",null,{"$f":"SUM(C26:C28)","v":482500},482500,482500,482500,482500,482500,482500,482500,482500,482500,482500,482500,482500,482500,482500,482500,482500,482500,482500,482500,0,0,0,0,0,0,0,0,0,0,0,0,0,0,0,0,0,0,0,0,{"$f":"SUM(AQ26:AQ28)","v":9650000}]
["FLUSSO SCONTATO DEI CANONI PAGATI DALL'ENTE",null,{"$f":"C29/C23","v":482500},461523.74575541634,441459.41532872576,422267.36365079711,403909.66918628063,386350.05900452496,369553.83710796782,353487.81587638607,338120.25049154536,323420.77621267911,309360.34837885993,295911.18501971394,283046.71196108271,270741.51031716744,258971.26626540479,247712.72300483505,236943.63480303698,226642.72304083119,216789.63416790013,207364.89948625007,0,0,0,0,0,0,0,0,0,0,0,0,0,0,0,0,0,0,0,0,{"$f":"SUM(C30:V30)","v":6536077.5690594064}]
["B) CNP DEL PROGETTO  - PROJECT FINANCING (rischi inclusi nel progetto)",{"$f":"SUM(C30:V30)","v":6536077.5690594064},"Valore ante attualizzazione",{"$f":"AQ29","v":9650000}," ",null,null,null,null,null,null,null,"Valore ante attualizzazione",{"$f":"D31","v":9650000}," ",null,null,null,null,null,null,null,"Valore ante attualizzazione",{"$f":"N31","v":9650000}," ",null,null,null,null,null,null,null,"Valore ante attualizzazione",{"$f":"X31","v":9650000}," ",null,null,null,null,null,null,null," "]
["CALCOLO DEL VALORE % DEI RISCHI TRASFERIBILI AL SOGGETTO PRIVATO"]
[{"$f":"'Matrice calcolo'!A5","v":"Costo per rischio di costruzione"},{"$f":"'Matrice calcolo'!D10","v":0.19350000000000001}]
[{"$f":"'Matrice calcolo'!A12","v":"Costo per rischio  ritardo tempi costruzione"},{"$f":"'Matrice calcolo'!D17","v":8.0000000000000002E-3}]
[{"$f":"'Matrice calcolo'!A19","v":"Costo rischio di manutenzione"},{"$f":"'Matrice calcolo'!D24","v":0.19}]
[{"$f":"'Matrice calcolo'!A26","v":"Incremento dei costi operativi"},{"$f":"'Matrice calcolo'!D31","v":0.16}]
[{"$f":"'Matrice calcolo'!A33","v":"Costo x rischio di performance"},{"$f":"'Matrice calcolo'!D38","v":0},null,null,null,null,null,null,null,null,null,null,null,null,null,null,null,null,null,null,null,null,null,null,null,null,null,null,null,null,null,null,null,null,null,null,null,null,null,null,null,null," "]
["CALCOLO VALORE RISCHI TRASFERIBILI (flussi nominali)",null,null,null,null,null,null,null,null,null,null,null,null,null,null,null,null,null,null,null,null,null,null,null,null,null,null,null,null,null,null,null,null,null,null,null,null,null,null,null,null,null," "]
["Incremento dei costi di costruzione",null,{"$f":"'2 Investimento'!G27*$B$33","v":2.1285000000000001E-11},0,0,0,0,0,0,0,0,0,0,0,0,0,0,0,0,0,0,0,0,0,0,0,0,0,0,0,0,0,0,0,0,0,0,0,0,0,0,0]
["Ritardo nei tempi di realizzazione ",null,{"$f":"'2 Investimento'!G27*$B$34","v":8.8000000000000009E-13},0,0,0,0,0,0,0,0,0,0,0,0,0,0,0,0,0,0,0,0,0,0,0,0,0,0,0,0,0,0,0,0,0,0,0,0,0,0,0]
["Rischio di manutenzione",null,{"$f":"C10*$B$35","v":10539.269125000001},10539.269125000001,10539.269125000001,10539.269125000001,10539.269125000001,10539.269125000001,10539.269125000001,10539.269125000001,10539.269125000001,10539.269125000001,10539.269125000001,10539.269125000001,10539.269125000001,10539.269125000001,10539.269125000001,10539.269125000001,10539.269125000001,10539.269125000001,10539.269125000001,10539.269125000001,0,0,0,0,0,0,0,0,0,0,0,0,0,0,0,0,0,0,0,0]
["Rischio dei costi operativi + oneri prefinanziamento (solo 1° anno)",null,{"$f":"(C12+C13)*$B$36","v":53743.613728000004},45296.821728000003,45296.821728000003,45296.821728000003,45296.821728000003,45296.821728000003,45296.821728000003,45296.821728000003,45296.821728000003,45296.821728000003,45296.821728000003,45296.821728000003,45296.821728000003,45296.821728000003,45296.821728000003,45296.821728000003,45296.821728000003,45296.821728000003,45296.821728000003,45296.821728000003,0,0,0,0,0,0,0,0,0,0,0,0,0,0,0,0,0,0,0,0]
["Rischio di performance",null,0,0,0,0,0,0,0,0,0,0,0,0,0,0,0,0,0,0,0,0,0,0,0,0,0,0,0,0,0,0,0,0,0,0,0,0,0,0,0,0]
["TOTALE VALORE DEI RISCHI ",null,{"$f":"SUM(C39:C43)","v":64282.882853000025},55836.090853000002,55836.090853000002,55836.090853000002,55836.090853000002,55836.090853000002,55836.090853000002,55836.090853000002,55836.090853000002,55836.090853000002,55836.090853000002,55836.090853000002,55836.090853000002,55836.090853000002,55836.090853000002,55836.090853000002,55836.090853000002,55836.090853000002,55836.090853000002,55836.090853000002,0,0,0,0,0,0,0,0,0,0,0,0,0,0,0,0,0,0,0,0]
["FLUSSO SCONTATO DEI RISCHI ",null,{"$f":"C44/C23","v":64282.882853000025},53408.666940551921,51086.773103019674,48865.821515155847,46741.423803296042,44709.382374380446,42765.682121938349,40906.482492647519,39128.109897792841,37427.050454629913,35799.943043311403,34243.572665657281,32754.864092646501,31330.875788078341,29968.79409639709,28665.927683195841,27419.702217414357,26227.655284723663,25087.431522046641,23996.77796360098,0,0,0,0,0,0,0,0,0,0,0,0,0,0,0,0,0,0,0,0]
["C) VALORE ATTUALE DEL PSC DEI RISCHI",{"$f":"SUM(C45:V45)","v":764817.81991348462},"Valore attuale del rischio massimo se appalto diretto (PSC dei rischi)",null,null,null,null,null,null,null,null,null,{"$f":"C46","v":"Valore attuale del rischio massimo se appalto diretto (PSC dei rischi)"},null,null,null,null,null,null,null,null,null,{"$f":"M46","v":"Valore attuale del rischio massimo se appalto diretto (PSC dei rischi)"},null,null,null,null,null,null,null,null,null,{"$f":"W46","v":"Valore attuale del rischio massimo se appalto diretto (PSC dei rischi)"}]
["D) PSC COSTO GLOBALE PER L'ENTE (A+C)",{"$f":"B25+B46","v":5914698.2639122214},"Valore di massima esposizione se intervento diretto/appalto (PSC grezzo + PSC dei rischi) ",null,null,null,null,null,null,null,null,null,"Valore di massima esposizione se intervento diretto/appalto (PSC grezzo + PSC dei rischi) ",null,null,null,null,null,null,null,null,null,"Valore di massima esposizione se intervento diretto/appalto (PSC grezzo + PSC dei rischi) ",null,null,null,null,null,null,null,null,null,"Valore di massima esposizione se intervento diretto/appalto (PSC grezzo + PSC dei rischi) "]
["E) VALUE FOR MONEY (D-B)",{"$f":"B47-B31","v":-621379.30514718499},"Il Value For Money risulta negativo, cioè il CNP (Corrispettivo Netto del Progetto) risulta superiore al PSC globale (costo reale per la P.A.) - Project Financing non conveniente per la P.A.",null,null,null,null,null,null,null,null,null,"Il Value For Money risulta negativo, cioè il CNP (Corrispettivo Netto del Progetto) risulta superiore al PSC globale (costo reale per la P.A.) - Project Financing non conveniente per la P.A.",null,null,null,null,null,null,null,null,null,"Il Value For Money risulta negativo, cioè il CNP (Corrispettivo Netto del Progetto) risulta superiore al PSC globale (costo reale per la P.A.) - Project Financing non conveniente per la P.A.",null,null,null,null,null,null,null,null,null,"Il Value For Money risulta negativo, cioè il CNP (Corrispettivo Netto del Progetto) risulta superiore al PSC globale (costo reale per la P.A.) - Project Financing non conveniente per la P.A."]
["PAGAMENTI DELL'ENTE AL CONCESSIONARIO",5927993.4000000004]
[]
["PSC COMPLESSIVO (A+B) ",{"$f":"B31+B46","v":7300895.3889728915},"Rappresenta il benchmark per la Pubblica Amministrazione che voglia quantificare non solo i flussi di cassa a cui sarebbe esposta nel caso in cui decidesse di svolgere un appalto in modo tradizionale, ma anche i flussi legati alle componenti di rischio potenzialmente trasferibili al privato, il quale dovrà dimostrare di essere in grado di comprimere quel costo. ",null,null,null,null,null,null,null,null,null,"Rappresenta il benchmark per la Pubblica Amministrazione che voglia quantificare non solo i flussi di cassa a cui sarebbe esposta nel caso in cui decidesse di svolgere un appalto in modo tradizionale, ma anche i flussi legati alle componenti di rischio potenzialmente trasferibili al privato, il quale dovrà dimostrare di essere in grado di comprimere quel costo. "]
[]
["* Sono considerati solo i ricavi di FCF(E5), in quanto qualunque valore di FCF(E6) dovrebbe risultare neutro. "]
["   Se metodo Veronica Vecchi per il PSC del PPP considerare solo il canone di disponibilità (metodo da ",null,null,null,null,null," "]
["   utilizzare se gli introiti arrivano solo da un canone di disponibilità \"Opera Fredda\" - pag. 219 del libro Vecchi-Leone)."]
["   Naturalmente nel caso ipotesi Veronica Vecchi il solo canone di disponibilità (e null'altro) andrà al rigo 13 (costi di gestione).",null,null,null,null,null,4985632.47]
[" - Comunque, anche se opera fredda, il PSC del PPP, come quello della PA, potrà essere calcolato sui soli costi considerando nulli"]
["   i canoni (anche un eventuale canone di concessione è da considerarsi nullo per il calcolo del PSC sia del PPP che per la PA)."]

{"sheet":"ACB costi-benefici-ind.","index":19,"n_rows":33,"n_cols":5,"rows_kept":33,"cut":false,"hidden":true,"merged":[[21,0,21,2],[29,0,29,1],[31,0,31,1],[32,0,32,1],[22,0,22,1],[23,0,23,1],[24,0,24,1],[25,0,25,1],[26,0,26,1],[27,0,27,1],[28,0,28,1],[16,0,16,1],[17,0,17,1],[18,0,18,1],[19,0,19,1],[20,0,20,1],[10,0,10,1],[12,0,12,1],[13,0,13,2],[14,0,14,1],[15,0,15,1],[5,0,5,1],[6,0,6,1],[7,0,7,1],[8,0,8,2],[9,0,9,1],[0,0,0,2],[1,1,1,2],[2,0,2,1],[3,0,3,1],[4,0,4,1]]}
["15   -   Quantificazione dei costi e benefici indiretti del Progetto"]
[{"$f":"'2 Descrizione Progetto'!C3","v":"Comune di Guardiagrele"},{"$f":"'2 Descrizione Progetto'!C4","v":"Concessione per l'affidamento dei lavori di efficientamento energetico della piscina comunale e del successivo servizio di gestione dell'impianto natatorio "}]
["COSTI DIRETTI",null,"€"]
["COSTI DI INVESTIMENTO (dati automatici da Piano Economico Finanziario)",null,0]
["COSTI DI GESTIONE OPERATIVA (dati automatici da Piano Economico Finanziario)",null,0]
["MANUTENZIONE ORDINARIA (dati automatici da Piano Economico Finanziario)",null,0]
["MANUTENZIONE STRAORDINARIA (dati automatici da Piano Economico Finanziario)",null,0]
["TOTALE COSTI DIRETTI (dati automatici da Piano Economico Finanziario)",null,0]
[" "]
["BENEFICI DIRETTI (rientri tariffari o canoni di locazione)",null,"€"]
["Ricavi tariffari e ancillari (dati automatici da Piano Economico Finanziario)"]
["Canone di disponibilità (dati automatici da Piano Economico Finanziario)"]
["TOTALE BENEFICI DIRETTI (dati automatici da Piano Economico Finanziario)"]
[" "]
["COSTI INDIRETTI",null,"€"]
["Costi indiretti per inquinamento ambientale (costi annui)",null,80000]
["Costi indiretti2",null,0]
["Costi indiretti3",null,0]
["Costi indiretti4",null,0]
["Costi indiretti5",null,0]
["TOTALE COSTI INDIRETTI",null,{"$f":"SUM(C16:C20)","v":80000}]
[]
["BENEFICI INDIRETTI",null,"€"]
["Incremento valore immobiliare, inteso quale incremento di valore degli alloggi civili e locali commerciali  che insistono all'interno dell'area ove viene realizzato l'investimento (valore da inserire per intero nel primo anno successivo alla realizzazione per l'analisi costi-benefici).",null,5000000]
["Altri benefici indiretti1 (risparmio carburante)",null,5000]
["Altri benefici indiretti2",null,0]
["Altri benefici indiretti3",null,0]
["Altri benefici indiretti4",null,0]
["Altri benefici indiretti5",null,0]
["TOTALE BENEFICI INDIRETTI",null,{"$f":"SUM(C24:C29)","v":5005000}]
[]
["Vita economica o durata di vita del progetto. Periodo entro il quale si prevede l'opera adempia alle prestazioni funzionali per le quali è stata concepita.",null,{"$f":"'ACB Calcolo '!D39","v":100},null," "]
["Valore dell'area o dell'edificio. Valore dell'area su cui l'opera insiste o dell'edificio che la contiene.",null,{"$f":"'ACB Calcolo '!D41","v":500000},null," "]

{"sheet":"ACB Calcolo ","index":20,"n_rows":49,"n_cols":67,"rows_kept":49,"cut":false,"hidden":true,"merged":[[42,2,42,3],[25,0,25,1],[29,0,29,1],[30,0,30,2],[31,0,31,2],[32,0,32,2],[33,0,33,2],[34,0,34,2],[23,0,23,1],[38,1,38,2],[39,1,39,2],[40,1,40,2],[41,1,41,2],[15,0,15,1],[17,0,17,1],[19,0,19,1],[20,0,20,1],[22,0,22,1],[8,0,8,1],[9,0,9,1],[11,0,11,1],[12,0,12,1],[13,0,13,1],[0,14,0,16],[0,17,0,18],[1,0,1,1],[2,0,2,1],[7,0,7,1],[0,0,0,1],[0,2,0,4],[0,5,0,6],[0,8,0,10],[0,11,0,12],[0,35,0,36],[0,38,0,40],[0,62,0,64],[1,65,42,65],[34,53,34,58],[34,59,34,64],[35,53,35,58],[35,59,35,64],[0,41,0,42],[0,44,0,46],[0,47,0,48],[0,50,0,52],[0,53,0,54],[0,56,0,58],[0,59,0,60],[35,41,35,46],[0,20,0,22],[0,23,0,24],[0,26,0,28],[0,29,0,30],[0,32,0,34],[35,47,35,52],[35,1,35,4],[35,5,35,10],[35,11,35,16],[35,17,35,22],[35,23,35,28],[35,29,35,34],[35,35,35,40],[34,41,34,46],[34,47,34,52],[33,5,33,10],[34,5,34,10],[34,11,34,16],[34,17,34,22],[34,23,34,28],[34,29,34,34],[34,35,34,40],[33,53,33,58],[33,59,33,64],[33,11,33,16],[33,17,33,22],[33,23,33,28],[33,29,33,34],[33,35,33,40],[33,41,33,46],[33,47,33,52]]}
["16 - Analisi costi-benefici istantanei (ACB)",null,{"$f":"'2 Descrizione Progetto'!C3","v":"Comune di Guardiagrele"},null,null,"Annualità                                   Þ",null,{"$f":"'2 Descrizione Progetto'!D24","v":11},"(1) FONTE DI BASE: NOTA METODOLOGICA PER L’ANALISI ECONOMICA COSTI-BENEFICI DEI PROGETTI DI INVESTIMENTO PUBBLICO - G. Gori, P. Lattarulo, S. Rosignoli ",null,null,"Annualità                                   Þ",null,{"$f":"H1","v":11},"(1) FONTE DI BASE: NOTA METODOLOGICA PER L’ANALISI ECONOMICA COSTI-BENEFICI DEI PROGETTI DI INVESTIMENTO PUBBLICO - G. Gori, P. Lattarulo, S. Rosignoli ",null,null,"Annualità                                   Þ",null,{"$f":"N1","v":11},"(1) FONTE DI BASE: NOTA METODOLOGICA PER L’ANALISI ECONOMICA COSTI-BENEFICI DEI PROGETTI DI INVESTIMENTO PUBBLICO - G. Gori, P. Lattarulo, S. Rosignoli ",null,null,"Annualità                                   Þ",null,{"$f":"T1","v":11},"(1) FONTE DI BASE: NOTA METODOLOGICA PER L’ANALISI ECONOMICA COSTI-BENEFICI DEI PROGETTI DI INVESTIMENTO PUBBLICO - G. Gori, P. Lattarulo, S. Rosignoli ",null,null,"Annualità                                   Þ",null,{"$f":"Z1","v":11},"(1) FONTE DI BASE: NOTA METODOLOGICA PER L’ANALISI ECONOMICA COSTI-BENEFICI DEI PROGETTI DI INVESTIMENTO PUBBLICO - G. Gori, P. Lattarulo, S. Rosignoli ",null,null,"Annualità                                   Þ",null,{"$f":"AF1","v":11},"(1) FONTE DI BASE: NOTA METODOLOGICA PER L’ANALISI ECONOMICA COSTI-BENEFICI DEI PROGETTI DI INVESTIMENTO PUBBLICO - G. Gori, P. Lattarulo, S. Rosignoli ",null,null,"Annualità                                   Þ",null,{"$f":"AL1","v":11},"(1) FONTE DI BASE: NOTA METODOLOGICA PER L’ANALISI ECONOMICA COSTI-BENEFICI DEI PROGETTI DI INVESTIMENTO PUBBLICO - G. Gori, P. Lattarulo, S. Rosignoli ",null,null,"Annualità                                   Þ",null,{"$f":"AR1","v":11},"(1) FONTE DI BASE: NOTA METODOLOGICA PER L’ANALISI ECONOMICA COSTI-BENEFICI DEI PROGETTI DI INVESTIMENTO PUBBLICO - G. Gori, P. Lattarulo, S. Rosignoli ",null,null,"Annualità                                   Þ",null,{"$f":"AX1","v":11},"(1) FONTE DI BASE: NOTA METODOLOGICA PER L’ANALISI ECONOMICA COSTI-BENEFICI DEI PROGETTI DI INVESTIMENTO PUBBLICO - G. Gori, P. Lattarulo, S. Rosignoli ",null,null,"Annualità                                   Þ",null,{"$f":"BD1","v":11},"(1) FONTE DI BASE: NOTA METODOLOGICA PER L’ANALISI ECONOMICA COSTI-BENEFICI DEI PROGETTI DI INVESTIMENTO PUBBLICO - G. Gori, P. Lattarulo, S. Rosignoli ",null,null,"(1) Correzione fiscale e di mercato"]
[{"$f":"'2 Descrizione Progetto'!C4","v":"Concessione per l'affidamento dei lavori di efficientamento energetico della piscina comunale e del successivo servizio di gestione dell'impianto natatorio "},null,"Coeff. correzione fiscale e di mercato (1)","€","%",{"$f":"'6 Rendiconto Finanz'!E4","v":1},{"$f":"F2+1","v":2},3,4,5,6,7,8,9,10,11,12,13,14,15,16,17,18,19,20,21,22,23,24,25,26,27,28,29,30,31,32,33,34,35,36,37,38,39,40,41,42,43,44,45,46,47,48,49,50,51,52,53,54,55,56,57,58,59,60,"La correzione fiscale si rende necessaria per evitare che, ad esempio, siano considerati tra i costi importi che costituiscono effettivamente parte della spesa, ma che rientreranno in futuro nelle disponibilità finanziarie dell’amministrazione - e quindi della collettività - sotto forma di gettito fiscale. Quest’ultimo punto implica che vengano stornati dagli importi indicati non soltanto le relative componenti di imposizione fiscale indiretta (IVA, accise), ma anche i rientri in termini di imposte indirette e dirette associati al complesso delle interazioni che originano dalla spesa in oggetto. \n\nAlla correzione fiscale si aggiungono quelle attribuibili alle imperfezioni di mercato non fiscali. In questo caso l’intento è quello di rimuovere dai prezzi di mercato le distorsioni che li allontano dai prezzi efficienti (o dai “veri” prezzi economici, ossia quelli che riflettono la scarsità relativa delle risorse impiegate nella produzione dei relativi beni o servizi), derivanti da:\na) potere di mercato (ossia allentamento dal paradigma di concorrenza perfetta);\nb) presenza di disoccupazione involontaria nel mercato del lavoro;\nc) divergenze, per i beni e servizi scambiati all’esterno dell’area valutaria comune, dal  tasso di cambio di equilibrio, coerente con la cd. “parità dei poteri d’acquisto”.\n\nLe voci di costo che, nella pratica, sono oggetto di queste correzioni sono, oltre alla manodopera, quelle per i fattori produttivi (input) scambiabili sul mercato internazionale (input energetici, di origine importata). Nel caso della manodopera, ad esempio, è necessario tenere conto del fatto che, in presenza di disoccupazione, i salari correnti sono superiori al costo opportunità del lavoro. Il fattore di conversione comunemente utilizzato è quello che trasforma il salario nominale nel cosiddetto “salario ombra”. Quest’ultimo equivale a un salario nominale corretto per la componente contributiva in misura proporzionale al tasso di disoccupazione. La logica sottostante a quest’operazione risiede nel fatto che con l’aumento della disoccupazione involontaria, il livello salariale tende a quello vigente nell’ambito dell’economia sommersa, caratterizzato da assenza di contributi previdenziali e sulla sicurezza.\nNel caso dei beni commerciabili, la teoria vorrebbe la conversione di tutti i prezzi in prezzi alla frontiera (f.o.b. per i prodotti esportati e c.i.f. per quelli importati). In questo caso, tuttavia, si applica un coefficiente di conversione standard, che viene comunemente utilizzato in letteratura qualora non si possa risalire con precisione ai prezzi internazionali e tiene conto del valore di importazioni e esportazioni al netto delle relative componenti fiscali/tariffarie.\nLa correzione fiscale e di mercato si traduce operativamente nell’applicazione di coefficienti o fattori di conversione che, moltiplicati per ciascun valore, ne permettono la correzione per la componente fiscale e per la componente attribuibile alle imperfezioni di mercato. FONTE DI BASE: NOTA METODOLOGICA PER L’ANALISI ECONOMICA COSTI-BENEFICI DEI PROGETTI DI INVESTIMENTO PUBBLICO - G. Gori, P. Lattarulo, S. Rosignoli \n"]
["Costi per opere civili ",null,0.82540000000000002,{"$f":"SUM(F3:BM3)","v":8.2540000000000007E-11},{"$f":"D3/D14","v":2.9704559483359357E-17},{"$f":"'5 Foglio di elaborazione'!E16*$C$3","v":8.2540000000000007E-11},{"$f":"'5 Foglio di elaborazione'!F16*$C$3","v":0},{"$f":"'5 Foglio di elaborazione'!G16*$C$3","v":0},{"$f":"'5 Foglio di elaborazione'!H16*$C$3","v":0},{"$f":"'5 Foglio di elaborazione'!I16*$C$3","v":0},{"$f":"'5 Foglio di elaborazione'!J16*$C$3","v":0},{"$f":"'5 Foglio di elaborazione'!K16*$C$3","v":0},{"$f":"'5 Foglio di elaborazione'!L16*$C$3","v":0},{"$f":"'5 Foglio di elaborazione'!M16*$C$3","v":0},{"$f":"'5 Foglio di elaborazione'!N16*$C$3","v":0},{"$f":"'5 Foglio di elaborazione'!O16*$C$3","v":0},{"$f":"'5 Foglio di elaborazione'!P16*$C$3","v":0},{"$f":"'5 Foglio di elaborazione'!Q16*$C$3","v":0},{"$f":"'5 Foglio di elaborazione'!R16*$C$3","v":0},{"$f":"'5 Foglio di elaborazione'!S16*$C$3","v":0},{"$f":"'5 Foglio di elaborazione'!T16*$C$3","v":0},{"$f":"'5 Foglio di elaborazione'!U16*$C$3","v":0},{"$f":"'5 Foglio di elaborazione'!V16*$C$3","v":0},{"$f":"'5 Foglio di elaborazione'!W16*$C$3","v":0},{"$f":"'5 Foglio di elaborazione'!X16*$C$3","v":0},{"$f":"'5 Foglio di elaborazione'!Y16*$C$3","v":0},{"$f":"'5 Foglio di elaborazione'!Z16*$C$3","v":0},{"$f":"'5 Foglio di elaborazione'!AA16*$C$3","v":0},{"$f":"'5 Foglio di elaborazione'!AB16*$C$3","v":0},{"$f":"'5 Foglio di elaborazione'!AC16*$C$3","v":0},{"$f":"'5 Foglio di elaborazione'!AD16*$C$3","v":0},{"$f":"'5 Foglio di elaborazione'!AE16*$C$3","v":0},{"$f":"'5 Foglio di elaborazione'!AF16*$C$3","v":0},{"$f":"'5 Foglio di elaborazione'!AG16*$C$3","v":0},{"$f":"'5 Foglio di elaborazione'!AH16*$C$3","v":0},{"$f":"'5 Foglio di elaborazione'!AI16*$C$3","v":0},{"$f":"'5 Foglio di elaborazione'!AJ16*$C$3","v":0},{"$f":"'5 Foglio di elaborazione'!AK16*$C$3","v":0},{"$f":"'5 Foglio di elaborazione'!AL16*$C$3","v":0},{"$f":"'5 Foglio di elaborazione'!AM16*$C$3","v":0},{"$f":"'5 Foglio di elaborazione'!AN16*$C$3","v":0},{"$f":"'5 Foglio di elaborazione'!AO16*$C$3","v":0},{"$f":"'5 Foglio di elaborazione'!AP16*$C$3","v":0},{"$f":"'5 Foglio di elaborazione'!AQ16*$C$3","v":0},{"$f":"'5 Foglio di elaborazione'!AR16*$C$3","v":0},{"$f":"'5 Foglio di elaborazione'!AS16*$C$3","v":0},{"$f":"'5 Foglio di elaborazione'!AT16*$C$3","v":0},{"$f":"'5 Foglio di elaborazione'!AU16*$C$3","v":0},{"$f":"'5 Foglio di elaborazione'!AV16*$C$3","v":0},{"$f":"'5 Foglio di elaborazione'!AW16*$C$3","v":0},{"$f":"'5 Foglio di elaborazione'!AX16*$C$3","v":0},{"$f":"'5 Foglio di elaborazione'!AY16*$C$3","v":0},{"$f":"'5 Foglio di elaborazione'!AZ16*$C$3","v":0},{"$f":"'5 Foglio di elaborazione'!BA16*$C$3","v":0},{"$f":"'5 Foglio di elaborazione'!BB16*$C$3","v":0},{"$f":"'5 Foglio di elaborazione'!BC16*$C$3","v":0},{"$f":"'5 Foglio di elaborazione'!BD16*$C$3","v":0},{"$f":"'5 Foglio di elaborazione'!BE16*$C$3","v":0},{"$f":"'5 Foglio di elaborazione'!BF16*$C$3","v":0},{"$f":"'5 Foglio di elaborazione'!BG16*$C$3","v":0},{"$f":"'5 Foglio di elaborazione'!BH16*$C$3","v":0},{"$f":"'5 Foglio di elaborazione'!BI16*$C$3","v":0},{"$f":"'5 Foglio di elaborazione'!BJ16*$C$3","v":0},{"$f":"'5 Foglio di elaborazione'!BK16*$C$3","v":0},{"$f":"'5 Foglio di elaborazione'!BL16*$C$3","v":0}]
["Costi per impianti e macchinari",null,0.86319999999999997,0,{"$f":"D4/D14","v":0},{"$f":"'5 Foglio di elaborazione'!E17*$C$4","v":0},{"$f":"'5 Foglio di elaborazione'!F17*$C$4","v":0},{"$f":"'5 Foglio di elaborazione'!G17*$C$4","v":0},{"$f":"'5 Foglio di elaborazione'!H17*$C$4","v":0},{"$f":"'5 Foglio di elaborazione'!I17*$C$4","v":0},{"$f":"'5 Foglio di elaborazione'!J17*$C$4","v":0},{"$f":"'5 Foglio di elaborazione'!K17*$C$4","v":0},{"$f":"'5 Foglio di elaborazione'!L17*$C$4","v":0},{"$f":"'5 Foglio di elaborazione'!M17*$C$4","v":0},{"$f":"'5 Foglio di elaborazione'!N17*$C$4","v":0},{"$f":"'5 Foglio di elaborazione'!O17*$C$4","v":0},{"$f":"'5 Foglio di elaborazione'!P17*$C$4","v":0},{"$f":"'5 Foglio di elaborazione'!Q17*$C$4","v":0},{"$f":"'5 Foglio di elaborazione'!R17*$C$4","v":0},{"$f":"'5 Foglio di elaborazione'!S17*$C$4","v":0},{"$f":"'5 Foglio di elaborazione'!T17*$C$4","v":0},{"$f":"'5 Foglio di elaborazione'!U17*$C$4","v":0},{"$f":"'5 Foglio di elaborazione'!V17*$C$4","v":0},{"$f":"'5 Foglio di elaborazione'!W17*$C$4","v":0},{"$f":"'5 Foglio di elaborazione'!X17*$C$4","v":0},{"$f":"'5 Foglio di elaborazione'!Y17*$C$4","v":0},{"$f":"'5 Foglio di elaborazione'!Z17*$C$4","v":0},{"$f":"'5 Foglio di elaborazione'!AA17*$C$4","v":0},{"$f":"'5 Foglio di elaborazione'!AB17*$C$4","v":0},{"$f":"'5 Foglio di elaborazione'!AC17*$C$4","v":0},{"$f":"'5 Foglio di elaborazione'!AD17*$C$4","v":0},{"$f":"'5 Foglio di elaborazione'!AE17*$C$4","v":0},{"$f":"'5 Foglio di elaborazione'!AF17*$C$4","v":0},{"$f":"'5 Foglio di elaborazione'!AG17*$C$4","v":0},{"$f":"'5 Foglio di elaborazione'!AH17*$C$4","v":0},{"$f":"'5 Foglio di elaborazione'!AI17*$C$4","v":0},{"$f":"'5 Foglio di elaborazione'!AJ17*$C$4","v":0},{"$f":"'5 Foglio di elaborazione'!AK17*$C$4","v":0},{"$f":"'5 Foglio di elaborazione'!AL17*$C$4","v":0},{"$f":"'5 Foglio di elaborazione'!AM17*$C$4","v":0},{"$f":"'5 Foglio di elaborazione'!AN17*$C$4","v":0},{"$f":"'5 Foglio di elaborazione'!AO17*$C$4","v":0},{"$f":"'5 Foglio di elaborazione'!AP17*$C$4","v":0},{"$f":"'5 Foglio di elaborazione'!AQ17*$C$4","v":0},{"$f":"'5 Foglio di elaborazione'!AR17*$C$4","v":0},{"$f":"'5 Foglio di elaborazione'!AS17*$C$4","v":0},{"$f":"'5 Foglio di elaborazione'!AT17*$C$4","v":0},{"$f":"'5 Foglio di elaborazione'!AU17*$C$4","v":0},{"$f":"'5 Foglio di elaborazione'!AV17*$C$4","v":0},{"$f":"'5 Foglio di elaborazione'!AW17*$C$4","v":0},{"$f":"'5 Foglio di elaborazione'!AX17*$C$4","v":0},{"$f":"'5 Foglio di elaborazione'!AY17*$C$4","v":0},{"$f":"'5 Foglio di elaborazione'!AZ17*$C$4","v":0},{"$f":"'5 Foglio di elaborazione'!BA17*$C$4","v":0},{"$f":"'5 Foglio di elaborazione'!BB17*$C$4","v":0},{"$f":"'5 Foglio di elaborazione'!BC17*$C$4","v":0},{"$f":"'5 Foglio di elaborazione'!BD17*$C$4","v":0},{"$f":"'5 Foglio di elaborazione'!BE17*$C$4","v":0},{"$f":"'5 Foglio di elaborazione'!BF17*$C$4","v":0},{"$f":"'5 Foglio di elaborazione'!BG17*$C$4","v":0},{"$f":"'5 Foglio di elaborazione'!BH17*$C$4","v":0},{"$f":"'5 Foglio di elaborazione'!BI17*$C$4","v":0},{"$f":"'5 Foglio di elaborazione'!BJ17*$C$4","v":0},{"$f":"'5 Foglio di elaborazione'!BK17*$C$4","v":0},{"$f":"'5 Foglio di elaborazione'!BL17*$C$4","v":0}]
["Costi per espropri",null,1,0,{"$f":"D5/D14","v":0},{"$f":"'5 Foglio di elaborazione'!E18*$C$5","v":0},{"$f":"'5 Foglio di elaborazione'!F18*$C$5","v":0},{"$f":"'5 Foglio di elaborazione'!G18*$C$5","v":0},{"$f":"'5 Foglio di elaborazione'!H18*$C$5","v":0},{"$f":"'5 Foglio di elaborazione'!I18*$C$5","v":0},{"$f":"'5 Foglio di elaborazione'!J18*$C$5","v":0},{"$f":"'5 Foglio di elaborazione'!K18*$C$5","v":0},{"$f":"'5 Foglio di elaborazione'!L18*$C$5","v":0},{"$f":"'5 Foglio di elaborazione'!M18*$C$5","v":0},{"$f":"'5 Foglio di elaborazione'!N18*$C$5","v":0},{"$f":"'5 Foglio di elaborazione'!O18*$C$5","v":0},{"$f":"'5 Foglio di elaborazione'!P18*$C$5","v":0},{"$f":"'5 Foglio di elaborazione'!Q18*$C$5","v":0},{"$f":"'5 Foglio di elaborazione'!R18*$C$5","v":0},{"$f":"'5 Foglio di elaborazione'!S18*$C$5","v":0},{"$f":"'5 Foglio di elaborazione'!T18*$C$5","v":0},{"$f":"'5 Foglio di elaborazione'!U18*$C$5","v":0},{"$f":"'5 Foglio di elaborazione'!V18*$C$5","v":0},{"$f":"'5 Foglio di elaborazione'!W18*$C$5","v":0},{"$f":"'5 Foglio di elaborazione'!X18*$C$5","v":0},{"$f":"'5 Foglio di elaborazione'!Y18*$C$5","v":0},{"$f":"'5 Foglio di elaborazione'!Z18*$C$5","v":0},{"$f":"'5 Foglio di elaborazione'!AA18*$C$5","v":0},{"$f":"'5 Foglio di elaborazione'!AB18*$C$5","v":0},{"$f":"'5 Foglio di elaborazione'!AC18*$C$5","v":0},{"$f":"'5 Foglio di elaborazione'!AD18*$C$5","v":0},{"$f":"'5 Foglio di elaborazione'!AE18*$C$5","v":0},{"$f":"'5 Foglio di elaborazione'!AF18*$C$5","v":0},{"$f":"'5 Foglio di elaborazione'!AG18*$C$5","v":0},{"$f":"'5 Foglio di elaborazione'!AH18*$C$5","v":0},{"$f":"'5 Foglio di elaborazione'!AI18*$C$5","v":0},{"$f":"'5 Foglio di elaborazione'!AJ18*$C$5","v":0},{"$f":"'5 Foglio di elaborazione'!AK18*$C$5","v":0},{"$f":"'5 Foglio di elaborazione'!AL18*$C$5","v":0},{"$f":"'5 Foglio di elaborazione'!AM18*$C$5","v":0},{"$f":"'5 Foglio di elaborazione'!AN18*$C$5","v":0},{"$f":"'5 Foglio di elaborazione'!AO18*$C$5","v":0},{"$f":"'5 Foglio di elaborazione'!AP18*$C$5","v":0},{"$f":"'5 Foglio di elaborazione'!AQ18*$C$5","v":0},{"$f":"'5 Foglio di elaborazione'!AR18*$C$5","v":0},{"$f":"'5 Foglio di elaborazione'!AS18*$C$5","v":0},{"$f":"'5 Foglio di elaborazione'!AT18*$C$5","v":0},{"$f":"'5 Foglio di elaborazione'!AU18*$C$5","v":0},{"$f":"'5 Foglio di elaborazione'!AV18*$C$5","v":0},{"$f":"'5 Foglio di elaborazione'!AW18*$C$5","v":0},{"$f":"'5 Foglio di elaborazione'!AX18*$C$5","v":0},{"$f":"'5 Foglio di elaborazione'!AY18*$C$5","v":0},{"$f":"'5 Foglio di elaborazione'!AZ18*$C$5","v":0},{"$f":"'5 Foglio di elaborazione'!BA18*$C$5","v":0},{"$f":"'5 Foglio di elaborazione'!BB18*$C$5","v":0},{"$f":"'5 Foglio di elaborazione'!BC18*$C$5","v":0},{"$f":"'5 Foglio di elaborazione'!BD18*$C$5","v":0},{"$f":"'5 Foglio di elaborazione'!BE18*$C$5","v":0},{"$f":"'5 Foglio di elaborazione'!BF18*$C$5","v":0},{"$f":"'5 Foglio di elaborazione'!BG18*$C$5","v":0},{"$f":"'5 Foglio di elaborazione'!BH18*$C$5","v":0},{"$f":"'5 Foglio di elaborazione'!BI18*$C$5","v":0},{"$f":"'5 Foglio di elaborazione'!BJ18*$C$5","v":0},{"$f":"'5 Foglio di elaborazione'!BK18*$C$5","v":0},{"$f":"'5 Foglio di elaborazione'!BL18*$C$5","v":0}]
["Costi per manodopera",null,0.43919999999999998,0,{"$f":"D6/D14","v":0},{"$f":"'5 Foglio di elaborazione'!E19*$C$6","v":0},{"$f":"'5 Foglio di elaborazione'!F19*$C$6","v":0},{"$f":"'5 Foglio di elaborazione'!G19*$C$6","v":0},{"$f":"'5 Foglio di elaborazione'!H19*$C$6","v":0},{"$f":"'5 Foglio di elaborazione'!I19*$C$6","v":0},{"$f":"'5 Foglio di elaborazione'!J19*$C$6","v":0},{"$f":"'5 Foglio di elaborazione'!K19*$C$6","v":0},{"$f":"'5 Foglio di elaborazione'!L19*$C$6","v":0},{"$f":"'5 Foglio di elaborazione'!M19*$C$6","v":0},{"$f":"'5 Foglio di elaborazione'!N19*$C$6","v":0},{"$f":"'5 Foglio di elaborazione'!O19*$C$6","v":0},{"$f":"'5 Foglio di elaborazione'!P19*$C$6","v":0},{"$f":"'5 Foglio di elaborazione'!Q19*$C$6","v":0},{"$f":"'5 Foglio di elaborazione'!R19*$C$6","v":0},{"$f":"'5 Foglio di elaborazione'!S19*$C$6","v":0},{"$f":"'5 Foglio di elaborazione'!T19*$C$6","v":0},{"$f":"'5 Foglio di elaborazione'!U19*$C$6","v":0},{"$f":"'5 Foglio di elaborazione'!V19*$C$6","v":0},{"$f":"'5 Foglio di elaborazione'!W19*$C$6","v":0},{"$f":"'5 Foglio di elaborazione'!X19*$C$6","v":0},{"$f":"'5 Foglio di elaborazione'!Y19*$C$6","v":0},{"$f":"'5 Foglio di elaborazione'!Z19*$C$6","v":0},{"$f":"'5 Foglio di elaborazione'!AA19*$C$6","v":0},{"$f":"'5 Foglio di elaborazione'!AB19*$C$6","v":0},{"$f":"'5 Foglio di elaborazione'!AC19*$C$6","v":0},{"$f":"'5 Foglio di elaborazione'!AD19*$C$6","v":0},{"$f":"'5 Foglio di elaborazione'!AE19*$C$6","v":0},{"$f":"'5 Foglio di elaborazione'!AF19*$C$6","v":0},{"$f":"'5 Foglio di elaborazione'!AG19*$C$6","v":0},{"$f":"'5 Foglio di elaborazione'!AH19*$C$6","v":0},{"$f":"'5 Foglio di elaborazione'!AI19*$C$6","v":0},{"$f":"'5 Foglio di elaborazione'!AJ19*$C$6","v":0},{"$f":"'5 Foglio di elaborazione'!AK19*$C$6","v":0},{"$f":"'5 Foglio di elaborazione'!AL19*$C$6","v":0},{"$f":"'5 Foglio di elaborazione'!AM19*$C$6","v":0},{"$f":"'5 Foglio di elaborazione'!AN19*$C$6","v":0},{"$f":"'5 Foglio di elaborazione'!AO19*$C$6","v":0},{"$f":"'5 Foglio di elaborazione'!AP19*$C$6","v":0},{"$f":"'5 Foglio di elaborazione'!AQ19*$C$6","v":0},{"$f":"'5 Foglio di elaborazione'!AR19*$C$6","v":0},{"$f":"'5 Foglio di elaborazione'!AS19*$C$6","v":0},{"$f":"'5 Foglio di elaborazione'!AT19*$C$6","v":0},{"$f":"'5 Foglio di elaborazione'!AU19*$C$6","v":0},{"$f":"'5 Foglio di elaborazione'!AV19*$C$6","v":0},{"$f":"'5 Foglio di elaborazione'!AW19*$C$6","v":0},{"$f":"'5 Foglio di elaborazione'!AX19*$C$6","v":0},{"$f":"'5 Foglio di elaborazione'!AY19*$C$6","v":0},{"$f":"'5 Foglio di elaborazione'!AZ19*$C$6","v":0},{"$f":"'5 Foglio di elaborazione'!BA19*$C$6","v":0},{"$f":"'5 Foglio di elaborazione'!BB19*$C$6","v":0},{"$f":"'5 Foglio di elaborazione'!BC19*$C$6","v":0},{"$f":"'5 Foglio di elaborazione'!BD19*$C$6","v":0},{"$f":"'5 Foglio di elaborazione'!BE19*$C$6","v":0},{"$f":"'5 Foglio di elaborazione'!BF19*$C$6","v":0},{"$f":"'5 Foglio di elaborazione'!BG19*$C$6","v":0},{"$f":"'5 Foglio di elaborazione'!BH19*$C$6","v":0},{"$f":"'5 Foglio di elaborazione'!BI19*$C$6","v":0},{"$f":"'5 Foglio di elaborazione'!BJ19*$C$6","v":0},{"$f":"'5 Foglio di elaborazione'!BK19*$C$6","v":0},{"$f":"'5 Foglio di elaborazione'!BL19*$C$6","v":0}]
["Costi per Progettazione, spese generali e imprevisti",null,0.85460000000000003,0,{"$f":"D7/D14","v":0},{"$f":"('5 Foglio di elaborazione'!E20+'5 Foglio di elaborazione'!E21+'5 Foglio di elaborazione'!E22)*$C$7","v":0},{"$f":"('5 Foglio di elaborazione'!F20+'5 Foglio di elaborazione'!F21+'5 Foglio di elaborazione'!F22)*$C$7","v":0},{"$f":"('5 Foglio di elaborazione'!G20+'5 Foglio di elaborazione'!G21+'5 Foglio di elaborazione'!G22)*$C$7","v":0},{"$f":"('5 Foglio di elaborazione'!H20+'5 Foglio di elaborazione'!H21+'5 Foglio di elaborazione'!H22)*$C$7","v":0},{"$f":"('5 Foglio di elaborazione'!I20+'5 Foglio di elaborazione'!I21+'5 Foglio di elaborazione'!I22)*$C$7","v":0},{"$f":"('5 Foglio di elaborazione'!J20+'5 Foglio di elaborazione'!J21+'5 Foglio di elaborazione'!J22)*$C$7","v":0},{"$f":"('5 Foglio di elaborazione'!K20+'5 Foglio di elaborazione'!K21+'5 Foglio di elaborazione'!K22)*$C$7","v":0},{"$f":"('5 Foglio di elaborazione'!L20+'5 Foglio di elaborazione'!L21+'5 Foglio di elaborazione'!L22)*$C$7","v":0},{"$f":"('5 Foglio di elaborazione'!M20+'5 Foglio di elaborazione'!M21+'5 Foglio di elaborazione'!M22)*$C$7","v":0},{"$f":"('5 Foglio di elaborazione'!N20+'5 Foglio di elaborazione'!N21+'5 Foglio di elaborazione'!N22)*$C$7","v":0},{"$f":"('5 Foglio di elaborazione'!O20+'5 Foglio di elaborazione'!O21+'5 Foglio di elaborazione'!O22)*$C$7","v":0},{"$f":"('5 Foglio di elaborazione'!P20+'5 Foglio di elaborazione'!P21+'5 Foglio di elaborazione'!P22)*$C$7","v":0},{"$f":"('5 Foglio di elaborazione'!Q20+'5 Foglio di elaborazione'!Q21+'5 Foglio di elaborazione'!Q22)*$C$7","v":0},{"$f":"('5 Foglio di elaborazione'!R20+'5 Foglio di elaborazione'!R21+'5 Foglio di elaborazione'!R22)*$C$7","v":0},{"$f":"('5 Foglio di elaborazione'!S20+'5 Foglio di elaborazione'!S21+'5 Foglio di elaborazione'!S22)*$C$7","v":0},{"$f":"('5 Foglio di elaborazione'!T20+'5 Foglio di elaborazione'!T21+'5 Foglio di elaborazione'!T22)*$C$7","v":0},{"$f":"('5 Foglio di elaborazione'!U20+'5 Foglio di elaborazione'!U21+'5 Foglio di elaborazione'!U22)*$C$7","v":0},{"$f":"('5 Foglio di elaborazione'!V20+'5 Foglio di elaborazione'!V21+'5 Foglio di elaborazione'!V22)*$C$7","v":0},{"$f":"('5 Foglio di elaborazione'!W20+'5 Foglio di elaborazione'!W21+'5 Foglio di elaborazione'!W22)*$C$7","v":0},{"$f":"('5 Foglio di elaborazione'!X20+'5 Foglio di elaborazione'!X21+'5 Foglio di elaborazione'!X22)*$C$7","v":0},{"$f":"('5 Foglio di elaborazione'!Y20+'5 Foglio di elaborazione'!Y21+'5 Foglio di elaborazione'!Y22)*$C$7","v":0},{"$f":"('5 Foglio di elaborazione'!Z20+'5 Foglio di elaborazione'!Z21+'5 Foglio di elaborazione'!Z22)*$C$7","v":0},{"$f":"('5 Foglio di elaborazione'!AA20+'5 Foglio di elaborazione'!AA21+'5 Foglio di elaborazione'!AA22)*$C$7","v":0},{"$f":"('5 Foglio di elaborazione'!AB20+'5 Foglio di elaborazione'!AB21+'5 Foglio di elaborazione'!AB22)*$C$7","v":0},{"$f":"('5 Foglio di elaborazione'!AC20+'5 Foglio di elaborazione'!AC21+'5 Foglio di elaborazione'!AC22)*$C$7","v":0},{"$f":"('5 Foglio di elaborazione'!AD20+'5 Foglio di elaborazione'!AD21+'5 Foglio di elaborazione'!AD22)*$C$7","v":0},{"$f":"('5 Foglio di elaborazione'!AE20+'5 Foglio di elaborazione'!AE21+'5 Foglio di elaborazione'!AE22)*$C$7","v":0},{"$f":"('5 Foglio di elaborazione'!AF20+'5 Foglio di elaborazione'!AF21+'5 Foglio di elaborazione'!AF22)*$C$7","v":0},{"$f":"('5 Foglio di elaborazione'!AG20+'5 Foglio di elaborazione'!AG21+'5 Foglio di elaborazione'!AG22)*$C$7","v":0},{"$f":"('5 Foglio di elaborazione'!AH20+'5 Foglio di elaborazione'!AH21+'5 Foglio di elaborazione'!AH22)*$C$7","v":0},{"$f":"('5 Foglio di elaborazione'!AI20+'5 Foglio di elaborazione'!AI21+'5 Foglio di elaborazione'!AI22)*$C$7","v":0},{"$f":"('5 Foglio di elaborazione'!AJ20+'5 Foglio di elaborazione'!AJ21+'5 Foglio di elaborazione'!AJ22)*$C$7","v":0},{"$f":"('5 Foglio di elaborazione'!AK20+'5 Foglio di elaborazione'!AK21+'5 Foglio di elaborazione'!AK22)*$C$7","v":0},{"$f":"('5 Foglio di elaborazione'!AL20+'5 Foglio di elaborazione'!AL21+'5 Foglio di elaborazione'!AL22)*$C$7","v":0},{"$f":"('5 Foglio di elaborazione'!AM20+'5 Foglio di elaborazione'!AM21+'5 Foglio di elaborazione'!AM22)*$C$7","v":0},{"$f":"('5 Foglio di elaborazione'!AN20+'5 Foglio di elaborazione'!AN21+'5 Foglio di elaborazione'!AN22)*$C$7","v":0},{"$f":"('5 Foglio di elaborazione'!AO20+'5 Foglio di elaborazione'!AO21+'5 Foglio di elaborazione'!AO22)*$C$7","v":0},{"$f":"('5 Foglio di elaborazione'!AP20+'5 Foglio di elaborazione'!AP21+'5 Foglio di elaborazione'!AP22)*$C$7","v":0},{"$f":"('5 Foglio di elaborazione'!AQ20+'5 Foglio di elaborazione'!AQ21+'5 Foglio di elaborazione'!AQ22)*$C$7","v":0},{"$f":"('5 Foglio di elaborazione'!AR20+'5 Foglio di elaborazione'!AR21+'5 Foglio di elaborazione'!AR22)*$C$7","v":0},{"$f":"('5 Foglio di elaborazione'!AS20+'5 Foglio di elaborazione'!AS21+'5 Foglio di elaborazione'!AS22)*$C$7","v":0},{"$f":"('5 Foglio di elaborazione'!AT20+'5 Foglio di elaborazione'!AT21+'5 Foglio di elaborazione'!AT22)*$C$7","v":0},{"$f":"('5 Foglio di elaborazione'!AU20+'5 Foglio di elaborazione'!AU21+'5 Foglio di elaborazione'!AU22)*$C$7","v":0},{"$f":"('5 Foglio di elaborazione'!AV20+'5 Foglio di elaborazione'!AV21+'5 Foglio di elaborazione'!AV22)*$C$7","v":0},{"$f":"('5 Foglio di elaborazione'!AW20+'5 Foglio di elaborazione'!AW21+'5 Foglio di elaborazione'!AW22)*$C$7","v":0},{"$f":"('5 Foglio di elaborazione'!AX20+'5 Foglio di elaborazione'!AX21+'5 Foglio di elaborazione'!AX22)*$C$7","v":0},{"$f":"('5 Foglio di elaborazione'!AY20+'5 Foglio di elaborazione'!AY21+'5 Foglio di elaborazione'!AY22)*$C$7","v":0},{"$f":"('5 Foglio di elaborazione'!AZ20+'5 Foglio di elaborazione'!AZ21+'5 Foglio di elaborazione'!AZ22)*$C$7","v":0},{"$f":"('5 Foglio di elaborazione'!BA20+'5 Foglio di elaborazione'!BA21+'5 Foglio di elaborazione'!BA22)*$C$7","v":0},{"$f":"('5 Foglio di elaborazione'!BB20+'5 Foglio di elaborazione'!BB21+'5 Foglio di elaborazione'!BB22)*$C$7","v":0},{"$f":"('5 Foglio di elaborazione'!BC20+'5 Foglio di elaborazione'!BC21+'5 Foglio di elaborazione'!BC22)*$C$7","v":0},{"$f":"('5 Foglio di elaborazione'!BD20+'5 Foglio di elaborazione'!BD21+'5 Foglio di elaborazione'!BD22)*$C$7","v":0},{"$f":"('5 Foglio di elaborazione'!BE20+'5 Foglio di elaborazione'!BE21+'5 Foglio di elaborazione'!BE22)*$C$7","v":0},{"$f":"('5 Foglio di elaborazione'!BF20+'5 Foglio di elaborazione'!BF21+'5 Foglio di elaborazione'!BF22)*$C$7","v":0},{"$f":"('5 Foglio di elaborazione'!BG20+'5 Foglio di elaborazione'!BG21+'5 Foglio di elaborazione'!BG22)*$C$7","v":0},{"$f":"('5 Foglio di elaborazione'!BH20+'5 Foglio di elaborazione'!BH21+'5 Foglio di elaborazione'!BH22)*$C$7","v":0},{"$f":"('5 Foglio di elaborazione'!BI20+'5 Foglio di elaborazione'!BI21+'5 Foglio di elaborazione'!BI22)*$C$7","v":0},{"$f":"('5 Foglio di elaborazione'!BJ20+'5 Foglio di elaborazione'!BJ21+'5 Foglio di elaborazione'!BJ22)*$C$7","v":0},{"$f":"('5 Foglio di elaborazione'!BK20+'5 Foglio di elaborazione'!BK21+'5 Foglio di elaborazione'!BK22)*$C$7","v":0},{"$f":"('5 Foglio di elaborazione'!BL20+'5 Foglio di elaborazione'!BL21+'5 Foglio di elaborazione'!BL22)*$C$7","v":0}]
["Costi per manutenzioni straordinarie capitalizzate",null,0.83409999999999995,0,{"$f":"D8/D14","v":0},{"$f":"'5 Foglio di elaborazione'!E24*$C$8","v":0},{"$f":"'5 Foglio di elaborazione'!F24*$C$8","v":0},{"$f":"'5 Foglio di elaborazione'!G24*$C$8","v":0},{"$f":"'5 Foglio di elaborazione'!H24*$C$8","v":0},{"$f":"'5 Foglio di elaborazione'!I24*$C$8","v":0},{"$f":"'5 Foglio di elaborazione'!J24*$C$8","v":0},{"$f":"'5 Foglio di elaborazione'!K24*$C$8","v":0},{"$f":"'5 Foglio di elaborazione'!L24*$C$8","v":0},{"$f":"'5 Foglio di elaborazione'!M24*$C$8","v":0},{"$f":"'5 Foglio di elaborazione'!N24*$C$8","v":0},{"$f":"'5 Foglio di elaborazione'!O24*$C$8","v":0},{"$f":"'5 Foglio di elaborazione'!P24*$C$8","v":0},{"$f":"'5 Foglio di elaborazione'!Q24*$C$8","v":0},{"$f":"'5 Foglio di elaborazione'!R24*$C$8","v":0},{"$f":"'5 Foglio di elaborazione'!S24*$C$8","v":0},{"$f":"'5 Foglio di elaborazione'!T24*$C$8","v":0},{"$f":"'5 Foglio di elaborazione'!U24*$C$8","v":0},{"$f":"'5 Foglio di elaborazione'!V24*$C$8","v":0},{"$f":"'5 Foglio di elaborazione'!W24*$C$8","v":0},{"$f":"'5 Foglio di elaborazione'!X24*$C$8","v":0},{"$f":"'5 Foglio di elaborazione'!Y24*$C$8","v":0},{"$f":"'5 Foglio di elaborazione'!Z24*$C$8","v":0},{"$f":"'5 Foglio di elaborazione'!AA24*$C$8","v":0},{"$f":"'5 Foglio di elaborazione'!AB24*$C$8","v":0},{"$f":"'5 Foglio di elaborazione'!AC24*$C$8","v":0},{"$f":"'5 Foglio di elaborazione'!AD24*$C$8","v":0},{"$f":"'5 Foglio di elaborazione'!AE24*$C$8","v":0},{"$f":"'5 Foglio di elaborazione'!AF24*$C$8","v":0},{"$f":"'5 Foglio di elaborazione'!AG24*$C$8","v":0},{"$f":"'5 Foglio di elaborazione'!AH24*$C$8","v":0},{"$f":"'5 Foglio di elaborazione'!AI24*$C$8","v":0},{"$f":"'5 Foglio di elaborazione'!AJ24*$C$8","v":0},{"$f":"'5 Foglio di elaborazione'!AK24*$C$8","v":0},{"$f":"'5 Foglio di elaborazione'!AL24*$C$8","v":0},{"$f":"'5 Foglio di elaborazione'!AM24*$C$8","v":0},{"$f":"'5 Foglio di elaborazione'!AN24*$C$8","v":0},{"$f":"'5 Foglio di elaborazione'!AO24*$C$8","v":0},{"$f":"'5 Foglio di elaborazione'!AP24*$C$8","v":0},{"$f":"'5 Foglio di elaborazione'!AQ24*$C$8","v":0},{"$f":"'5 Foglio di elaborazione'!AR24*$C$8","v":0},{"$f":"'5 Foglio di elaborazione'!AS24*$C$8","v":0},{"$f":"'5 Foglio di elaborazione'!AT24*$C$8","v":0},{"$f":"'5 Foglio di elaborazione'!AU24*$C$8","v":0},{"$f":"'5 Foglio di elaborazione'!AV24*$C$8","v":0},{"$f":"'5 Foglio di elaborazione'!AW24*$C$8","v":0},{"$f":"'5 Foglio di elaborazione'!AX24*$C$8","v":0},{"$f":"'5 Foglio di elaborazione'!AY24*$C$8","v":0},{"$f":"'5 Foglio di elaborazione'!AZ24*$C$8","v":0},{"$f":"'5 Foglio di elaborazione'!BA24*$C$8","v":0},{"$f":"'5 Foglio di elaborazione'!BB24*$C$8","v":0},{"$f":"'5 Foglio di elaborazione'!BC24*$C$8","v":0},{"$f":"'5 Foglio di elaborazione'!BD24*$C$8","v":0},{"$f":"'5 Foglio di elaborazione'!BE24*$C$8","v":0},{"$f":"'5 Foglio di elaborazione'!BF24*$C$8","v":0},{"$f":"'5 Foglio di elaborazione'!BG24*$C$8","v":0},{"$f":"'5 Foglio di elaborazione'!BH24*$C$8","v":0},{"$f":"'5 Foglio di elaborazione'!BI24*$C$8","v":0},{"$f":"'5 Foglio di elaborazione'!BJ24*$C$8","v":0},{"$f":"'5 Foglio di elaborazione'!BK24*$C$8","v":0},{"$f":"'5 Foglio di elaborazione'!BL24*$C$8","v":0}]
["Costi per servizi",null,0.81940000000000002,1846383.9720553982,{"$f":"D9/D14","v":0.66447810185414202},{"$f":"-'6 Rendiconto Finanz'!E10*$C$9","v":164563.187041},{"$f":"-'6 Rendiconto Finanz'!F10*$C$9","v":169820.22415781999},{"$f":"-'6 Rendiconto Finanz'!G10*$C$9","v":176162.88163553638},{"$f":"-'6 Rendiconto Finanz'!H10*$C$9","v":179686.13926824709},{"$f":"-'6 Rendiconto Finanz'!I10*$C$9","v":183279.86205361207},{"$f":"-'6 Rendiconto Finanz'!J10*$C$9","v":186945.45929468429},{"$f":"-'6 Rendiconto Finanz'!K10*$C$9","v":190684.36848057801},{"$f":"-'6 Rendiconto Finanz'!L10*$C$9","v":194498.05585018956},{"$f":"-'6 Rendiconto Finanz'!M10*$C$9","v":198388.01696719337},{"$f":"-'6 Rendiconto Finanz'!N10*$C$9","v":202355.77730653723},{"$f":"-'6 Rendiconto Finanz'!O10*$C$9","v":0},{"$f":"-'6 Rendiconto Finanz'!P10*$C$9","v":0},{"$f":"-'6 Rendiconto Finanz'!Q10*$C$9","v":0},{"$f":"-'6 Rendiconto Finanz'!R10*$C$9","v":0},{"$f":"-'6 Rendiconto Finanz'!S10*$C$9","v":0},{"$f":"-'6 Rendiconto Finanz'!T10*$C$9","v":0},{"$f":"-'6 Rendiconto Finanz'!U10*$C$9","v":0},{"$f":"-'6 Rendiconto Finanz'!V10*$C$9","v":0},{"$f":"-'6 Rendiconto Finanz'!W10*$C$9","v":0},{"$f":"-'6 Rendiconto Finanz'!X10*$C$9","v":0},{"$f":"-'6 Rendiconto Finanz'!Y10*$C$9","v":0},{"$f":"-'6 Rendiconto Finanz'!Z10*$C$9","v":0},{"$f":"-'6 Rendiconto Finanz'!AA10*$C$9","v":0},{"$f":"-'6 Rendiconto Finanz'!AB10*$C$9","v":0},{"$f":"-'6 Rendiconto Finanz'!AC10*$C$9","v":0},{"$f":"-'6 Rendiconto Finanz'!AD10*$C$9","v":0},{"$f":"-'6 Rendiconto Finanz'!AE10*$C$9","v":0},{"$f":"-'6 Rendiconto Finanz'!AF10*$C$9","v":0},{"$f":"-'6 Rendiconto Finanz'!AG10*$C$9","v":0},{"$f":"-'6 Rendiconto Finanz'!AH10*$C$9","v":0},{"$f":"-'6 Rendiconto Finanz'!AI10*$C$9","v":0},{"$f":"-'6 Rendiconto Finanz'!AJ10*$C$9","v":0},{"$f":"-'6 Rendiconto Finanz'!AK10*$C$9","v":0},{"$f":"-'6 Rendiconto Finanz'!AL10*$C$9","v":0},{"$f":"-'6 Rendiconto Finanz'!AM10*$C$9","v":0},{"$f":"-'6 Rendiconto Finanz'!AN10*$C$9","v":0},{"$f":"-'6 Rendiconto Finanz'!AO10*$C$9","v":0},{"$f":"-'6 Rendiconto Finanz'!AP10*$C$9","v":0},{"$f":"-'6 Rendiconto Finanz'!AQ10*$C$9","v":0},{"$f":"-'6 Rendiconto Finanz'!AR10*$C$9","v":0},{"$f":"-'6 Rendiconto Finanz'!AS10*$C$9","v":0},{"$f":"-'6 Rendiconto Finanz'!AT10*$C$9","v":0},{"$f":"-'6 Rendiconto Finanz'!AU10*$C$9","v":0},{"$f":"-'6 Rendiconto Finanz'!AV10*$C$9","v":0},{"$f":"-'6 Rendiconto Finanz'!AW10*$C$9","v":0},{"$f":"-'6 Rendiconto Finanz'!AX10*$C$9","v":0},{"$f":"-'6 Rendiconto Finanz'!AY10*$C$9","v":0},{"$f":"-'6 Rendiconto Finanz'!AZ10*$C$9","v":0},{"$f":"-'6 Rendiconto Finanz'!BA10*$C$9","v":0},{"$f":"-'6 Rendiconto Finanz'!BB10*$C$9","v":0},{"$f":"-'6 Rendiconto Finanz'!BC10*$C$9","v":0},{"$f":"-'6 Rendiconto Finanz'!BD10*$C$9","v":0},{"$f":"-'6 Rendiconto Finanz'!BE10*$C$9","v":0},{"$f":"-'6 Rendiconto Finanz'!BF10*$C$9","v":0},{"$f":"-'6 Rendiconto Finanz'!BG10*$C$9","v":0},{"$f":"-'6 Rendiconto Finanz'!BH10*$C$9","v":0},{"$f":"-'6 Rendiconto Finanz'!BI10*$C$9","v":0},{"$f":"-'6 Rendiconto Finanz'!BJ10*$C$9","v":0},{"$f":"-'6 Rendiconto Finanz'!BK10*$C$9","v":0},{"$f":"-'6 Rendiconto Finanz'!BL10*$C$9","v":0}]
["Costi per il personale",null,0.43919999999999998,729280.48843619763,{"$f":"D10/D14","v":0.26245403015273072},{"$f":"-'6 Rendiconto Finanz'!E11*$C$10","v":66602.654848799997},{"$f":"-'6 Rendiconto Finanz'!F11*$C$10","v":67934.707945775997},{"$f":"-'6 Rendiconto Finanz'!G11*$C$10","v":69293.402104691515},{"$f":"-'6 Rendiconto Finanz'!H11*$C$10","v":70679.270146785333},{"$f":"-'6 Rendiconto Finanz'!I11*$C$10","v":72092.855549721047},{"$f":"-'6 Rendiconto Finanz'!J11*$C$10","v":73534.712660715479},{"$f":"-'6 Rendiconto Finanz'!K11*$C$10","v":75005.406913929779},{"$f":"-'6 Rendiconto Finanz'!L11*$C$10","v":76505.515052208386},{"$f":"-'6 Rendiconto Finanz'!M11*$C$10","v":78035.625353252559},{"$f":"-'6 Rendiconto Finanz'!N11*$C$10","v":79596.33786031761},{"$f":"-'6 Rendiconto Finanz'!O11*$C$10","v":0},{"$f":"-'6 Rendiconto Finanz'!P11*$C$10","v":0},{"$f":"-'6 Rendiconto Finanz'!Q11*$C$10","v":0},{"$f":"-'6 Rendiconto Finanz'!R11*$C$10","v":0},{"$f":"-'6 Rendiconto Finanz'!S11*$C$10","v":0},{"$f":"-'6 Rendiconto Finanz'!T11*$C$10","v":0},{"$f":"-'6 Rendiconto Finanz'!U11*$C$10","v":0},{"$f":"-'6 Rendiconto Finanz'!V11*$C$10","v":0},{"$f":"-'6 Rendiconto Finanz'!W11*$C$10","v":0},{"$f":"-'6 Rendiconto Finanz'!X11*$C$10","v":0},{"$f":"-'6 Rendiconto Finanz'!Y11*$C$10","v":0},{"$f":"-'6 Rendiconto Finanz'!Z11*$C$10","v":0},{"$f":"-'6 Rendiconto Finanz'!AA11*$C$10","v":0},{"$f":"-'6 Rendiconto Finanz'!AB11*$C$10","v":0},{"$f":"-'6 Rendiconto Finanz'!AC11*$C$10","v":0},{"$f":"-'6 Rendiconto Finanz'!AD11*$C$10","v":0},{"$f":"-'6 Rendiconto Finanz'!AE11*$C$10","v":0},{"$f":"-'6 Rendiconto Finanz'!AF11*$C$10","v":0},{"$f":"-'6 Rendiconto Finanz'!AG11*$C$10","v":0},{"$f":"-'6 Rendiconto Finanz'!AH11*$C$10","v":0},{"$f":"-'6 Rendiconto Finanz'!AI11*$C$10","v":0},{"$f":"-'6 Rendiconto Finanz'!AJ11*$C$10","v":0},{"$f":"-'6 Rendiconto Finanz'!AK11*$C$10","v":0},{"$f":"-'6 Rendiconto Finanz'!AL11*$C$10","v":0},{"$f":"-'6 Rendiconto Finanz'!AM11*$C$10","v":0},{"$f":"-'6 Rendiconto Finanz'!AN11*$C$10","v":0},{"$f":"-'6 Rendiconto Finanz'!AO11*$C$10","v":0},{"$f":"-'6 Rendiconto Finanz'!AP11*$C$10","v":0},{"$f":"-'6 Rendiconto Finanz'!AQ11*$C$10","v":0},{"$f":"-'6 Rendiconto Finanz'!AR11*$C$10","v":0},{"$f":"-'6 Rendiconto Finanz'!AS11*$C$10","v":0},{"$f":"-'6 Rendiconto Finanz'!AT11*$C$10","v":0},{"$f":"-'6 Rendiconto Finanz'!AU11*$C$10","v":0},{"$f":"-'6 Rendiconto Finanz'!AV11*$C$10","v":0},{"$f":"-'6 Rendiconto Finanz'!AW11*$C$10","v":0},{"$f":"-'6 Rendiconto Finanz'!AX11*$C$10","v":0},{"$f":"-'6 Rendiconto Finanz'!AY11*$C$10","v":0},{"$f":"-'6 Rendiconto Finanz'!AZ11*$C$10","v":0},{"$f":"-'6 Rendiconto Finanz'!BA11*$C$10","v":0},{"$f":"-'6 Rendiconto Finanz'!BB11*$C$10","v":0},{"$f":"-'6 Rendiconto Finanz'!BC11*$C$10","v":0},{"$f":"-'6 Rendiconto Finanz'!BD11*$C$10","v":0},{"$f":"-'6 Rendiconto Finanz'!BE11*$C$10","v":0},{"$f":"-'6 Rendiconto Finanz'!BF11*$C$10","v":0},{"$f":"-'6 Rendiconto Finanz'!BG11*$C$10","v":0},{"$f":"-'6 Rendiconto Finanz'!BH11*$C$10","v":0},{"$f":"-'6 Rendiconto Finanz'!BI11*$C$10","v":0},{"$f":"-'6 Rendiconto Finanz'!BJ11*$C$10","v":0},{"$f":"-'6 Rendiconto Finanz'!BK11*$C$10","v":0},{"$f":"-'6 Rendiconto Finanz'!BL11*$C$10","v":0}]
["Oneri diversi di gestione",null,0.7913,51987.085362555401,{"$f":"D11/D14","v":1.8709152768578957E-2},{"$f":"-'6 Rendiconto Finanz'!E12*$C$11","v":4747.8},{"$f":"-'6 Rendiconto Finanz'!F12*$C$11","v":4842.7560000000003},{"$f":"-'6 Rendiconto Finanz'!G12*$C$11","v":4939.6111199999996},{"$f":"-'6 Rendiconto Finanz'!H12*$C$11","v":5038.4033423999999},{"$f":"-'6 Rendiconto Finanz'!I12*$C$11","v":5139.1714092479997},{"$f":"-'6 Rendiconto Finanz'!J12*$C$11","v":5241.9548374329597},{"$f":"-'6 Rendiconto Finanz'!K12*$C$11","v":5346.7939341816191},{"$f":"-'6 Rendiconto Finanz'!L12*$C$11","v":5453.7298128652519},{"$f":"-'6 Rendiconto Finanz'!M12*$C$11","v":5562.8044091225574},{"$f":"-'6 Rendiconto Finanz'!N12*$C$11","v":5674.0604973050085},{"$f":"-'6 Rendiconto Finanz'!O12*$C$11","v":0},{"$f":"-'6 Rendiconto Finanz'!P12*$C$11","v":0},{"$f":"-'6 Rendiconto Finanz'!Q12*$C$11","v":0},{"$f":"-'6 Rendiconto Finanz'!R12*$C$11","v":0},{"$f":"-'6 Rendiconto Finanz'!S12*$C$11","v":0},{"$f":"-'6 Rendiconto Finanz'!T12*$C$11","v":0},{"$f":"-'6 Rendiconto Finanz'!U12*$C$11","v":0},{"$f":"-'6 Rendiconto Finanz'!V12*$C$11","v":0},{"$f":"-'6 Rendiconto Finanz'!W12*$C$11","v":0},{"$f":"-'6 Rendiconto Finanz'!X12*$C$11","v":0},{"$f":"-'6 Rendiconto Finanz'!Y12*$C$11","v":0},{"$f":"-'6 Rendiconto Finanz'!Z12*$C$11","v":0},{"$f":"-'6 Rendiconto Finanz'!AA12*$C$11","v":0},{"$f":"-'6 Rendiconto Finanz'!AB12*$C$11","v":0},{"$f":"-'6 Rendiconto Finanz'!AC12*$C$11","v":0},{"$f":"-'6 Rendiconto Finanz'!AD12*$C$11","v":0},{"$f":"-'6 Rendiconto Finanz'!AE12*$C$11","v":0},{"$f":"-'6 Rendiconto Finanz'!AF12*$C$11","v":0},{"$f":"-'6 Rendiconto Finanz'!AG12*$C$11","v":0},{"$f":"-'6 Rendiconto Finanz'!AH12*$C$11","v":0},{"$f":"-'6 Rendiconto Finanz'!AI12*$C$11","v":0},{"$f":"-'6 Rendiconto Finanz'!AJ12*$C$11","v":0},{"$f":"-'6 Rendiconto Finanz'!AK12*$C$11","v":0},{"$f":"-'6 Rendiconto Finanz'!AL12*$C$11","v":0},{"$f":"-'6 Rendiconto Finanz'!AM12*$C$11","v":0},{"$f":"-'6 Rendiconto Finanz'!AN12*$C$11","v":0},{"$f":"-'6 Rendiconto Finanz'!AO12*$C$11","v":0},{"$f":"-'6 Rendiconto Finanz'!AP12*$C$11","v":0},{"$f":"-'6 Rendiconto Finanz'!AQ12*$C$11","v":0},{"$f":"-'6 Rendiconto Finanz'!AR12*$C$11","v":0},{"$f":"-'6 Rendiconto Finanz'!AS12*$C$11","v":0},{"$f":"-'6 Rendiconto Finanz'!AT12*$C$11","v":0},{"$f":"-'6 Rendiconto Finanz'!AU12*$C$11","v":0},{"$f":"-'6 Rendiconto Finanz'!AV12*$C$11","v":0},{"$f":"-'6 Rendiconto Finanz'!AW12*$C$11","v":0},{"$f":"-'6 Rendiconto Finanz'!AX12*$C$11","v":0},{"$f":"-'6 Rendiconto Finanz'!AY12*$C$11","v":0},{"$f":"-'6 Rendiconto Finanz'!AZ12*$C$11","v":0},{"$f":"-'6 Rendiconto Finanz'!BA12*$C$11","v":0},{"$f":"-'6 Rendiconto Finanz'!BB12*$C$11","v":0},{"$f":"-'6 Rendiconto Finanz'!BC12*$C$11","v":0},{"$f":"-'6 Rendiconto Finanz'!BD12*$C$11","v":0},{"$f":"-'6 Rendiconto Finanz'!BE12*$C$11","v":0},{"$f":"-'6 Rendiconto Finanz'!BF12*$C$11","v":0},{"$f":"-'6 Rendiconto Finanz'!BG12*$C$11","v":0},{"$f":"-'6 Rendiconto Finanz'!BH12*$C$11","v":0},{"$f":"-'6 Rendiconto Finanz'!BI12*$C$11","v":0},{"$f":"-'6 Rendiconto Finanz'!BJ12*$C$11","v":0},{"$f":"-'6 Rendiconto Finanz'!BK12*$C$11","v":0},{"$f":"-'6 Rendiconto Finanz'!BL12*$C$11","v":0}]
["Manutenzioni ordinarie e straordinarie",null,0.85460000000000003,151046.45322707848,{"$f":"D12/D14","v":5.4358715224548208E-2},{"$f":"(-'6 Rendiconto Finanz'!E13-'6 Rendiconto Finanz'!E14)*$C$12","v":13794.5481196},{"$f":"(-'6 Rendiconto Finanz'!F13-'6 Rendiconto Finanz'!F14)*$C$12","v":14070.439081992001},{"$f":"(-'6 Rendiconto Finanz'!G13-'6 Rendiconto Finanz'!G14)*$C$12","v":14351.847863631841},{"$f":"(-'6 Rendiconto Finanz'!H13-'6 Rendiconto Finanz'!H14)*$C$12","v":14638.884820904475},{"$f":"(-'6 Rendiconto Finanz'!I13-'6 Rendiconto Finanz'!I14)*$C$12","v":14931.662517322568},{"$f":"(-'6 Rendiconto Finanz'!J13-'6 Rendiconto Finanz'!J14)*$C$12","v":15230.295767669018},{"$f":"(-'6 Rendiconto Finanz'!K13-'6 Rendiconto Finanz'!K14)*$C$12","v":15534.901683022399},{"$f":"(-'6 Rendiconto Finanz'!L13-'6 Rendiconto Finanz'!L14)*$C$12","v":15845.599716682846},{"$f":"(-'6 Rendiconto Finanz'!M13-'6 Rendiconto Finanz'!M14)*$C$12","v":16162.511711016503},{"$f":"(-'6 Rendiconto Finanz'!N13-'6 Rendiconto Finanz'!N14)*$C$12","v":16485.761945236834},{"$f":"(-'6 Rendiconto Finanz'!O13-'6 Rendiconto Finanz'!O14)*$C$12","v":0},{"$f":"(-'6 Rendiconto Finanz'!P13-'6 Rendiconto Finanz'!P14)*$C$12","v":0},{"$f":"(-'6 Rendiconto Finanz'!Q13-'6 Rendiconto Finanz'!Q14)*$C$12","v":0},{"$f":"(-'6 Rendiconto Finanz'!R13-'6 Rendiconto Finanz'!R14)*$C$12","v":0},{"$f":"(-'6 Rendiconto Finanz'!S13-'6 Rendiconto Finanz'!S14)*$C$12","v":0},{"$f":"(-'6 Rendiconto Finanz'!T13-'6 Rendiconto Finanz'!T14)*$C$12","v":0},{"$f":"(-'6 Rendiconto Finanz'!U13-'6 Rendiconto Finanz'!U14)*$C$12","v":0},{"$f":"(-'6 Rendiconto Finanz'!V13-'6 Rendiconto Finanz'!V14)*$C$12","v":0},{"$f":"(-'6 Rendiconto Finanz'!W13-'6 Rendiconto Finanz'!W14)*$C$12","v":0},{"$f":"(-'6 Rendiconto Finanz'!X13-'6 Rendiconto Finanz'!X14)*$C$12","v":0},{"$f":"(-'6 Rendiconto Finanz'!Y13-'6 Rendiconto Finanz'!Y14)*$C$12","v":0},{"$f":"(-'6 Rendiconto Finanz'!Z13-'6 Rendiconto Finanz'!Z14)*$C$12","v":0},{"$f":"(-'6 Rendiconto Finanz'!AA13-'6 Rendiconto Finanz'!AA14)*$C$12","v":0},{"$f":"(-'6 Rendiconto Finanz'!AB13-'6 Rendiconto Finanz'!AB14)*$C$12","v":0},{"$f":"(-'6 Rendiconto Finanz'!AC13-'6 Rendiconto Finanz'!AC14)*$C$12","v":0},{"$f":"(-'6 Rendiconto Finanz'!AD13-'6 Rendiconto Finanz'!AD14)*$C$12","v":0},{"$f":"(-'6 Rendiconto Finanz'!AE13-'6 Rendiconto Finanz'!AE14)*$C$12","v":0},{"$f":"(-'6 Rendiconto Finanz'!AF13-'6 Rendiconto Finanz'!AF14)*$C$12","v":0},{"$f":"(-'6 Rendiconto Finanz'!AG13-'6 Rendiconto Finanz'!AG14)*$C$12","v":0},{"$f":"(-'6 Rendiconto Finanz'!AH13-'6 Rendiconto Finanz'!AH14)*$C$12","v":0},{"$f":"(-'6 Rendiconto Finanz'!AI13-'6 Rendiconto Finanz'!AI14)*$C$12","v":0},{"$f":"(-'6 Rendiconto Finanz'!AJ13-'6 Rendiconto Finanz'!AJ14)*$C$12","v":0},{"$f":"(-'6 Rendiconto Finanz'!AK13-'6 Rendiconto Finanz'!AK14)*$C$12","v":0},{"$f":"(-'6 Rendiconto Finanz'!AL13-'6 Rendiconto Finanz'!AL14)*$C$12","v":0},{"$f":"(-'6 Rendiconto Finanz'!AM13-'6 Rendiconto Finanz'!AM14)*$C$12","v":0},{"$f":"(-'6 Rendiconto Finanz'!AN13-'6 Rendiconto Finanz'!AN14)*$C$12","v":0},{"$f":"(-'6 Rendiconto Finanz'!AO13-'6 Rendiconto Finanz'!AO14)*$C$12","v":0},{"$f":"(-'6 Rendiconto Finanz'!AP13-'6 Rendiconto Finanz'!AP14)*$C$12","v":0},{"$f":"(-'6 Rendiconto Finanz'!AQ13-'6 Rendiconto Finanz'!AQ14)*$C$12","v":0},{"$f":"(-'6 Rendiconto Finanz'!AR13-'6 Rendiconto Finanz'!AR14)*$C$12","v":0},{"$f":"(-'6 Rendiconto Finanz'!AS13-'6 Rendiconto Finanz'!AS14)*$C$12","v":0},{"$f":"(-'6 Rendiconto Finanz'!AT13-'6 Rendiconto Finanz'!AT14)*$C$12","v":0},{"$f":"(-'6 Rendiconto Finanz'!AU13-'6 Rendiconto Finanz'!AU14)*$C$12","v":0},{"$f":"(-'6 Rendiconto Finanz'!AV13-'6 Rendiconto Finanz'!AV14)*$C$12","v":0},{"$f":"(-'6 Rendiconto Finanz'!AW13-'6 Rendiconto Finanz'!AW14)*$C$12","v":0},{"$f":"(-'6 Rendiconto Finanz'!AX13-'6 Rendiconto Finanz'!AX14)*$C$12","v":0},{"$f":"(-'6 Rendiconto Finanz'!AY13-'6 Rendiconto Finanz'!AY14)*$C$12","v":0},{"$f":"(-'6 Rendiconto Finanz'!AZ13-'6 Rendiconto Finanz'!AZ14)*$C$12","v":0},{"$f":"(-'6 Rendiconto Finanz'!BA13-'6 Rendiconto Finanz'!BA14)*$C$12","v":0},{"$f":"(-'6 Rendiconto Finanz'!BB13-'6 Rendiconto Finanz'!BB14)*$C$12","v":0},{"$f":"(-'6 Rendiconto Finanz'!BC13-'6 Rendiconto Finanz'!BC14)*$C$12","v":0},{"$f":"(-'6 Rendiconto Finanz'!BD13-'6 Rendiconto Finanz'!BD14)*$C$12","v":0},{"$f":"(-'6 Rendiconto Finanz'!BE13-'6 Rendiconto Finanz'!BE14)*$C$12","v":0},{"$f":"(-'6 Rendiconto Finanz'!BF13-'6 Rendiconto Finanz'!BF14)*$C$12","v":0},{"$f":"(-'6 Rendiconto Finanz'!BG13-'6 Rendiconto Finanz'!BG14)*$C$12","v":0},{"$f":"(-'6 Rendiconto Finanz'!BH13-'6 Rendiconto Finanz'!BH14)*$C$12","v":0},{"$f":"(-'6 Rendiconto Finanz'!BI13-'6 Rendiconto Finanz'!BI14)*$C$12","v":0},{"$f":"(-'6 Rendiconto Finanz'!BJ13-'6 Rendiconto Finanz'!BJ14)*$C$12","v":0},{"$f":"(-'6 Rendiconto Finanz'!BK13-'6 Rendiconto Finanz'!BK14)*$C$12","v":0},{"$f":"(-'6 Rendiconto Finanz'!BL13-'6 Rendiconto Finanz'!BL14)*$C$12","v":0}]
["Meno Contributo Pubblico rettificato per componente fiscale (no se contributo locale)",null,0.80449999999999999,0,{"$f":"D13/D14","v":0},{"$f":"-'5 Foglio di elaborazione'!E29*'ACB Calcolo '!$C$13","v":0},{"$f":"-'5 Foglio di elaborazione'!F29*'ACB Calcolo '!$C$13","v":0},{"$f":"-'5 Foglio di elaborazione'!G29*'ACB Calcolo '!$C$13","v":0},{"$f":"-'5 Foglio di elaborazione'!H29*'ACB Calcolo '!$C$13","v":0},{"$f":"-'5 Foglio di elaborazione'!I29*'ACB Calcolo '!$C$13","v":0},{"$f":"-'5 Foglio di elaborazione'!J29*'ACB Calcolo '!$C$13","v":0},{"$f":"-'5 Foglio di elaborazione'!K29*'ACB Calcolo '!$C$13","v":0},{"$f":"-'5 Foglio di elaborazione'!L29*'ACB Calcolo '!$C$13","v":0},{"$f":"-'5 Foglio di elaborazione'!M29*'ACB Calcolo '!$C$13","v":0},{"$f":"-'5 Foglio di elaborazione'!N29*'ACB Calcolo '!$C$13","v":0},{"$f":"-'5 Foglio di elaborazione'!O29*'ACB Calcolo '!$C$13","v":0},{"$f":"-'5 Foglio di elaborazione'!P29*'ACB Calcolo '!$C$13","v":0},{"$f":"-'5 Foglio di elaborazione'!Q29*'ACB Calcolo '!$C$13","v":0},{"$f":"-'5 Foglio di elaborazione'!R29*'ACB Calcolo '!$C$13","v":0},{"$f":"-'5 Foglio di elaborazione'!S29*'ACB Calcolo '!$C$13","v":0},{"$f":"-'5 Foglio di elaborazione'!T29*'ACB Calcolo '!$C$13","v":0},{"$f":"-'5 Foglio di elaborazione'!U29*'ACB Calcolo '!$C$13","v":0},{"$f":"-'5 Foglio di elaborazione'!V29*'ACB Calcolo '!$C$13","v":0},{"$f":"-'5 Foglio di elaborazione'!W29*'ACB Calcolo '!$C$13","v":0},{"$f":"-'5 Foglio di elaborazione'!X29*'ACB Calcolo '!$C$13","v":0},{"$f":"-'5 Foglio di elaborazione'!Y29*'ACB Calcolo '!$C$13","v":0},{"$f":"-'5 Foglio di elaborazione'!Z29*'ACB Calcolo '!$C$13","v":0},{"$f":"-'5 Foglio di elaborazione'!AA29*'ACB Calcolo '!$C$13","v":0},{"$f":"-'5 Foglio di elaborazione'!AB29*'ACB Calcolo '!$C$13","v":0},{"$f":"-'5 Foglio di elaborazione'!AC29*'ACB Calcolo '!$C$13","v":0},{"$f":"-'5 Foglio di elaborazione'!AD29*'ACB Calcolo '!$C$13","v":0},{"$f":"-'5 Foglio di elaborazione'!AE29*'ACB Calcolo '!$C$13","v":0},{"$f":"-'5 Foglio di elaborazione'!AF29*'ACB Calcolo '!$C$13","v":0},{"$f":"-'5 Foglio di elaborazione'!AG29*'ACB Calcolo '!$C$13","v":0},{"$f":"-'5 Foglio di elaborazione'!AH29*'ACB Calcolo '!$C$13","v":0},{"$f":"-'5 Foglio di elaborazione'!AI29*'ACB Calcolo '!$C$13","v":0},{"$f":"-'5 Foglio di elaborazione'!AJ29*'ACB Calcolo '!$C$13","v":0},{"$f":"-'5 Foglio di elaborazione'!AK29*'ACB Calcolo '!$C$13","v":0},{"$f":"-'5 Foglio di elaborazione'!AL29*'ACB Calcolo '!$C$13","v":0},{"$f":"-'5 Foglio di elaborazione'!AM29*'ACB Calcolo '!$C$13","v":0},{"$f":"-'5 Foglio di elaborazione'!AN29*'ACB Calcolo '!$C$13","v":0},{"$f":"-'5 Foglio di elaborazione'!AO29*'ACB Calcolo '!$C$13","v":0},{"$f":"-'5 Foglio di elaborazione'!AP29*'ACB Calcolo '!$C$13","v":0},{"$f":"-'5 Foglio di elaborazione'!AQ29*'ACB Calcolo '!$C$13","v":0},{"$f":"-'5 Foglio di elaborazione'!AR29*'ACB Calcolo '!$C$13","v":0},{"$f":"-'5 Foglio di elaborazione'!AS29*'ACB Calcolo '!$C$13","v":0},{"$f":"-'5 Foglio di elaborazione'!AT29*'ACB Calcolo '!$C$13","v":0},{"$f":"-'5 Foglio di elaborazione'!AU29*'ACB Calcolo '!$C$13","v":0},{"$f":"-'5 Foglio di elaborazione'!AV29*'ACB Calcolo '!$C$13","v":0},{"$f":"-'5 Foglio di elaborazione'!AW29*'ACB Calcolo '!$C$13","v":0},{"$f":"-'5 Foglio di elaborazione'!AX29*'ACB Calcolo '!$C$13","v":0},{"$f":"-'5 Foglio di elaborazione'!AY29*'ACB Calcolo '!$C$13","v":0},{"$f":"-'5 Foglio di elaborazione'!AZ29*'ACB Calcolo '!$C$13","v":0},{"$f":"-'5 Foglio di elaborazione'!BA29*'ACB Calcolo '!$C$13","v":0},{"$f":"-'5 Foglio di elaborazione'!BB29*'ACB Calcolo '!$C$13","v":0},{"$f":"-'5 Foglio di elaborazione'!BC29*'ACB Calcolo '!$C$13","v":0},{"$f":"-'5 Foglio di elaborazione'!BD29*'ACB Calcolo '!$C$13","v":0},{"$f":"-'5 Foglio di elaborazione'!BE29*'ACB Calcolo '!$C$13","v":0},{"$f":"-'5 Foglio di elaborazione'!BF29*'ACB Calcolo '!$C$13","v":0},{"$f":"-'5 Foglio di elaborazione'!BG29*'ACB Calcolo '!$C$13","v":0},{"$f":"-'5 Foglio di elaborazione'!BH29*'ACB Calcolo '!$C$13","v":0},{"$f":"-'5 Foglio di elaborazione'!BI29*'ACB Calcolo '!$C$13","v":0},{"$f":"-'5 Foglio di elaborazione'!BJ29*'ACB Calcolo '!$C$13","v":0},{"$f":"-'5 Foglio di elaborazione'!BK29*'ACB Calcolo '!$C$13","v":0},{"$f":"-'5 Foglio di elaborazione'!BL29*'ACB Calcolo '!$C$13","v":0}]
["TOTALE COSTI DIRETTI",null,null,{"$f":"SUM(D3:D13)","v":2778697.9990812298},0.99999999999999989,249708.19000940007,256668.12718558797,264747.74272385973,270042.69757833693,275443.55152990366,280952.42256050179,286571.47101171181,292302.90043194609,298148.958440585,304111.93760939664,0,0,0,0,0,0,0,0,0,0,0,0,0,0,0,0,0,0,0,0,0,0,0,0,0,0,0,0,0,0,0,0,0,0,0,0,0,0,0,0,0,0,0,0,0,0,0,0,0,0]
["Costi indiretti1",null,null,{"$f":"SUM(F15:BM15)","v":8707799.9406616464},{"$f":"D15/D16","v":1},0,0,0,0,0,{"$f":"'ACB costi-benefici-ind.'!C16*K43","v":88326.464256000007},{"$f":"K15*(1+$B$43)","v":90092.993541120013},91894.853411942415,93732.750480181261,95607.405489784884,97519.553599580584,99469.944671572201,101459.34356500364,103488.53043630371,105558.30104502979,107669.46706593038,109822.856407249,112019.31353539397,114259.69980610185,116544.89380222389,118875.79167826836,121253.30751183373,123678.3736620704,126151.9411353118,128674.97995801804,131248.47955717839,133873.44914832196,136550.9181312884,139281.93649391417,142067.57522379246,144908.9267282683,147807.10526283368,150763.24736809035,153778.51231545216,156854.0825617612,159991.16421299643,163190.98749725637,166454.8072472015,169783.90339214553,173179.58145998843,176643.1730891882,180176.03655097197,183779.55728199141,187455.14842763124,191204.25139618386,195028.33642410755,198928.90315258972,202907.48121564151,206965.63083995433,211104.94345675342,215327.0423258885,219633.58317240627,224026.2548358544,228506.77993257149,233076.91553122291,237738.45384184737,242493.22291868433,247343.08737705802,252289.9491245992,257335.74810709117]
["TOTALE COSTI INDIRETTI (come da precedente scheda 15)",null,null,{"$f":"SUM(D15)","v":8707799.9406616464},1,0,0,0,0,0,88326.464256000007,90092.993541120013,91894.853411942415,93732.750480181261,95607.405489784884,97519.553599580584,99469.944671572201,101459.34356500364,103488.53043630371,105558.30104502979,107669.46706593038,109822.856407249,112019.31353539397,114259.69980610185,116544.89380222389,118875.79167826836,121253.30751183373,123678.3736620704,126151.9411353118,128674.97995801804,131248.47955717839,133873.44914832196,136550.9181312884,139281.93649391417,142067.57522379246,144908.9267282683,147807.10526283368,150763.24736809035,153778.51231545216,156854.0825617612,159991.16421299643,163190.98749725637,166454.8072472015,169783.90339214553,173179.58145998843,176643.1730891882,180176.03655097197,183779.55728199141,187455.14842763124,191204.25139618386,195028.33642410755,198928.90315258972,202907.48121564151,206965.63083995433,211104.94345675342,215327.0423258885,219633.58317240627,224026.2548358544,228506.77993257149,233076.91553122291,237738.45384184737,242493.22291868433,247343.08737705802,252289.9491245992,257335.74810709117]
["A - TOTALE COSTI",null,null,{"$f":"D16+D14","v":11486497.939742876},null,{"$f":"F16+F14","v":249708.19000940007},256668.12718558797,264747.74272385973,270042.69757833693,275443.55152990366,369278.88681650179,376664.46455283184,384197.75384388852,391881.70892076625,399719.34309918154,97519.553599580584,99469.944671572201,101459.34356500364,103488.53043630371,105558.30104502979,107669.46706593038,109822.856407249,112019.31353539397,114259.69980610185,116544.89380222389,118875.79167826836,121253.30751183373,123678.3736620704,126151.9411353118,128674.97995801804,131248.47955717839,133873.44914832196,136550.9181312884,139281.93649391417,142067.57522379246,144908.9267282683,147807.10526283368,150763.24736809035,153778.51231545216,156854.0825617612,159991.16421299643,163190.98749725637,166454.8072472015,169783.90339214553,173179.58145998843,176643.1730891882,180176.03655097197,183779.55728199141,187455.14842763124,191204.25139618386,195028.33642410755,198928.90315258972,202907.48121564151,206965.63083995433,211104.94345675342,215327.0423258885,219633.58317240627,224026.2548358544,228506.77993257149,233076.91553122291,237738.45384184737,242493.22291868433,247343.08737705802,252289.9491245992,257335.74810709117]
["Ricavi tariffari e ancillari",null,0.80449999999999999,{"$f":"SUM(F18:BM18)","v":3642471.9771214933},{"$f":"D18/D20","v":1},{"$f":"'6 Rendiconto Finanz'!E5*$C$18","v":277753.625},{"$f":"'6 Rendiconto Finanz'!F5*$C$18","v":313137.14399999997},{"$f":"'6 Rendiconto Finanz'!G5*$C$18","v":355539.11359859997},{"$f":"'6 Rendiconto Finanz'!H5*$C$18","v":362649.89587057196},{"$f":"'6 Rendiconto Finanz'!I5*$C$18","v":369902.8937879834},{"$f":"'6 Rendiconto Finanz'!J5*$C$18","v":377300.95166374306},{"$f":"'6 Rendiconto Finanz'!K5*$C$18","v":384846.97069701797},{"$f":"'6 Rendiconto Finanz'!L5*$C$18","v":392543.91011095833},{"$f":"'6 Rendiconto Finanz'!M5*$C$18","v":400394.78831317759},{"$f":"'6 Rendiconto Finanz'!N5*$C$18","v":408402.68407944107},{"$f":"'6 Rendiconto Finanz'!O5*$C$18","v":0},{"$f":"'6 Rendiconto Finanz'!P5*$C$18","v":0},{"$f":"'6 Rendiconto Finanz'!Q5*$C$18","v":0},{"$f":"'6 Rendiconto Finanz'!R5*$C$18","v":0},{"$f":"'6 Rendiconto Finanz'!S5*$C$18","v":0},{"$f":"'6 Rendiconto Finanz'!T5*$C$18","v":0},{"$f":"'6 Rendiconto Finanz'!U5*$C$18","v":0},{"$f":"'6 Rendiconto Finanz'!V5*$C$18","v":0},{"$f":"'6 Rendiconto Finanz'!W5*$C$18","v":0},{"$f":"'6 Rendiconto Finanz'!X5*$C$18","v":0},{"$f":"'6 Rendiconto Finanz'!Y5*$C$18","v":0},{"$f":"'6 Rendiconto Finanz'!Z5*$C$18","v":0},{"$f":"'6 Rendiconto Finanz'!AA5*$C$18","v":0},{"$f":"'6 Rendiconto Finanz'!AB5*$C$18","v":0},{"$f":"'6 Rendiconto Finanz'!AC5*$C$18","v":0},{"$f":"'6 Rendiconto Finanz'!AD5*$C$18","v":0},{"$f":"'6 Rendiconto Finanz'!AE5*$C$18","v":0},{"$f":"'6 Rendiconto Finanz'!AF5*$C$18","v":0},{"$f":"'6 Rendiconto Finanz'!AG5*$C$18","v":0},{"$f":"'6 Rendiconto Finanz'!AH5*$C$18","v":0},{"$f":"'6 Rendiconto Finanz'!AI5*$C$18","v":0},{"$f":"'6 Rendiconto Finanz'!AJ5*$C$18","v":0},{"$f":"'6 Rendiconto Finanz'!AK5*$C$18","v":0},{"$f":"'6 Rendiconto Finanz'!AL5*$C$18","v":0},{"$f":"'6 Rendiconto Finanz'!AM5*$C$18","v":0},{"$f":"'6 Rendiconto Finanz'!AN5*$C$18","v":0},{"$f":"'6 Rendiconto Finanz'!AO5*$C$18","v":0},{"$f":"'6 Rendiconto Finanz'!AP5*$C$18","v":0},{"$f":"'6 Rendiconto Finanz'!AQ5*$C$18","v":0},{"$f":"'6 Rendiconto Finanz'!AR5*$C$18","v":0},{"$f":"'6 Rendiconto Finanz'!AS5*$C$18","v":0},{"$f":"'6 Rendiconto Finanz'!AT5*$C$18","v":0},{"$f":"'6 Rendiconto Finanz'!AU5*$C$18","v":0},{"$f":"'6 Rendiconto Finanz'!AV5*$C$18","v":0},{"$f":"'6 Rendiconto Finanz'!AW5*$C$18","v":0},{"$f":"'6 Rendiconto Finanz'!AX5*$C$18","v":0},{"$f":"'6 Rendiconto Finanz'!AY5*$C$18","v":0},{"$f":"'6 Rendiconto Finanz'!AZ5*$C$18","v":0},{"$f":"'6 Rendiconto Finanz'!BA5*$C$18","v":0},{"$f":"'6 Rendiconto Finanz'!BB5*$C$18","v":0},{"$f":"'6 Rendiconto Finanz'!BC5*$C$18","v":0},{"$f":"'6 Rendiconto Finanz'!BD5*$C$18","v":0},{"$f":"'6 Rendiconto Finanz'!BE5*$C$18","v":0},{"$f":"'6 Rendiconto Finanz'!BF5*$C$18","v":0},{"$f":"'6 Rendiconto Finanz'!BG5*$C$18","v":0},{"$f":"'6 Rendiconto Finanz'!BH5*$C$18","v":0},{"$f":"'6 Rendiconto Finanz'!BI5*$C$18","v":0},{"$f":"'6 Rendiconto Finanz'!BJ5*$C$18","v":0},{"$f":"'6 Rendiconto Finanz'!BK5*$C$18","v":0},{"$f":"'6 Rendiconto Finanz'!BL5*$C$18","v":0}]
["Canone di disponibilità o contributo"," (no se contributo o canone locale)",0.80449999999999999,0,{"$f":"D19/D20","v":0},{"$f":"'6 Rendiconto Finanz'!E6*'ACB Calcolo '!$C$19","v":0},{"$f":"'6 Rendiconto Finanz'!F6*'ACB Calcolo '!$C$19","v":0},{"$f":"'6 Rendiconto Finanz'!G6*'ACB Calcolo '!$C$19","v":0},{"$f":"'6 Rendiconto Finanz'!H6*'ACB Calcolo '!$C$19","v":0},{"$f":"'6 Rendiconto Finanz'!I6*'ACB Calcolo '!$C$19","v":0},{"$f":"'6 Rendiconto Finanz'!J6*'ACB Calcolo '!$C$19","v":0},{"$f":"'6 Rendiconto Finanz'!K6*'ACB Calcolo '!$C$19","v":0},{"$f":"'6 Rendiconto Finanz'!L6*'ACB Calcolo '!$C$19","v":0},{"$f":"'6 Rendiconto Finanz'!M6*'ACB Calcolo '!$C$19","v":0},{"$f":"'6 Rendiconto Finanz'!N6*'ACB Calcolo '!$C$19","v":0},{"$f":"'6 Rendiconto Finanz'!O6*'ACB Calcolo '!$C$19","v":0},{"$f":"'6 Rendiconto Finanz'!P6*'ACB Calcolo '!$C$19","v":0},{"$f":"'6 Rendiconto Finanz'!Q6*'ACB Calcolo '!$C$19","v":0},{"$f":"'6 Rendiconto Finanz'!R6*'ACB Calcolo '!$C$19","v":0},{"$f":"'6 Rendiconto Finanz'!S6*'ACB Calcolo '!$C$19","v":0},{"$f":"'6 Rendiconto Finanz'!T6*'ACB Calcolo '!$C$19","v":0},{"$f":"'6 Rendiconto Finanz'!U6*'ACB Calcolo '!$C$19","v":0},{"$f":"'6 Rendiconto Finanz'!V6*'ACB Calcolo '!$C$19","v":0},{"$f":"'6 Rendiconto Finanz'!W6*'ACB Calcolo '!$C$19","v":0},{"$f":"'6 Rendiconto Finanz'!X6*'ACB Calcolo '!$C$19","v":0},{"$f":"'6 Rendiconto Finanz'!Y6*'ACB Calcolo '!$C$19","v":0},{"$f":"'6 Rendiconto Finanz'!Z6*'ACB Calcolo '!$C$19","v":0},{"$f":"'6 Rendiconto Finanz'!AA6*'ACB Calcolo '!$C$19","v":0},{"$f":"'6 Rendiconto Finanz'!AB6*'ACB Calcolo '!$C$19","v":0},{"$f":"'6 Rendiconto Finanz'!AC6*'ACB Calcolo '!$C$19","v":0},{"$f":"'6 Rendiconto Finanz'!AD6*'ACB Calcolo '!$C$19","v":0},{"$f":"'6 Rendiconto Finanz'!AE6*'ACB Calcolo '!$C$19","v":0},{"$f":"'6 Rendiconto Finanz'!AF6*'ACB Calcolo '!$C$19","v":0},{"$f":"'6 Rendiconto Finanz'!AG6*'ACB Calcolo '!$C$19","v":0},{"$f":"'6 Rendiconto Finanz'!AH6*'ACB Calcolo '!$C$19","v":0},{"$f":"'6 Rendiconto Finanz'!AI6*'ACB Calcolo '!$C$19","v":0},{"$f":"'6 Rendiconto Finanz'!AJ6*'ACB Calcolo '!$C$19","v":0},{"$f":"'6 Rendiconto Finanz'!AK6*'ACB Calcolo '!$C$19","v":0},{"$f":"'6 Rendiconto Finanz'!AL6*'ACB Calcolo '!$C$19","v":0},{"$f":"'6 Rendiconto Finanz'!AM6*'ACB Calcolo '!$C$19","v":0},{"$f":"'6 Rendiconto Finanz'!AN6*'ACB Calcolo '!$C$19","v":0},{"$f":"'6 Rendiconto Finanz'!AO6*'ACB Calcolo '!$C$19","v":0},{"$f":"'6 Rendiconto Finanz'!AP6*'ACB Calcolo '!$C$19","v":0},{"$f":"'6 Rendiconto Finanz'!AQ6*'ACB Calcolo '!$C$19","v":0},{"$f":"'6 Rendiconto Finanz'!AR6*'ACB Calcolo '!$C$19","v":0},{"$f":"'6 Rendiconto Finanz'!AS6*'ACB Calcolo '!$C$19","v":0},{"$f":"'6 Rendiconto Finanz'!AT6*'ACB Calcolo '!$C$19","v":0},{"$f":"'6 Rendiconto Finanz'!AU6*'ACB Calcolo '!$C$19","v":0},{"$f":"'6 Rendiconto Finanz'!AV6*'ACB Calcolo '!$C$19","v":0},{"$f":"'6 Rendiconto Finanz'!AW6*'ACB Calcolo '!$C$19","v":0},{"$f":"'6 Rendiconto Finanz'!AX6*'ACB Calcolo '!$C$19","v":0},{"$f":"'6 Rendiconto Finanz'!AY6*'ACB Calcolo '!$C$19","v":0},{"$f":"'6 Rendiconto Finanz'!AZ6*'ACB Calcolo '!$C$19","v":0},{"$f":"'6 Rendiconto Finanz'!BA6*'ACB Calcolo '!$C$19","v":0},{"$f":"'6 Rendiconto Finanz'!BB6*'ACB Calcolo '!$C$19","v":0},{"$f":"'6 Rendiconto Finanz'!BC6*'ACB Calcolo '!$C$19","v":0},{"$f":"'6 Rendiconto Finanz'!BD6*'ACB Calcolo '!$C$19","v":0},{"$f":"'6 Rendiconto Finanz'!BE6*'ACB Calcolo '!$C$19","v":0},{"$f":"'6 Rendiconto Finanz'!BF6*'ACB Calcolo '!$C$19","v":0},{"$f":"'6 Rendiconto Finanz'!BG6*'ACB Calcolo '!$C$19","v":0},{"$f":"'6 Rendiconto Finanz'!BH6*'ACB Calcolo '!$C$19","v":0},{"$f":"'6 Rendiconto Finanz'!BI6*'ACB Calcolo '!$C$19","v":0},{"$f":"'6 Rendiconto Finanz'!BJ6*'ACB Calcolo '!$C$19","v":0},{"$f":"'6 Rendiconto Finanz'!BK6*'ACB Calcolo '!$C$19","v":0},{"$f":"'6 Rendiconto Finanz'!BL6*'ACB Calcolo '!$C$19","v":0}]
["TOTALE BENEFICI DIRETTI ",null,null,{"$f":"SUM(D18:D19)","v":3642471.9771214933},1,277753.625,313137.14399999997,355539.11359859997,362649.89587057196,369902.8937879834,377300.95166374306,384846.97069701797,392543.91011095833,400394.78831317759,408402.68407944107,0,0,0,0,0,0,0,0,0,0,0,0,0,0,0,0,0,0,0,0,0,0,0,0,0,0,0,0,0,0,0,0,0,0,0,0,0,0,0,0,0,0,0,0,0,0,0,0,0,0]
["Incremento valore degli immobili e attività commerciali/artigiane",null,null,{"$f":"SUM(F21:BM21)","v":5520404.0159999998},{"$f":"D21/D23","v":0.9102605660716574},0,{"$f":"F21*(1+$B$43)","v":0},0,0,0,{"$f":"'ACB costi-benefici-ind.'!C24*K43","v":5520404.0159999998},0,{"$f":"L21*(1+$B$43)","v":0},0,0,0,0,0,0,0,0,0,0,0,0,0,0,0,0,0,0,0,0,0,0,0,0,0,0,0,0,0,0,0,0,0,0,0,0,0,0,0,0,0,0,0,0,0,0,0,0,0,0,0,0]
["Altro (vedi specifica in scheda 15)",null,null,544237.4962913529,{"$f":"D22/D23","v":8.973943392834248E-2},0,{"$f":"F22*(1+$B$43)","v":0},0,0,0,{"$f":"SUM('ACB costi-benefici-ind.'!C25:C29)*'ACB Calcolo '!K43","v":5520.4040160000004},{"$f":"K22*(1+$B$43)","v":5630.8120963200008},5743.4283382464009,5858.2969050113288,5975.4628431115552,6094.9720999737865,6216.8715419732625,6341.2089728127276,6468.0331522689821,6597.3938153143617,6729.3416916206488,6863.9285254530623,7001.2070959621233,7141.2312378813658,7284.0558626389929,7429.7369798917725,7578.3317194896081,7729.8983538794,7884.4963209569878,8042.1862473761275,8203.0299723236494,8367.0905717701226,8534.4323832055252,8705.1210308696354,8879.2234514870288,9056.8079205167687,9237.9440789271048,9422.7029605056468,9611.1570197157598,9803.3801601100749,9999.4477633122769,10199.436718578523,10403.425452950094,10611.493962009095,10823.723841249277,11040.198318074263,11261.002284435748,11486.222330124463,11715.946776726953,11950.265712261491,12189.271026506722,12433.056447036857,12681.717575977595,12935.351927497146,13194.058966047089,13457.940145368031,13727.098948275392,14001.6409272409,14281.673745785718,14567.307220701432,14858.65336511546,15155.826432417771,15458.942961066126,15768.12182028745,16083.484256693198]
["TOTALE BENEFICI INDIRETTI ",null,null,{"$f":"SUM(D21:D22)","v":6064641.5122913532},0.99999999999999989,0,0,0,0,0,5525924.420016,5630.8120963200008,5743.4283382464009,5858.2969050113288,5975.4628431115552,6094.9720999737865,6216.8715419732625,6341.2089728127276,6468.0331522689821,6597.3938153143617,6729.3416916206488,6863.9285254530623,7001.2070959621233,7141.2312378813658,7284.0558626389929,7429.7369798917725,7578.3317194896081,7729.8983538794,7884.4963209569878,8042.1862473761275,8203.0299723236494,8367.0905717701226,8534.4323832055252,8705.1210308696354,8879.2234514870288,9056.8079205167687,9237.9440789271048,9422.7029605056468,9611.1570197157598,9803.3801601100749,9999.4477633122769,10199.436718578523,10403.425452950094,10611.493962009095,10823.723841249277,11040.198318074263,11261.002284435748,11486.222330124463,11715.946776726953,11950.265712261491,12189.271026506722,12433.056447036857,12681.717575977595,12935.351927497146,13194.058966047089,13457.940145368031,13727.098948275392,14001.6409272409,14281.673745785718,14567.307220701432,14858.65336511546,15155.826432417771,15458.942961066126,15768.12182028745,16083.484256693198]
["VALORE RESIDUO RIVALUTATO*",null,null,{"$f":"D37","v":1608348.4256693204},null,0,0,0,0,0,0,0,0,0,0,0,0,0,0,0,0,0,0,0,0,0,0,0,0,0,0,0,0,0,0,0,0,0,0,0,0,0,0,0,0,0,0,0,0,0,0,0,0,0,0,0,0,0,0,0,0,0,0,0,{"$f":"D24","v":1608348.4256693204}]
["B - TOTALE BENEFICI",null,null,{"$f":"D20+D23+D24","v":11315461.915082166},null,{"$f":"F20+F23+F24","v":277753.625},313137.14399999997,355539.11359859997,362649.89587057196,369902.8937879834,5903225.3716797428,390477.78279333794,398287.33844920475,406253.08521818893,414378.14692255261,6094.9720999737865,6216.8715419732625,6341.2089728127276,6468.0331522689821,6597.3938153143617,6729.3416916206488,6863.9285254530623,7001.2070959621233,7141.2312378813658,7284.0558626389929,7429.7369798917725,7578.3317194896081,7729.8983538794,7884.4963209569878,8042.1862473761275,8203.0299723236494,8367.0905717701226,8534.4323832055252,8705.1210308696354,8879.2234514870288,9056.8079205167687,9237.9440789271048,9422.7029605056468,9611.1570197157598,9803.3801601100749,9999.4477633122769,10199.436718578523,10403.425452950094,10611.493962009095,10823.723841249277,11040.198318074263,11261.002284435748,11486.222330124463,11715.946776726953,11950.265712261491,12189.271026506722,12433.056447036857,12681.717575977595,12935.351927497146,13194.058966047089,13457.940145368031,13727.098948275392,14001.6409272409,14281.673745785718,14567.307220701432,14858.65336511546,15155.826432417771,15458.942961066126,15768.12182028745,1624431.9099260136]
["FLUSSO ECONOMICO",null,null,{"$f":"D25-D17","v":-171036.02466071025},null,{"$f":"F25-F17","v":28045.434990599926},56469.016814411996,90791.370874740242,92607.198292235029,94459.342258079734,5533946.4848632412,13813.318240506109,14089.584605316224,14371.376297422685,14658.803823371069,-91424.581499606793,-93253.073129598939,-95118.134592190909,-97020.497284034733,-98960.90722971542,-100940.12537430973,-102958.92788179594,-105018.10643943185,-107118.46856822049,-109260.83793958489,-111446.05469837658,-113674.97579234412,-115948.475308191,-118267.44481435482,-120632.79371064191,-123045.44958485474,-125506.35857655184,-128016.48574808288,-130576.81546304454,-133188.35177230544,-135852.11880775154,-138569.16118390657,-141340.5444075847,-144167.3552957364,-147050.70240165113,-149991.71644968414,-152991.55077867786,-156051.38179425141,-159172.40943013644,-162355.85761873916,-165602.97477111395,-168915.03426653621,-172293.33495186694,-175739.20165090429,-179253.98568392236,-182839.06539760082,-186495.84670555286,-190225.76363966393,-194030.2789124572,-197910.88449070632,-201869.10218052048,-205906.48422413089,-210024.61390861351,-214225.10618678576,-218509.60831052149,-222879.80047673191,-227337.39648626657,-231884.1444159919,-236521.82730431174,1367096.1618189225]
["Progressione flusso economico per calcolo del Payback",null,null,null,null,{"$f":"F26","v":28045.434990599926},{"$f":"F27+G26","v":84514.451805011922},175305.82267975216,267913.02097198716,362372.3632300669,5896318.8480933085,5910132.1663338151,5924221.7509391317,5938593.1272365544,5953251.9310599258,5861827.3495603194,5768574.2764307205,5673456.1418385291,5576435.6445544939,5477474.7373247789,5376534.6119504692,5273575.6840686733,5168557.5776292412,5061439.1090610204,4952178.2711214358,4840732.2164230589,4727057.2406307152,4611108.7653225241,4492841.320508169,4372208.5267975274,4249163.0772126727,4123656.7186361207,3995640.2328880378,3865063.4174249931,3731875.0656526876,3596022.9468449359,3457453.7856610292,3316113.2412534445,3171945.8859577081,3024895.183556057,2874903.467106373,2721911.9163276954,2565860.5345334439,2406688.1251033074,2244332.2674845681,2078729.292713454,1909814.2584469179,1737520.923495051,1561781.7218441467,1382527.7361602243,1199688.6707626234,1013192.8240570705,822967.06041740661,628936.78150494944,431025.89701424312,229156.79483372264,23250.310609591746,-186774.30329902176,-400999.40948580753,-619509.01779632899,-842388.81827306096,-1069726.2147593275,-1301610.3591753193,-1538132.1864796311,-171036.02466070862]
["Fattore di sconto",null,null,null,null,1,{"$f":"F28*(1+$D$31)","v":1.049274},1.100975927076,1.1552254149067429,1.2121479920008578,1.2718753721587082,1.3345457592464565,1.4003041669875664,1.4693027545117119,1.5417011784375221,1.6176669623038527,1.6973758842044127,1.781012383522701,1.8687699877083985,1.9608517600827422,2.0574707697090595,2.158850584415704,2.2652257881122035,2.3768425235956445,2.4939590621032965,2.6168464009293744,2.7457888904887686,2.8810848922787122,3.0230474692608538,3.172005110261213,3.3283024900642242,3.4923012669596489,3.6643809195878188,3.8449396250195891,4.0343951801028046,4.2331859682071906,4.4417719736046317,4.6606358458320267,4.890284016499554,5.1312478711285534,5.3840849787305416,5.6493803819725104,5.9277479509138242,6.2198318034471525,6.526307795730208,6.8478850860570182,7.1853077757873915,7.5393566311315396,7.9108508897739158,8.3006501565166353,8.7096563923288368,9.1388160014044484,9.5891220210576513,10.061616419523247,10.557392506978836,11.077597465367711,11.62343500287624,12.196168139207964,12.797122128099298,13.427687523839264,14.08932339888892,14.783560720045774,15.512005890965309,16.276344469236733,17.078345066613906]
["Flussi scontati",null,null," ",null,{"$f":"(F26)/F28","v":28045.434990599926},53817.226781957805,82464.446898367969,80163.747349439043,77927.235685271749,4351013.1621392071,10350.576699824605,10061.80295501565,9781.0857927634333,9508.2004401316099,-56516.318642869184,-54939.553458607166,-53406.778904060622,-51916.767671877729,-50468.326695710828,-49060.296194916715,-47691.548745909124,-46360.988379419767,-45067.549702945231,-43810.197047676898,-42587.923639230969,-41399.750791514503,-40244.727123082048,-39121.927795355346,-38030.453772096182,-36969.431099539397,-35938.010206609695,-34935.365224661902,-33960.693326199958,-33013.214082045262,-32092.168836439443,-31196.820099581459,-30326.450957112331,-29480.364496074981,-28657.883246889254,-27858.348640895554,-27081.120483032526,-26325.576439226716,-25591.111538083711,-24877.137686481681,-24183.083198679582,-23508.392338562826,-22852.524874660081,-22214.955647574687,-21595.174149484483,-20992.684115373268,-20407.003125666637,-19837.66221995396,-19284.205521487271,-18746.189872156381,-18223.18447764789,-17714.770562504025,-17220.541034805115,-16740.10016020717,-16273.063245073557,-15819.056328447123,-15377.715882616045,-14948.688522033677,-14531.630720359364,80048.515033896911]
["VAN PROGRESSIVO",null,null,null,null,{"$f":"F29","v":28045.434990599926},{"$f":"F30+G29","v":81862.661772557738},164327.10867092572,244490.85602036476,322418.09170563653,4673431.2538448432,4683781.8305446682,4693843.6334996838,4703624.719292447,4713132.919732579,4656616.6010897094,4601677.0476311026,4548270.2687270418,4496353.5010551643,4445885.1743594538,4396824.8781645373,4349133.3294186285,4302772.3410392087,4257704.7913362635,4213894.5942885866,4171306.6706493557,4129906.9198578415,4089662.1927347593,4050540.2649394041,4012509.8111673081,3975540.3800677685,3939602.369861159,3904667.0046364972,3870706.3113102973,3837693.0972282519,3805600.9283918124,3774404.1082922309,3744077.6573351184,3714597.2928390433,3685939.409592154,3658081.0609512585,3630999.9404682261,3604674.3640289996,3579083.2524909158,3554206.1148044341,3530023.0316057545,3506514.6392671918,3483662.1143925316,3461447.1587449568,3439851.9845954725,3418859.3004800994,3398452.2973544328,3378614.6351344786,3359330.4296129914,3340584.239740835,3322361.0552631873,3304646.2847006833,3287425.7436658782,3270685.6435056711,3254412.5802605976,3238593.5239321506,3223215.8080495344,3208267.1195275006,3193735.4888071413,3273784.0038410383]
["Saggio di attualizzazione/fattore di sconto",null,null,{"$f":"(1+2.87%)*(1+B43)-1","v":4.927400000000004E-2}," "]
["VANe (Valore attuale netto economico)",null,null,{"$f":"SUM(F29:BM29)","v":3273784.0038410383},null," "," "]
["TIRe (Tasso interno di rendimento economico)",null,null,{"$f":"IRR(F26:BM26)","v":1.0026709485659868E-3}]
["RBCA (Rapporto benefici-costi attualizzati)",null,null,{"$f":"NPV(D31,F25:BM25)/NPV(D31,F17:BM17)","v":1.7786423812862349},null,"Rapporto fra il valore attualizzato della somma di tutti i benefici ed il valore attualizzato di tutti i costi.",null,null,null,null,null,"Rapporto fra il valore attualizzato della somma di tutti i benefici ed il valore attualizzato di tutti i costi.",null,null,null,null,null,"Rapporto fra il valore attualizzato della somma di tutti i benefici ed il valore attualizzato di tutti i costi.",null,null,null,null,null,"Rapporto fra il valore attualizzato della somma di tutti i benefici ed il valore attualizzato di tutti i costi.",null,null,null,null,null,"Rapporto fra il valore attualizzato della somma di tutti i benefici ed il valore attualizzato di tutti i costi.",null,null,null,null,null,"Rapporto fra il valore attualizzato della somma di tutti i benefici ed il valore attualizzato di tutti i costi.",null,null,null,null,null,"Rapporto fra il valore attualizzato della somma di tutti i benefici ed il valore attualizzato di tutti i costi.",null,null,null,null,null,"Rapporto fra il valore attualizzato della somma di tutti i benefici ed il valore attualizzato di tutti i costi.",null,null,null,null,null,"Rapporto fra il valore attualizzato della somma di tutti i benefici ed il valore attualizzato di tutti i costi.",null,null,null,null,null,"Rapporto fra il valore attualizzato della somma di tutti i benefici ed il valore attualizzato di tutti i costi."]
["PBP (Pay Back Period)",null,null,{"$f":"INDEX($F$2:$BM$2,MATCH(TRUE,INDEX($F$27:$BM$27>0, ),0))","v":1},null,"Annualità in cui il totale dei flussi positivi arrivano a coprire i flussi negativi iniziali. ",null,null,null,null,null,"Annualità in cui il totale dei flussi positivi arrivano a coprire i flussi negativi iniziali. ",null,null,null,null,null,"Annualità in cui il totale dei flussi positivi arrivano a coprire i flussi negativi iniziali. ",null,null,null,null,null,"Annualità in cui il totale dei flussi positivi arrivano a coprire i flussi negativi iniziali. ",null,null,null,null,null,"Annualità in cui il totale dei flussi positivi arrivano a coprire i flussi negativi iniziali. ",null,null,null,null,null,"Annualità in cui il totale dei flussi positivi arrivano a coprire i flussi negativi iniziali. ",null,null,null,null,null,"Annualità in cui il totale dei flussi positivi arrivano a coprire i flussi negativi iniziali. ",null,null,null,null,null,"Annualità in cui il totale dei flussi positivi arrivano a coprire i flussi negativi iniziali. ",null,null,null,null,null,"Annualità in cui il totale dei flussi positivi arrivano a coprire i flussi negativi iniziali. ",null,null,null,null,null,"Annualità in cui il totale dei flussi positivi arrivano a coprire i flussi negativi iniziali. "]
["* Vres = (1-D/Ve)*C+Va"," ",null,null,null,"Il valore residuo valuta la consistenza del costo di costruzione deprezzato e rivalutato Istat. Esso rappresenta la parte residua (al termine della concessione) rispetto a quanta parte del bene è stata, in un certo senso, consumata, ovvero utilizzata durante l'investimento stesso. In altre parole, dal costo di costruzione si sottrae il costo necessario a realizzare quanto utilizzato durante l'investimento (metodo del costo di costruzione deprezzato).",null,null,null,null,null,"Il valore residuo valuta la consistenza del costo di costruzione deprezzato e rivalutato Istat. Esso rappresenta la parte residua (al termine della concessione) rispetto a quanta parte del bene è stata, in un certo senso, consumata, ovvero utilizzata durante l'investimento stesso. In altre parole, dal costo di costruzione si sottrae il costo necessario a realizzare quanto utilizzato durante l'investimento (metodo del costo di costruzione deprezzato).",null,null,null,null,null,"Il valore residuo valuta la consistenza del costo di costruzione deprezzato e rivalutato Istat. Esso rappresenta la parte residua (al termine della concessione) rispetto a quanta parte del bene è stata, in un certo senso, consumata, ovvero utilizzata durante l'investimento stesso. In altre parole, dal costo di costruzione si sottrae il costo necessario a realizzare quanto utilizzato durante l'investimento (metodo del costo di costruzione deprezzato).",null,null,null,null,null,"Il valore residuo valuta la consistenza del costo di costruzione deprezzato e rivalutato Istat. Esso rappresenta la parte residua (al termine della concessione) rispetto a quanta parte del bene è stata, in un certo senso, consumata, ovvero utilizzata durante l'investimento stesso. In altre parole, dal costo di costruzione si sottrae il costo necessario a realizzare quanto utilizzato durante l'investimento (metodo del costo di costruzione deprezzato).",null,null,null,null,null,"Il valore residuo valuta la consistenza del costo di costruzione deprezzato e rivalutato Istat. Esso rappresenta la parte residua (al termine della concessione) rispetto a quanta parte del bene è stata, in un certo senso, consumata, ovvero utilizzata durante l'investimento stesso. In altre parole, dal costo di costruzione si sottrae il costo necessario a realizzare quanto utilizzato durante l'investimento (metodo del costo di costruzione deprezzato).",null,null,null,null,null,"Il valore residuo valuta la consistenza del costo di costruzione deprezzato e rivalutato Istat. Esso rappresenta la parte residua (al termine della concessione) rispetto a quanta parte del bene è stata, in un certo senso, consumata, ovvero utilizzata durante l'investimento stesso. In altre parole, dal costo di costruzione si sottrae il costo necessario a realizzare quanto utilizzato durante l'investimento (metodo del costo di costruzione deprezzato).",null,null,null,null,null,"Il valore residuo valuta la consistenza del costo di costruzione deprezzato e rivalutato Istat. Esso rappresenta la parte residua (al termine della concessione) rispetto a quanta parte del bene è stata, in un certo senso, consumata, ovvero utilizzata durante l'investimento stesso. In altre parole, dal costo di costruzione si sottrae il costo necessario a realizzare quanto utilizzato durante l'investimento (metodo del costo di costruzione deprezzato).",null,null,null,null,null,"Il valore residuo valuta la consistenza del costo di costruzione deprezzato e rivalutato Istat. Esso rappresenta la parte residua (al termine della concessione) rispetto a quanta parte del bene è stata, in un certo senso, consumata, ovvero utilizzata durante l'investimento stesso. In altre parole, dal costo di costruzione si sottrae il costo necessario a realizzare quanto utilizzato durante l'investimento (metodo del costo di costruzione deprezzato).",null,null,null,null,null,"Il valore residuo valuta la consistenza del costo di costruzione deprezzato e rivalutato Istat. Esso rappresenta la parte residua (al termine della concessione) rispetto a quanta parte del bene è stata, in un certo senso, consumata, ovvero utilizzata durante l'investimento stesso. In altre parole, dal costo di costruzione si sottrae il costo necessario a realizzare quanto utilizzato durante l'investimento (metodo del costo di costruzione deprezzato).",null,null,null,null,null,"Il valore residuo valuta la consistenza del costo di costruzione deprezzato e rivalutato Istat. Esso rappresenta la parte residua (al termine della concessione) rispetto a quanta parte del bene è stata, in un certo senso, consumata, ovvero utilizzata durante l'investimento stesso. In altre parole, dal costo di costruzione si sottrae il costo necessario a realizzare quanto utilizzato durante l'investimento (metodo del costo di costruzione deprezzato)."]
["Vres","Valore residuo rivalutato",null,{"$f":"((1-D38/D39)*D40+D41)*BM43","v":1608348.4256693204}]
["D","Durata dell'investimento",null,{"$f":"H1","v":11}]
["Ve","Vita economica o durata di vita del progetto",null,{"$f":"100/D42/100","v":100},null,"Periodo entro il quale l'opera adempie alle prestazioni funzionali per le quali è stata concepita.",null,null,null,null,null,"Periodo entro il quale l'opera adempie alle prestazioni funzionali per le quali è stata concepita.",null,null,null,null,null,"Periodo entro il quale l'opera adempie alle prestazioni funzionali per le quali è stata concepita.",null,null,null,null,null,"Periodo entro il quale l'opera adempie alle prestazioni funzionali per le quali è stata concepita.",null,null,null,null,null,"Periodo entro il quale l'opera adempie alle prestazioni funzionali per le quali è stata concepita.",null,null,null,null,null,"Periodo entro il quale l'opera adempie alle prestazioni funzionali per le quali è stata concepita.",null,null,null,null,null,"Periodo entro il quale l'opera adempie alle prestazioni funzionali per le quali è stata concepita.",null,null,null,null,null,"Periodo entro il quale l'opera adempie alle prestazioni funzionali per le quali è stata concepita.",null,null,null,null,null,"Periodo entro il quale l'opera adempie alle prestazioni funzionali per le quali è stata concepita.",null,null,null,null,null,"Periodo entro il quale l'opera adempie alle prestazioni funzionali per le quali è stata concepita."]
["C","Costo di realizzazione",null,{"$f":"'2 Investimento'!E27","v":1E-10}]
["Va","Valore dell'area o dell'edificio",null,500000,null,"Valore dell'area su cui l'opera insiste o dell'edificio che la contiene.",null,null,null,null,null,"Valore dell'area su cui l'opera insiste o dell'edificio che la contiene.",null,null,null,null,null,"Valore dell'area su cui l'opera insiste o dell'edificio che la contiene.",null,null,null,null,null,"Valore dell'area su cui l'opera insiste o dell'edificio che la contiene.",null,null,null,null,null,"Valore dell'area su cui l'opera insiste o dell'edificio che la contiene.",null,null,null,null,null,"Valore dell'area su cui l'opera insiste o dell'edificio che la contiene.",null,null,null,null,null,"Valore dell'area su cui l'opera insiste o dell'edificio che la contiene.",null,null,null,null,null,"Valore dell'area su cui l'opera insiste o dell'edificio che la contiene.",null,null,null,null,null,"Valore dell'area su cui l'opera insiste o dell'edificio che la contiene.",null,null,null,null,null,"Valore dell'area su cui l'opera insiste o dell'edificio che la contiene."]
[null,"Percentuale deperimento annuo del progetto",null,0.01," "]
["ISTAT",{"$f":"'4 Sviluppo Domanda e Gestione'!G27","v":0.02},"Coefficienti di rivalutazione",null,null,1,{"$f":"F43*(1+$B$43)","v":1.02},1.0404,1.0612079999999999,1.08243216,1.1040808032,1.1261624192640001,1.14868566764928,1.1716593810022657,1.1950925686223111,1.2189944199947573,1.2433743083946525,1.2682417945625455,1.2936066304537963,1.3194787630628724,1.3458683383241299,1.3727857050906125,1.4002414191924248,1.4282462475762734,1.4568111725277988,1.4859473959783549,1.5156663438979221,1.5459796707758806,1.5768992641913981,1.6084372494752261,1.6406059944647307,1.6734181143540252,1.7068864766411058,1.7410242061739281,1.7758446902974065,1.8113615841033548,1.8475888157854219,1.8845405921011305,1.9222314039431532,1.9606760320220162,1.9998895526624565,2.0398873437157055,2.0806850905900198,2.1222987924018204,2.1647447682498568,2.208039663614854,2.252200456887151,2.2972444660248938,2.343189355345392,2.3900531424522997,2.4378542053013459,2.4866112894073726,2.53634351519552,2.5870703854994304,2.6388117932094191,2.6915880290736074,2.7454197896550796,2.8003281854481812,2.8563347491571447,2.9134614441402875,2.9717306730230932,3.0311652864835552,3.0917885922132262,3.1536243640574906,3.2166968513386403]
[]
[null,null,null,null," "]
[]
[null,null,null,null,null,null,null,null,null,null,null,null,null,null,null,null,null,null,null,null,null,null,null,null,null,null,null,null,null,null,null,null,null,null,null,null,null,null,null,null,null,null,null,null,null,null,null,null,null,null,null,null,null,null,null,null,null,null,null,null,null,null,null,null,null," "," "]
[]
[null,null,null,null,null,null,null," "]

{"sheet":"SE_Magazzino","index":21,"n_rows":96,"n_cols":53,"rows_kept":96,"cut":false,"hidden":true,"merged":[[2,27,2,31],[2,32,2,36],[0,0,1,0],[27,0,27,1],[0,2,1,6],[0,7,1,11],[0,12,1,16],[0,17,1,21],[0,22,1,26],[0,27,1,31],[12,0,12,6],[2,2,2,6],[2,7,2,11],[2,12,2,16],[2,17,2,21],[2,22,2,26],[0,32,1,36],[0,37,1,41],[0,42,1,46],[0,47,1,51],[2,37,2,41],[2,42,2,46],[2,47,2,51]]}
["3a",{"$f":"'2 Descrizione Progetto'!C3","v":"Comune di Guardiagrele"},"SCHEDA PROGRESSIONE MAGAZZINO                   ",null,null,null,null,"SCHEDA PROGRESSIONE MAGAZZINO                   ",null,null,null,null,"SCHEDA PROGRESSIONE MAGAZZINO                   ",null,null,null,null,"SCHEDA PROGRESSIONE MAGAZZINO                   ",null,null,null,null,"SCHEDA PROGRESSIONE MAGAZZINO                   ",null,null,null,null,"SCHEDA PROGRESSIONE MAGAZZINO                   ",null,null,null,null,"SCHEDA PROGRESSIONE MAGAZZINO                   ",null,null,null,null,"SCHEDA PROGRESSIONE MAGAZZINO                   ",null,null,null,null,"SCHEDA PROGRESSIONE MAGAZZINO                   ",null,null,null,null,"SCHEDA PROGRESSIONE MAGAZZINO                   "]
[]
["12a","Importi in Euro",{"$f":"'2 Descrizione Progetto'!C4","v":"Concessione per l'affidamento dei lavori di efficientamento energetico della piscina comunale e del successivo servizio di gestione dell'impianto natatorio "},null,null,null,null,{"$f":"C3","v":"Concessione per l'affidamento dei lavori di efficientamento energetico della piscina comunale e del successivo servizio di gestione dell'impianto natatorio "},null,null,null,null,{"$f":"C3","v":"Concessione per l'affidamento dei lavori di efficientamento energetico della piscina comunale e del successivo servizio di gestione dell'impianto natatorio "},null,null,null,null,{"$f":"C3","v":"Concessione per l'affidamento dei lavori di efficientamento energetico della piscina comunale e del successivo servizio di gestione dell'impianto natatorio "},null,null,null,null,{"$f":"C3","v":"Concessione per l'affidamento dei lavori di efficientamento energetico della piscina comunale e del successivo servizio di gestione dell'impianto natatorio "},null,null,null,null,{"$f":"C3","v":"Concessione per l'affidamento dei lavori di efficientamento energetico della piscina comunale e del successivo servizio di gestione dell'impianto natatorio "},null,null,null,null,{"$f":"C3","v":"Concessione per l'affidamento dei lavori di efficientamento energetico della piscina comunale e del successivo servizio di gestione dell'impianto natatorio "},null,null,null,null,{"$f":"C3","v":"Concessione per l'affidamento dei lavori di efficientamento energetico della piscina comunale e del successivo servizio di gestione dell'impianto natatorio "},null,null,null,null,{"$f":"C3","v":"Concessione per l'affidamento dei lavori di efficientamento energetico della piscina comunale e del successivo servizio di gestione dell'impianto natatorio "},null,null,null,null,{"$f":"C3","v":"Concessione per l'affidamento dei lavori di efficientamento energetico della piscina comunale e del successivo servizio di gestione dell'impianto natatorio "}]
[null,"SAREBBE MEGLIO OPERARE IN QUESTA MANIERA"," "]
[null,"1. FISSARE I COSTI DI COSTRUZIONE ANNO PER ANNO "]
[null,"2. ADEGUARE ISTAT I COSTI DI CUI PRIMA E PORTARLI IN FCF AD UNA VOCE NUOVA DI \"COSTI DI COSTRUZIONE O ACQUISTI\""]
[null,"3. STABILIRE I RICAVI ANNO PER ANNO "]
[null,"4. ADEGUARE ISTAT I RICAVI E RIPORTARE I VALORI , COME INDICATO DAL CLIENTE, IN UNA NUOVA VOCE DI RICAVI DI FCF"]
[null,"5. CREARE LE RIMANENZE DI MAGAZZINO E PORTARLE IN SP"]
[null,"6. CREARE LE VARIAZIONI DI MAGAZZINO E PORTARLE IN UN RIGO NUOVO DEI RICAVI DI FCF"]
[null,"7. PORTARE LE RIMANENZE DI MAGAZZINO IN F.ELAB (CCN) CON SEGNO MENO"]
[null,"(Inserire i dati solo ai righi 15 e 17)"]
["* sistemare l'Iva in F.Elab. aggiungendo il calcolo dei righi 16 e 18 ai righi 53 e 54 di F. Elab (VENDITE E COSTI DI GESTIONE)"]
["* Iva%","Annualità",{"$f":"'3 Costi-Ricavi'!D3","v":1},{"$f":"C14+1","v":2},3,4,5,6,7,8,9,10,11,12,13,14,15,16,17,18,19,20,21,22,23,24,25,26,27,28,29,30,31,32,33,34,35,36,37,38,39,40,41,42,43,44,45,46,47,48,49,50,"TOTALI"]
[22,"COSTI DI COSTRUZIONE O ACQUISTI",100000,100000,100000,100000,100000,100000,100000,100000,100000,100000,100000,100000,100000,100000,100000,100000,100000,100000,100000,100000,0,0,0,0,0,0,0,0,0,0,0,0,0,0,0,0,0,0,0,0,0,0,0,0,0,0,0,0,0,0,{"$f":"SUM(C15:AZ15)","v":2000000}]
[22,"COSTI DI COSTR/ACQUISTI ADEGUATI ISTAT",{"$f":"C15*C32","v":100000},102000,104040,106120.79999999999,108243.216,110408.08032000001,112616.24192640001,114868.56676492801,117165.93810022657,119509.25686223108,121899.4419994757,124337.43083946522,126824.17945625453,129360.66304537962,131947.87630628722,134586.83383241296,137278.57050906122,140024.14191924245,142824.62475762729,145681.11725277986,0,0,0,0,0,0,0,0,0,0,0,0,0,0,0,0,0,0,0,0,0,0,0,0,0,0,0,0,0,0,2429736.9798917715]
[22,"RICAVI DA VENDITE",120000,120000,120000,120000,120000,120000,120000,120000,120000,120000,120000,120000,120000,120000,120000,120000,120000,120000,120000,120000,0,0,0,0,0,0,0,0,0,0,0,0,0,0,0,0,0,0,0,0,0,0,0,0,0,0,0,0,0,0,2400000]
[22,"RICAVI DA VENDITE ADEGUATI ISTAT",{"$f":"C17*C32","v":120000},122400,124848,127344.95999999999,129891.85919999999,132489.69638400001,135139.49031168001,137842.28011791361,140599.1257202719,143411.10823467729,146279.33039937084,149204.91700735828,152189.01534750542,155232.79565445555,158337.45156754466,161504.20059889555,164734.28461087347,168028.97030309096,171389.54970915275,174817.34070333582,0,0,0,0,0,0,0,0,0,0,0,0,0,0,0,0,0,0,0,0,0,0,0,0,0,0,0,0,0,0,2915684.3758701263]
[" ","RIMANENZE DI MAGAZZINO",{"$f":"C16-C18/(1+$C$25)","v":0},{"$f":"C19+D16-D18/(1+$C$25)","v":0},0,0,0,0,0,0,0,0,0,0,0,0,0,0,0,0,0,0,0,0,0,0,0,0,0,0,0,0,0,0,0,0,0,0,0,0,0,0,0,0,0,0,0,0,0,0,0,0,0]
[" ","VARIAZIONI DI MAGAZZINO",{"$f":"C19","v":0},{"$f":"D19-C19","v":0},0,0,0,0,0,0,0,0,0,0,0,0,0,0,0,0,0,0,0,0,0,0,0,0,0,0,0,0,0,0,0,0,0,0,0,0,0,0,0,0,0,0,0,0,0,0,0,0,{"$f":"SUM(C20:AZ20)","v":0}]
[" ","DATI DI MAGAZZINO PER CCN",{"$f":"-C19","v":0},0,0,0,0,0,0,0,0,0,0,0,0,0,0,0,0,0,0,0,0,0,0,0,0,0,0,0,0,0,0,0,0,0,0,0,0,0,0,0,0,0,0,0,0,0,0,0,0,0,0]
[]
[null,"TOTALE COSTI ADEGUATI ISTAT",{"$f":"BA16","v":2429736.9798917715}]
[null,"TOTALE RICAVI ADEGUATI ISTAT",{"$f":"BA18","v":2915684.3758701263}]
[null,"Percentuale di ricarico su vendite",{"$f":"(C24-C23)/C23","v":0.20000000000000023}]
[]
[]
["CALCOLO QUOZIENTI DI INFLAZIONE",null,{"$f":"C14","v":1},2,3,4,5,6,7,8,9,10,11,12,13,14,15,16,17,18,19,20,21,22,23,24,25,26,27,28,29,30,31,32,33,34,35,36,37,38,39,40,41,42,43,44,45,46,47,48,49,50]
["Casella inserimento inflazione media                                                                                     ",null,0,{"$f":"'4 Sviluppo Domanda e Gestione'!G27*100","v":2},{"$f":"D31","v":2},4.04,6.1208,8.2432160000000003,10.40808032,12.616241926400001,14.868566764928001,17.165938100226562,19.509256862231094,21.899441999475716,24.337430839465231,26.824179456254537,29.360663045379628,31.94787630628722,34.586833832412964,37.278570509061225,40.024141919242453,42.824624757627305,45.681117252779849,48.594739597835449,51.566634389792156,54.597967077588002,57.689926419139766,60.84372494752256,64.060599446473006,67.341811435402462,70.688647664110519,74.102420617392724,77.584469029740575,81.136158410335383,84.758881578542088,88.454059210112931,92.223140394315195,96.067603202201497,99.988955266245526,103.98873437157044,108.06850905900185,112.2298792401819,116.47447682498554,120.80396636148525,125.22004568871496,129.72444660248925,134.31893553453904,139.00531424522981,143.78542053013442,148.66112894073711,153.63435151955187,158.70703854994292]
["Inflazione media rivalutata anno per anno                                        ",null,0,0,{"$f":"E29*($E$29+100)/100","v":2.04},{"$f":"E30*($E$29+100)/100","v":2.0808},2.1224159999999999,2.16486432,2.2081616064,2.2523248385280001,2.2973713352985601,2.3433187620045315,2.3901851372446221,2.4379888399895147,2.4867486167893049,2.536483589125091,2.5872132609075931,2.6389575261257447,2.6917366766482598,2.745571410181225,2.8004828383848497,2.8564924951525468,2.913622345055598,2.9718947919567102,3.0313326877958446,3.0919593415517612,3.1537985283827963,3.2168744989504523,3.2812119889294618,3.3468362287080509,3.4137729532822116,3.4820484123478561,3.5516893805948131,3.6227231682067096,3.6951776315708442,3.7690811842022613,3.8444628078863063,3.921352064044032,3.9997791053249125,4.0797746874314109,4.1613701811800397,4.2445975848036399,4.3294895364997128,4.4160793272297072,4.5044009137743011,4.5944889320497877,4.6863787106907839,4.7801062849045994,4.8757084106026909,4.9732225788147444,5.0726870303910392,5.1741407709988598]
["QUOZIENTI DI RIVALUTAZIONE ANNO PER ANNO IN %                                  ",null,0,{"$f":"SUM(D29:D30)","v":2},4.04,6.1208,8.2432160000000003,10.40808032,12.616241926400001,14.868566764928001,17.165938100226562,19.509256862231094,21.899441999475716,24.337430839465231,26.824179456254537,29.360663045379628,31.94787630628722,34.586833832412964,37.278570509061225,40.024141919242453,42.824624757627305,45.681117252779849,48.594739597835449,51.566634389792156,54.597967077588002,57.689926419139766,60.84372494752256,64.060599446473006,67.341811435402462,70.688647664110519,74.102420617392724,77.584469029740575,81.136158410335383,84.758881578542088,88.454059210112931,92.223140394315195,96.067603202201497,99.988955266245526,103.98873437157044,108.06850905900185,112.2298792401819,116.47447682498554,120.80396636148525,125.22004568871496,129.72444660248925,134.31893553453904,139.00531424522981,143.78542053013442,148.66112894073711,153.63435151955187,158.70703854994292,163.88117932094178]
["QUOZIENTI DI RIVALUTAZIONE ANNO PER ANNO NUMERICO                  ",null,{"$f":"C31/100+1","v":1},1.02,1.0404,1.0612079999999999,1.08243216,1.1040808032,1.1261624192640001,1.14868566764928,1.1716593810022657,1.1950925686223108,1.2189944199947571,1.2433743083946522,1.2682417945625453,1.2936066304537963,1.3194787630628722,1.3458683383241297,1.3727857050906123,1.4002414191924246,1.4282462475762729,1.4568111725277986,1.4859473959783545,1.5156663438979217,1.5459796707758802,1.5768992641913977,1.6084372494752257,1.64060599446473,1.6734181143540248,1.7068864766411052,1.7410242061739272,1.7758446902974057,1.8113615841033539,1.847588815785421,1.8845405921011293,1.9222314039431518,1.9606760320220151,1.9998895526624554,2.0398873437157041,2.0806850905900185,2.1222987924018191,2.1647447682498555,2.2080396636148523,2.2522004568871496,2.2972444660248925,2.3431893553453902,2.3900531424522979,2.4378542053013441,2.4866112894073709,2.5363435151955187,2.5870703854994295,2.6388117932094177]
[]
[]
[]
[]
[]
[]
[]
[]
[]
[]
[]
[]
[]
[]
[]
[]
[]
[]
[]
[]
[]
[]
[]
[]
[]
[]
[]
[]
[]
[]
[]
[]
[]
[]
[]
[]
[]
[]
[]
[]
[]
[]
[]
[]
[]
[]
[]
[]
[]
[]
[]
[]
[]
[]
[]
[]
[]
[]
[]
[]
[]
[]
[]
[" ",null," "]